Workbook

Sheet Enero 2013
A1: Plan de Monitoreo Acuífero Huacas Tamarindo
A2: Fecha: 30 y 31 de enero del 2013
N3: Datos de campo
A4: N˚ | B4: Nombre del POZO | C4: Lugar | D4: Tipo | E4: Latitud | F4: Longitud | G4: Altitud sobre nivel de Mar | H4: Diámetro armado (in) | I4: Brocal (m) | J4: Profundidad de pozo (m) | K4: Nivel estático (m) | L4: Nivel dinámico (m) | N4: Nivel estático (m) + Brocal | O4: Nivel dinámico (m) + Brocal
A5: 1 | B5: Aeropuerto Tamarindo Cancha de Golf | C5: Tamarindo | D5: P | E5: 255134 | F5: 337474 | G5: 41 | H5: - | I5: 0.45 | J5: - | K5: =N5-I5 -> 3.75 | L5: - | N5: 4.2 | O5: -
A6: =1+A5 -> 2 | B6: Aeropuerto Tamarindo cerca río San Andrés | C6: Tamarindo | D6: P | E6: 255381 | F6: 337593 | G6: 31 | H6: - | I6: 0.33 | J6: - | K6: =N6-I6 -> 3.85 | L6: - | N6: 4.18 | O6: -
A7: =1+A6 -> 3 | B7: Aeropuerto Tamarindo Abrevadero | C7: Tamarindo | D7: P | E7: 255744 | F7: 337763 | G7: 26 | H7: - | I7: 0.5 | J7: - | K7: =N7-I7 -> 2.7 | L7: - | N7: 3.2 | O7: -
A8: =1+A7 -> 4 | B8: Aeropuerto Tamarindo los Tornillos | C8: Tamarindo | D8: P | E8: 255800 | F8: 337245 | G8: 23 | H8: - | I8: 0.5 | J8: - | K8: =N8-I8 -> 3.28 | L8: - | N8: 3.78 | O8: -
A9: =1+A8 -> 5 | B9: Elvira Matarrita | C9: El Llano | D9: E | E9: 256089 | F9: 338238 | G9: 30 | H9: - | I9: 0.84 | J9: - | K9: =N9-I9 -> 8.1 | N9: 8.94 | O9: -
A10: =1+A9 -> 6 | B10: ASADA Villarreal P1 | C10: Villarreal | D10: P | E10: 255579 | F10: 338206 | G10: 20 | H10: - | I10: - | J10: 18 | K10: Linea de aire obstruida | N10: Linea de aire obstruida
A11: =1+A10 -> 7 | B11: ASADA Villarreal P2 | C11: Villarreal | D11: P | E11: 255562 | F11: 338189 | G11: 30 | H11: - | I11: 0.5 | J11: 18 | K11: - | L11: =O11-I11 -> 5.23 | N11: - | O11: 5.73
A12: =1+A11 -> 8 | B12: ASADA Villarreal P3 | C12: Villarreal | D12: P | E12: 255605 | F12: 338552 | G12: 33 | H12: - | I12: 1.87 | J12: 19 | K12: =N12-I12 -> 4.18 | L12: - | N12: 6.05 | O12: -
A13: =1+A12 -> 9 | B13: Maritza Obando | C13: San Andrés | D13: E | E13: 255576 | F13: 338998 | G13: 34 | H13: - | I13: 0.73 | J13: - | K13: =N13-I13 -> 3.27 | L13: - | N13: 4 | O13: -
A14: =1+A13 -> 10 | B14: ASADA Santa Rosa | C14: Santa Rosa | D14: P | E14: 255198 | F14: 340143 | G14: 22 | H14: - | I14: 0.8 | J14: - | K14: =N14-I14 -> 4.76 | L14: - | N14: 5.56 | O14: -
A15: =1+A14 -> 11 | B15: Seabees Santa Rosa | C15: Santa Rosa | D15: P | E15: 255267 | F15: 340939 | G15: 31 | H15: - | I15: 0.38 | J15: - | K15: =N15-I15 -> 5.49 | L15: - | N15: 5.87 | O15: -
A16: =1+A15 -> 12 | B16: Magdalena Obando | C16: Santa Rosa | D16: E | E16: 255293 | F16: 340970 | G16: 32 | H16: - | I16: 0.84 | J16: - | K16: =N16-I16 -> 5.49 | L16: - | N16: 6.33 | O16: -
A17: =1+A16 -> 13 | B17: ASADA Lomas | C17: Lomas | D17: P | E17: 258631 | F17: 338988 | G17: 16 | H17: - | I17: 1.18 | J17: 26 | K17: =N17-I17 -> 1.18 | L17: - | N17: 2.36 | O17: -
A18: =1+A17 -> 14 | B18: José Catalino Jaén | C18: Lomas | D18: E | E18: 259080 | F18: 338723 | G18: 21 | H18: - | I18: 0.8 | J18: 11-12 | K18: =N18-I18 -> 5.05 | L18: - | N18: 5.85 | O18: -
A19: =1+A18 -> 15 | B19: Santos Arrieta | C19: Salinitas | D19: E | E19: 258896 | F19: 337242 | G19: 13 | H19: - | I19: 1 | J19: - | K19: =N19-I19 -> 3.55 | L19: - | N19: 4.55 | O19: -
A20: =1+A19 -> 16 | B20: María Luisa Contreras | C20: Huacas | D20: E | E20: 261652 | F20: 341432 | G20: 41 | H20: - | I20: 0.78 | J20: - | K20: =N20-I20 -> 1.52 | L20: - | N20: 2.3 | O20: -
A21: =1+A20 -> 17 | B21: Paula Celaya | C21: Garita Vieja | D21: E | E21: 260355 | F21: 339957 | G21: 31 | H21: - | I21: 0.8 | J21: 8 | K21: =N21-I21 -> 4.82 | L21: - | N21: 5.62 | O21: -
A22: =1+A21 -> 18 | B22: Juan Pablo Arrieta | C22: Garita Nueva | D22: E | E22: 259558 | F22: 340347 | G22: 30 | H22: - | I22: 0.8 | J22: - | K22: =N22-I22 -> 2.59 | L22: - | N22: 3.39 | O22: -
A23: =1+A22 -> 19 | B23: Damián Matarrita | C23: Mangos | D23: E | E23: 260753 | F23: 340739 | G23: 34 | H23: - | I23: 0.9 | J23: 14 | K23: =N23-I23 -> 4.92 | L23: - | N23: 5.82 | O23: -
A24: =1+A23 -> 20 | B24: Cupertino López | C24: Tacasolapa | D24: E | E24: 258279 | F24: 340076 | G24: 31 | H24: - | I24: 1.15 | J24: - | K24: =N24-I24 -> 3.85 | L24: - | N24: 5 | O24: -
A25: =1+A24 -> 21 | B25: AyA Tamarindo P6 Plantel | C25: Tamarindo | D25: P | E25: 255183 | F25: 336781 | G25: 31 | H25: - | I25: 0 | J25: - | K25: =N25-I25 -> 5.47 | L25: - | N25: 5.47 | O25: -
A26: =1+A25 -> 22 | B26: AyA Tamarindo P1 Jobo | C26: Los Jobos | D26: P | E26: 253123 | F26: 335558 | G26: 34 | H26: - | I26: 0.4 | J26: - | K26: - | L26: =O26-I26 -> 5.6 | N26: - | O26: 6
A27: =1+A26 -> 23 | B27: AyA Tamarindo P2 Jobo | C27: Los Jobos | D27: P | E27: 252958 | F27: 335376 | G27: 35 | H27: - | I27: 1.13 | J27: - | K27: - | L27: =O27-I27 -> 5.01 | N27: - | O27: 6.14
A28: =1+A27 -> 24 | B28: AyA Tamarindo P1 Guanacaste | C28: Tamarindo | D28: P | E28: 256002 | F28: 336544 | G28: 29 | H28: - | I28: 0.28 | J28: - | K28: - | L28: =O28-I28 -> 7.7 | N28: - | O28: 7.98
A29: =1+A28 -> 25 | B29: AyA Tamarindo P2 Virgilio | C29: Tamarindo | D29: P | E29: 255974 | F29: 336856 | G29: 26 | H29: - | I29: 0.55 | J29: - | K29: - | L29: =O29-I29 -> 9.65 | N29: - | O29: 10.2
A30: =1+A29 -> 26 | B30: AyA Tamarindo P2b Virgilio (nuevo) | C30: Tamarindo | D30: P | E30: 255966 | F30: 336871 | G30: 27 | H30: - | I30: - | J30: - | K30: Tapa Sellada | N30: Tapa Sellada
A31: =1+A30 -> 27 | B31: AyA Tamarindo P3 Papaturro | C31: Tamarindo | D31: P | E31: 255838 | F31: 337001 | G31: 27 | H31: - | I31: 0.85 | J31: - | K31: - | L31: =O31-I31 -> 11.32 | N31: - | O31: 12.17
A32: =1+A31 -> 28 | B32: AyA Tamarindo P4 Pochote | C32: Tamarindo | D32: P | E32: 255461 | F32: 336874 | G32: 28 | H32: - | I32: 0.45 | J32: - | K32: - | L32: =O32-I32 -> 5.05 | N32: - | O32: 5.5
A33: =1+A32 -> 29 | B33: AyA Tamarindo P4b Pochote (nuevo) | C33: Tamarindo | D33: P | E33: 255442 | F33: 336873 | G33: 26 | H33: - | I33: - | J33: - | K33: Tapa Sellada | N33: Tapa Sellada
A34: =1+A33 -> 30 | B34: AyA Tamarindo P5 Albin | C34: Tamarindo | D34: P | E34: 255477 | F34: 337058 | G34: 27 | H34: - | I34: 0.2 | J34: - | K34: - | L34: =O34-I34 -> 12.3 | N34: - | O34: 12.5

Sheet Febrero 2013
A1: Plan de Monitoreo Acuífero Huacas Tamarindo
A2: Fecha: 27 y 28 de febrero del 2013
N3: Datos de campo
A4: N˚ | B4: Nombre del POZO | C4: Lugar | D4: Tipo | E4: Latitud | F4: Longitud | G4: Altitud sobre nivel de Mar | H4: Diámetro armado (in) | I4: Brocal (m) | J4: Profundidad de pozo (m) | K4: Nivel estático (m) | L4: Nivel dinámico (m) | N4: Nivel estático (m) + Brocal | O4: Nivel dinámico (m) + Brocal
A5: 1 | B5: Aeropuerto Tamarindo Cancha de Golf | C5: Tamarindo | D5: P | E5: 255134 | F5: 337474 | G5: 41 | H5: - | I5: 0.45 | J5: - | K5: - | L5: =O5-I5 -> 7.15 | N5: - | O5: 7.6
A6: =1+A5 -> 2 | B6: Aeropuerto Tamarindo cerca río San Andrés | C6: Tamarindo | D6: P | E6: 255381 | F6: 337593 | G6: 31 | H6: - | I6: 0.33 | J6: - | K6: =N6-I6 -> 4.59 | L6: - | N6: 4.92 | O6: -
A7: =1+A6 -> 3 | B7: Aeropuerto Tamarindo Abrevadero | C7: Tamarindo | D7: P | E7: 255744 | F7: 337763 | G7: 26 | H7: - | I7: 0.5 | J7: - | K7: =N7-I7 -> 3.46 | L7: - | N7: 3.96 | O7: -
A8: =1+A7 -> 4 | B8: Aeropuerto Tamarindo los Tornillos | C8: Tamarindo | D8: P | E8: 255800 | F8: 337245 | G8: 23 | H8: - | I8: 0.6 | J8: - | K8: =N8-I8 -> 3.7 | L8: - | N8: 4.3 | O8: -
A9: =1+A8 -> 5 | B9: Elvira Matarrita | C9: El Llano | D9: E | E9: 256089 | F9: 338238 | G9: 30 | H9: - | I9: 0.84 | J9: - | K9: =N9-I9 -> 8.58 | L9: - | N9: 9.42 | O9: -
A10: =1+A9 -> 6 | B10: ASADA Villarreal P1 | C10: Villarreal | D10: P | E10: 255579 | F10: 338206 | G10: 20 | H10: - | I10: - | J10: 18 | K10: Línea de aire obstruida | N10: Línea de aire obstruida
A11: =1+A10 -> 7 | B11: ASADA Villarreal P2 | C11: Villarreal | D11: P | E11: 255562 | F11: 338189 | G11: 30 | H11: - | I11: 0.5 | J11: 18 | K11: - | L11: =O11-I11 -> 6.37 | N11: - | O11: 6.87
A12: =1+A11 -> 8 | B12: ASADA Villarreal P3 | C12: Villarreal | D12: P | E12: 255605 | F12: 338552 | G12: 33 | H12: - | I12: 1.87 | J12: 19 | K12: Línea de aire obstruida | N12: Línea de aire obstruida
A13: =1+A12 -> 9 | B13: Maritza Obando | C13: San Andrés | D13: E | E13: 255576 | F13: 338998 | G13: 34 | H13: - | I13: 0.73 | J13: - | K13: =N13-I13 -> 3.87 | L13: - | N13: 4.6 | O13: -
A14: =1+A13 -> 10 | B14: ASADA Santa Rosa | C14: Santa Rosa | D14: P | E14: 255198 | F14: 340143 | G14: 22 | H14: - | I14: 0.8 | J14: - | K14: - | L14: =O14-I14 -> 9.18 | N14: - | O14: 9.98
A15: =1+A14 -> 11 | B15: Seabees Santa Rosa | C15: Santa Rosa | D15: P | E15: 255267 | F15: 340939 | G15: 31 | H15: - | I15: 0.38 | J15: - | K15: =N15-I15 -> 6.01 | L15: - | N15: 6.39 | O15: -
A16: =1+A15 -> 12 | B16: Magdalena Obando | C16: Santa Rosa | D16: E | E16: 255293 | F16: 340970 | G16: 32 | H16: - | I16: 0.84 | J16: - | K16: =N16-I16 -> 6.11 | L16: - | N16: 6.95 | O16: -
A17: =1+A16 -> 13 | B17: ASADA Lomas | C17: Lomas | D17: P | E17: 258631 | F17: 338988 | G17: 16 | H17: - | I17: 1.18 | J17: 26 | K17: - | L17: =O17-I17 -> 5.26 | N17: - | O17: 6.44
A18: =1+A17 -> 14 | B18: José Catalino Jaén | C18: Lomas | D18: E | E18: 259080 | F18: 338723 | G18: 21 | H18: - | I18: 0.8 | J18: 11-12 | K18: =N18-I18 -> 5.69 | L18: - | N18: 6.49 | O18: -
A19: =1+A18 -> 15 | B19: Santos Arrieta | C19: Salinitas | D19: E | E19: 258896 | F19: 337242 | G19: 13 | H19: - | I19: 1 | J19: - | K19: =N19-I19 -> 4.18 | L19: - | N19: 5.18 | O19: -
A20: =1+A19 -> 16 | B20: María Luisa Contreras | C20: Huacas | D20: E | E20: 261652 | F20: 341432 | G20: 41 | H20: - | I20: 0.78 | J20: - | K20: =N20-I20 -> 1.77 | L20: - | N20: 2.55 | O20: -
A21: =1+A20 -> 17 | B21: Paula Celaya | C21: Garita Vieja | D21: E | E21: 260355 | F21: 339957 | G21: 31 | H21: - | I21: 0.8 | J21: 8 | K21: =N21-I21 -> 5.07 | L21: - | N21: 5.87 | O21: -
A22: =1+A21 -> 18 | B22: Juan Pablo Arrieta | C22: Garita Nueva | D22: E | E22: 259558 | F22: 340347 | G22: 30 | H22: - | I22: 0.8 | J22: - | K22: =N22-I22 -> 3.1 | L22: - | N22: 3.9 | O22: -
A23: =1+A22 -> 19 | B23: Damián Matarrita | C23: Mangos | D23: E | E23: 260753 | F23: 340739 | G23: 34 | H23: - | I23: 0.9 | J23: 14 | K23: =N23-I23 -> 5.73 | L23: - | N23: 6.63 | O23: -
A24: =1+A23 -> 20 | B24: Cupertino López | C24: Tacasolapa | D24: E | E24: 258279 | F24: 340076 | G24: 31 | H24: - | I24: 1.15 | J24: - | K24: =N24-I24 -> 4.75 | L24: - | N24: 5.9 | O24: -
A25: =1+A24 -> 21 | B25: AyA Tamarindo P6 Plantel | C25: Tamarindo | D25: P | E25: 255183 | F25: 336781 | G25: 31 | H25: - | I25: 0 | J25: - | K25: =N25-I25 -> 6.22 | L25: - | N25: 6.22 | O25: -
A26: =1+A25 -> 22 | B26: AyA Tamarindo P1 Jobo | C26: Los Jobos | D26: P | E26: 253123 | F26: 335558 | G26: 34 | H26: - | I26: 0.68 | J26: - | K26: - | L26: =O26-I26 -> 6.68 | N26: - | O26: 7.36
A27: =1+A26 -> 23 | B27: AyA Tamarindo P2 Jobo | C27: Los Jobos | D27: P | E27: 252958 | F27: 335376 | G27: 35 | H27: - | I27: 1.13 | J27: - | K27: - | L27: =O27-I27 -> 6.99 | N27: - | O27: 8.12
A28: =1+A27 -> 24 | B28: AyA Tamarindo P1 Guanacaste | C28: Tamarindo | D28: P | E28: 256002 | F28: 336544 | G28: 29 | H28: - | I28: 0.28 | J28: - | K28: =N28-I28 -> 6.13 | L28: - | N28: 6.41 | O28: -
A29: =1+A28 -> 25 | B29: AyA Tamarindo P2 Virgilio | C29: Tamarindo | D29: P | E29: 255974 | F29: 336856 | G29: 26 | H29: - | I29: 0.55 | J29: - | K29: - | L29: =O29-I29 -> 6.29 | N29: - | O29: 6.84
A30: =1+A29 -> 26 | B30: AyA Tamarindo P2b Virgilio (nuevo) | C30: Tamarindo | D30: P | E30: 255966 | F30: 336871 | G30: 27 | H30: - | I30: - | J30: - | K30: Tapa Sellada | N30: Tapa Sellada
A31: =1+A30 -> 27 | B31: AyA Tamarindo P3 Papaturro | C31: Tamarindo | D31: P | E31: 255838 | F31: 337001 | G31: 27 | H31: - | I31: 0.85 | J31: - | K31: =N31-I31 -> 4.51 | L31: - | N31: 5.36 | O31: -
A32: =1+A31 -> 28 | B32: AyA Tamarindo P4 Pochote | C32: Tamarindo | D32: P | E32: 255461 | F32: 336874 | G32: 28 | H32: - | I32: 0.45 | J32: - | K32: =N32-I32 -> 5.11 | L32: - | N32: 5.56 | O32: -
A33: =1+A32 -> 29 | B33: AyA Tamarindo P4b Pochote (nuevo) | C33: Tamarindo | D33: P | E33: 255442 | F33: 336873 | G33: 26 | H33: - | I33: 0.45 | J33: - | K33: =N33-I33 -> 4.89 | L33: - | N33: 5.34 | O33: -
A34: =1+A33 -> 30 | B34: AyA Tamarindo P5 Albin | C34: Tamarindo | D34: P | E34: 255477 | F34: 337058 | G34: 27 | H34: - | I34: 0.2 | J34: - | K34: =N34-I34 -> 4.02 | L34: - | N34: 4.22 | O34: -
A35: =1+A34 -> 31 | B35: Gineth López Rosales | C35: Matapalo | D35: E | E35: 260752 | F35: 337937 | G35: 43 | H35: - | I35: 0.68 | J35: - | K35: =N35-I35 -> 4.42 | L35: - | N35: 5.1 | O35: -
A36: =1+A35 -> 32 | B36: ASADA Matapalo P3 | C36: Matapalo | D36: P | E36: 260776 | F36: 338205 | G36: 17 | H36: - | I36: 0.38 | J36: - | K36: - | L36: =O36-I36 -> 12.46 | N36: - | O36: 12.84
A37: =1+A36 -> 33 | B37: ASADA Matapalo P1 | C37: Matapalo | D37: P | E37: 260777 | F37: 338205 | G37: 12 | H37: - | I37: 0.52 | J37: - | K37: =N37-I37 -> 5.48 | L37: - | N37: 6 | O37: -
A39: Nota: se anota como nivel estático la medida del pozo 33 de la ASADA Matapalo, sin embargo este pozo se ubica a 1m del pozo 32 que estaba en uso.

Sheet Marzo 2013
A1: Plan de Monitoreo Acuífero Huacas Tamarindo
A2: Fecha: 20 y 21 de marzo del 2013
N3: Datos de campo
A4: N˚ | B4: Nombre del POZO | C4: Lugar | D4: Tipo | E4: Latitud | F4: Longitud | G4: Altitud sobre nivel de Mar | H4: Diámetro armado (in) | I4: Brocal (m) | J4: Profundidad de pozo (m) | K4: Nivel estático (m) | L4: Nivel dinámico (m) | N4: Nivel estático (m) + Brocal | O4: Nivel dinámico (m) + Brocal
A5: 1 | B5: Aeropuerto Tamarindo Cancha de Golf | C5: Tamarindo | D5: P | E5: 255134 | F5: 337474 | G5: 41 | H5: - | I5: 0.45 | J5: - | K5: - | L5: =O5-I5 -> 7.98 | N5: - | O5: 8.43
A6: =1+A5 -> 2 | B6: Aeropuerto Tamarindo cerca río San Andrés | C6: Tamarindo | D6: P | E6: 255381 | F6: 337593 | G6: 31 | H6: - | I6: 0.33 | J6: - | K6: =N6-I6 -> 5.19 | L6: - | N6: 5.52 | O6: -
A7: =1+A6 -> 3 | B7: Aeropuerto Tamarindo Abrevadero | C7: Tamarindo | D7: P | E7: 255744 | F7: 337763 | G7: 26 | H7: - | I7: 0.5 | J7: - | K7: =N7-I7 -> 3.87 | L7: - | N7: 4.37 | O7: -
A8: =1+A7 -> 4 | B8: Aeropuerto Tamarindo los Tornillos | C8: Tamarindo | D8: P | E8: 255800 | F8: 337245 | G8: 23 | H8: - | I8: 0.6 | J8: - | K8: =N8-I8 -> 4.03 | L8: - | N8: 4.63 | O8: -
A9: =1+A8 -> 5 | B9: Elvira Matarrita | C9: El Llano | D9: E | E9: 256089 | F9: 338238 | G9: 30 | H9: - | I9: 0.84 | J9: - | K9: =N9-I9 -> 8.97 | L9: - | N9: 9.81 | O9: -
A10: =1+A9 -> 6 | B10: ASADA Villarreal P1 | C10: Villarreal | D10: P | E10: 255579 | F10: 338206 | G10: 20 | H10: - | I10: - | J10: 18 | K10: Línea de aire obstruida | N10: Línea de aire obstruida
A11: =1+A10 -> 7 | B11: ASADA Villarreal P2 | C11: Villarreal | D11: P | E11: 255562 | F11: 338189 | G11: 30 | H11: - | I11: 0.5 | J11: 18 | K11: =N11-I11 -> 4.98 | L11: - | N11: 5.48 | O11: -
A12: =1+A11 -> 8 | B12: ASADA Villarreal P3 | C12: Villarreal | D12: P | E12: 255605 | F12: 338552 | G12: 33 | H12: - | I12: 1.87 | J12: 19 | K12: Línea de aire obstruida | N12: Línea de aire obstruida
A13: =1+A12 -> 9 | B13: Maritza Obando | C13: San Andrés | D13: E | E13: 255576 | F13: 338998 | G13: 34 | H13: - | I13: 0.73 | J13: - | K13: =N13-I13 -> 4.32 | L13: - | N13: 5.05 | O13: -
A14: =1+A13 -> 10 | B14: ASADA Santa Rosa | C14: Santa Rosa | D14: P | E14: 255198 | F14: 340143 | G14: 22 | H14: - | I14: 0.8 | J14: - | K14: =N14-I14 -> 6.84 | L14: - | N14: 7.64 | O14: -
A15: =1+A14 -> 11 | B15: Seabees Santa Rosa | C15: Santa Rosa | D15: P | E15: 255267 | F15: 340939 | G15: 31 | H15: - | I15: 0.38 | J15: - | K15: =N15-I15 -> 6.34 | L15: - | N15: 6.72 | O15: -
A16: =1+A15 -> 12 | B16: Magdalena Obando | C16: Santa Rosa | D16: E | E16: 255293 | F16: 340970 | G16: 32 | H16: - | I16: 0.84 | J16: - | K16: =N16-I16 -> 6.46 | L16: - | N16: 7.3 | O16: -
A17: =1+A16 -> 13 | B17: ASADA Lomas | C17: Lomas | D17: P | E17: 258631 | F17: 338988 | G17: 16 | H17: - | I17: 1.18 | J17: 26 | K17: - | L17: =O17-I17 -> 5.66 | N17: - | O17: 6.84
A18: =1+A17 -> 14 | B18: José Catalino Jaén | C18: Lomas | D18: E | E18: 259080 | F18: 338723 | G18: 21 | H18: - | I18: 0.8 | J18: 11-12 | K18: =N18-I18 -> 7.85 | L18: - | N18: 8.65 | O18: -
A19: =1+A18 -> 15 | B19: Santos Arrieta | C19: Salinitas | D19: E | E19: 258896 | F19: 337242 | G19: 13 | H19: - | I19: 1 | J19: - | K19: =N19-I19 -> 4.68 | L19: - | N19: 5.68 | O19: -
A20: =1+A19 -> 16 | B20: María Luisa Contreras | C20: Huacas | D20: E | E20: 261652 | F20: 341432 | G20: 41 | H20: - | I20: 0.78 | J20: - | K20: =N20-I20 -> 1.95 | L20: - | N20: 2.73 | O20: -
A21: =1+A20 -> 17 | B21: Paula Celaya | C21: Garita Vieja | D21: E | E21: 260355 | F21: 339957 | G21: 31 | H21: - | I21: 0.8 | J21: 8 | K21: =N21-I21 -> 5.16 | L21: - | N21: 5.96 | O21: -
A22: =1+A21 -> 18 | B22: Juan Pablo Arrieta | C22: Garita Nueva | D22: E | E22: 259558 | F22: 340347 | G22: 30 | H22: - | I22: 0.8 | J22: - | K22: =N22-I22 -> 3.32 | L22: - | N22: 4.12 | O22: -
A23: =1+A22 -> 19 | B23: Damián Matarrita | C23: Mangos | D23: E | E23: 260753 | F23: 340739 | G23: 34 | H23: - | I23: 0.9 | J23: 14 | K23: =N23-I23 -> 6.17 | L23: - | N23: 7.07 | O23: -
A24: =1+A23 -> 20 | B24: Cupertino López | C24: Tacasolapa | D24: E | E24: 258279 | F24: 340076 | G24: 31 | H24: - | I24: 1.15 | J24: - | K24: =N24-I24 -> 5.32 | L24: - | N24: 6.47 | O24: -
A25: =1+A24 -> 21 | B25: AyA Tamarindo P6 Plantel | C25: Tamarindo | D25: P | E25: 255183 | F25: 336781 | G25: 31 | H25: - | I25: 0 | J25: - | K25: =N25-I25 -> 6.94 | L25: - | N25: 6.94 | O25: -
A26: =1+A25 -> 22 | B26: AyA Tamarindo P1 Jobo | C26: Los Jobos | D26: P | E26: 253123 | F26: 335558 | G26: 34 | H26: - | I26: 0.43 | J26: - | K26: - | L26: =O26-I26 -> 9.69 | N26: - | O26: 10.12
A27: =1+A26 -> 23 | B27: AyA Tamarindo P2 Jobo | C27: Los Jobos | D27: P | E27: 252958 | F27: 335376 | G27: 35 | H27: - | I27: 1.13 | J27: - | K27: - | L27: =O27-I27 -> 8.47 | N27: - | O27: 9.6
A28: =1+A27 -> 24 | B28: AyA Tamarindo P1 Guanacaste | C28: Tamarindo | D28: P | E28: 256002 | F28: 336544 | G28: 29 | H28: - | I28: 0.28 | J28: - | K28: =N28-I28 -> 5.33 | L28: - | N28: 5.61 | O28: -
A29: =1+A28 -> 25 | B29: AyA Tamarindo P2 Virgilio | C29: Tamarindo | D29: P | E29: 255974 | F29: 336856 | G29: 26 | H29: - | I29: 0.55 | J29: - | K29: - | L29: =O29-I29 -> 12.79 | N29: - | O29: 13.34
A30: =1+A29 -> 26 | B30: AyA Tamarindo P2b Virgilio (nuevo) | C30: Tamarindo | D30: P | E30: 255966 | F30: 336871 | G30: 27 | H30: - | I30: 0.6 | J30: - | K30: - | L30: =O30-I30 -> 10.1 | N30: - | O30: 10.7
A31: =1+A30 -> 27 | B31: AyA Tamarindo P3 Papaturro | C31: Tamarindo | D31: P | E31: 255838 | F31: 337001 | G31: 27 | H31: - | I31: 0.85 | J31: - | K31: - | L31: =O31-I31 -> 11.65 | O31: 12.5
A32: =1+A31 -> 28 | B32: AyA Tamarindo P4 Pochote | C32: Tamarindo | D32: P | E32: 255461 | F32: 336874 | G32: 28 | H32: - | I32: 0.45 | J32: - | K32: - | L32: =O32-I32 -> 13.28 | O32: 13.73
A33: =1+A32 -> 29 | B33: AyA Tamarindo P4b Pochote (nuevo) | C33: Tamarindo | D33: P | E33: 255442 | F33: 336873 | G33: 26 | H33: - | I33: 0.45 | J33: - | K33: - | L33: =O33-I33 -> 13.81 | O33: 14.26
A34: =1+A33 -> 30 | B34: AyA Tamarindo P5 Albin | C34: Tamarindo | D34: P | E34: 255477 | F34: 337058 | G34: 27 | H34: - | I34: 0.2 | J34: - | K34: - | L34: =O34-I34 -> 23.88 | O34: 24.08
A35: =1+A34 -> 31 | B35: Gineth López Rosales | C35: Matapalo | D35: E | E35: 260752 | F35: 337937 | G35: 43 | H35: - | I35: 0.68 | J35: - | K35: =N35-I35 -> 4.69 | L35: - | N35: 5.37 | O35: -
A36: =1+A35 -> 32 | B36: ASADA Matapalo P3 | C36: Matapalo | D36: P | E36: 260776 | F36: 338205 | G36: 17 | H36: - | I36: 0.38 | J36: - | K36: - | L36: =O36-I36 -> 11.26 | N36: - | O36: 11.64
A37: =1+A36 -> 33 | B37: ASADA Matapalo P1 | C37: Matapalo | D37: P | E37: 260777 | F37: 338205 | G37: 12 | H37: - | I37: 0.52 | J37: - | K37: =N37-I37 -> 5.65 | L37: - | N37: 6.17 | O37: -
A38: =1+A37 -> 34 | B38: ASADA Matapalo P2 | C38: Matapalo | D38: P | E38: 260686 | F38: 338490 | G38: 31 | H38: - | I38: 0.75 | J38: - | K38: - | L38: =O38-I38 -> 5.25 | N38: - | O38: 6
A40: Nota: se anota como nivel estático la medida del pozo 33 de la ASADA Matapalo, sin embargo este pozo se ubica a 1m del pozo 32 que estaba en uso.

Sheet Abril 2013
A1: Plan de Monitoreo Acuífero Huacas Tamarindo
A2: Fecha: 24 de abril del 2013
N3: Datos de campo
A4: N˚ | B4: Nombre del POZO | C4: Lugar | D4: Tipo | E4: Latitud | F4: Longitud | G4: Altitud sobre nivel de Mar | H4: Diámetro armado (in) | I4: Brocal (m) | J4: Profundidad de pozo (m) | K4: Nivel estático (m) | L4: Nivel dinámico (m) | N4: Nivel estático (m) + Brocal | O4: Nivel dinámico (m) + Brocal
A5: 1 | B5: Aeropuerto Tamarindo Cancha de Golf | C5: Tamarindo | D5: P | E5: 255134 | F5: 337474 | G5: 41 | H5: - | I5: 0.45 | J5: - | K5: - | L5: =O5-I5 -> 7.92 | N5: - | O5: 8.37
A6: =1+A5 -> 2 | B6: Aeropuerto Tamarindo cerca río San Andrés | C6: Tamarindo | D6: P | E6: 255381 | F6: 337593 | G6: 31 | H6: - | I6: 0.33 | J6: - | K6: =N6-I6 -> 5.85 | L6: - | N6: 6.18 | O6: -
A7: =1+A6 -> 3 | B7: Aeropuerto Tamarindo Abrevadero | C7: Tamarindo | D7: P | E7: 255744 | F7: 337763 | G7: 26 | H7: - | I7: 0.5 | J7: - | K7: =N7-I7 -> 4.55 | L7: - | N7: 5.05 | O7: -
A8: =1+A7 -> 4 | B8: Aeropuerto Tamarindo los Tornillos | C8: Tamarindo | D8: P | E8: 255800 | F8: 337245 | G8: 23 | H8: - | I8: 0.6 | J8: - | K8: =N8-I8 -> 4.58 | L8: - | N8: 5.18 | O8: -
A9: =1+A8 -> 5 | B9: Elvira Matarrita | C9: El Llano | D9: E | E9: 256089 | F9: 338238 | G9: 30 | H9: - | I9: 0.84 | J9: - | K9: =N9-I9 -> 9.38 | L9: - | N9: 10.22 | O9: -
A10: =1+A9 -> 6 | B10: ASADA Villarreal P1 | C10: Villarreal | D10: P | E10: 255579 | F10: 338206 | G10: 20 | H10: - | I10: - | J10: 18 | K10: Línea de aire obstruida | N10: Línea de aire obstruida
A11: =1+A10 -> 7 | B11: ASADA Villarreal P2 | C11: Villarreal | D11: P | E11: 255562 | F11: 338189 | G11: 30 | H11: - | I11: 0.5 | J11: 18 | K11: - | L11: =O11-I11 -> 8.04 | N11: - | O11: 8.54
A12: =1+A11 -> 8 | B12: ASADA Villarreal P3 | C12: Villarreal | D12: P | E12: 255605 | F12: 338552 | G12: 33 | H12: - | I12: 1.87 | J12: 19 | K12: Línea de aire obstruida | N12: Línea de aire obstruida
A13: =1+A12 -> 9 | B13: Maritza Obando | C13: San Andrés | D13: E | E13: 255576 | F13: 338998 | G13: 34 | H13: - | I13: 0.73 | J13: - | K13: =N13-I13 -> 4.77 | L13: - | N13: 5.5 | O13: -
A14: =1+A13 -> 10 | B14: ASADA Santa Rosa | C14: Santa Rosa | D14: P | E14: 255198 | F14: 340143 | G14: 22 | H14: - | I14: 0.8 | J14: - | K14: - | L14: =O14-I14 -> 13.02 | N14: - | O14: 13.82
A15: =1+A14 -> 11 | B15: Seabees Santa Rosa | C15: Santa Rosa | D15: P | E15: 255267 | F15: 340939 | G15: 31 | H15: - | I15: 0.38 | J15: - | K15: =N15-I15 -> 6.82 | L15: - | N15: 7.2 | O15: -
A16: =1+A15 -> 12 | B16: Magdalena Obando | C16: Santa Rosa | D16: E | E16: 255293 | F16: 340970 | G16: 32 | H16: - | I16: 0.84 | J16: - | K16: =N16-I16 -> 6.99 | L16: - | N16: 7.83 | O16: -
A17: =1+A16 -> 13 | B17: ASADA Lomas | C17: Lomas | D17: P | E17: 258631 | F17: 338988 | G17: 16 | H17: - | I17: 1.18 | J17: 26 | K17: - | L17: =O17-I17 -> 6.16 | N17: - | O17: 7.34
A18: =1+A17 -> 14 | B18: José Catalino Jaén | C18: Lomas | D18: E | E18: 259080 | F18: 338723 | G18: 21 | H18: - | I18: 0.8 | J18: 11-12 | K18: =N18-I18 -> 6.38 | L18: - | N18: 7.18 | O18: -
A19: =1+A18 -> 15 | B19: Santos Arrieta | C19: Salinitas | D19: E | E19: 258896 | F19: 337242 | G19: 13 | H19: - | I19: 1 | J19: - | K19: =N19-I19 -> 5.27 | L19: - | N19: 6.27 | O19: -
A20: =1+A19 -> 16 | B20: María Luisa Contreras | C20: Huacas | D20: E | E20: 261652 | F20: 341432 | G20: 41 | H20: - | I20: 0.78 | J20: - | K20: =N20-I20 -> 2.16 | L20: - | N20: 2.94 | O20: -
A21: =1+A20 -> 17 | B21: Paula Celaya | C21: Garita Vieja | D21: E | E21: 260355 | F21: 339957 | G21: 31 | H21: - | I21: 0.8 | J21: 8 | K21: =N21-I21 -> 5.32 | L21: - | N21: 6.12 | O21: -
A22: =1+A21 -> 18 | B22: Juan Pablo Arrieta | C22: Garita Nueva | D22: E | E22: 259558 | F22: 340347 | G22: 30 | H22: - | I22: 0.8 | J22: - | K22: =N22-I22 -> 3.76 | L22: - | N22: 4.56 | O22: -
A23: =1+A22 -> 19 | B23: Damián Matarrita | C23: Mangos | D23: E | E23: 260753 | F23: 340739 | G23: 34 | H23: - | I23: 0.9 | J23: 14 | K23: =N23-I23 -> 6.88 | L23: - | N23: 7.78 | O23: -
A24: =1+A23 -> 20 | B24: Cupertino López | C24: Tacasolapa | D24: E | E24: 258279 | F24: 340076 | G24: 31 | H24: - | I24: 1.15 | J24: - | K24: =N24-I24 -> 6.03 | L24: - | N24: 7.18 | O24: -
A25: =1+A24 -> 21 | B25: AyA Tamarindo P6 Plantel | C25: Tamarindo | D25: P | E25: 255183 | F25: 336781 | G25: 31 | H25: - | I25: 0 | J25: - | K25: =N25-I25 -> 7.8 | L25: - | N25: 7.8 | O25: -
A26: =1+A25 -> 22 | B26: AyA Tamarindo P1 Jobo | C26: Los Jobos | D26: P | E26: 253123 | F26: 335558 | G26: 34 | H26: - | I26: 0.43 | J26: - | K26: - | L26: =O26-I26 -> 23.47 | N26: - | O26: 23.9
A27: =1+A26 -> 23 | B27: AyA Tamarindo P2 Jobo | C27: Los Jobos | D27: P | E27: 252958 | F27: 335376 | G27: 35 | H27: - | I27: 1.13 | J27: - | K27: - | L27: =O27-I27 -> 14.81 | N27: - | O27: 15.94
A28: =1+A27 -> 24 | B28: AyA Tamarindo P1 Guanacaste | C28: Tamarindo | D28: P | E28: 256002 | F28: 336544 | G28: 29 | H28: - | I28: 0.28 | J28: - | K28: =N28-I28 -> 5.62 | L28: - | N28: 5.9 | O28: -
A29: =1+A28 -> 25 | B29: AyA Tamarindo P2 Virgilio | C29: Tamarindo | D29: P | E29: 255974 | F29: 336856 | G29: 26 | H29: - | I29: 0.55 | J29: - | K29: - | L29: =O29-I29 -> 10.8 | N29: - | O29: 11.35
A30: =1+A29 -> 26 | B30: AyA Tamarindo P2b Virgilio (nuevo) | C30: Tamarindo | D30: P | E30: 255966 | F30: 336871 | G30: 27 | H30: - | I30: 0.6 | J30: - | K30: - | L30: =O30-I30 -> 13.43 | N30: - | O30: 14.03
A31: =1+A30 -> 27 | B31: AyA Tamarindo P3 Papaturro | C31: Tamarindo | D31: P | E31: 255838 | F31: 337001 | G31: 27 | H31: - | I31: 0.85 | J31: - | K31: - | L31: =O31-I31 -> 12.71 | O31: 13.56
A32: =1+A31 -> 28 | B32: AyA Tamarindo P4 Pochote | C32: Tamarindo | D32: P | E32: 255461 | F32: 336874 | G32: 28 | H32: - | I32: 0.45 | J32: - | K32: - | L32: =O32-I32 -> 13.08 | O32: 13.53
A33: =1+A32 -> 29 | B33: AyA Tamarindo P4b Pochote (nuevo) | C33: Tamarindo | D33: P | E33: 255442 | F33: 336873 | G33: 26 | H33: - | I33: 0.45 | J33: - | K33: - | L33: =O33-I33 -> 14.07 | O33: 14.52
A34: =1+A33 -> 30 | B34: AyA Tamarindo P5 Albin | C34: Tamarindo | D34: P | E34: 255477 | F34: 337058 | G34: 27 | H34: - | I34: 0.2 | J34: - | K34: - | L34: =O34-I34 -> 23.9 | O34: 24.1
A35: =1+A34 -> 31 | B35: Gineth López Rosales | C35: Matapalo | D35: E | E35: 260752 | F35: 337937 | G35: 43 | H35: - | I35: 0.68 | J35: - | K35: =N35-I35 -> 5 | L35: - | N35: 5.68 | O35: -
A36: =1+A35 -> 32 | B36: ASADA Matapalo P3 | C36: Matapalo | D36: P | E36: 260776 | F36: 338205 | G36: 17 | H36: - | I36: 0.38 | J36: - | K36: =N36-I36 -> 4.7 | L36: - | N36: 5.08 | O36: -
A37: =1+A36 -> 33 | B37: ASADA Matapalo P1 | C37: Matapalo | D37: P | E37: 260777 | F37: 338205 | G37: 12 | H37: - | I37: 0.52 | J37: - | K37: - | L37: =O37-I37 -> 6.85 | N37: - | O37: 7.37
A38: =1+A37 -> 34 | B38: ASADA Matapalo P2 | C38: Matapalo | D38: P | E38: 260686 | F38: 338490 | G38: 31 | H38: - | I38: 0.75 | J38: - | K38: - | L38: =O38-I38 -> 6.75 | N38: - | O38: 7.5
A40: Nota: se anota como nivel estático la medida del pozo 33 de la ASADA Matapalo, sin embargo este pozo se ubica a 1m del pozo 32 que estaba en uso.

Sheet Mayo 2013
A1: Plan de Monitoreo Acuífero Huacas Tamarindo
A2: Fecha: 29 de mayo del 2013
N3: Datos de campo
A4: N˚ | B4: Nombre del POZO | C4: Lugar | D4: Tipo | E4: Latitud | F4: Longitud | G4: Altitud sobre nivel de Mar | H4: Diámetro armado (in) | I4: Brocal (m) | J4: Profundidad de pozo (m) | K4: Nivel estático (m) | L4: Nivel dinámico (m) | N4: Nivel estático (m) + Brocal | O4: Nivel dinámico (m) + Brocal
A5: 1 | B5: Aeropuerto Tamarindo Cancha de Golf | C5: Tamarindo | D5: P | E5: 255134 | F5: 337474 | G5: 41 | H5: - | I5: 0.45 | J5: - | K5: =N5-I5 -> 5.47 | L5: - | N5: 5.92 | O5: -
A6: =1+A5 -> 2 | B6: Aeropuerto Tamarindo cerca río San Andrés | C6: Tamarindo | D6: P | E6: 255381 | F6: 337593 | G6: 31 | H6: - | I6: 0.33 | J6: - | K6: =N6-I6 -> 6.22 | L6: - | N6: 6.55 | O6: -
A7: =1+A6 -> 3 | B7: Aeropuerto Tamarindo Abrevadero | C7: Tamarindo | D7: P | E7: 255744 | F7: 337763 | G7: 26 | H7: - | I7: 0.5 | J7: - | K7: =N7-I7 -> 5.2 | L7: - | N7: 5.7 | O7: -
A8: =1+A7 -> 4 | B8: Aeropuerto Tamarindo los Tornillos | C8: Tamarindo | D8: P | E8: 255800 | F8: 337245 | G8: 23 | H8: - | I8: 0.6 | J8: - | K8: =N8-I8 -> 5.15 | L8: - | N8: 5.75 | O8: -
A9: =1+A8 -> 5 | B9: Elvira Matarrita | C9: El Llano | D9: E | E9: 256089 | F9: 338238 | G9: 30 | H9: - | I9: 0.84 | J9: - | K9: =N9-I9 -> 9.71 | L9: - | N9: 10.55 | O9: -
A10: =1+A9 -> 6 | B10: ASADA Villarreal P1 | C10: Villarreal | D10: P | E10: 255579 | F10: 338206 | G10: 20 | H10: - | I10: - | J10: 18 | K10: Línea de aire obstruida | N10: Línea de aire obstruida
A11: =1+A10 -> 7 | B11: ASADA Villarreal P2 | C11: Villarreal | D11: P | E11: 255562 | F11: 338189 | G11: 30 | H11: - | I11: 0.5 | J11: 18 | K11: - | L11: =O11-I11 -> 9.55 | N11: - | O11: 10.05
A12: =1+A11 -> 8 | B12: ASADA Villarreal P3 | C12: Villarreal | D12: P | E12: 255605 | F12: 338552 | G12: 33 | H12: - | I12: 1.87 | J12: 19 | K12: Línea de aire obstruida | N12: Línea de aire obstruida
A13: =1+A12 -> 9 | B13: Maritza Obando | C13: San Andrés | D13: E | E13: 255576 | F13: 338998 | G13: 34 | H13: - | I13: 0.73 | J13: - | K13: =N13-I13 -> 4.63 | L13: - | N13: 5.36 | O13: -
A14: =1+A13 -> 10 | B14: ASADA Santa Rosa | C14: Santa Rosa | D14: P | E14: 255198 | F14: 340143 | G14: 22 | H14: - | I14: 0.8 | J14: - | K14: - | L14: =O14-I14 -> 10.63 | N14: - | O14: 11.43
A15: =1+A14 -> 11 | B15: Seabees Santa Rosa | C15: Santa Rosa | D15: P | E15: 255267 | F15: 340939 | G15: 31 | H15: - | I15: 0.38 | J15: - | K15: =N15-I15 -> 7.04 | L15: - | N15: 7.42 | O15: -
A16: =1+A15 -> 12 | B16: Magdalena Obando | C16: Santa Rosa | D16: E | E16: 255293 | F16: 340970 | G16: 32 | H16: - | I16: 0.84 | J16: - | K16: =N16-I16 -> 5.26 | L16: - | N16: 6.1 | O16: -
A17: =1+A16 -> 13 | B17: ASADA Lomas | C17: Lomas | D17: P | E17: 258631 | F17: 338988 | G17: 16 | H17: - | I17: 1.18 | J17: 26 | K17: - | L17: =O17-I17 -> 5.82 | N17: - | O17: 7
A18: =1+A17 -> 14 | B18: José Catalino Jaén | C18: Lomas | D18: E | E18: 259080 | F18: 338723 | G18: 21 | H18: - | I18: 0.8 | J18: 11-12 | K18: =N18-I18 -> 5.76 | L18: - | N18: 6.56 | O18: -
A19: =1+A18 -> 15 | B19: Santos Arrieta | C19: Salinitas | D19: E | E19: 258896 | F19: 337242 | G19: 13 | H19: - | I19: 1 | J19: - | K19: =N19-I19 -> 5.62 | L19: - | N19: 6.62 | O19: -
A20: =1+A19 -> 16 | B20: María Luisa Contreras | C20: Huacas | D20: E | E20: 261652 | F20: 341432 | G20: 41 | H20: - | I20: 0.78 | J20: - | K20: =N20-I20 -> 1.7 | L20: - | N20: 2.48 | O20: -
A21: =1+A20 -> 17 | B21: Paula Celaya | C21: Garita Vieja | D21: E | E21: 260355 | F21: 339957 | G21: 31 | H21: - | I21: 0.8 | J21: 8 | K21: =N21-I21 -> 5.1 | L21: - | N21: 5.9 | O21: -
A22: =1+A21 -> 18 | B22: Juan Pablo Arrieta | C22: Garita Nueva | D22: E | E22: 259558 | F22: 340347 | G22: 30 | H22: - | I22: 0.8 | J22: - | K22: =N22-I22 -> 3.82 | L22: - | N22: 4.62 | O22: -
A23: =1+A22 -> 19 | B23: Damián Matarrita | C23: Mangos | D23: E | E23: 260753 | F23: 340739 | G23: 34 | H23: - | I23: 0.9 | J23: 14 | K23: seco | L23: - | N23: seco | O23: -
A24: =1+A23 -> 20 | B24: Cupertino López | C24: Tacasolapa | D24: E | E24: 258279 | F24: 340076 | G24: 31 | H24: - | I24: 1.15 | J24: - | K24: =N24-I24 -> 6.43 | L24: - | N24: 7.58 | O24: -
A25: =1+A24 -> 21 | B25: AyA Tamarindo P6 Plantel | C25: Tamarindo | D25: P | E25: 255183 | F25: 336781 | G25: 31 | H25: - | I25: 0 | J25: - | K25: =N25-I25 -> 8.32 | L25: - | N25: 8.32 | O25: -
A26: =1+A25 -> 22 | B26: AyA Tamarindo P1 Jobo | C26: Los Jobos | D26: P | E26: 253123 | F26: 335558 | G26: 34 | H26: - | I26: 0.43 | J26: - | K26: =N26-I26 -> 11.37 | L26: - | N26: 11.8 | O26: -
A27: =1+A26 -> 23 | B27: AyA Tamarindo P2 Jobo | C27: Los Jobos | D27: P | E27: 252958 | F27: 335376 | G27: 35 | H27: - | I27: 1.13 | J27: - | K27: - | L27: =O27-I27 -> 14.32 | N27: - | O27: 15.45
A28: =1+A27 -> 24 | B28: AyA Tamarindo P1 Guanacaste | C28: Tamarindo | D28: P | E28: 256002 | F28: 336544 | G28: 29 | H28: - | I28: 0.28 | J28: - | K28: - | L28: =O28-I28 -> 10.07 | N28: - | O28: 10.35
A29: =1+A28 -> 25 | B29: AyA Tamarindo P2 Virgilio | C29: Tamarindo | D29: P | E29: 255974 | F29: 336856 | G29: 26 | H29: - | I29: 0.55 | J29: - | K29: - | L29: =O29-I29 -> 10.85 | N29: - | O29: 11.4
A30: =1+A29 -> 26 | B30: AyA Tamarindo P2b Virgilio (nuevo) | C30: Tamarindo | D30: P | E30: 255966 | F30: 336871 | G30: 27 | H30: - | I30: 0.6 | J30: - | K30: - | L30: =O30-I30 -> 16.16 | N30: - | O30: 16.76
A31: =1+A30 -> 27 | B31: AyA Tamarindo P3 Papaturro | C31: Tamarindo | D31: P | E31: 255838 | F31: 337001 | G31: 27 | H31: - | I31: 0.85 | J31: - | K31: - | L31: =O31-I31 -> 13.65 | N31: - | O31: 14.5
A32: =1+A31 -> 28 | B32: AyA Tamarindo P4 Pochote | C32: Tamarindo | D32: P | E32: 255461 | F32: 336874 | G32: 28 | H32: - | I32: 0.45 | J32: - | K32: - | L32: =O32-I32 -> 14.35 | N32: - | O32: 14.8
A33: =1+A32 -> 29 | B33: AyA Tamarindo P4b Pochote (nuevo) | C33: Tamarindo | D33: P | E33: 255442 | F33: 336873 | G33: 26 | H33: - | I33: 0.45 | J33: - | K33: - | L33: =O33-I33 -> 17.07 | N33: - | O33: 17.52
A34: =1+A33 -> 30 | B34: AyA Tamarindo P5 Albin | C34: Tamarindo | D34: P | E34: 255477 | F34: 337058 | G34: 27 | H34: - | I34: 0.2 | J34: - | K34: - | L34: =O34-I34 -> 23.9 | N34: - | O34: 24.1
A35: =1+A34 -> 31 | B35: Gineth López Rosales | C35: Matapalo | D35: E | E35: 260752 | F35: 337937 | G35: 43 | H35: - | I35: 0.68 | J35: - | K35: =N35-I35 -> 4.96 | L35: - | N35: 5.64 | O35: -
A36: =1+A35 -> 32 | B36: ASADA Matapalo P3 | C36: Matapalo | D36: P | E36: 260776 | F36: 338205 | G36: 17 | H36: - | I36: 0.38 | J36: - | K36: =N36-I36 -> 5.14 | L36: - | N36: 5.52 | O36: -
A37: =1+A36 -> 33 | B37: ASADA Matapalo P1 | C37: Matapalo | D37: P | E37: 260777 | F37: 338205 | G37: 12 | H37: - | I37: 0.52 | J37: - | K37: - | L37: =O37-I37 -> 6.26 | N37: - | O37: 6.78
A38: =1+A37 -> 34 | B38: ASADA Matapalo P2 | C38: Matapalo | D38: P | E38: 260686 | F38: 338490 | G38: 31 | H38: - | I38: 0.75 | J38: - | K38: - | L38: =O38-I38 -> 8.13 | N38: - | O38: 8.88
A40: Nota: se anota como nivel estático la medida del pozo 33 de la ASADA Matapalo, sin embargo este pozo se ubica a 1m del pozo 32 que estaba en uso.

Sheet Junio 2013
A1: Plan de Monitoreo Acuífero Huacas Tamarindo
A2: Fecha: 20 de junio del 2013
N3: Datos de campo
A4: N˚ | B4: Nombre del POZO | C4: Lugar | D4: Tipo | E4: Latitud | F4: Longitud | G4: Altitud sobre nivel de Mar | H4: Diámetro armado (in) | I4: Brocal (m) | J4: Profundidad de pozo (m) | K4: Nivel estático (m) | L4: Nivel dinámico (m) | N4: Nivel estático (m) + Brocal | O4: Nivel dinámico (m) + Brocal
A5: 1 | B5: Aeropuerto Tamarindo Cancha de Golf | C5: Tamarindo | D5: P | E5: 255134 | F5: 337474 | G5: 41 | H5: - | I5: 0.45 | J5: - | K5: =N5-I5 -> 3.02 | L5: - | N5: 3.47 | O5: -
A6: =1+A5 -> 2 | B6: Aeropuerto Tamarindo cerca río San Andrés | C6: Tamarindo | D6: P | E6: 255381 | F6: 337593 | G6: 31 | H6: - | I6: 0.33 | J6: - | K6: =N6-I6 -> 3.73 | L6: - | N6: 4.06 | O6: -
A7: =1+A6 -> 3 | B7: Aeropuerto Tamarindo Abrevadero | C7: Tamarindo | D7: P | E7: 255744 | F7: 337763 | G7: 26 | H7: - | I7: 0.5 | J7: - | K7: =N7-I7 -> 4.12 | L7: - | N7: 4.62 | O7: -
A8: =1+A7 -> 4 | B8: Aeropuerto Tamarindo los Tornillos | C8: Tamarindo | D8: P | E8: 255800 | F8: 337245 | G8: 23 | H8: - | I8: 0.6 | J8: - | K8: =N8-I8 -> 4.3 | L8: - | N8: 4.9 | O8: -
A9: =1+A8 -> 5 | B9: Elvira Matarrita | C9: El Llano | D9: E | E9: 256089 | F9: 338238 | G9: 30 | H9: - | I9: 0.84 | J9: - | K9: =N9-I9 -> 8.83 | L9: - | N9: 9.67 | O9: -
A10: =1+A9 -> 6 | B10: ASADA Villarreal P1 | C10: Villarreal | D10: P | E10: 255579 | F10: 338206 | G10: 20 | H10: - | I10: - | J10: 18 | K10: Línea de aire obstruida | N10: Línea de aire obstruida
A11: =1+A10 -> 7 | B11: ASADA Villarreal P2 | C11: Villarreal | D11: P | E11: 255562 | F11: 338189 | G11: 30 | H11: - | I11: 0.5 | J11: 18 | K11: - | L11: =O11-I11 -> 5.88 | N11: - | O11: 6.38
A12: =1+A11 -> 8 | B12: ASADA Villarreal P3 | C12: Villarreal | D12: P | E12: 255605 | F12: 338552 | G12: 33 | H12: - | I12: 1.87 | J12: 19 | K12: Línea de aire obstruida | N12: Línea de aire obstruida
A13: =1+A12 -> 9 | B13: Maritza Obando | C13: San Andrés | D13: E | E13: 255576 | F13: 338998 | G13: 34 | H13: - | I13: 0.73 | J13: - | K13: =N13-I13 -> 3.3 | L13: - | N13: 4.03 | O13: -
A14: =1+A13 -> 10 | B14: ASADA Santa Rosa | C14: Santa Rosa | D14: P | E14: 255198 | F14: 340143 | G14: 22 | H14: - | I14: 0.8 | J14: - | K14: - | L14: =O14-I14 -> 9.06 | N14: - | O14: 9.86
A15: =1+A14 -> 11 | B15: Seabees Santa Rosa | C15: Santa Rosa | D15: P | E15: 255267 | F15: 340939 | G15: 31 | H15: - | I15: 0.38 | J15: - | K15: =N15-I15 -> 6.39 | L15: - | N15: 6.77 | O15: -
A16: =1+A15 -> 12 | B16: Magdalena Obando | C16: Santa Rosa | D16: E | E16: 255293 | F16: 340970 | G16: 32 | H16: - | I16: 0.84 | J16: - | K16: =N16-I16 -> 6.54 | L16: - | N16: 7.38 | O16: -
A17: =1+A16 -> 13 | B17: ASADA Lomas | C17: Lomas | D17: P | E17: 258631 | F17: 338988 | G17: 16 | H17: - | I17: 1.18 | J17: 26 | K17: =N17-I17 -> 0.95 | N17: 2.13 | O17: -
A18: =1+A17 -> 14 | B18: José Catalino Jaén | C18: Lomas | D18: E | E18: 259080 | F18: 338723 | G18: 21 | H18: - | I18: 0.8 | J18: 11-12 | K18: =N18-I18 -> 4.48 | L18: - | N18: 5.28 | O18: -
A19: =1+A18 -> 15 | B19: Santos Arrieta | C19: Salinitas | D19: E | E19: 258896 | F19: 337242 | G19: 13 | H19: - | I19: 1 | J19: - | K19: =N19-I19 -> 4.55 | L19: - | N19: 5.55 | O19: -
A20: =1+A19 -> 16 | B20: María Luisa Contreras | C20: Huacas | D20: E | E20: 261652 | F20: 341432 | G20: 41 | H20: - | I20: 0.78 | J20: - | K20: =N20-I20 -> 1.52 | L20: - | N20: 2.3 | O20: -
A21: =1+A20 -> 17 | B21: Paula Celaya | C21: Garita Vieja | D21: E | E21: 260355 | F21: 339957 | G21: 31 | H21: - | I21: 0.8 | J21: 8 | K21: =N21-I21 -> 4.83 | L21: - | N21: 5.63 | O21: -
A22: =1+A21 -> 18 | B22: Juan Pablo Arrieta | C22: Garita Nueva | D22: E | E22: 259558 | F22: 340347 | G22: 30 | H22: - | I22: 0.8 | J22: - | K22: =N22-I22 -> 2.97 | L22: - | N22: 3.77 | O22: -
A23: =1+A22 -> 19 | B23: Damián Matarrita | C23: Mangos | D23: E | E23: 260753 | F23: 340739 | G23: 34 | H23: - | I23: 0.9 | J23: 14 | K23: =N23-I23 -> 5.76 | L23: - | N23: 6.66 | O23: -
A24: =1+A23 -> 20 | B24: Cupertino López | C24: Tacasolapa | D24: E | E24: 258279 | F24: 340076 | G24: 31 | H24: - | I24: 1.15 | J24: - | K24: =N24-I24 -> 5.35 | L24: - | N24: 6.5 | O24: -
A25: =1+A24 -> 21 | B25: AyA Tamarindo P6 Plantel | C25: Tamarindo | D25: P | E25: 255183 | F25: 336781 | G25: 31 | H25: - | I25: 0 | J25: - | K25: =N25-I25 -> 7.57 | L25: - | N25: 7.57 | O25: -
A26: =1+A25 -> 22 | B26: AyA Tamarindo P1 Jobo | C26: Los Jobos | D26: P | E26: 253123 | F26: 335558 | G26: 34 | H26: - | I26: 0.43 | J26: - | K26: - | L26: =O26-I26 -> 10.81 | N26: - | O26: 11.24
A27: =1+A26 -> 23 | B27: AyA Tamarindo P2 Jobo | C27: Los Jobos | D27: P | E27: 252958 | F27: 335376 | G27: 35 | H27: - | I27: 1.13 | J27: - | K27: =N27-I27 -> 8.34 | L27: - | N27: 9.47 | O27: -
A28: =1+A27 -> 24 | B28: AyA Tamarindo P1 Guanacaste | C28: Tamarindo | D28: P | E28: 256002 | F28: 336544 | G28: 29 | H28: - | I28: 0.28 | J28: - | K28: - | L28: =O28-I28 -> 8.97 | N28: - | O28: 9.25
A29: =1+A28 -> 25 | B29: AyA Tamarindo P2 Virgilio | C29: Tamarindo | D29: P | E29: 255974 | F29: 336856 | G29: 26 | H29: - | I29: 0.55 | J29: - | K29: - | L29: =O29-I29 -> 13.03 | N29: - | O29: 13.58
A30: =1+A29 -> 26 | B30: AyA Tamarindo P2b Virgilio (nuevo) | C30: Tamarindo | D30: P | E30: 255966 | F30: 336871 | G30: 27 | H30: - | I30: 0.6 | J30: - | K30: - | L30: =O30-I30 -> 11.93 | N30: - | O30: 12.53
A31: =1+A30 -> 27 | B31: AyA Tamarindo P3 Papaturro | C31: Tamarindo | D31: P | E31: 255838 | F31: 337001 | G31: 27 | H31: - | I31: 0.85 | J31: - | K31: - | L31: =O31-I31 -> 12.45 | N31: - | O31: 13.3
A32: =1+A31 -> 28 | B32: AyA Tamarindo P4 Pochote | C32: Tamarindo | D32: P | E32: 255461 | F32: 336874 | G32: 28 | H32: - | I32: 0.45 | J32: - | K32: Línea de aire obstruida | N32: - | O32: -
A33: =1+A32 -> 29 | B33: AyA Tamarindo P4b Pochote (nuevo) | C33: Tamarindo | D33: P | E33: 255442 | F33: 336873 | G33: 26 | H33: - | I33: 0.45 | J33: - | K33: - | L33: =O33-I33 -> 13.85 | N33: - | O33: 14.3
A34: =1+A33 -> 30 | B34: AyA Tamarindo P5 Albin | C34: Tamarindo | D34: P | E34: 255477 | F34: 337058 | G34: 27 | H34: - | I34: 0.2 | J34: - | K34: =N34-I34 -> 4.11 | L34: - | N34: 4.31 | O34: -
A35: =1+A34 -> 31 | B35: Gineth López Rosales | C35: Matapalo | D35: E | E35: 260752 | F35: 337937 | G35: 43 | H35: - | I35: 0.68 | J35: - | K35: =N35-I35 -> 4.32 | L35: - | N35: 5 | O35: -
A36: =1+A35 -> 32 | B36: ASADA Matapalo P3 | C36: Matapalo | D36: P | E36: 260776 | F36: 338205 | G36: 17 | H36: - | I36: 0.38 | J36: - | K36: =N36-I36 -> 4.53 | L36: - | N36: 4.91 | O36: -
A37: =1+A36 -> 33 | B37: ASADA Matapalo P1 | C37: Matapalo | D37: P | E37: 260777 | F37: 338205 | G37: 12 | H37: - | I37: 0.52 | J37: - | K37: - | L37: =O37-I37 -> 5.44 | N37: - | O37: 5.96
A38: =1+A37 -> 34 | B38: ASADA Matapalo P2 | C38: Matapalo | D38: P | E38: 260686 | F38: 338490 | G38: 31 | H38: - | I38: 0.75 | J38: - | K38: - | L38: =O38-I38 -> 6.3 | N38: - | O38: 7.05
A40: Nota: se anota como nivel estático la medida del pozo 33 de la ASADA Matapalo, sin embargo este pozo se ubica a 1m del pozo 32 que estaba en uso.

Sheet Julio 2013
A1: Plan de Monitoreo Acuífero Huacas Tamarindo
A2: Fecha: 18 de julio del 2013
N3: Datos de campo
A4: N˚ | B4: Nombre del POZO | C4: Lugar | D4: Tipo | E4: Latitud | F4: Longitud | G4: Altitud sobre nivel de Mar | H4: Diámetro armado (in) | I4: Brocal (m) | J4: Profundidad de pozo (m) | K4: Nivel estático (m) | L4: Nivel dinámico (m) | N4: Nivel estático (m) + Brocal | O4: Nivel dinámico (m) + Brocal
A5: 1 | B5: Aeropuerto Tamarindo Cancha de Golf | C5: Tamarindo | D5: P | E5: 255134 | F5: 337474 | G5: 41 | H5: - | I5: 0.45 | J5: - | K5: =N5-I5 -> 2.79 | L5: - | N5: 3.24 | O5: -
A6: =1+A5 -> 2 | B6: Aeropuerto Tamarindo cerca río San Andrés | C6: Tamarindo | D6: P | E6: 255381 | F6: 337593 | G6: 31 | H6: - | I6: 0.33 | J6: - | K6: =N6-I6 -> 3.21 | L6: - | N6: 3.54 | O6: -
A7: =1+A6 -> 3 | B7: Aeropuerto Tamarindo Abrevadero | C7: Tamarindo | D7: P | E7: 255744 | F7: 337763 | G7: 26 | H7: - | I7: 0.5 | J7: - | K7: Avispas | N7: - | O7: -
A8: =1+A7 -> 4 | B8: Aeropuerto Tamarindo los Tornillos | C8: Tamarindo | D8: P | E8: 255800 | F8: 337245 | G8: 23 | H8: - | I8: 0.6 | J8: - | K8: =N8-I8 -> 3.8 | L8: - | N8: 4.4 | O8: -
A9: =1+A8 -> 5 | B9: Elvira Matarrita | C9: El Llano | D9: E | E9: 256089 | F9: 338238 | G9: 30 | H9: - | I9: 0.84 | J9: - | K9: =N9-I9 -> 8.31 | L9: - | N9: 9.15 | O9: -
A10: =1+A9 -> 6 | B10: ASADA Villarreal P1 | C10: Villarreal | D10: P | E10: 255579 | F10: 338206 | G10: 20 | H10: - | I10: - | J10: 18 | K10: Línea de aire obstruida | N10: Línea de aire obstruida
A11: =1+A10 -> 7 | B11: ASADA Villarreal P2 | C11: Villarreal | D11: P | E11: 255562 | F11: 338189 | G11: 30 | H11: - | I11: 0.5 | J11: 18 | K11: Sin Llave | N11: -
A12: =1+A11 -> 8 | B12: ASADA Villarreal P3 | C12: Villarreal | D12: P | E12: 255605 | F12: 338552 | G12: 33 | H12: - | I12: 1.87 | J12: 19 | K12: Línea de aire obstruida | N12: Línea de aire obstruida
A13: =1+A12 -> 9 | B13: Maritza Obando | C13: San Andrés | D13: E | E13: 255576 | F13: 338998 | G13: 34 | H13: - | I13: 0.73 | J13: - | K13: =N13-I13 -> 3.12 | L13: - | N13: 3.85 | O13: -
A14: =1+A13 -> 10 | B14: ASADA Santa Rosa | C14: Santa Rosa | D14: P | E14: 255198 | F14: 340143 | G14: 22 | H14: - | I14: 0.8 | J14: - | K14: - | L14: =O14-I14 -> 9.01 | N14: - | O14: 9.81
A15: =1+A14 -> 11 | B15: Seabees Santa Rosa | C15: Santa Rosa | D15: P | E15: 255267 | F15: 340939 | G15: 31 | H15: - | I15: 0.38 | J15: - | K15: =N15-I15 -> 6.04 | L15: - | N15: 6.42 | O15: -
A16: =1+A15 -> 12 | B16: Magdalena Obando | C16: Santa Rosa | D16: E | E16: 255293 | F16: 340970 | G16: 32 | H16: - | I16: 0.84 | J16: - | K16: =N16-I16 -> 6.18 | L16: - | N16: 7.02 | O16: -
A17: =1+A16 -> 13 | B17: ASADA Lomas | C17: Lomas | D17: P | E17: 258631 | F17: 338988 | G17: 16 | H17: - | I17: 1.18 | J17: 26 | K17: - | L17: =O17-I17 -> 4.66 | N17: - | O17: 5.84
A18: =1+A17 -> 14 | B18: José Catalino Jaén | C18: Lomas | D18: E | E18: 259080 | F18: 338723 | G18: 21 | H18: - | I18: 0.8 | J18: 11-12 | K18: =N18-I18 -> 4.19 | L18: - | N18: 4.99 | O18: -
A19: =1+A18 -> 15 | B19: Santos Arrieta | C19: Salinitas | D19: E | E19: 258896 | F19: 337242 | G19: 13 | H19: - | I19: 1 | J19: - | K19: =N19-I19 -> 4.21 | L19: - | N19: 5.21 | O19: -
A20: =1+A19 -> 16 | B20: María Luisa Contreras | C20: Huacas | D20: E | E20: 261652 | F20: 341432 | G20: 41 | H20: - | I20: 0.78 | J20: - | K20: =N20-I20 -> 1.6 | L20: - | N20: 2.38 | O20: -
A21: =1+A20 -> 17 | B21: Paula Celaya | C21: Garita Vieja | D21: E | E21: 260355 | F21: 339957 | G21: 31 | H21: - | I21: 0.8 | J21: 8 | K21: =N21-I21 -> 4.74 | L21: - | N21: 5.54 | O21: -
A22: =1+A21 -> 18 | B22: Juan Pablo Arrieta | C22: Garita Nueva | D22: E | E22: 259558 | F22: 340347 | G22: 30 | H22: - | I22: 0.8 | J22: - | K22: =N22-I22 -> 3.11 | L22: - | N22: 3.91 | O22: -
A23: =1+A22 -> 19 | B23: Damián Matarrita | C23: Mangos | D23: E | E23: 260753 | F23: 340739 | G23: 34 | H23: - | I23: 0.9 | J23: 14 | K23: =N23-I23 -> 5.6 | L23: - | N23: 6.5 | O23: -
A24: =1+A23 -> 20 | B24: Cupertino López | C24: Tacasolapa | D24: E | E24: 258279 | F24: 340076 | G24: 31 | H24: - | I24: 1.15 | J24: - | K24: =N24-I24 -> 5.2 | L24: - | N24: 6.35 | O24: -
A25: =1+A24 -> 21 | B25: AyA Tamarindo P6 Plantel | C25: Tamarindo | D25: P | E25: 255183 | F25: 336781 | G25: 31 | H25: - | I25: 0 | J25: - | K25: Aterrado | N25: - | O25: -
A26: =1+A25 -> 22 | B26: AyA Tamarindo P1 Jobo | C26: Los Jobos | D26: P | E26: 253123 | F26: 335558 | G26: 34 | H26: - | I26: 0.43 | J26: - | K26: - | L26: =O26-I26 -> 10.91 | N26: - | O26: 11.34
A27: =1+A26 -> 23 | B27: AyA Tamarindo P2 Jobo | C27: Los Jobos | D27: P | E27: 252958 | F27: 335376 | G27: 35 | H27: - | I27: 1.13 | J27: - | K27: =N27-I27 -> 8.12 | L27: - | N27: 9.25 | O27: -
A28: =1+A27 -> 24 | B28: AyA Tamarindo P1 Guanacaste | C28: Tamarindo | D28: P | E28: 256002 | F28: 336544 | G28: 29 | H28: - | I28: 0.28 | J28: - | K28: =N28-I28 -> 5.17 | L28: - | N28: 5.45 | O28: -
A29: =1+A28 -> 25 | B29: AyA Tamarindo P2 Virgilio | C29: Tamarindo | D29: P | E29: 255974 | F29: 336856 | G29: 26 | H29: - | I29: 0.55 | J29: - | K29: Sin Llave | N29: -
A30: =1+A29 -> 26 | B30: AyA Tamarindo P2b Virgilio (nuevo) | C30: Tamarindo | D30: P | E30: 255966 | F30: 336871 | G30: 27 | H30: - | I30: 0.6 | J30: - | K30: - | L30: =O30-I30 -> 12.75 | N30: - | O30: 13.35
A31: =1+A30 -> 27 | B31: AyA Tamarindo P3 Papaturro | C31: Tamarindo | D31: P | E31: 255838 | F31: 337001 | G31: 27 | H31: - | I31: 0.85 | J31: - | K31: - | L31: =O31-I31 -> 11.8 | N31: - | O31: 12.65
A32: =1+A31 -> 28 | B32: AyA Tamarindo P4 Pochote | C32: Tamarindo | D32: P | E32: 255461 | F32: 336874 | G32: 28 | H32: - | I32: 0.45 | J32: - | K32: Sin Llave | N32: - | O32: -
A33: =1+A32 -> 29 | B33: AyA Tamarindo P4b Pochote (nuevo) | C33: Tamarindo | D33: P | E33: 255442 | F33: 336873 | G33: 26 | H33: - | I33: 0.45 | J33: - | K33: - | L33: =O33-I33 -> 18.42 | N33: - | O33: 18.87
A34: =1+A33 -> 30 | B34: AyA Tamarindo P5 Albin | C34: Tamarindo | D34: P | E34: 255477 | F34: 337058 | G34: 27 | H34: - | I34: 0.2 | J34: - | K34: - | L34: =O34-I34 -> 24 | N34: - | O34: 24.2
A35: =1+A34 -> 31 | B35: Gineth López Rosales | C35: Matapalo | D35: E | E35: 260752 | F35: 337937 | G35: 43 | H35: - | I35: 0.68 | J35: - | K35: =N35-I35 -> 4.25 | L35: - | N35: 4.93 | O35: -
A36: =1+A35 -> 32 | B36: ASADA Matapalo P3 | C36: Matapalo | D36: P | E36: 260776 | F36: 338205 | G36: 17 | H36: - | I36: 0.38 | J36: - | K36: - | L36: =O36-I36 -> 9.96 | N36: - | O36: 10.34
A37: =1+A36 -> 33 | B37: ASADA Matapalo P1 | C37: Matapalo | D37: P | E37: 260777 | F37: 338205 | G37: 12 | H37: - | I37: 0.52 | J37: - | K37: =N37-I37 -> 4.98 | L37: - | N37: 5.5 | O37: -
A38: =1+A37 -> 34 | B38: ASADA Matapalo P2 | C38: Matapalo | D38: P | E38: 260686 | F38: 338490 | G38: 31 | H38: - | I38: 0.75 | J38: - | K38: =N38-I38 -> 4.16 | L38: - | N38: 4.91 | O38: -
A39: =1+A38 -> 35 | B39: ASADA Tamarindo P5 Jobo | C39: Matapalo | D39: P | E39: 253123 | F39: 335786 | G39: 23 | H39: - | I39: 0.52 | J39: - | K39: =N39-I39 -> 11.69 | L39: - | N39: 12.21 | O39: -
A40: =1+A39 -> 36 | B40: ASADA Tamarindo P3 Fertana | C40: Matapalo | D40: P | E40: 254952 | F40: 336152 | G40: 21 | H40: - | I40: 0.6 | J40: - | K40: =N40-I40 -> 6.3 | L40: - | N40: 6.9 | O40: -
...

Sheet Agosto 2013
A1: Plan de Monitoreo Acuífero Huacas Tamarindo
A2: Fecha: 29 de agosto del 2013
N3: Datos de campo
A4: N˚ | B4: Nombre del POZO | C4: Lugar | D4: Tipo | E4: Latitud | F4: Longitud | G4: Altitud sobre nivel de Mar | H4: Diámetro armado (in) | I4: Brocal (m) | J4: Profundidad de pozo (m) | K4: Nivel estático (m) | L4: Nivel dinámico (m) | N4: Nivel estático (m) + Brocal | O4: Nivel dinámico (m) + Brocal
A5: 1 | B5: Aeropuerto Tamarindo Cancha de Golf | C5: Tamarindo | D5: P | E5: 255134 | F5: 337474 | G5: 41 | H5: - | I5: 0.45 | J5: - | K5: =N5-I5 -> 2.61 | L5: - | N5: 3.06 | O5: -
A6: =1+A5 -> 2 | B6: Aeropuerto Tamarindo cerca río San Andrés | C6: Tamarindo | D6: P | E6: 255381 | F6: 337593 | G6: 31 | H6: - | I6: 0.33 | J6: - | K6: =N6-I6 -> 2.55 | L6: - | N6: 2.88 | O6: -
A7: =1+A6 -> 3 | B7: Aeropuerto Tamarindo Abrevadero | C7: Tamarindo | D7: P | E7: 255744 | F7: 337763 | G7: 26 | H7: - | I7: 0.5 | J7: - | K7: - | L7: - | N7: SD | O7: -
A8: =1+A7 -> 4 | B8: Aeropuerto Tamarindo los Tornillos | C8: Tamarindo | D8: P | E8: 255800 | F8: 337245 | G8: 23 | H8: - | I8: 0.6 | J8: - | K8: =N8-I8 -> 2.03 | L8: - | N8: 2.63 | O8: -
A9: =1+A8 -> 5 | B9: Elvira Matarrita | C9: El Llano | D9: E | E9: 256089 | F9: 338238 | G9: 30 | H9: - | I9: 0.84 | J9: - | K9: =N9-I9 -> 7.38 | L9: - | N9: 8.22 | O9: -
A10: =1+A9 -> 6 | B10: ASADA Villarreal P1 | C10: Villarreal | D10: P | E10: 255579 | F10: 338206 | G10: 20 | H10: - | I10: - | J10: 18 | K10: Línea de aire obstruida | N10: Línea de aire obstruida
A11: =1+A10 -> 7 | B11: ASADA Villarreal P2 | C11: Villarreal | D11: P | E11: 255562 | F11: 338189 | G11: 30 | H11: - | I11: 0.5 | J11: 18 | K11: =N11-I11 -> 2.3 | L11: - | N11: 2.8
A12: =1+A11 -> 8 | B12: ASADA Villarreal P3 | C12: Villarreal | D12: P | E12: 255605 | F12: 338552 | G12: 33 | H12: - | I12: 1.87 | J12: 19 | K12: Línea de aire obstruida | N12: Línea de aire obstruida
A13: =1+A12 -> 9 | B13: Maritza Obando | C13: San Andrés | D13: E | E13: 255576 | F13: 338998 | G13: 34 | H13: - | I13: 0.73 | J13: - | K13: =N13-I13 -> 3.07 | L13: - | N13: 3.8 | O13: -
A14: =1+A13 -> 10 | B14: ASADA Santa Rosa | C14: Santa Rosa | D14: P | E14: 255198 | F14: 340143 | G14: 22 | H14: - | I14: 0.8 | J14: - | K14: =N14-I14 -> 4.62 | L14: - | N14: 5.42
A15: =1+A14 -> 11 | B15: Seabees Santa Rosa | C15: Santa Rosa | D15: P | E15: 255267 | F15: 340939 | G15: 31 | H15: - | I15: 0.38 | J15: - | K15: =N15-I15 -> 5.57 | L15: - | N15: 5.95 | O15: -
A16: =1+A15 -> 12 | B16: Magdalena Obando | C16: Santa Rosa | D16: E | E16: 255293 | F16: 340970 | G16: 32 | H16: - | I16: 0.84 | J16: - | K16: =N16-I16 -> 5.61 | L16: - | N16: 6.45 | O16: -
A17: =1+A16 -> 13 | B17: ASADA Lomas | C17: Lomas | D17: P | E17: 258631 | F17: 338988 | G17: 16 | H17: - | I17: 1.18 | J17: 26 | K17: =N17-I17 -> 0.6 | L17: - | N17: 1.78
A18: =1+A17 -> 14 | B18: José Catalino Jaén | C18: Lomas | D18: E | E18: 259080 | F18: 338723 | G18: 21 | H18: - | I18: 0.8 | J18: 11-12 | K18: =N18-I18 -> 3.64 | L18: - | N18: 4.44 | O18: -
A19: =1+A18 -> 15 | B19: Santos Arrieta | C19: Salinitas | D19: E | E19: 258896 | F19: 337242 | G19: 13 | H19: - | I19: 1 | J19: - | K19: =N19-I19 -> 3.76 | L19: - | N19: 4.76 | O19: -
A20: =1+A19 -> 16 | B20: María Luisa Contreras | C20: Huacas | D20: E | E20: 261652 | F20: 341432 | G20: 41 | H20: - | I20: 0.78 | J20: - | K20: =N20-I20 -> 1.55 | L20: - | N20: 2.33 | O20: -
A21: =1+A20 -> 17 | B21: Paula Celaya | C21: Garita Vieja | D21: E | E21: 260355 | F21: 339957 | G21: 31 | H21: - | I21: 0.8 | J21: 8 | K21: =N21-I21 -> 4.72 | L21: - | N21: 5.52 | O21: -
A22: =1+A21 -> 18 | B22: Juan Pablo Arrieta | C22: Garita Nueva | D22: E | E22: 259558 | F22: 340347 | G22: 30 | H22: - | I22: 0.8 | J22: - | K22: =N22-I22 -> 2.94 | L22: - | N22: 3.74 | O22: -
A23: =1+A22 -> 19 | B23: Damián Matarrita | C23: Mangos | D23: E | E23: 260753 | F23: 340739 | G23: 34 | H23: - | I23: 0.9 | J23: 14 | K23: =N23-I23 -> 5.67 | L23: - | N23: 6.57 | O23: -
A24: =1+A23 -> 20 | B24: Cupertino López | C24: Tacasolapa | D24: E | E24: 258279 | F24: 340076 | G24: 31 | H24: - | I24: 1.15 | J24: - | K24: =N24-I24 -> 4.71 | L24: - | N24: 5.86 | O24: -
A25: =1+A24 -> 21 | B25: AyA Tamarindo P6 Plantel | C25: Tamarindo | D25: P | E25: 255183 | F25: 336781 | G25: 31 | H25: - | I25: 0 | J25: - | K25: =N25-I25 -> 5.46 | L25: - | N25: 5.46 | O25: -
A26: =1+A25 -> 22 | B26: AyA Tamarindo P1 Jobo | C26: Los Jobos | D26: P | E26: 253123 | F26: 335558 | G26: 34 | H26: - | I26: 0.43 | J26: - | K26: - | L26: =O26-I26 -> 8.41 | N26: - | O26: 8.84
A27: =1+A26 -> 23 | B27: AyA Tamarindo P2 Jobo | C27: Los Jobos | D27: P | E27: 252958 | F27: 335376 | G27: 35 | H27: - | I27: 1.13 | J27: - | K27: - | L27: =O27-I27 -> 7.53 | O27: 8.66
A28: =1+A27 -> 24 | B28: AyA Tamarindo P1 Guanacaste | C28: Tamarindo | D28: P | E28: 256002 | F28: 336544 | G28: 29 | H28: - | I28: 0.28 | J28: - | K28: =N28-I28 -> 1.04 | L28: - | N28: 1.32 | O28: -
A29: =1+A28 -> 25 | B29: AyA Tamarindo P2 Virgilio | C29: Tamarindo | D29: P | E29: 255974 | F29: 336856 | G29: 26 | H29: - | I29: 0.55 | J29: - | K29: =N29-I29 -> 4.59 | L29: - | N29: 5.14
A30: =1+A29 -> 26 | B30: AyA Tamarindo P2b Virgilio (nuevo) | C30: Tamarindo | D30: P | E30: 255966 | F30: 336871 | G30: 27 | H30: - | I30: 0.6 | J30: - | K30: - | L30: =O30-I30 -> 8.65 | N30: - | O30: 9.25
A31: =1+A30 -> 27 | B31: AyA Tamarindo P3 Papaturro | C31: Tamarindo | D31: P | E31: 255838 | F31: 337001 | G31: 27 | H31: - | I31: 0.85 | J31: - | K31: - | L31: =O31-I31 -> 9.21 | N31: - | O31: 10.06
A32: =1+A31 -> 28 | B32: AyA Tamarindo P4 Pochote | C32: Tamarindo | D32: P | E32: 255461 | F32: 336874 | G32: 28 | H32: - | I32: 0.45 | J32: - | K32: - | L32: =O32-I32 -> 12.77 | N32: - | O32: 13.22
A33: =1+A32 -> 29 | B33: AyA Tamarindo P4b Pochote (nuevo) | C33: Tamarindo | D33: P | E33: 255442 | F33: 336873 | G33: 26 | H33: - | I33: 0.45 | J33: - | K33: - | L33: =O33-I33 -> 12.25 | N33: - | O33: 12.7
A34: =1+A33 -> 30 | B34: AyA Tamarindo P5 Albin | C34: Tamarindo | D34: P | E34: 255477 | F34: 337058 | G34: 27 | H34: - | I34: 0.2 | J34: - | K34: - | L34: =O34-I34 -> 20.22 | N34: - | O34: 20.42
A35: =1+A34 -> 31 | B35: Gineth López Rosales | C35: Matapalo | D35: E | E35: 260752 | F35: 337937 | G35: 43 | H35: - | I35: 0.68 | J35: - | K35: =N35-I35 -> 4.2 | L35: - | N35: 4.88 | O35: -
A36: =1+A35 -> 32 | B36: ASADA Matapalo P3 | C36: Matapalo | D36: P | E36: 260776 | F36: 338205 | G36: 17 | H36: - | I36: 0.38 | J36: - | K36: =N36-I36 -> 4.62 | L36: - | N36: 5
A37: =1+A36 -> 33 | B37: ASADA Matapalo P1 | C37: Matapalo | D37: P | E37: 260777 | F37: 338205 | G37: 12 | H37: - | I37: 0.52 | J37: - | K37: - | L37: =O37-I37 -> 5.23 | O37: 5.75
A38: =1+A37 -> 34 | B38: ASADA Matapalo P2 | C38: Matapalo | D38: P | E38: 260686 | F38: 338490 | G38: 31 | H38: - | I38: 0.75 | J38: - | K38: - | L38: =O38-I38 -> 4.79 | O38: 5.54
A39: =1+A38 -> 35 | B39: ASADA Tamarindo P5 Jobo | C39: Matapalo | D39: P | E39: 253123 | F39: 335786 | G39: 23 | H39: - | I39: 0.52 | J39: - | K39: =N39-I39 -> 8.82 | L39: - | N39: 9.34 | O39: -
A40: =1+A39 -> 36 | B40: ASADA Tamarindo P3 Fertana | C40: Matapalo | D40: P | E40: 254952 | F40: 336152 | G40: 21 | H40: - | I40: 0.6 | J40: - | K40: =N40-I40 -> 5.15 | L40: - | N40: 5.75 | O40: -
...

Sheet Setiembre 2013
A1: Plan de Monitoreo Acuífero Huacas Tamarindo
A2: Fecha: 26 de setiembre 2013
N3: Datos de campo
A4: N˚ | B4: Nombre del POZO | C4: Lugar | D4: Tipo | E4: Latitud | F4: Longitud | G4: Altitud sobre nivel de Mar | H4: Diámetro armado (in) | I4: Brocal (m) | J4: Profundidad de pozo (m) | K4: Nivel estático (m) | L4: Nivel dinámico (m) | N4: Nivel estático (m) + Brocal | O4: Nivel dinámico (m) + Brocal
A5: 1 | B5: Aeropuerto Tamarindo Cancha de Golf | C5: Tamarindo | D5: P | E5: 255134 | F5: 337474 | G5: 41 | H5: - | I5: 0.45 | J5: - | K5: =N5-I5 -> 1.93 | L5: - | N5: 2.38 | O5: -
A6: =1+A5 -> 2 | B6: Aeropuerto Tamarindo cerca río San Andrés | C6: Tamarindo | D6: P | E6: 255381 | F6: 337593 | G6: 31 | H6: - | I6: 0.33 | J6: - | K6: =N6-I6 -> 2.28 | L6: - | N6: 2.61 | O6: -
A7: =1+A6 -> 3 | B7: Aeropuerto Tamarindo Abrevadero | C7: Tamarindo | D7: P | E7: 255744 | F7: 337763 | G7: 26 | H7: - | I7: 0.5 | J7: - | K7: =N7-I7 -> 1.05 | L7: - | N7: 1.55 | O7: -
A8: =1+A7 -> 4 | B8: Aeropuerto Tamarindo los Tornillos | C8: Tamarindo | D8: P | E8: 255800 | F8: 337245 | G8: 23 | H8: - | I8: 0.6 | J8: - | K8: =N8-I8 -> 1.28 | L8: - | N8: 1.88 | O8: -
A9: =1+A8 -> 5 | B9: Elvira Matarrita | C9: El Llano | D9: E | E9: 256089 | F9: 338238 | G9: 30 | H9: - | I9: 0.84 | J9: - | K9: =N9-I9 -> 6.59 | L9: - | N9: 7.43 | O9: -
A10: =1+A9 -> 6 | B10: ASADA Villarreal P1 | C10: Villarreal | D10: P | E10: 255579 | F10: 338206 | G10: 20 | H10: - | I10: - | J10: 18 | K10: Línea de aire obstruida | N10: Línea de aire obstruida
A11: =1+A10 -> 7 | B11: ASADA Villarreal P2 | C11: Villarreal | D11: P | E11: 255562 | F11: 338189 | G11: 30 | H11: - | I11: 0.5 | J11: 18 | K11: =N11-I11 -> 1.9 | L11: - | N11: 2.4
A12: =1+A11 -> 8 | B12: ASADA Villarreal P3 | C12: Villarreal | D12: P | E12: 255605 | F12: 338552 | G12: 33 | H12: - | I12: 1.87 | J12: 19 | K12: Línea de aire obstruida | N12: Línea de aire obstruida
A13: =1+A12 -> 9 | B13: Maritza Obando | C13: San Andrés | D13: E | E13: 255576 | F13: 338998 | G13: 34 | H13: - | I13: 0.73 | J13: - | K13: =N13-I13 -> 2.96 | L13: - | N13: 3.69 | O13: -
A14: =1+A13 -> 10 | B14: ASADA Santa Rosa | C14: Santa Rosa | D14: P | E14: 255198 | F14: 340143 | G14: 22 | H14: - | I14: 0.8 | J14: - | K14: - | L14: =O14-I14 -> 8.86 | N14: - | O14: 9.66
A15: =1+A14 -> 11 | B15: Seabees Santa Rosa | C15: Santa Rosa | D15: P | E15: 255267 | F15: 340939 | G15: 31 | H15: - | I15: 0.38 | J15: - | K15: =N15-I15 -> 3.47 | L15: - | N15: 3.85 | O15: -
A16: =1+A15 -> 12 | B16: Magdalena Obando | C16: Santa Rosa | D16: E | E16: 255293 | F16: 340970 | G16: 32 | H16: - | I16: 0.84 | J16: - | K16: =N16-I16 -> 3.44 | L16: - | N16: 4.28 | O16: -
A17: =1+A16 -> 13 | B17: ASADA Lomas | C17: Lomas | D17: P | E17: 258631 | F17: 338988 | G17: 16 | H17: - | I17: 1.18 | J17: 26 | K17: =N17-I17 -> 0.71 | L17: - | N17: 1.89 | O17: -
A18: =1+A17 -> 14 | B18: José Catalino Jaén | C18: Lomas | D18: E | E18: 259080 | F18: 338723 | G18: 21 | H18: - | I18: 0.8 | J18: 11-12 | K18: =N18-I18 -> 3.6 | L18: - | N18: 4.4 | O18: -
A19: =1+A18 -> 15 | B19: Santos Arrieta | C19: Salinitas | D19: E | E19: 258896 | F19: 337242 | G19: 13 | H19: - | I19: 1 | J19: - | K19: =N19-I19 -> 2.85 | L19: - | N19: 3.85 | O19: -
A20: =1+A19 -> 16 | B20: María Luisa Contreras | C20: Huacas | D20: E | E20: 261652 | F20: 341432 | G20: 41 | H20: - | I20: 0.78 | J20: - | K20: =N20-I20 -> 1.12 | L20: - | N20: 1.9 | O20: -
A21: =1+A20 -> 17 | B21: Paula Celaya | C21: Garita Vieja | D21: E | E21: 260355 | F21: 339957 | G21: 31 | H21: - | I21: 0.8 | J21: 8 | K21: =N21-I21 -> 4.29 | L21: - | N21: 5.09 | O21: -
A22: =1+A21 -> 18 | B22: Juan Pablo Arrieta | C22: Garita Nueva | D22: E | E22: 259558 | F22: 340347 | G22: 30 | H22: - | I22: 0.8 | J22: - | K22: =N22-I22 -> 2 | L22: - | N22: 2.8 | O22: -
A23: =1+A22 -> 19 | B23: Damián Matarrita | C23: Mangos | D23: E | E23: 260753 | F23: 340739 | G23: 34 | H23: - | I23: 0.9 | J23: 14 | K23: =N23-I23 -> 4.04 | L23: - | N23: 4.94 | O23: -
