Workbook

Sheet Enero 2013
A1: Plan de Monitoreo Acuífero Huacas Tamarindo
A2: Fecha: 30 y 31 de enero del 2013
N3: Datos de campo
A4: N˚ | B4: Nombre del POZO | C4: Lugar | D4: Tipo | E4: Latitud | F4: Longitud | G4: Altitud sobre nivel de Mar | H4: Diámetro armado (in) | I4: Brocal (m) | J4: Profundidad de pozo (m) | K4: Nivel estático (m) | L4: Nivel dinámico (m) | N4: Nivel estático (m) + Brocal | O4: Nivel dinámico (m) + Brocal
A5: 1 | B5: Aeropuerto Tamarindo Cancha de Golf | C5: Tamarindo | D5: P | E5: 255134 | F5: 337474 | G5: 41 | H5: - | I5: 0.45 | J5: - | K5: =N5-I5 -> 3.75 | L5: - | N5: 4.2 | O5: -
A6: =1+A5 -> 2 | B6: Aeropuerto Tamarindo cerca río San Andrés | C6: Tamarindo | D6: P | E6: 255381 | F6: 337593 | G6: 31 | H6: - | I6: 0.33 | J6: - | K6: =N6-I6 -> 3.85 | L6: - | N6: 4.18 | O6: -
A7: =1+A6 -> 3 | B7: Aeropuerto Tamarindo Abrevadero | C7: Tamarindo | D7: P | E7: 255744 | F7: 337763 | G7: 26 | H7: - | I7: 0.5 | J7: - | K7: =N7-I7 -> 2.7 | L7: - | N7: 3.2 | O7: -
A8: =1+A7 -> 4 | B8: Aeropuerto Tamarindo los Tornillos | C8: Tamarindo | D8: P | E8: 255800 | F8: 337245 | G8: 23 | H8: - | I8: 0.5 | J8: - | K8: =N8-I8 -> 3.28 | L8: - | N8: 3.78 | O8: -
A9: =1+A8 -> 5 | B9: Elvira Matarrita | C9: El Llano | D9: E | E9: 256089 | F9: 338238 | G9: 30 | H9: - | I9: 0.84 | J9: - | K9: =N9-I9 -> 8.1 | N9: 8.94 | O9: -
A10: =1+A9 -> 6 | B10: ASADA Villarreal P1 | C10: Villarreal | D10: P | E10: 255579 | F10: 338206 | G10: 20 | H10: - | I10: - | J10: 18 | K10: Linea de aire obstruida | N10: Linea de aire obstruida
A11: =1+A10 -> 7 | B11: ASADA Villarreal P2 | C11: Villarreal | D11: P | E11: 255562 | F11: 338189 | G11: 30 | H11: - | I11: 0.5 | J11: 18 | K11: - | L11: =O11-I11 -> 5.23 | N11: - | O11: 5.73
A12: =1+A11 -> 8 | B12: ASADA Villarreal P3 | C12: Villarreal | D12: P | E12: 255605 | F12: 338552 | G12: 33 | H12: - | I12: 1.87 | J12: 19 | K12: =N12-I12 -> 4.18 | L12: - | N12: 6.05 | O12: -
A13: =1+A12 -> 9 | B13: Maritza Obando | C13: San Andrés | D13: E | E13: 255576 | F13: 338998 | G13: 34 | H13: - | I13: 0.73 | J13: - | K13: =N13-I13 -> 3.27 | L13: - | N13: 4 | O13: -
A14: =1+A13 -> 10 | B14: ASADA Santa Rosa | C14: Santa Rosa | D14: P | E14: 255198 | F14: 340143 | G14: 22 | H14: - | I14: 0.8 | J14: - | K14: =N14-I14 -> 4.76 | L14: - | N14: 5.56 | O14: -
A15: =1+A14 -> 11 | B15: Seabees Santa Rosa | C15: Santa Rosa | D15: P | E15: 255267 | F15: 340939 | G15: 31 | H15: - | I15: 0.38 | J15: - | K15: =N15-I15 -> 5.49 | L15: - | N15: 5.87 | O15: -
A16: =1+A15 -> 12 | B16: Magdalena Obando | C16: Santa Rosa | D16: E | E16: 255293 | F16: 340970 | G16: 32 | H16: - | I16: 0.84 | J16: - | K16: =N16-I16 -> 5.49 | L16: - | N16: 6.33 | O16: -
A17: =1+A16 -> 13 | B17: ASADA Lomas | C17: Lomas | D17: P | E17: 258631 | F17: 338988 | G17: 16 | H17: - | I17: 1.18 | J17: 26 | K17: =N17-I17 -> 1.18 | L17: - | N17: 2.36 | O17: -
A18: =1+A17 -> 14 | B18: José Catalino Jaén | C18: Lomas | D18: E | E18: 259080 | F18: 338723 | G18: 21 | H18: - | I18: 0.8 | J18: 11-12 | K18: =N18-I18 -> 5.05 | L18: - | N18: 5.85 | O18: -
A19: =1+A18 -> 15 | B19: Santos Arrieta | C19: Salinitas | D19: E | E19: 258896 | F19: 337242 | G19: 13 | H19: - | I19: 1 | J19: - | K19: =N19-I19 -> 3.55 | L19: - | N19: 4.55 | O19: -
A20: =1+A19 -> 16 | B20: María Luisa Contreras | C20: Huacas | D20: E | E20: 261652 | F20: 341432 | G20: 41 | H20: - | I20: 0.78 | J20: - | K20: =N20-I20 -> 1.52 | L20: - | N20: 2.3 | O20: -
A21: =1+A20 -> 17 | B21: Paula Celaya | C21: Garita Vieja | D21: E | E21: 260355 | F21: 339957 | G21: 31 | H21: - | I21: 0.8 | J21: 8 | K21: =N21-I21 -> 4.82 | L21: - | N21: 5.62 | O21: -
A22: =1+A21 -> 18 | B22: Juan Pablo Arrieta | C22: Garita Nueva | D22: E | E22: 259558 | F22: 340347 | G22: 30 | H22: - | I22: 0.8 | J22: - | K22: =N22-I22 -> 2.59 | L22: - | N22: 3.39 | O22: -
A23: =1+A22 -> 19 | B23: Damián Matarrita | C23: Mangos | D23: E | E23: 260753 | F23: 340739 | G23: 34 | H23: - | I23: 0.9 | J23: 14 | K23: =N23-I23 -> 4.92 | L23: - | N23: 5.82 | O23: -
A24: =1+A23 -> 20 | B24: Cupertino López | C24: Tacasolapa | D24: E | E24: 258279 | F24: 340076 | G24: 31 | H24: - | I24: 1.15 | J24: - | K24: =N24-I24 -> 3.85 | L24: - | N24: 5 | O24: -
A25: =1+A24 -> 21 | B25: AyA Tamarindo P6 Plantel | C25: Tamarindo | D25: P | E25: 255183 | F25: 336781 | G25: 31 | H25: - | I25: 0 | J25: - | K25: =N25-I25 -> 5.47 | L25: - | N25: 5.47 | O25: -
A26: =1+A25 -> 22 | B26: AyA Tamarindo P1 Jobo | C26: Los Jobos | D26: P | E26: 253123 | F26: 335558 | G26: 34 | H26: - | I26: 0.4 | J26: - | K26: - | L26: =O26-I26 -> 5.6 | N26: - | O26: 6
A27: =1+A26 -> 23 | B27: AyA Tamarindo P2 Jobo | C27: Los Jobos | D27: P | E27: 252958 | F27: 335376 | G27: 35 | H27: - | I27: 1.13 | J27: - | K27: - | L27: =O27-I27 -> 5.01 | N27: - | O27: 6.14
A28: =1+A27 -> 24 | B28: AyA Tamarindo P1 Guanacaste | C28: Tamarindo | D28: P | E28: 256002 | F28: 336544 | G28: 29 | H28: - | I28: 0.28 | J28: - | K28: - | L28: =O28-I28 -> 7.7 | N28: - | O28: 7.98
A29: =1+A28 -> 25 | B29: AyA Tamarindo P2 Virgilio | C29: Tamarindo | D29: P | E29: 255974 | F29: 336856 | G29: 26 | H29: - | I29: 0.55 | J29: - | K29: - | L29: =O29-I29 -> 9.65 | N29: - | O29: 10.2
A30: =1+A29 -> 26 | B30: AyA Tamarindo P2b Virgilio (nuevo) | C30: Tamarindo | D30: P | E30: 255966 | F30: 336871 | G30: 27 | H30: - | I30: - | J30: - | K30: Tapa Sellada | N30: Tapa Sellada
A31: =1+A30 -> 27 | B31: AyA Tamarindo P3 Papaturro | C31: Tamarindo | D31: P | E31: 255838 | F31: 337001 | G31: 27 | H31: - | I31: 0.85 | J31: - | K31: - | L31: =O31-I31 -> 11.32 | N31: - | O31: 12.17
A32: =1+A31 -> 28 | B32: AyA Tamarindo P4 Pochote | C32: Tamarindo | D32: P | E32: 255461 | F32: 336874 | G32: 28 | H32: - | I32: 0.45 | J32: - | K32: - | L32: =O32-I32 -> 5.05 | N32: - | O32: 5.5
A33: =1+A32 -> 29 | B33: AyA Tamarindo P4b Pochote (nuevo) | C33: Tamarindo | D33: P | E33: 255442 | F33: 336873 | G33: 26 | H33: - | I33: - | J33: - | K33: Tapa Sellada | N33: Tapa Sellada
A34: =1+A33 -> 30 | B34: AyA Tamarindo P5 Albin | C34: Tamarindo | D34: P | E34: 255477 | F34: 337058 | G34: 27 | H34: - | I34: 0.2 | J34: - | K34: - | L34: =O34-I34 -> 12.3 | N34: - | O34: 12.5

Sheet Febrero 2013
A1: Plan de Monitoreo Acuífero Huacas Tamarindo
A2: Fecha: 27 y 28 de febrero del 2013
N3: Datos de campo
A4: N˚ | B4: Nombre del POZO | C4: Lugar | D4: Tipo | E4: Latitud | F4: Longitud | G4: Altitud sobre nivel de Mar | H4: Diámetro armado (in) | I4: Brocal (m) | J4: Profundidad de pozo (m) | K4: Nivel estático (m) | L4: Nivel dinámico (m) | N4: Nivel estático (m) + Brocal | O4: Nivel dinámico (m) + Brocal
A5: 1 | B5: Aeropuerto Tamarindo Cancha de Golf | C5: Tamarindo | D5: P | E5: 255134 | F5: 337474 | G5: 41 | H5: - | I5: 0.45 | J5: - | K5: - | L5: =O5-I5 -> 7.15 | N5: - | O5: 7.6
A6: =1+A5 -> 2 | B6: Aeropuerto Tamarindo cerca río San Andrés | C6: Tamarindo | D6: P | E6: 255381 | F6: 337593 | G6: 31 | H6: - | I6: 0.33 | J6: - | K6: =N6-I6 -> 4.59 | L6: - | N6: 4.92 | O6: -
A7: =1+A6 -> 3 | B7: Aeropuerto Tamarindo Abrevadero | C7: Tamarindo | D7: P | E7: 255744 | F7: 337763 | G7: 26 | H7: - | I7: 0.5 | J7: - | K7: =N7-I7 -> 3.46 | L7: - | N7: 3.96 | O7: -
A8: =1+A7 -> 4 | B8: Aeropuerto Tamarindo los Tornillos | C8: Tamarindo | D8: P | E8: 255800 | F8: 337245 | G8: 23 | H8: - | I8: 0.6 | J8: - | K8: =N8-I8 -> 3.7 | L8: - | N8: 4.3 | O8: -
A9: =1+A8 -> 5 | B9: Elvira Matarrita | C9: El Llano | D9: E | E9: 256089 | F9: 338238 | G9: 30 | H9: - | I9: 0.84 | J9: - | K9: =N9-I9 -> 8.58 | L9: - | N9: 9.42 | O9: -
A10: =1+A9 -> 6 | B10: ASADA Villarreal P1 | C10: Villarreal | D10: P | E10: 255579 | F10: 338206 | G10: 20 | H10: - | I10: - | J10: 18 | K10: Línea de aire obstruida | N10: Línea de aire obstruida
A11: =1+A10 -> 7 | B11: ASADA Villarreal P2 | C11: Villarreal | D11: P | E11: 255562 | F11: 338189 | G11: 30 | H11: - | I11: 0.5 | J11: 18 | K11: - | L11: =O11-I11 -> 6.37 | N11: - | O11: 6.87
A12: =1+A11 -> 8 | B12: ASADA Villarreal P3 | C12: Villarreal | D12: P | E12: 255605 | F12: 338552 | G12: 33 | H12: - | I12: 1.87 | J12: 19 | K12: Línea de aire obstruida | N12: Línea de aire obstruida
A13: =1+A12 -> 9 | B13: Maritza Obando | C13: San Andrés | D13: E | E13: 255576 | F13: 338998 | G13: 34 | H13: - | I13: 0.73 | J13: - | K13: =N13-I13 -> 3.87 | L13: - | N13: 4.6 | O13: -
A14: =1+A13 -> 10 | B14: ASADA Santa Rosa | C14: Santa Rosa | D14: P | E14: 255198 | F14: 340143 | G14: 22 | H14: - | I14: 0.8 | J14: - | K14: - | L14: =O14-I14 -> 9.18 | N14: - | O14: 9.98
A15: =1+A14 -> 11 | B15: Seabees Santa Rosa | C15: Santa Rosa | D15: P | E15: 255267 | F15: 340939 | G15: 31 | H15: - | I15: 0.38 | J15: - | K15: =N15-I15 -> 6.01 | L15: - | N15: 6.39 | O15: -
A16: =1+A15 -> 12 | B16: Magdalena Obando | C16: Santa Rosa | D16: E | E16: 255293 | F16: 340970 | G16: 32 | H16: - | I16: 0.84 | J16: - | K16: =N16-I16 -> 6.11 | L16: - | N16: 6.95 | O16: -
A17: =1+A16 -> 13 | B17: ASADA Lomas | C17: Lomas | D17: P | E17: 258631 | F17: 338988 | G17: 16 | H17: - | I17: 1.18 | J17: 26 | K17: - | L17: =O17-I17 -> 5.26 | N17: - | O17: 6.44
A18: =1+A17 -> 14 | B18: José Catalino Jaén | C18: Lomas | D18: E | E18: 259080 | F18: 338723 | G18: 21 | H18: - | I18: 0.8 | J18: 11-12 | K18: =N18-I18 -> 5.69 | L18: - | N18: 6.49 | O18: -
A19: =1+A18 -> 15 | B19: Santos Arrieta | C19: Salinitas | D19: E | E19: 258896 | F19: 337242 | G19: 13 | H19: - | I19: 1 | J19: - | K19: =N19-I19 -> 4.18 | L19: - | N19: 5.18 | O19: -
A20: =1+A19 -> 16 | B20: María Luisa Contreras | C20: Huacas | D20: E | E20: 261652 | F20: 341432 | G20: 41 | H20: - | I20: 0.78 | J20: - | K20: =N20-I20 -> 1.77 | L20: - | N20: 2.55 | O20: -
A21: =1+A20 -> 17 | B21: Paula Celaya | C21: Garita Vieja | D21: E | E21: 260355 | F21: 339957 | G21: 31 | H21: - | I21: 0.8 | J21: 8 | K21: =N21-I21 -> 5.07 | L21: - | N21: 5.87 | O21: -
A22: =1+A21 -> 18 | B22: Juan Pablo Arrieta | C22: Garita Nueva | D22: E | E22: 259558 | F22: 340347 | G22: 30 | H22: - | I22: 0.8 | J22: - | K22: =N22-I22 -> 3.1 | L22: - | N22: 3.9 | O22: -
A23: =1+A22 -> 19 | B23: Damián Matarrita | C23: Mangos | D23: E | E23: 260753 | F23: 340739 | G23: 34 | H23: - | I23: 0.9 | J23: 14 | K23: =N23-I23 -> 5.73 | L23: - | N23: 6.63 | O23: -
A24: =1+A23 -> 20 | B24: Cupertino López | C24: Tacasolapa | D24: E | E24: 258279 | F24: 340076 | G24: 31 | H24: - | I24: 1.15 | J24: - | K24: =N24-I24 -> 4.75 | L24: - | N24: 5.9 | O24: -
A25: =1+A24 -> 21 | B25: AyA Tamarindo P6 Plantel | C25: Tamarindo | D25: P | E25: 255183 | F25: 336781 | G25: 31 | H25: - | I25: 0 | J25: - | K25: =N25-I25 -> 6.22 | L25: - | N25: 6.22 | O25: -
A26: =1+A25 -> 22 | B26: AyA Tamarindo P1 Jobo | C26: Los Jobos | D26: P | E26: 253123 | F26: 335558 | G26: 34 | H26: - | I26: 0.68 | J26: - | K26: - | L26: =O26-I26 -> 6.68 | N26: - | O26: 7.36
A27: =1+A26 -> 23 | B27: AyA Tamarindo P2 Jobo | C27: Los Jobos | D27: P | E27: 252958 | F27: 335376 | G27: 35 | H27: - | I27: 1.13 | J27: - | K27: - | L27: =O27-I27 -> 6.99 | N27: - | O27: 8.12
A28: =1+A27 -> 24 | B28: AyA Tamarindo P1 Guanacaste | C28: Tamarindo | D28: P | E28: 256002 | F28: 336544 | G28: 29 | H28: - | I28: 0.28 | J28: - | K28: =N28-I28 -> 6.13 | L28: - | N28: 6.41 | O28: -
A29: =1+A28 -> 25 | B29: AyA Tamarindo P2 Virgilio | C29: Tamarindo | D29: P | E29: 255974 | F29: 336856 | G29: 26 | H29: - | I29: 0.55 | J29: - | K29: - | L29: =O29-I29 -> 6.29 | N29: - | O29: 6.84
A30: =1+A29 -> 26 | B30: AyA Tamarindo P2b Virgilio (nuevo) | C30: Tamarindo | D30: P | E30: 255966 | F30: 336871 | G30: 27 | H30: - | I30: - | J30: - | K30: Tapa Sellada | N30: Tapa Sellada
A31: =1+A30 -> 27 | B31: AyA Tamarindo P3 Papaturro | C31: Tamarindo | D31: P | E31: 255838 | F31: 337001 | G31: 27 | H31: - | I31: 0.85 | J31: - | K31: =N31-I31 -> 4.51 | L31: - | N31: 5.36 | O31: -
A32: =1+A31 -> 28 | B32: AyA Tamarindo P4 Pochote | C32: Tamarindo | D32: P | E32: 255461 | F32: 336874 | G32: 28 | H32: - | I32: 0.45 | J32: - | K32: =N32-I32 -> 5.11 | L32: - | N32: 5.56 | O32: -
A33: =1+A32 -> 29 | B33: AyA Tamarindo P4b Pochote (nuevo) | C33: Tamarindo | D33: P | E33: 255442 | F33: 336873 | G33: 26 | H33: - | I33: 0.45 | J33: - | K33: =N33-I33 -> 4.89 | L33: - | N33: 5.34 | O33: -
A34: =1+A33 -> 30 | B34: AyA Tamarindo P5 Albin | C34: Tamarindo | D34: P | E34: 255477 | F34: 337058 | G34: 27 | H34: - | I34: 0.2 | J34: - | K34: =N34-I34 -> 4.02 | L34: - | N34: 4.22 | O34: -
A35: =1+A34 -> 31 | B35: Gineth López Rosales | C35: Matapalo | D35: E | E35: 260752 | F35: 337937 | G35: 43 | H35: - | I35: 0.68 | J35: - | K35: =N35-I35 -> 4.42 | L35: - | N35: 5.1 | O35: -
A36: =1+A35 -> 32 | B36: ASADA Matapalo P3 | C36: Matapalo | D36: P | E36: 260776 | F36: 338205 | G36: 17 | H36: - | I36: 0.38 | J36: - | K36: - | L36: =O36-I36 -> 12.46 | N36: - | O36: 12.84
A37: =1+A36 -> 33 | B37: ASADA Matapalo P1 | C37: Matapalo | D37: P | E37: 260777 | F37: 338205 | G37: 12 | H37: - | I37: 0.52 | J37: - | K37: =N37-I37 -> 5.48 | L37: - | N37: 6 | O37: -
A39: Nota: se anota como nivel estático la medida del pozo 33 de la ASADA Matapalo, sin embargo este pozo se ubica a 1m del pozo 32 que estaba en uso.

Sheet Marzo 2013
A1: Plan de Monitoreo Acuífero Huacas Tamarindo
A2: Fecha: 20 y 21 de marzo del 2013
N3: Datos de campo
A4: N˚ | B4: Nombre del POZO | C4: Lugar | D4: Tipo | E4: Latitud | F4: Longitud | G4: Altitud sobre nivel de Mar | H4: Diámetro armado (in) | I4: Brocal (m) | J4: Profundidad de pozo (m) | K4: Nivel estático (m) | L4: Nivel dinámico (m) | N4: Nivel estático (m) + Brocal | O4: Nivel dinámico (m) + Brocal
A5: 1 | B5: Aeropuerto Tamarindo Cancha de Golf | C5: Tamarindo | D5: P | E5: 255134 | F5: 337474 | G5: 41 | H5: - | I5: 0.45 | J5: - | K5: - | L5: =O5-I5 -> 7.98 | N5: - | O5: 8.43
A6: =1+A5 -> 2 | B6: Aeropuerto Tamarindo cerca río San Andrés | C6: Tamarindo | D6: P | E6: 255381 | F6: 337593 | G6: 31 | H6: - | I6: 0.33 | J6: - | K6: =N6-I6 -> 5.19 | L6: - | N6: 5.52 | O6: -
A7: =1+A6 -> 3 | B7: Aeropuerto Tamarindo Abrevadero | C7: Tamarindo | D7: P | E7: 255744 | F7: 337763 | G7: 26 | H7: - | I7: 0.5 | J7: - | K7: =N7-I7 -> 3.87 | L7: - | N7: 4.37 | O7: -
A8: =1+A7 -> 4 | B8: Aeropuerto Tamarindo los Tornillos | C8: Tamarindo | D8: P | E8: 255800 | F8: 337245 | G8: 23 | H8: - | I8: 0.6 | J8: - | K8: =N8-I8 -> 4.03 | L8: - | N8: 4.63 | O8: -
A9: =1+A8 -> 5 | B9: Elvira Matarrita | C9: El Llano | D9: E | E9: 256089 | F9: 338238 | G9: 30 | H9: - | I9: 0.84 | J9: - | K9: =N9-I9 -> 8.97 | L9: - | N9: 9.81 | O9: -
A10: =1+A9 -> 6 | B10: ASADA Villarreal P1 | C10: Villarreal | D10: P | E10: 255579 | F10: 338206 | G10: 20 | H10: - | I10: - | J10: 18 | K10: Línea de aire obstruida | N10: Línea de aire obstruida
A11: =1+A10 -> 7 | B11: ASADA Villarreal P2 | C11: Villarreal | D11: P | E11: 255562 | F11: 338189 | G11: 30 | H11: - | I11: 0.5 | J11: 18 | K11: =N11-I11 -> 4.98 | L11: - | N11: 5.48 | O11: -
A12: =1+A11 -> 8 | B12: ASADA Villarreal P3 | C12: Villarreal | D12: P | E12: 255605 | F12: 338552 | G12: 33 | H12: - | I12: 1.87 | J12: 19 | K12: Línea de aire obstruida | N12: Línea de aire obstruida
A13: =1+A12 -> 9 | B13: Maritza Obando | C13: San Andrés | D13: E | E13: 255576 | F13: 338998 | G13: 34 | H13: - | I13: 0.73 | J13: - | K13: =N13-I13 -> 4.32 | L13: - | N13: 5.05 | O13: -
A14: =1+A13 -> 10 | B14: ASADA Santa Rosa | C14: Santa Rosa | D14: P | E14: 255198 | F14: 340143 | G14: 22 | H14: - | I14: 0.8 | J14: - | K14: =N14-I14 -> 6.84 | L14: - | N14: 7.64 | O14: -
A15: =1+A14 -> 11 | B15: Seabees Santa Rosa | C15: Santa Rosa | D15: P | E15: 255267 | F15: 340939 | G15: 31 | H15: - | I15: 0.38 | J15: - | K15: =N15-I15 -> 6.34 | L15: - | N15: 6.72 | O15: -
A16: =1+A15 -> 12 | B16: Magdalena Obando | C16: Santa Rosa | D16: E | E16: 255293 | F16: 340970 | G16: 32 | H16: - | I16: 0.84 | J16: - | K16: =N16-I16 -> 6.46 | L16: - | N16: 7.3 | O16: -
A17: =1+A16 -> 13 | B17: ASADA Lomas | C17: Lomas | D17: P | E17: 258631 | F17: 338988 | G17: 16 | H17: - | I17: 1.18 | J17: 26 | K17: - | L17: =O17-I17 -> 5.66 | N17: - | O17: 6.84
A18: =1+A17 -> 14 | B18: José Catalino Jaén | C18: Lomas | D18: E | E18: 259080 | F18: 338723 | G18: 21 | H18: - | I18: 0.8 | J18: 11-12 | K18: =N18-I18 -> 7.85 | L18: - | N18: 8.65 | O18: -
A19: =1+A18 -> 15 | B19: Santos Arrieta | C19: Salinitas | D19: E | E19: 258896 | F19: 337242 | G19: 13 | H19: - | I19: 1 | J19: - | K19: =N19-I19 -> 4.68 | L19: - | N19: 5.68 | O19: -
A20: =1+A19 -> 16 | B20: María Luisa Contreras | C20: Huacas | D20: E | E20: 261652 | F20: 341432 | G20: 41 | H20: - | I20: 0.78 | J20: - | K20: =N20-I20 -> 1.95 | L20: - | N20: 2.73 | O20: -
A21: =1+A20 -> 17 | B21: Paula Celaya | C21: Garita Vieja | D21: E | E21: 260355 | F21: 339957 | G21: 31 | H21: - | I21: 0.8 | J21: 8 | K21: =N21-I21 -> 5.16 | L21: - | N21: 5.96 | O21: -
A22: =1+A21 -> 18 | B22: Juan Pablo Arrieta | C22: Garita Nueva | D22: E | E22: 259558 | F22: 340347 | G22: 30 | H22: - | I22: 0.8 | J22: - | K22: =N22-I22 -> 3.32 | L22: - | N22: 4.12 | O22: -
A23: =1+A22 -> 19 | B23: Damián Matarrita | C23: Mangos | D23: E | E23: 260753 | F23: 340739 | G23: 34 | H23: - | I23: 0.9 | J23: 14 | K23: =N23-I23 -> 6.17 | L23: - | N23: 7.07 | O23: -
A24: =1+A23 -> 20 | B24: Cupertino López | C24: Tacasolapa | D24: E | E24: 258279 | F24: 340076 | G24: 31 | H24: - | I24: 1.15 | J24: - | K24: =N24-I24 -> 5.32 | L24: - | N24: 6.47 | O24: -
A25: =1+A24 -> 21 | B25: AyA Tamarindo P6 Plantel | C25: Tamarindo | D25: P | E25: 255183 | F25: 336781 | G25: 31 | H25: - | I25: 0 | J25: - | K25: =N25-I25 -> 6.94 | L25: - | N25: 6.94 | O25: -
A26: =1+A25 -> 22 | B26: AyA Tamarindo P1 Jobo | C26: Los Jobos | D26: P | E26: 253123 | F26: 335558 | G26: 34 | H26: - | I26: 0.43 | J26: - | K26: - | L26: =O26-I26 -> 9.69 | N26: - | O26: 10.12
A27: =1+A26 -> 23 | B27: AyA Tamarindo P2 Jobo | C27: Los Jobos | D27: P | E27: 252958 | F27: 335376 | G27: 35 | H27: - | I27: 1.13 | J27: - | K27: - | L27: =O27-I27 -> 8.47 | N27: - | O27: 9.6
A28: =1+A27 -> 24 | B28: AyA Tamarindo P1 Guanacaste | C28: Tamarindo | D28: P | E28: 256002 | F28: 336544 | G28: 29 | H28: - | I28: 0.28 | J28: - | K28: =N28-I28 -> 5.33 | L28: - | N28: 5.61 | O28: -
A29: =1+A28 -> 25 | B29: AyA Tamarindo P2 Virgilio | C29: Tamarindo | D29: P | E29: 255974 | F29: 336856 | G29: 26 | H29: - | I29: 0.55 | J29: - | K29: - | L29: =O29-I29 -> 12.79 | N29: - | O29: 13.34
A30: =1+A29 -> 26 | B30: AyA Tamarindo P2b Virgilio (nuevo) | C30: Tamarindo | D30: P | E30: 255966 | F30: 336871 | G30: 27 | H30: - | I30: 0.6 | J30: - | K30: - | L30: =O30-I30 -> 10.1 | N30: - | O30: 10.7
A31: =1+A30 -> 27 | B31: AyA Tamarindo P3 Papaturro | C31: Tamarindo | D31: P | E31: 255838 | F31: 337001 | G31: 27 | H31: - | I31: 0.85 | J31: - | K31: - | L31: =O31-I31 -> 11.65 | O31: 12.5
A32: =1+A31 -> 28 | B32: AyA Tamarindo P4 Pochote | C32: Tamarindo | D32: P | E32: 255461 | F32: 336874 | G32: 28 | H32: - | I32: 0.45 | J32: - | K32: - | L32: =O32-I32 -> 13.28 | O32: 13.73
A33: =1+A32 -> 29 | B33: AyA Tamarindo P4b Pochote (nuevo) | C33: Tamarindo | D33: P | E33: 255442 | F33: 336873 | G33: 26 | H33: - | I33: 0.45 | J33: - | K33: - | L33: =O33-I33 -> 13.81 | O33: 14.26
A34: =1+A33 -> 30 | B34: AyA Tamarindo P5 Albin | C34: Tamarindo | D34: P | E34: 255477 | F34: 337058 | G34: 27 | H34: - | I34: 0.2 | J34: - | K34: - | L34: =O34-I34 -> 23.88 | O34: 24.08
A35: =1+A34 -> 31 | B35: Gineth López Rosales | C35: Matapalo | D35: E | E35: 260752 | F35: 337937 | G35: 43 | H35: - | I35: 0.68 | J35: - | K35: =N35-I35 -> 4.69 | L35: - | N35: 5.37 | O35: -
A36: =1+A35 -> 32 | B36: ASADA Matapalo P3 | C36: Matapalo | D36: P | E36: 260776 | F36: 338205 | G36: 17 | H36: - | I36: 0.38 | J36: - | K36: - | L36: =O36-I36 -> 11.26 | N36: - | O36: 11.64
A37: =1+A36 -> 33 | B37: ASADA Matapalo P1 | C37: Matapalo | D37: P | E37: 260777 | F37: 338205 | G37: 12 | H37: - | I37: 0.52 | J37: - | K37: =N37-I37 -> 5.65 | L37: - | N37: 6.17 | O37: -
A38: =1+A37 -> 34 | B38: ASADA Matapalo P2 | C38: Matapalo | D38: P | E38: 260686 | F38: 338490 | G38: 31 | H38: - | I38: 0.75 | J38: - | K38: - | L38: =O38-I38 -> 5.25 | N38: - | O38: 6
A40: Nota: se anota como nivel estático la medida del pozo 33 de la ASADA Matapalo, sin embargo este pozo se ubica a 1m del pozo 32 que estaba en uso.

Sheet Abril 2013
A1: Plan de Monitoreo Acuífero Huacas Tamarindo
A2: Fecha: 24 de abril del 2013
N3: Datos de campo
A4: N˚ | B4: Nombre del POZO | C4: Lugar | D4: Tipo | E4: Latitud | F4: Longitud | G4: Altitud sobre nivel de Mar | H4: Diámetro armado (in) | I4: Brocal (m) | J4: Profundidad de pozo (m) | K4: Nivel estático (m) | L4: Nivel dinámico (m) | N4: Nivel estático (m) + Brocal | O4: Nivel dinámico (m) + Brocal
A5: 1 | B5: Aeropuerto Tamarindo Cancha de Golf | C5: Tamarindo | D5: P | E5: 255134 | F5: 337474 | G5: 41 | H5: - | I5: 0.45 | J5: - | K5: - | L5: =O5-I5 -> 7.92 | N5: - | O5: 8.37
A6: =1+A5 -> 2 | B6: Aeropuerto Tamarindo cerca río San Andrés | C6: Tamarindo | D6: P | E6: 255381 | F6: 337593 | G6: 31 | H6: - | I6: 0.33 | J6: - | K6: =N6-I6 -> 5.85 | L6: - | N6: 6.18 | O6: -
A7: =1+A6 -> 3 | B7: Aeropuerto Tamarindo Abrevadero | C7: Tamarindo | D7: P | E7: 255744 | F7: 337763 | G7: 26 | H7: - | I7: 0.5 | J7: - | K7: =N7-I7 -> 4.55 | L7: - | N7: 5.05 | O7: -
A8: =1+A7 -> 4 | B8: Aeropuerto Tamarindo los Tornillos | C8: Tamarindo | D8: P | E8: 255800 | F8: 337245 | G8: 23 | H8: - | I8: 0.6 | J8: - | K8: =N8-I8 -> 4.58 | L8: - | N8: 5.18 | O8: -
A9: =1+A8 -> 5 | B9: Elvira Matarrita | C9: El Llano | D9: E | E9: 256089 | F9: 338238 | G9: 30 | H9: - | I9: 0.84 | J9: - | K9: =N9-I9 -> 9.38 | L9: - | N9: 10.22 | O9: -
A10: =1+A9 -> 6 | B10: ASADA Villarreal P1 | C10: Villarreal | D10: P | E10: 255579 | F10: 338206 | G10: 20 | H10: - | I10: - | J10: 18 | K10: Línea de aire obstruida | N10: Línea de aire obstruida
A11: =1+A10 -> 7 | B11: ASADA Villarreal P2 | C11: Villarreal | D11: P | E11: 255562 | F11: 338189 | G11: 30 | H11: - | I11: 0.5 | J11: 18 | K11: - | L11: =O11-I11 -> 8.04 | N11: - | O11: 8.54
A12: =1+A11 -> 8 | B12: ASADA Villarreal P3 | C12: Villarreal | D12: P | E12: 255605 | F12: 338552 | G12: 33 | H12: - | I12: 1.87 | J12: 19 | K12: Línea de aire obstruida | N12: Línea de aire obstruida
A13: =1+A12 -> 9 | B13: Maritza Obando | C13: San Andrés | D13: E | E13: 255576 | F13: 338998 | G13: 34 | H13: - | I13: 0.73 | J13: - | K13: =N13-I13 -> 4.77 | L13: - | N13: 5.5 | O13: -
A14: =1+A13 -> 10 | B14: ASADA Santa Rosa | C14: Santa Rosa | D14: P | E14: 255198 | F14: 340143 | G14: 22 | H14: - | I14: 0.8 | J14: - | K14: - | L14: =O14-I14 -> 13.02 | N14: - | O14: 13.82
A15: =1+A14 -> 11 | B15: Seabees Santa Rosa | C15: Santa Rosa | D15: P | E15: 255267 | F15: 340939 | G15: 31 | H15: - | I15: 0.38 | J15: - | K15: =N15-I15 -> 6.82 | L15: - | N15: 7.2 | O15: -
A16: =1+A15 -> 12 | B16: Magdalena Obando | C16: Santa Rosa | D16: E | E16: 255293 | F16: 340970 | G16: 32 | H16: - | I16: 0.84 | J16: - | K16: =N16-I16 -> 6.99 | L16: - | N16: 7.83 | O16: -
A17: =1+A16 -> 13 | B17: ASADA Lomas | C17: Lomas | D17: P | E17: 258631 | F17: 338988 | G17: 16 | H17: - | I17: 1.18 | J17: 26 | K17: - | L17: =O17-I17 -> 6.16 | N17: - | O17: 7.34
A18: =1+A17 -> 14 | B18: José Catalino Jaén | C18: Lomas | D18: E | E18: 259080 | F18: 338723 | G18: 21 | H18: - | I18: 0.8 | J18: 11-12 | K18: =N18-I18 -> 6.38 | L18: - | N18: 7.18 | O18: -
A19: =1+A18 -> 15 | B19: Santos Arrieta | C19: Salinitas | D19: E | E19: 258896 | F19: 337242 | G19: 13 | H19: - | I19: 1 | J19: - | K19: =N19-I19 -> 5.27 | L19: - | N19: 6.27 | O19: -
A20: =1+A19 -> 16 | B20: María Luisa Contreras | C20: Huacas | D20: E | E20: 261652 | F20: 341432 | G20: 41 | H20: - | I20: 0.78 | J20: - | K20: =N20-I20 -> 2.16 | L20: - | N20: 2.94 | O20: -
A21: =1+A20 -> 17 | B21: Paula Celaya | C21: Garita Vieja | D21: E | E21: 260355 | F21: 339957 | G21: 31 | H21: - | I21: 0.8 | J21: 8 | K21: =N21-I21 -> 5.32 | L21: - | N21: 6.12 | O21: -
A22: =1+A21 -> 18 | B22: Juan Pablo Arrieta | C22: Garita Nueva | D22: E | E22: 259558 | F22: 340347 | G22: 30 | H22: - | I22: 0.8 | J22: - | K22: =N22-I22 -> 3.76 | L22: - | N22: 4.56 | O22: -
A23: =1+A22 -> 19 | B23: Damián Matarrita | C23: Mangos | D23: E | E23: 260753 | F23: 340739 | G23: 34 | H23: - | I23: 0.9 | J23: 14 | K23: =N23-I23 -> 6.88 | L23: - | N23: 7.78 | O23: -
A24: =1+A23 -> 20 | B24: Cupertino López | C24: Tacasolapa | D24: E | E24: 258279 | F24: 340076 | G24: 31 | H24: - | I24: 1.15 | J24: - | K24: =N24-I24 -> 6.03 | L24: - | N24: 7.18 | O24: -
A25: =1+A24 -> 21 | B25: AyA Tamarindo P6 Plantel | C25: Tamarindo | D25: P | E25: 255183 | F25: 336781 | G25: 31 | H25: - | I25: 0 | J25: - | K25: =N25-I25 -> 7.8 | L25: - | N25: 7.8 | O25: -
A26: =1+A25 -> 22 | B26: AyA Tamarindo P1 Jobo | C26: Los Jobos | D26: P | E26: 253123 | F26: 335558 | G26: 34 | H26: - | I26: 0.43 | J26: - | K26: - | L26: =O26-I26 -> 23.47 | N26: - | O26: 23.9
A27: =1+A26 -> 23 | B27: AyA Tamarindo P2 Jobo | C27: Los Jobos | D27: P | E27: 252958 | F27: 335376 | G27: 35 | H27: - | I27: 1.13 | J27: - | K27: - | L27: =O27-I27 -> 14.81 | N27: - | O27: 15.94
A28: =1+A27 -> 24 | B28: AyA Tamarindo P1 Guanacaste | C28: Tamarindo | D28: P | E28: 256002 | F28: 336544 | G28: 29 | H28: - | I28: 0.28 | J28: - | K28: =N28-I28 -> 5.62 | L28: - | N28: 5.9 | O28: -
A29: =1+A28 -> 25 | B29: AyA Tamarindo P2 Virgilio | C29: Tamarindo | D29: P | E29: 255974 | F29: 336856 | G29: 26 | H29: - | I29: 0.55 | J29: - | K29: - | L29: =O29-I29 -> 10.8 | N29: - | O29: 11.35
A30: =1+A29 -> 26 | B30: AyA Tamarindo P2b Virgilio (nuevo) | C30: Tamarindo | D30: P | E30: 255966 | F30: 336871 | G30: 27 | H30: - | I30: 0.6 | J30: - | K30: - | L30: =O30-I30 -> 13.43 | N30: - | O30: 14.03
A31: =1+A30 -> 27 | B31: AyA Tamarindo P3 Papaturro | C31: Tamarindo | D31: P | E31: 255838 | F31: 337001 | G31: 27 | H31: - | I31: 0.85 | J31: - | K31: - | L31: =O31-I31 -> 12.71 | O31: 13.56
A32: =1+A31 -> 28 | B32: AyA Tamarindo P4 Pochote | C32: Tamarindo | D32: P | E32: 255461 | F32: 336874 | G32: 28 | H32: - | I32: 0.45 | J32: - | K32: - | L32: =O32-I32 -> 13.08 | O32: 13.53
A33: =1+A32 -> 29 | B33: AyA Tamarindo P4b Pochote (nuevo) | C33: Tamarindo | D33: P | E33: 255442 | F33: 336873 | G33: 26 | H33: - | I33: 0.45 | J33: - | K33: - | L33: =O33-I33 -> 14.07 | O33: 14.52
A34: =1+A33 -> 30 | B34: AyA Tamarindo P5 Albin | C34: Tamarindo | D34: P | E34: 255477 | F34: 337058 | G34: 27 | H34: - | I34: 0.2 | J34: - | K34: - | L34: =O34-I34 -> 23.9 | O34: 24.1
A35: =1+A34 -> 31 | B35: Gineth López Rosales | C35: Matapalo | D35: E | E35: 260752 | F35: 337937 | G35: 43 | H35: - | I35: 0.68 | J35: - | K35: =N35-I35 -> 5 | L35: - | N35: 5.68 | O35: -
A36: =1+A35 -> 32 | B36: ASADA Matapalo P3 | C36: Matapalo | D36: P | E36: 260776 | F36: 338205 | G36: 17 | H36: - | I36: 0.38 | J36: - | K36: =N36-I36 -> 4.7 | L36: - | N36: 5.08 | O36: -
A37: =1+A36 -> 33 | B37: ASADA Matapalo P1 | C37: Matapalo | D37: P | E37: 260777 | F37: 338205 | G37: 12 | H37: - | I37: 0.52 | J37: - | K37: - | L37: =O37-I37 -> 6.85 | N37: - | O37: 7.37
A38: =1+A37 -> 34 | B38: ASADA Matapalo P2 | C38: Matapalo | D38: P | E38: 260686 | F38: 338490 | G38: 31 | H38: - | I38: 0.75 | J38: - | K38: - | L38: =O38-I38 -> 6.75 | N38: - | O38: 7.5
A40: Nota: se anota como nivel estático la medida del pozo 33 de la ASADA Matapalo, sin embargo este pozo se ubica a 1m del pozo 32 que estaba en uso.

Sheet Mayo 2013
A1: Plan de Monitoreo Acuífero Huacas Tamarindo
A2: Fecha: 29 de mayo del 2013
N3: Datos de campo
A4: N˚ | B4: Nombre del POZO | C4: Lugar | D4: Tipo | E4: Latitud | F4: Longitud | G4: Altitud sobre nivel de Mar | H4: Diámetro armado (in) | I4: Brocal (m) | J4: Profundidad de pozo (m) | K4: Nivel estático (m) | L4: Nivel dinámico (m) | N4: Nivel estático (m) + Brocal | O4: Nivel dinámico (m) + Brocal
A5: 1 | B5: Aeropuerto Tamarindo Cancha de Golf | C5: Tamarindo | D5: P | E5: 255134 | F5: 337474 | G5: 41 | H5: - | I5: 0.45 | J5: - | K5: =N5-I5 -> 5.47 | L5: - | N5: 5.92 | O5: -
A6: =1+A5 -> 2 | B6: Aeropuerto Tamarindo cerca río San Andrés | C6: Tamarindo | D6: P | E6: 255381 | F6: 337593 | G6: 31 | H6: - | I6: 0.33 | J6: - | K6: =N6-I6 -> 6.22 | L6: - | N6: 6.55 | O6: -
A7: =1+A6 -> 3 | B7: Aeropuerto Tamarindo Abrevadero | C7: Tamarindo | D7: P | E7: 255744 | F7: 337763 | G7: 26 | H7: - | I7: 0.5 | J7: - | K7: =N7-I7 -> 5.2 | L7: - | N7: 5.7 | O7: -
A8: =1+A7 -> 4 | B8: Aeropuerto Tamarindo los Tornillos | C8: Tamarindo | D8: P | E8: 255800 | F8: 337245 | G8: 23 | H8: - | I8: 0.6 | J8: - | K8: =N8-I8 -> 5.15 | L8: - | N8: 5.75 | O8: -
A9: =1+A8 -> 5 | B9: Elvira Matarrita | C9: El Llano | D9: E | E9: 256089 | F9: 338238 | G9: 30 | H9: - | I9: 0.84 | J9: - | K9: =N9-I9 -> 9.71 | L9: - | N9: 10.55 | O9: -
A10: =1+A9 -> 6 | B10: ASADA Villarreal P1 | C10: Villarreal | D10: P | E10: 255579 | F10: 338206 | G10: 20 | H10: - | I10: - | J10: 18 | K10: Línea de aire obstruida | N10: Línea de aire obstruida
A11: =1+A10 -> 7 | B11: ASADA Villarreal P2 | C11: Villarreal | D11: P | E11: 255562 | F11: 338189 | G11: 30 | H11: - | I11: 0.5 | J11: 18 | K11: - | L11: =O11-I11 -> 9.55 | N11: - | O11: 10.05
A12: =1+A11 -> 8 | B12: ASADA Villarreal P3 | C12: Villarreal | D12: P | E12: 255605 | F12: 338552 | G12: 33 | H12: - | I12: 1.87 | J12: 19 | K12: Línea de aire obstruida | N12: Línea de aire obstruida
A13: =1+A12 -> 9 | B13: Maritza Obando | C13: San Andrés | D13: E | E13: 255576 | F13: 338998 | G13: 34 | H13: - | I13: 0.73 | J13: - | K13: =N13-I13 -> 4.63 | L13: - | N13: 5.36 | O13: -
A14: =1+A13 -> 10 | B14: ASADA Santa Rosa | C14: Santa Rosa | D14: P | E14: 255198 | F14: 340143 | G14: 22 | H14: - | I14: 0.8 | J14: - | K14: - | L14: =O14-I14 -> 10.63 | N14: - | O14: 11.43
A15: =1+A14 -> 11 | B15: Seabees Santa Rosa | C15: Santa Rosa | D15: P | E15: 255267 | F15: 340939 | G15: 31 | H15: - | I15: 0.38 | J15: - | K15: =N15-I15 -> 7.04 | L15: - | N15: 7.42 | O15: -
A16: =1+A15 -> 12 | B16: Magdalena Obando | C16: Santa Rosa | D16: E | E16: 255293 | F16: 340970 | G16: 32 | H16: - | I16: 0.84 | J16: - | K16: =N16-I16 -> 5.26 | L16: - | N16: 6.1 | O16: -
A17: =1+A16 -> 13 | B17: ASADA Lomas | C17: Lomas | D17: P | E17: 258631 | F17: 338988 | G17: 16 | H17: - | I17: 1.18 | J17: 26 | K17: - | L17: =O17-I17 -> 5.82 | N17: - | O17: 7
A18: =1+A17 -> 14 | B18: José Catalino Jaén | C18: Lomas | D18: E | E18: 259080 | F18: 338723 | G18: 21 | H18: - | I18: 0.8 | J18: 11-12 | K18: =N18-I18 -> 5.76 | L18: - | N18: 6.56 | O18: -
A19: =1+A18 -> 15 | B19: Santos Arrieta | C19: Salinitas | D19: E | E19: 258896 | F19: 337242 | G19: 13 | H19: - | I19: 1 | J19: - | K19: =N19-I19 -> 5.62 | L19: - | N19: 6.62 | O19: -
A20: =1+A19 -> 16 | B20: María Luisa Contreras | C20: Huacas | D20: E | E20: 261652 | F20: 341432 | G20: 41 | H20: - | I20: 0.78 | J20: - | K20: =N20-I20 -> 1.7 | L20: - | N20: 2.48 | O20: -
A21: =1+A20 -> 17 | B21: Paula Celaya | C21: Garita Vieja | D21: E | E21: 260355 | F21: 339957 | G21: 31 | H21: - | I21: 0.8 | J21: 8 | K21: =N21-I21 -> 5.1 | L21: - | N21: 5.9 | O21: -
A22: =1+A21 -> 18 | B22: Juan Pablo Arrieta | C22: Garita Nueva | D22: E | E22: 259558 | F22: 340347 | G22: 30 | H22: - | I22: 0.8 | J22: - | K22: =N22-I22 -> 3.82 | L22: - | N22: 4.62 | O22: -
A23: =1+A22 -> 19 | B23: Damián Matarrita | C23: Mangos | D23: E | E23: 260753 | F23: 340739 | G23: 34 | H23: - | I23: 0.9 | J23: 14 | K23: seco | L23: - | N23: seco | O23: -
A24: =1+A23 -> 20 | B24: Cupertino López | C24: Tacasolapa | D24: E | E24: 258279 | F24: 340076 | G24: 31 | H24: - | I24: 1.15 | J24: - | K24: =N24-I24 -> 6.43 | L24: - | N24: 7.58 | O24: -
A25: =1+A24 -> 21 | B25: AyA Tamarindo P6 Plantel | C25: Tamarindo | D25: P | E25: 255183 | F25: 336781 | G25: 31 | H25: - | I25: 0 | J25: - | K25: =N25-I25 -> 8.32 | L25: - | N25: 8.32 | O25: -
A26: =1+A25 -> 22 | B26: AyA Tamarindo P1 Jobo | C26: Los Jobos | D26: P | E26: 253123 | F26: 335558 | G26: 34 | H26: - | I26: 0.43 | J26: - | K26: =N26-I26 -> 11.37 | L26: - | N26: 11.8 | O26: -
A27: =1+A26 -> 23 | B27: AyA Tamarindo P2 Jobo | C27: Los Jobos | D27: P | E27: 252958 | F27: 335376 | G27: 35 | H27: - | I27: 1.13 | J27: - | K27: - | L27: =O27-I27 -> 14.32 | N27: - | O27: 15.45
A28: =1+A27 -> 24 | B28: AyA Tamarindo P1 Guanacaste | C28: Tamarindo | D28: P | E28: 256002 | F28: 336544 | G28: 29 | H28: - | I28: 0.28 | J28: - | K28: - | L28: =O28-I28 -> 10.07 | N28: - | O28: 10.35
A29: =1+A28 -> 25 | B29: AyA Tamarindo P2 Virgilio | C29: Tamarindo | D29: P | E29: 255974 | F29: 336856 | G29: 26 | H29: - | I29: 0.55 | J29: - | K29: - | L29: =O29-I29 -> 10.85 | N29: - | O29: 11.4
A30: =1+A29 -> 26 | B30: AyA Tamarindo P2b Virgilio (nuevo) | C30: Tamarindo | D30: P | E30: 255966 | F30: 336871 | G30: 27 | H30: - | I30: 0.6 | J30: - | K30: - | L30: =O30-I30 -> 16.16 | N30: - | O30: 16.76
A31: =1+A30 -> 27 | B31: AyA Tamarindo P3 Papaturro | C31: Tamarindo | D31: P | E31: 255838 | F31: 337001 | G31: 27 | H31: - | I31: 0.85 | J31: - | K31: - | L31: =O31-I31 -> 13.65 | N31: - | O31: 14.5
A32: =1+A31 -> 28 | B32: AyA Tamarindo P4 Pochote | C32: Tamarindo | D32: P | E32: 255461 | F32: 336874 | G32: 28 | H32: - | I32: 0.45 | J32: - | K32: - | L32: =O32-I32 -> 14.35 | N32: - | O32: 14.8
A33: =1+A32 -> 29 | B33: AyA Tamarindo P4b Pochote (nuevo) | C33: Tamarindo | D33: P | E33: 255442 | F33: 336873 | G33: 26 | H33: - | I33: 0.45 | J33: - | K33: - | L33: =O33-I33 -> 17.07 | N33: - | O33: 17.52
A34: =1+A33 -> 30 | B34: AyA Tamarindo P5 Albin | C34: Tamarindo | D34: P | E34: 255477 | F34: 337058 | G34: 27 | H34: - | I34: 0.2 | J34: - | K34: - | L34: =O34-I34 -> 23.9 | N34: - | O34: 24.1
A35: =1+A34 -> 31 | B35: Gineth López Rosales | C35: Matapalo | D35: E | E35: 260752 | F35: 337937 | G35: 43 | H35: - | I35: 0.68 | J35: - | K35: =N35-I35 -> 4.96 | L35: - | N35: 5.64 | O35: -
A36: =1+A35 -> 32 | B36: ASADA Matapalo P3 | C36: Matapalo | D36: P | E36: 260776 | F36: 338205 | G36: 17 | H36: - | I36: 0.38 | J36: - | K36: =N36-I36 -> 5.14 | L36: - | N36: 5.52 | O36: -
A37: =1+A36 -> 33 | B37: ASADA Matapalo P1 | C37: Matapalo | D37: P | E37: 260777 | F37: 338205 | G37: 12 | H37: - | I37: 0.52 | J37: - | K37: - | L37: =O37-I37 -> 6.26 | N37: - | O37: 6.78
A38: =1+A37 -> 34 | B38: ASADA Matapalo P2 | C38: Matapalo | D38: P | E38: 260686 | F38: 338490 | G38: 31 | H38: - | I38: 0.75 | J38: - | K38: - | L38: =O38-I38 -> 8.13 | N38: - | O38: 8.88
A40: Nota: se anota como nivel estático la medida del pozo 33 de la ASADA Matapalo, sin embargo este pozo se ubica a 1m del pozo 32 que estaba en uso.

Sheet Junio 2013
A1: Plan de Monitoreo Acuífero Huacas Tamarindo
A2: Fecha: 20 de junio del 2013
N3: Datos de campo
A4: N˚ | B4: Nombre del POZO | C4: Lugar | D4: Tipo | E4: Latitud | F4: Longitud | G4: Altitud sobre nivel de Mar | H4: Diámetro armado (in) | I4: Brocal (m) | J4: Profundidad de pozo (m) | K4: Nivel estático (m) | L4: Nivel dinámico (m) | N4: Nivel estático (m) + Brocal | O4: Nivel dinámico (m) + Brocal
A5: 1 | B5: Aeropuerto Tamarindo Cancha de Golf | C5: Tamarindo | D5: P | E5: 255134 | F5: 337474 | G5: 41 | H5: - | I5: 0.45 | J5: - | K5: =N5-I5 -> 3.02 | L5: - | N5: 3.47 | O5: -
A6: =1+A5 -> 2 | B6: Aeropuerto Tamarindo cerca río San Andrés | C6: Tamarindo | D6: P | E6: 255381 | F6: 337593 | G6: 31 | H6: - | I6: 0.33 | J6: - | K6: =N6-I6 -> 3.73 | L6: - | N6: 4.06 | O6: -
A7: =1+A6 -> 3 | B7: Aeropuerto Tamarindo Abrevadero | C7: Tamarindo | D7: P | E7: 255744 | F7: 337763 | G7: 26 | H7: - | I7: 0.5 | J7: - | K7: =N7-I7 -> 4.12 | L7: - | N7: 4.62 | O7: -
A8: =1+A7 -> 4 | B8: Aeropuerto Tamarindo los Tornillos | C8: Tamarindo | D8: P | E8: 255800 | F8: 337245 | G8: 23 | H8: - | I8: 0.6 | J8: - | K8: =N8-I8 -> 4.3 | L8: - | N8: 4.9 | O8: -
A9: =1+A8 -> 5 | B9: Elvira Matarrita | C9: El Llano | D9: E | E9: 256089 | F9: 338238 | G9: 30 | H9: - | I9: 0.84 | J9: - | K9: =N9-I9 -> 8.83 | L9: - | N9: 9.67 | O9: -
A10: =1+A9 -> 6 | B10: ASADA Villarreal P1 | C10: Villarreal | D10: P | E10: 255579 | F10: 338206 | G10: 20 | H10: - | I10: - | J10: 18 | K10: Línea de aire obstruida | N10: Línea de aire obstruida
A11: =1+A10 -> 7 | B11: ASADA Villarreal P2 | C11: Villarreal | D11: P | E11: 255562 | F11: 338189 | G11: 30 | H11: - | I11: 0.5 | J11: 18 | K11: - | L11: =O11-I11 -> 5.88 | N11: - | O11: 6.38
A12: =1+A11 -> 8 | B12: ASADA Villarreal P3 | C12: Villarreal | D12: P | E12: 255605 | F12: 338552 | G12: 33 | H12: - | I12: 1.87 | J12: 19 | K12: Línea de aire obstruida | N12: Línea de aire obstruida
A13: =1+A12 -> 9 | B13: Maritza Obando | C13: San Andrés | D13: E | E13: 255576 | F13: 338998 | G13: 34 | H13: - | I13: 0.73 | J13: - | K13: =N13-I13 -> 3.3 | L13: - | N13: 4.03 | O13: -
A14: =1+A13 -> 10 | B14: ASADA Santa Rosa | C14: Santa Rosa | D14: P | E14: 255198 | F14: 340143 | G14: 22 | H14: - | I14: 0.8 | J14: - | K14: - | L14: =O14-I14 -> 9.06 | N14: - | O14: 9.86
A15: =1+A14 -> 11 | B15: Seabees Santa Rosa | C15: Santa Rosa | D15: P | E15: 255267 | F15: 340939 | G15: 31 | H15: - | I15: 0.38 | J15: - | K15: =N15-I15 -> 6.39 | L15: - | N15: 6.77 | O15: -
A16: =1+A15 -> 12 | B16: Magdalena Obando | C16: Santa Rosa | D16: E | E16: 255293 | F16: 340970 | G16: 32 | H16: - | I16: 0.84 | J16: - | K16: =N16-I16 -> 6.54 | L16: - | N16: 7.38 | O16: -
A17: =1+A16 -> 13 | B17: ASADA Lomas | C17: Lomas | D17: P | E17: 258631 | F17: 338988 | G17: 16 | H17: - | I17: 1.18 | J17: 26 | K17: =N17-I17 -> 0.95 | N17: 2.13 | O17: -
A18: =1+A17 -> 14 | B18: José Catalino Jaén | C18: Lomas | D18: E | E18: 259080 | F18: 338723 | G18: 21 | H18: - | I18: 0.8 | J18: 11-12 | K18: =N18-I18 -> 4.48 | L18: - | N18: 5.28 | O18: -
A19: =1+A18 -> 15 | B19: Santos Arrieta | C19: Salinitas | D19: E | E19: 258896 | F19: 337242 | G19: 13 | H19: - | I19: 1 | J19: - | K19: =N19-I19 -> 4.55 | L19: - | N19: 5.55 | O19: -
A20: =1+A19 -> 16 | B20: María Luisa Contreras | C20: Huacas | D20: E | E20: 261652 | F20: 341432 | G20: 41 | H20: - | I20: 0.78 | J20: - | K20: =N20-I20 -> 1.52 | L20: - | N20: 2.3 | O20: -
A21: =1+A20 -> 17 | B21: Paula Celaya | C21: Garita Vieja | D21: E | E21: 260355 | F21: 339957 | G21: 31 | H21: - | I21: 0.8 | J21: 8 | K21: =N21-I21 -> 4.83 | L21: - | N21: 5.63 | O21: -
A22: =1+A21 -> 18 | B22: Juan Pablo Arrieta | C22: Garita Nueva | D22: E | E22: 259558 | F22: 340347 | G22: 30 | H22: - | I22: 0.8 | J22: - | K22: =N22-I22 -> 2.97 | L22: - | N22: 3.77 | O22: -
A23: =1+A22 -> 19 | B23: Damián Matarrita | C23: Mangos | D23: E | E23: 260753 | F23: 340739 | G23: 34 | H23: - | I23: 0.9 | J23: 14 | K23: =N23-I23 -> 5.76 | L23: - | N23: 6.66 | O23: -
A24: =1+A23 -> 20 | B24: Cupertino López | C24: Tacasolapa | D24: E | E24: 258279 | F24: 340076 | G24: 31 | H24: - | I24: 1.15 | J24: - | K24: =N24-I24 -> 5.35 | L24: - | N24: 6.5 | O24: -
A25: =1+A24 -> 21 | B25: AyA Tamarindo P6 Plantel | C25: Tamarindo | D25: P | E25: 255183 | F25: 336781 | G25: 31 | H25: - | I25: 0 | J25: - | K25: =N25-I25 -> 7.57 | L25: - | N25: 7.57 | O25: -
A26: =1+A25 -> 22 | B26: AyA Tamarindo P1 Jobo | C26: Los Jobos | D26: P | E26: 253123 | F26: 335558 | G26: 34 | H26: - | I26: 0.43 | J26: - | K26: - | L26: =O26-I26 -> 10.81 | N26: - | O26: 11.24
A27: =1+A26 -> 23 | B27: AyA Tamarindo P2 Jobo | C27: Los Jobos | D27: P | E27: 252958 | F27: 335376 | G27: 35 | H27: - | I27: 1.13 | J27: - | K27: =N27-I27 -> 8.34 | L27: - | N27: 9.47 | O27: -
A28: =1+A27 -> 24 | B28: AyA Tamarindo P1 Guanacaste | C28: Tamarindo | D28: P | E28: 256002 | F28: 336544 | G28: 29 | H28: - | I28: 0.28 | J28: - | K28: - | L28: =O28-I28 -> 8.97 | N28: - | O28: 9.25
A29: =1+A28 -> 25 | B29: AyA Tamarindo P2 Virgilio | C29: Tamarindo | D29: P | E29: 255974 | F29: 336856 | G29: 26 | H29: - | I29: 0.55 | J29: - | K29: - | L29: =O29-I29 -> 13.03 | N29: - | O29: 13.58
A30: =1+A29 -> 26 | B30: AyA Tamarindo P2b Virgilio (nuevo) | C30: Tamarindo | D30: P | E30: 255966 | F30: 336871 | G30: 27 | H30: - | I30: 0.6 | J30: - | K30: - | L30: =O30-I30 -> 11.93 | N30: - | O30: 12.53
A31: =1+A30 -> 27 | B31: AyA Tamarindo P3 Papaturro | C31: Tamarindo | D31: P | E31: 255838 | F31: 337001 | G31: 27 | H31: - | I31: 0.85 | J31: - | K31: - | L31: =O31-I31 -> 12.45 | N31: - | O31: 13.3
A32: =1+A31 -> 28 | B32: AyA Tamarindo P4 Pochote | C32: Tamarindo | D32: P | E32: 255461 | F32: 336874 | G32: 28 | H32: - | I32: 0.45 | J32: - | K32: Línea de aire obstruida | N32: - | O32: -
A33: =1+A32 -> 29 | B33: AyA Tamarindo P4b Pochote (nuevo) | C33: Tamarindo | D33: P | E33: 255442 | F33: 336873 | G33: 26 | H33: - | I33: 0.45 | J33: - | K33: - | L33: =O33-I33 -> 13.85 | N33: - | O33: 14.3
A34: =1+A33 -> 30 | B34: AyA Tamarindo P5 Albin | C34: Tamarindo | D34: P | E34: 255477 | F34: 337058 | G34: 27 | H34: - | I34: 0.2 | J34: - | K34: =N34-I34 -> 4.11 | L34: - | N34: 4.31 | O34: -
A35: =1+A34 -> 31 | B35: Gineth López Rosales | C35: Matapalo | D35: E | E35: 260752 | F35: 337937 | G35: 43 | H35: - | I35: 0.68 | J35: - | K35: =N35-I35 -> 4.32 | L35: - | N35: 5 | O35: -
A36: =1+A35 -> 32 | B36: ASADA Matapalo P3 | C36: Matapalo | D36: P | E36: 260776 | F36: 338205 | G36: 17 | H36: - | I36: 0.38 | J36: - | K36: =N36-I36 -> 4.53 | L36: - | N36: 4.91 | O36: -
A37: =1+A36 -> 33 | B37: ASADA Matapalo P1 | C37: Matapalo | D37: P | E37: 260777 | F37: 338205 | G37: 12 | H37: - | I37: 0.52 | J37: - | K37: - | L37: =O37-I37 -> 5.44 | N37: - | O37: 5.96
A38: =1+A37 -> 34 | B38: ASADA Matapalo P2 | C38: Matapalo | D38: P | E38: 260686 | F38: 338490 | G38: 31 | H38: - | I38: 0.75 | J38: - | K38: - | L38: =O38-I38 -> 6.3 | N38: - | O38: 7.05
A40: Nota: se anota como nivel estático la medida del pozo 33 de la ASADA Matapalo, sin embargo este pozo se ubica a 1m del pozo 32 que estaba en uso.

Sheet Julio 2013
A1: Plan de Monitoreo Acuífero Huacas Tamarindo
A2: Fecha: 18 de julio del 2013
N3: Datos de campo
A4: N˚ | B4: Nombre del POZO | C4: Lugar | D4: Tipo | E4: Latitud | F4: Longitud | G4: Altitud sobre nivel de Mar | H4: Diámetro armado (in) | I4: Brocal (m) | J4: Profundidad de pozo (m) | K4: Nivel estático (m) | L4: Nivel dinámico (m) | N4: Nivel estático (m) + Brocal | O4: Nivel dinámico (m) + Brocal
A5: 1 | B5: Aeropuerto Tamarindo Cancha de Golf | C5: Tamarindo | D5: P | E5: 255134 | F5: 337474 | G5: 41 | H5: - | I5: 0.45 | J5: - | K5: =N5-I5 -> 2.79 | L5: - | N5: 3.24 | O5: -
A6: =1+A5 -> 2 | B6: Aeropuerto Tamarindo cerca río San Andrés | C6: Tamarindo | D6: P | E6: 255381 | F6: 337593 | G6: 31 | H6: - | I6: 0.33 | J6: - | K6: =N6-I6 -> 3.21 | L6: - | N6: 3.54 | O6: -
A7: =1+A6 -> 3 | B7: Aeropuerto Tamarindo Abrevadero | C7: Tamarindo | D7: P | E7: 255744 | F7: 337763 | G7: 26 | H7: - | I7: 0.5 | J7: - | K7: Avispas | N7: - | O7: -
A8: =1+A7 -> 4 | B8: Aeropuerto Tamarindo los Tornillos | C8: Tamarindo | D8: P | E8: 255800 | F8: 337245 | G8: 23 | H8: - | I8: 0.6 | J8: - | K8: =N8-I8 -> 3.8 | L8: - | N8: 4.4 | O8: -
A9: =1+A8 -> 5 | B9: Elvira Matarrita | C9: El Llano | D9: E | E9: 256089 | F9: 338238 | G9: 30 | H9: - | I9: 0.84 | J9: - | K9: =N9-I9 -> 8.31 | L9: - | N9: 9.15 | O9: -
A10: =1+A9 -> 6 | B10: ASADA Villarreal P1 | C10: Villarreal | D10: P | E10: 255579 | F10: 338206 | G10: 20 | H10: - | I10: - | J10: 18 | K10: Línea de aire obstruida | N10: Línea de aire obstruida
A11: =1+A10 -> 7 | B11: ASADA Villarreal P2 | C11: Villarreal | D11: P | E11: 255562 | F11: 338189 | G11: 30 | H11: - | I11: 0.5 | J11: 18 | K11: Sin Llave | N11: -
A12: =1+A11 -> 8 | B12: ASADA Villarreal P3 | C12: Villarreal | D12: P | E12: 255605 | F12: 338552 | G12: 33 | H12: - | I12: 1.87 | J12: 19 | K12: Línea de aire obstruida | N12: Línea de aire obstruida
A13: =1+A12 -> 9 | B13: Maritza Obando | C13: San Andrés | D13: E | E13: 255576 | F13: 338998 | G13: 34 | H13: - | I13: 0.73 | J13: - | K13: =N13-I13 -> 3.12 | L13: - | N13: 3.85 | O13: -
A14: =1+A13 -> 10 | B14: ASADA Santa Rosa | C14: Santa Rosa | D14: P | E14: 255198 | F14: 340143 | G14: 22 | H14: - | I14: 0.8 | J14: - | K14: - | L14: =O14-I14 -> 9.01 | N14: - | O14: 9.81
A15: =1+A14 -> 11 | B15: Seabees Santa Rosa | C15: Santa Rosa | D15: P | E15: 255267 | F15: 340939 | G15: 31 | H15: - | I15: 0.38 | J15: - | K15: =N15-I15 -> 6.04 | L15: - | N15: 6.42 | O15: -
A16: =1+A15 -> 12 | B16: Magdalena Obando | C16: Santa Rosa | D16: E | E16: 255293 | F16: 340970 | G16: 32 | H16: - | I16: 0.84 | J16: - | K16: =N16-I16 -> 6.18 | L16: - | N16: 7.02 | O16: -
A17: =1+A16 -> 13 | B17: ASADA Lomas | C17: Lomas | D17: P | E17: 258631 | F17: 338988 | G17: 16 | H17: - | I17: 1.18 | J17: 26 | K17: - | L17: =O17-I17 -> 4.66 | N17: - | O17: 5.84
A18: =1+A17 -> 14 | B18: José Catalino Jaén | C18: Lomas | D18: E | E18: 259080 | F18: 338723 | G18: 21 | H18: - | I18: 0.8 | J18: 11-12 | K18: =N18-I18 -> 4.19 | L18: - | N18: 4.99 | O18: -
A19: =1+A18 -> 15 | B19: Santos Arrieta | C19: Salinitas | D19: E | E19: 258896 | F19: 337242 | G19: 13 | H19: - | I19: 1 | J19: - | K19: =N19-I19 -> 4.21 | L19: - | N19: 5.21 | O19: -
A20: =1+A19 -> 16 | B20: María Luisa Contreras | C20: Huacas | D20: E | E20: 261652 | F20: 341432 | G20: 41 | H20: - | I20: 0.78 | J20: - | K20: =N20-I20 -> 1.6 | L20: - | N20: 2.38 | O20: -
A21: =1+A20 -> 17 | B21: Paula Celaya | C21: Garita Vieja | D21: E | E21: 260355 | F21: 339957 | G21: 31 | H21: - | I21: 0.8 | J21: 8 | K21: =N21-I21 -> 4.74 | L21: - | N21: 5.54 | O21: -
A22: =1+A21 -> 18 | B22: Juan Pablo Arrieta | C22: Garita Nueva | D22: E | E22: 259558 | F22: 340347 | G22: 30 | H22: - | I22: 0.8 | J22: - | K22: =N22-I22 -> 3.11 | L22: - | N22: 3.91 | O22: -
A23: =1+A22 -> 19 | B23: Damián Matarrita | C23: Mangos | D23: E | E23: 260753 | F23: 340739 | G23: 34 | H23: - | I23: 0.9 | J23: 14 | K23: =N23-I23 -> 5.6 | L23: - | N23: 6.5 | O23: -
A24: =1+A23 -> 20 | B24: Cupertino López | C24: Tacasolapa | D24: E | E24: 258279 | F24: 340076 | G24: 31 | H24: - | I24: 1.15 | J24: - | K24: =N24-I24 -> 5.2 | L24: - | N24: 6.35 | O24: -
A25: =1+A24 -> 21 | B25: AyA Tamarindo P6 Plantel | C25: Tamarindo | D25: P | E25: 255183 | F25: 336781 | G25: 31 | H25: - | I25: 0 | J25: - | K25: Aterrado | N25: - | O25: -
A26: =1+A25 -> 22 | B26: AyA Tamarindo P1 Jobo | C26: Los Jobos | D26: P | E26: 253123 | F26: 335558 | G26: 34 | H26: - | I26: 0.43 | J26: - | K26: - | L26: =O26-I26 -> 10.91 | N26: - | O26: 11.34
A27: =1+A26 -> 23 | B27: AyA Tamarindo P2 Jobo | C27: Los Jobos | D27: P | E27: 252958 | F27: 335376 | G27: 35 | H27: - | I27: 1.13 | J27: - | K27: =N27-I27 -> 8.12 | L27: - | N27: 9.25 | O27: -
A28: =1+A27 -> 24 | B28: AyA Tamarindo P1 Guanacaste | C28: Tamarindo | D28: P | E28: 256002 | F28: 336544 | G28: 29 | H28: - | I28: 0.28 | J28: - | K28: =N28-I28 -> 5.17 | L28: - | N28: 5.45 | O28: -
A29: =1+A28 -> 25 | B29: AyA Tamarindo P2 Virgilio | C29: Tamarindo | D29: P | E29: 255974 | F29: 336856 | G29: 26 | H29: - | I29: 0.55 | J29: - | K29: Sin Llave | N29: -
A30: =1+A29 -> 26 | B30: AyA Tamarindo P2b Virgilio (nuevo) | C30: Tamarindo | D30: P | E30: 255966 | F30: 336871 | G30: 27 | H30: - | I30: 0.6 | J30: - | K30: - | L30: =O30-I30 -> 12.75 | N30: - | O30: 13.35
A31: =1+A30 -> 27 | B31: AyA Tamarindo P3 Papaturro | C31: Tamarindo | D31: P | E31: 255838 | F31: 337001 | G31: 27 | H31: - | I31: 0.85 | J31: - | K31: - | L31: =O31-I31 -> 11.8 | N31: - | O31: 12.65
A32: =1+A31 -> 28 | B32: AyA Tamarindo P4 Pochote | C32: Tamarindo | D32: P | E32: 255461 | F32: 336874 | G32: 28 | H32: - | I32: 0.45 | J32: - | K32: Sin Llave | N32: - | O32: -
A33: =1+A32 -> 29 | B33: AyA Tamarindo P4b Pochote (nuevo) | C33: Tamarindo | D33: P | E33: 255442 | F33: 336873 | G33: 26 | H33: - | I33: 0.45 | J33: - | K33: - | L33: =O33-I33 -> 18.42 | N33: - | O33: 18.87
A34: =1+A33 -> 30 | B34: AyA Tamarindo P5 Albin | C34: Tamarindo | D34: P | E34: 255477 | F34: 337058 | G34: 27 | H34: - | I34: 0.2 | J34: - | K34: - | L34: =O34-I34 -> 24 | N34: - | O34: 24.2
A35: =1+A34 -> 31 | B35: Gineth López Rosales | C35: Matapalo | D35: E | E35: 260752 | F35: 337937 | G35: 43 | H35: - | I35: 0.68 | J35: - | K35: =N35-I35 -> 4.25 | L35: - | N35: 4.93 | O35: -
A36: =1+A35 -> 32 | B36: ASADA Matapalo P3 | C36: Matapalo | D36: P | E36: 260776 | F36: 338205 | G36: 17 | H36: - | I36: 0.38 | J36: - | K36: - | L36: =O36-I36 -> 9.96 | N36: - | O36: 10.34
A37: =1+A36 -> 33 | B37: ASADA Matapalo P1 | C37: Matapalo | D37: P | E37: 260777 | F37: 338205 | G37: 12 | H37: - | I37: 0.52 | J37: - | K37: =N37-I37 -> 4.98 | L37: - | N37: 5.5 | O37: -
A38: =1+A37 -> 34 | B38: ASADA Matapalo P2 | C38: Matapalo | D38: P | E38: 260686 | F38: 338490 | G38: 31 | H38: - | I38: 0.75 | J38: - | K38: =N38-I38 -> 4.16 | L38: - | N38: 4.91 | O38: -
A39: =1+A38 -> 35 | B39: ASADA Tamarindo P5 Jobo | C39: Matapalo | D39: P | E39: 253123 | F39: 335786 | G39: 23 | H39: - | I39: 0.52 | J39: - | K39: =N39-I39 -> 11.69 | L39: - | N39: 12.21 | O39: -
A40: =1+A39 -> 36 | B40: ASADA Tamarindo P3 Fertana | C40: Matapalo | D40: P | E40: 254952 | F40: 336152 | G40: 21 | H40: - | I40: 0.6 | J40: - | K40: =N40-I40 -> 6.3 | L40: - | N40: 6.9 | O40: -
A41: =1+A40 -> 37 | B41: ASADA Tamarindo P1 Guanacaste | C41: Matapalo | D41: P | E41: 255121 | F41: 336224 | G41: 20 | H41: - | I41: 0.25 | J41: - | K41: =N41-I41 -> 3.46 | L41: - | N41: 3.71 | O41: -
A42: =1+A41 -> 38 | B42: ASADA Tamarindo P2 Curia | C42: Matapalo | D42: P | E42: 256943 | F42: 337838 | G42: 20 | H42: - | I42: 0.15 | J42: - | K42: =N42-I42 -> 2.52 | L42: - | N42: 2.67 | O42: -
A43: =1+A42 -> 39 | B43: ASADA Tamarindo P1 Curia | C43: Matapalo | D43: P | E43: 256929 | F43: 337845 | G43: 18 | H43: - | I43: 0.93 | J43: - | K43: - | L43: =O43-I43 -> 6.86 | N43: - | O43: 7.79

Sheet Agosto 2013
A1: Plan de Monitoreo Acuífero Huacas Tamarindo
A2: Fecha: 29 de agosto del 2013
N3: Datos de campo
A4: N˚ | B4: Nombre del POZO | C4: Lugar | D4: Tipo | E4: Latitud | F4: Longitud | G4: Altitud sobre nivel de Mar | H4: Diámetro armado (in) | I4: Brocal (m) | J4: Profundidad de pozo (m) | K4: Nivel estático (m) | L4: Nivel dinámico (m) | N4: Nivel estático (m) + Brocal | O4: Nivel dinámico (m) + Brocal
A5: 1 | B5: Aeropuerto Tamarindo Cancha de Golf | C5: Tamarindo | D5: P | E5: 255134 | F5: 337474 | G5: 41 | H5: - | I5: 0.45 | J5: - | K5: =N5-I5 -> 2.61 | L5: - | N5: 3.06 | O5: -
A6: =1+A5 -> 2 | B6: Aeropuerto Tamarindo cerca río San Andrés | C6: Tamarindo | D6: P | E6: 255381 | F6: 337593 | G6: 31 | H6: - | I6: 0.33 | J6: - | K6: =N6-I6 -> 2.55 | L6: - | N6: 2.88 | O6: -
A7: =1+A6 -> 3 | B7: Aeropuerto Tamarindo Abrevadero | C7: Tamarindo | D7: P | E7: 255744 | F7: 337763 | G7: 26 | H7: - | I7: 0.5 | J7: - | K7: - | L7: - | N7: SD | O7: -
A8: =1+A7 -> 4 | B8: Aeropuerto Tamarindo los Tornillos | C8: Tamarindo | D8: P | E8: 255800 | F8: 337245 | G8: 23 | H8: - | I8: 0.6 | J8: - | K8: =N8-I8 -> 2.03 | L8: - | N8: 2.63 | O8: -
A9: =1+A8 -> 5 | B9: Elvira Matarrita | C9: El Llano | D9: E | E9: 256089 | F9: 338238 | G9: 30 | H9: - | I9: 0.84 | J9: - | K9: =N9-I9 -> 7.38 | L9: - | N9: 8.22 | O9: -
A10: =1+A9 -> 6 | B10: ASADA Villarreal P1 | C10: Villarreal | D10: P | E10: 255579 | F10: 338206 | G10: 20 | H10: - | I10: - | J10: 18 | K10: Línea de aire obstruida | N10: Línea de aire obstruida
A11: =1+A10 -> 7 | B11: ASADA Villarreal P2 | C11: Villarreal | D11: P | E11: 255562 | F11: 338189 | G11: 30 | H11: - | I11: 0.5 | J11: 18 | K11: =N11-I11 -> 2.3 | L11: - | N11: 2.8
A12: =1+A11 -> 8 | B12: ASADA Villarreal P3 | C12: Villarreal | D12: P | E12: 255605 | F12: 338552 | G12: 33 | H12: - | I12: 1.87 | J12: 19 | K12: Línea de aire obstruida | N12: Línea de aire obstruida
A13: =1+A12 -> 9 | B13: Maritza Obando | C13: San Andrés | D13: E | E13: 255576 | F13: 338998 | G13: 34 | H13: - | I13: 0.73 | J13: - | K13: =N13-I13 -> 3.07 | L13: - | N13: 3.8 | O13: -
A14: =1+A13 -> 10 | B14: ASADA Santa Rosa | C14: Santa Rosa | D14: P | E14: 255198 | F14: 340143 | G14: 22 | H14: - | I14: 0.8 | J14: - | K14: =N14-I14 -> 4.62 | L14: - | N14: 5.42
A15: =1+A14 -> 11 | B15: Seabees Santa Rosa | C15: Santa Rosa | D15: P | E15: 255267 | F15: 340939 | G15: 31 | H15: - | I15: 0.38 | J15: - | K15: =N15-I15 -> 5.57 | L15: - | N15: 5.95 | O15: -
A16: =1+A15 -> 12 | B16: Magdalena Obando | C16: Santa Rosa | D16: E | E16: 255293 | F16: 340970 | G16: 32 | H16: - | I16: 0.84 | J16: - | K16: =N16-I16 -> 5.61 | L16: - | N16: 6.45 | O16: -
A17: =1+A16 -> 13 | B17: ASADA Lomas | C17: Lomas | D17: P | E17: 258631 | F17: 338988 | G17: 16 | H17: - | I17: 1.18 | J17: 26 | K17: =N17-I17 -> 0.6 | L17: - | N17: 1.78
A18: =1+A17 -> 14 | B18: José Catalino Jaén | C18: Lomas | D18: E | E18: 259080 | F18: 338723 | G18: 21 | H18: - | I18: 0.8 | J18: 11-12 | K18: =N18-I18 -> 3.64 | L18: - | N18: 4.44 | O18: -
A19: =1+A18 -> 15 | B19: Santos Arrieta | C19: Salinitas | D19: E | E19: 258896 | F19: 337242 | G19: 13 | H19: - | I19: 1 | J19: - | K19: =N19-I19 -> 3.76 | L19: - | N19: 4.76 | O19: -
A20: =1+A19 -> 16 | B20: María Luisa Contreras | C20: Huacas | D20: E | E20: 261652 | F20: 341432 | G20: 41 | H20: - | I20: 0.78 | J20: - | K20: =N20-I20 -> 1.55 | L20: - | N20: 2.33 | O20: -
A21: =1+A20 -> 17 | B21: Paula Celaya | C21: Garita Vieja | D21: E | E21: 260355 | F21: 339957 | G21: 31 | H21: - | I21: 0.8 | J21: 8 | K21: =N21-I21 -> 4.72 | L21: - | N21: 5.52 | O21: -
A22: =1+A21 -> 18 | B22: Juan Pablo Arrieta | C22: Garita Nueva | D22: E | E22: 259558 | F22: 340347 | G22: 30 | H22: - | I22: 0.8 | J22: - | K22: =N22-I22 -> 2.94 | L22: - | N22: 3.74 | O22: -
A23: =1+A22 -> 19 | B23: Damián Matarrita | C23: Mangos | D23: E | E23: 260753 | F23: 340739 | G23: 34 | H23: - | I23: 0.9 | J23: 14 | K23: =N23-I23 -> 5.67 | L23: - | N23: 6.57 | O23: -
A24: =1+A23 -> 20 | B24: Cupertino López | C24: Tacasolapa | D24: E | E24: 258279 | F24: 340076 | G24: 31 | H24: - | I24: 1.15 | J24: - | K24: =N24-I24 -> 4.71 | L24: - | N24: 5.86 | O24: -
A25: =1+A24 -> 21 | B25: AyA Tamarindo P6 Plantel | C25: Tamarindo | D25: P | E25: 255183 | F25: 336781 | G25: 31 | H25: - | I25: 0 | J25: - | K25: =N25-I25 -> 5.46 | L25: - | N25: 5.46 | O25: -
A26: =1+A25 -> 22 | B26: AyA Tamarindo P1 Jobo | C26: Los Jobos | D26: P | E26: 253123 | F26: 335558 | G26: 34 | H26: - | I26: 0.43 | J26: - | K26: - | L26: =O26-I26 -> 8.41 | N26: - | O26: 8.84
A27: =1+A26 -> 23 | B27: AyA Tamarindo P2 Jobo | C27: Los Jobos | D27: P | E27: 252958 | F27: 335376 | G27: 35 | H27: - | I27: 1.13 | J27: - | K27: - | L27: =O27-I27 -> 7.53 | O27: 8.66
A28: =1+A27 -> 24 | B28: AyA Tamarindo P1 Guanacaste | C28: Tamarindo | D28: P | E28: 256002 | F28: 336544 | G28: 29 | H28: - | I28: 0.28 | J28: - | K28: =N28-I28 -> 1.04 | L28: - | N28: 1.32 | O28: -
A29: =1+A28 -> 25 | B29: AyA Tamarindo P2 Virgilio | C29: Tamarindo | D29: P | E29: 255974 | F29: 336856 | G29: 26 | H29: - | I29: 0.55 | J29: - | K29: =N29-I29 -> 4.59 | L29: - | N29: 5.14
A30: =1+A29 -> 26 | B30: AyA Tamarindo P2b Virgilio (nuevo) | C30: Tamarindo | D30: P | E30: 255966 | F30: 336871 | G30: 27 | H30: - | I30: 0.6 | J30: - | K30: - | L30: =O30-I30 -> 8.65 | N30: - | O30: 9.25
A31: =1+A30 -> 27 | B31: AyA Tamarindo P3 Papaturro | C31: Tamarindo | D31: P | E31: 255838 | F31: 337001 | G31: 27 | H31: - | I31: 0.85 | J31: - | K31: - | L31: =O31-I31 -> 9.21 | N31: - | O31: 10.06
A32: =1+A31 -> 28 | B32: AyA Tamarindo P4 Pochote | C32: Tamarindo | D32: P | E32: 255461 | F32: 336874 | G32: 28 | H32: - | I32: 0.45 | J32: - | K32: - | L32: =O32-I32 -> 12.77 | N32: - | O32: 13.22
A33: =1+A32 -> 29 | B33: AyA Tamarindo P4b Pochote (nuevo) | C33: Tamarindo | D33: P | E33: 255442 | F33: 336873 | G33: 26 | H33: - | I33: 0.45 | J33: - | K33: - | L33: =O33-I33 -> 12.25 | N33: - | O33: 12.7
A34: =1+A33 -> 30 | B34: AyA Tamarindo P5 Albin | C34: Tamarindo | D34: P | E34: 255477 | F34: 337058 | G34: 27 | H34: - | I34: 0.2 | J34: - | K34: - | L34: =O34-I34 -> 20.22 | N34: - | O34: 20.42
A35: =1+A34 -> 31 | B35: Gineth López Rosales | C35: Matapalo | D35: E | E35: 260752 | F35: 337937 | G35: 43 | H35: - | I35: 0.68 | J35: - | K35: =N35-I35 -> 4.2 | L35: - | N35: 4.88 | O35: -
A36: =1+A35 -> 32 | B36: ASADA Matapalo P3 | C36: Matapalo | D36: P | E36: 260776 | F36: 338205 | G36: 17 | H36: - | I36: 0.38 | J36: - | K36: =N36-I36 -> 4.62 | L36: - | N36: 5
A37: =1+A36 -> 33 | B37: ASADA Matapalo P1 | C37: Matapalo | D37: P | E37: 260777 | F37: 338205 | G37: 12 | H37: - | I37: 0.52 | J37: - | K37: - | L37: =O37-I37 -> 5.23 | O37: 5.75
A38: =1+A37 -> 34 | B38: ASADA Matapalo P2 | C38: Matapalo | D38: P | E38: 260686 | F38: 338490 | G38: 31 | H38: - | I38: 0.75 | J38: - | K38: - | L38: =O38-I38 -> 4.79 | O38: 5.54
A39: =1+A38 -> 35 | B39: ASADA Tamarindo P5 Jobo | C39: Matapalo | D39: P | E39: 253123 | F39: 335786 | G39: 23 | H39: - | I39: 0.52 | J39: - | K39: =N39-I39 -> 8.82 | L39: - | N39: 9.34 | O39: -
A40: =1+A39 -> 36 | B40: ASADA Tamarindo P3 Fertana | C40: Matapalo | D40: P | E40: 254952 | F40: 336152 | G40: 21 | H40: - | I40: 0.6 | J40: - | K40: =N40-I40 -> 5.15 | L40: - | N40: 5.75 | O40: -
A41: =1+A40 -> 37 | B41: ASADA Tamarindo P1 Guanacaste | C41: Matapalo | D41: P | E41: 255121 | F41: 336224 | G41: 20 | H41: - | I41: 0.25 | J41: - | K41: =N41-I41 -> 1.79 | L41: - | N41: 2.04 | O41: -
A42: =1+A41 -> 38 | B42: ASADA Tamarindo P2 Curia | C42: Matapalo | D42: P | E42: 256943 | F42: 337838 | G42: 20 | H42: - | I42: 0.15 | J42: - | K42: - | L42: - | N42: S/D | O42: -
A43: =1+A42 -> 39 | B43: ASADA Tamarindo P1 Curia | C43: Matapalo | D43: P | E43: 256929 | F43: 337845 | G43: 18 | H43: - | I43: 0.93 | J43: - | K43: - | L43: =O43-I43 -> 6.51 | N43: - | O43: 7.44

Sheet Setiembre 2013
A1: Plan de Monitoreo Acuífero Huacas Tamarindo
A2: Fecha: 26 de setiembre 2013
N3: Datos de campo
A4: N˚ | B4: Nombre del POZO | C4: Lugar | D4: Tipo | E4: Latitud | F4: Longitud | G4: Altitud sobre nivel de Mar | H4: Diámetro armado (in) | I4: Brocal (m) | J4: Profundidad de pozo (m) | K4: Nivel estático (m) | L4: Nivel dinámico (m) | N4: Nivel estático (m) + Brocal | O4: Nivel dinámico (m) + Brocal
A5: 1 | B5: Aeropuerto Tamarindo Cancha de Golf | C5: Tamarindo | D5: P | E5: 255134 | F5: 337474 | G5: 41 | H5: - | I5: 0.45 | J5: - | K5: =N5-I5 -> 1.93 | L5: - | N5: 2.38 | O5: -
A6: =1+A5 -> 2 | B6: Aeropuerto Tamarindo cerca río San Andrés | C6: Tamarindo | D6: P | E6: 255381 | F6: 337593 | G6: 31 | H6: - | I6: 0.33 | J6: - | K6: =N6-I6 -> 2.28 | L6: - | N6: 2.61 | O6: -
A7: =1+A6 -> 3 | B7: Aeropuerto Tamarindo Abrevadero | C7: Tamarindo | D7: P | E7: 255744 | F7: 337763 | G7: 26 | H7: - | I7: 0.5 | J7: - | K7: =N7-I7 -> 1.05 | L7: - | N7: 1.55 | O7: -
A8: =1+A7 -> 4 | B8: Aeropuerto Tamarindo los Tornillos | C8: Tamarindo | D8: P | E8: 255800 | F8: 337245 | G8: 23 | H8: - | I8: 0.6 | J8: - | K8: =N8-I8 -> 1.28 | L8: - | N8: 1.88 | O8: -
A9: =1+A8 -> 5 | B9: Elvira Matarrita | C9: El Llano | D9: E | E9: 256089 | F9: 338238 | G9: 30 | H9: - | I9: 0.84 | J9: - | K9: =N9-I9 -> 6.59 | L9: - | N9: 7.43 | O9: -
A10: =1+A9 -> 6 | B10: ASADA Villarreal P1 | C10: Villarreal | D10: P | E10: 255579 | F10: 338206 | G10: 20 | H10: - | I10: - | J10: 18 | K10: Línea de aire obstruida | N10: Línea de aire obstruida
A11: =1+A10 -> 7 | B11: ASADA Villarreal P2 | C11: Villarreal | D11: P | E11: 255562 | F11: 338189 | G11: 30 | H11: - | I11: 0.5 | J11: 18 | K11: =N11-I11 -> 1.9 | L11: - | N11: 2.4
A12: =1+A11 -> 8 | B12: ASADA Villarreal P3 | C12: Villarreal | D12: P | E12: 255605 | F12: 338552 | G12: 33 | H12: - | I12: 1.87 | J12: 19 | K12: Línea de aire obstruida | N12: Línea de aire obstruida
A13: =1+A12 -> 9 | B13: Maritza Obando | C13: San Andrés | D13: E | E13: 255576 | F13: 338998 | G13: 34 | H13: - | I13: 0.73 | J13: - | K13: =N13-I13 -> 2.96 | L13: - | N13: 3.69 | O13: -
A14: =1+A13 -> 10 | B14: ASADA Santa Rosa | C14: Santa Rosa | D14: P | E14: 255198 | F14: 340143 | G14: 22 | H14: - | I14: 0.8 | J14: - | K14: - | L14: =O14-I14 -> 8.86 | N14: - | O14: 9.66
A15: =1+A14 -> 11 | B15: Seabees Santa Rosa | C15: Santa Rosa | D15: P | E15: 255267 | F15: 340939 | G15: 31 | H15: - | I15: 0.38 | J15: - | K15: =N15-I15 -> 3.47 | L15: - | N15: 3.85 | O15: -
A16: =1+A15 -> 12 | B16: Magdalena Obando | C16: Santa Rosa | D16: E | E16: 255293 | F16: 340970 | G16: 32 | H16: - | I16: 0.84 | J16: - | K16: =N16-I16 -> 3.44 | L16: - | N16: 4.28 | O16: -
A17: =1+A16 -> 13 | B17: ASADA Lomas | C17: Lomas | D17: P | E17: 258631 | F17: 338988 | G17: 16 | H17: - | I17: 1.18 | J17: 26 | K17: =N17-I17 -> 0.71 | L17: - | N17: 1.89 | O17: -
A18: =1+A17 -> 14 | B18: José Catalino Jaén | C18: Lomas | D18: E | E18: 259080 | F18: 338723 | G18: 21 | H18: - | I18: 0.8 | J18: 11-12 | K18: =N18-I18 -> 3.6 | L18: - | N18: 4.4 | O18: -
A19: =1+A18 -> 15 | B19: Santos Arrieta | C19: Salinitas | D19: E | E19: 258896 | F19: 337242 | G19: 13 | H19: - | I19: 1 | J19: - | K19: =N19-I19 -> 2.85 | L19: - | N19: 3.85 | O19: -
A20: =1+A19 -> 16 | B20: María Luisa Contreras | C20: Huacas | D20: E | E20: 261652 | F20: 341432 | G20: 41 | H20: - | I20: 0.78 | J20: - | K20: =N20-I20 -> 1.12 | L20: - | N20: 1.9 | O20: -
A21: =1+A20 -> 17 | B21: Paula Celaya | C21: Garita Vieja | D21: E | E21: 260355 | F21: 339957 | G21: 31 | H21: - | I21: 0.8 | J21: 8 | K21: =N21-I21 -> 4.29 | L21: - | N21: 5.09 | O21: -
A22: =1+A21 -> 18 | B22: Juan Pablo Arrieta | C22: Garita Nueva | D22: E | E22: 259558 | F22: 340347 | G22: 30 | H22: - | I22: 0.8 | J22: - | K22: =N22-I22 -> 2 | L22: - | N22: 2.8 | O22: -
A23: =1+A22 -> 19 | B23: Damián Matarrita | C23: Mangos | D23: E | E23: 260753 | F23: 340739 | G23: 34 | H23: - | I23: 0.9 | J23: 14 | K23: =N23-I23 -> 4.04 | L23: - | N23: 4.94 | O23: -
A24: =1+A23 -> 20 | B24: Cupertino López | C24: Tacasolapa | D24: E | E24: 258279 | F24: 340076 | G24: 31 | H24: - | I24: 1.15 | J24: - | K24: =N24-I24 -> 2.41 | L24: - | N24: 3.56 | O24: -
A25: =1+A24 -> 21 | B25: AyA Tamarindo P6 Plantel | C25: Tamarindo | D25: P | E25: 255183 | F25: 336781 | G25: 31 | H25: - | I25: 0 | J25: - | K25: =N25-I25 -> 4.32 | L25: - | N25: 4.32 | O25: -
A26: =1+A25 -> 22 | B26: AyA Tamarindo P1 Jobo | C26: Los Jobos | D26: P | E26: 253123 | F26: 335558 | G26: 34 | H26: - | I26: 0.43 | J26: - | K26: =N26-I26 -> 2.91 | L26: - | N26: 3.34 | O26: -
A27: =1+A26 -> 23 | B27: AyA Tamarindo P2 Jobo | C27: Los Jobos | D27: P | E27: 252958 | F27: 335376 | G27: 35 | H27: - | I27: 1.13 | J27: - | K27: - | L27: =O27-I27 -> 3.5 | N27: - | O27: 4.63
A28: =1+A27 -> 24 | B28: AyA Tamarindo P1 Guanacaste | C28: Tamarindo | D28: P | E28: 256002 | F28: 336544 | G28: 29 | H28: - | I28: 0.28 | J28: - | K28: =N28-I28 -> 2.82 | L28: - | N28: 3.1 | O28: -
A29: =1+A28 -> 25 | B29: AyA Tamarindo P2 Virgilio | C29: Tamarindo | D29: P | E29: 255974 | F29: 336856 | G29: 26 | H29: - | I29: 0.55 | J29: - | K29: - | L29: =O29-I29 -> 7.77 | N29: - | O29: 8.32
A30: =1+A29 -> 26 | B30: AyA Tamarindo P2b Virgilio (nuevo) | C30: Tamarindo | D30: P | E30: 255966 | F30: 336871 | G30: 27 | H30: - | I30: 0.6 | J30: - | K30: - | L30: =O30-I30 -> 7.57 | N30: - | O30: 8.17
A31: =1+A30 -> 27 | B31: AyA Tamarindo P3 Papaturro | C31: Tamarindo | D31: P | E31: 255838 | F31: 337001 | G31: 27 | H31: - | I31: 0.85 | J31: - | K31: - | L31: =O31-I31 -> 8.37 | N31: - | O31: 9.22
A32: =1+A31 -> 28 | B32: AyA Tamarindo P4 Pochote | C32: Tamarindo | D32: P | E32: 255461 | F32: 336874 | G32: 28 | H32: - | I32: 0.45 | J32: - | K32: - | L32: =O32-I32 -> 6.19 | N32: - | O32: 6.64
A33: =1+A32 -> 29 | B33: AyA Tamarindo P4b Pochote (nuevo) | C33: Tamarindo | D33: P | E33: 255442 | F33: 336873 | G33: 26 | H33: - | I33: 0.45 | J33: - | K33: =N33-I33 -> 3.73 | L33: - | N33: 4.18 | O33: -
A34: =1+A33 -> 30 | B34: AyA Tamarindo P5 Albin | C34: Tamarindo | D34: P | E34: 255477 | F34: 337058 | G34: 27 | H34: - | I34: 0.2 | J34: - | K34: - | L34: =O34-I34 -> 17.22 | N34: - | O34: 17.42
A35: =1+A34 -> 31 | B35: Gineth López Rosales | C35: Matapalo | D35: E | E35: 260752 | F35: 337937 | G35: 43 | H35: - | I35: 0.68 | J35: - | K35: =N35-I35 -> 3.56 | L35: - | N35: 4.24 | O35: -
A36: =1+A35 -> 32 | B36: ASADA Matapalo P3 | C36: Matapalo | D36: P | E36: 260776 | F36: 338205 | G36: 17 | H36: - | I36: 0.38 | J36: - | K36: =N36-I36 -> 4.52 | L36: - | N36: 4.9 | O36: -
A37: =1+A36 -> 33 | B37: ASADA Matapalo P1 | C37: Matapalo | D37: P | E37: 260777 | F37: 338205 | G37: 12 | H37: - | I37: 0.52 | J37: - | K37: - | L37: =O37-I37 -> 5.45 | N37: - | O37: 5.97
A38: =1+A37 -> 34 | B38: ASADA Matapalo P2 | C38: Matapalo | D38: P | E38: 260686 | F38: 338490 | G38: 31 | H38: - | I38: 0.75 | J38: - | K38: - | L38: =O38-I38 -> 4.12 | N38: - | O38: 4.87
A39: =1+A38 -> 35 | B39: ASADA Tamarindo P5 Jobo | C39: Matapalo | D39: P | E39: 253123 | F39: 335786 | G39: 23 | H39: - | I39: 0.52 | J39: - | K39: =N39-I39 -> 4.25 | L39: - | N39: 4.77 | O39: -
A40: =1+A39 -> 36 | B40: ASADA Tamarindo P3 Fertana | C40: Matapalo | D40: P | E40: 254952 | F40: 336152 | G40: 21 | H40: - | I40: 0.6 | J40: - | K40: =N40-I40 -> 4 | L40: - | N40: 4.6 | O40: -
A41: =1+A40 -> 37 | B41: ASADA Tamarindo P1 Guanacaste | C41: Matapalo | D41: P | E41: 255121 | F41: 336224 | G41: 20 | H41: - | I41: 0.25 | J41: - | K41: =N41-I41 -> 0.96 | L41: - | N41: 1.21 | O41: -
A42: =1+A41 -> 38 | B42: ASADA Tamarindo P2 Curia | C42: Matapalo | D42: P | E42: 256943 | F42: 337838 | G42: 20 | H42: - | I42: 0.15 | J42: - | K42: - | L42: - | N42: S/D | O42: -
A43: =1+A42 -> 39 | B43: ASADA Tamarindo P1 Curia | C43: Matapalo | D43: P | E43: 256929 | F43: 337845 | G43: 18 | H43: - | I43: 0.93 | J43: - | K43: - | L43: =O43-I43 -> 5.13 | N43: - | O43: 6.06

Sheet octubre 2013
A1: Plan de Monitoreo Acuífero Huacas Tamarindo
A2: Fecha: 24 de octubre 2013
N3: Datos de campo
A4: N˚ | B4: Nombre del POZO | C4: Lugar | D4: Tipo | E4: Latitud | F4: Longitud | G4: Altitud sobre nivel de Mar | H4: Diámetro armado (in) | I4: Brocal (m) | J4: Profundidad de pozo (m) | K4: Nivel estático (m) | L4: Nivel dinámico (m) | N4: Nivel estático (m) + Brocal | O4: Nivel dinámico (m) + Brocal
A5: 1 | B5: Aeropuerto Tamarindo Cancha de Golf | C5: Tamarindo | D5: P | E5: 255134 | F5: 337474 | G5: 41 | H5: - | I5: 0.45 | J5: - | K5: =N5-I5 -> 2.22 | L5: - | N5: 2.67 | O5: -
A6: =1+A5 -> 2 | B6: Aeropuerto Tamarindo cerca río San Andrés | C6: Tamarindo | D6: P | E6: 255381 | F6: 337593 | G6: 31 | H6: - | I6: 0.33 | J6: - | K6: =N6-I6 -> 2.42 | L6: - | N6: 2.75 | O6: -
A7: =1+A6 -> 3 | B7: Aeropuerto Tamarindo Abrevadero | C7: Tamarindo | D7: P | E7: 255744 | F7: 337763 | G7: 26 | H7: - | I7: 0.5 | J7: - | K7: =N7-I7 -> 1.22 | L7: - | N7: 1.72 | O7: -
A8: =1+A7 -> 4 | B8: Aeropuerto Tamarindo los Tornillos | C8: Tamarindo | D8: P | E8: 255800 | F8: 337245 | G8: 23 | H8: - | I8: 0.6 | J8: - | K8: =N8-I8 -> 1.53 | L8: - | N8: 2.13 | O8: -
A9: =1+A8 -> 5 | B9: Elvira Matarrita | C9: El Llano | D9: E | E9: 256089 | F9: 338238 | G9: 30 | H9: - | I9: 0.84 | J9: - | K9: =N9-I9 -> 6.39 | L9: - | N9: 7.23 | O9: -
A10: =1+A9 -> 6 | B10: ASADA Villarreal P1 | C10: Villarreal | D10: P | E10: 255579 | F10: 338206 | G10: 20 | H10: - | I10: - | J10: 18 | K10: Línea de aire obstruida | N10: Línea de aire obstruida
A11: =1+A10 -> 7 | B11: ASADA Villarreal P2 | C11: Villarreal | D11: P | E11: 255562 | F11: 338189 | G11: 30 | H11: - | I11: 0.5 | J11: 18 | K11: =N11-I11 -> 1.98 | L11: - | N11: 2.48
A12: =1+A11 -> 8 | B12: ASADA Villarreal P3 | C12: Villarreal | D12: P | E12: 255605 | F12: 338552 | G12: 33 | H12: - | I12: 1.87 | J12: 19 | K12: Línea de aire obstruida | N12: Línea de aire obstruida
A13: =1+A12 -> 9 | B13: Maritza Obando | C13: San Andrés | D13: E | E13: 255576 | F13: 338998 | G13: 34 | H13: - | I13: 0.73 | J13: - | K13: =N13-I13 -> 3.01 | L13: - | N13: 3.74 | O13: -
A14: =1+A13 -> 10 | B14: ASADA Santa Rosa | C14: Santa Rosa | D14: P | E14: 255198 | F14: 340143 | G14: 22 | H14: - | I14: 0.8 | J14: - | K14: - | L14: =O14-I14 -> 8.6 | N14: - | O14: 9.4
A15: =1+A14 -> 11 | B15: Seabees Santa Rosa | C15: Santa Rosa | D15: P | E15: 255267 | F15: 340939 | G15: 31 | H15: - | I15: 0.38 | J15: - | K15: =N15-I15 -> 3.32 | L15: - | N15: 3.7 | O15: -
A16: =1+A15 -> 12 | B16: Magdalena Obando | C16: Santa Rosa | D16: E | E16: 255293 | F16: 340970 | G16: 32 | H16: - | I16: 0.84 | J16: - | K16: =N16-I16 -> 3.27 | L16: - | N16: 4.11 | O16: -
A17: =1+A16 -> 13 | B17: ASADA Lomas | C17: Lomas | D17: P | E17: 258631 | F17: 338988 | G17: 16 | H17: - | I17: 1.18 | J17: 26 | K17: =N17-I17 -> 0.64 | L17: - | N17: 1.82 | O17: -
A18: =1+A17 -> 14 | B18: José Catalino Jaén | C18: Lomas | D18: E | E18: 259080 | F18: 338723 | G18: 21 | H18: - | I18: 0.8 | J18: 11-12 | K18: =N18-I18 -> 3.53 | L18: - | N18: 4.33 | O18: -
A19: =1+A18 -> 15 | B19: Santos Arrieta | C19: Salinitas | D19: E | E19: 258896 | F19: 337242 | G19: 13 | H19: - | I19: 1 | J19: - | K19: =N19-I19 -> 2.07 | L19: - | N19: 3.07 | O19: -
A20: =1+A19 -> 16 | B20: María Luisa Contreras | C20: Huacas | D20: E | E20: 261652 | F20: 341432 | G20: 41 | H20: - | I20: 0.78 | J20: - | K20: =N20-I20 -> 0.77 | L20: - | N20: 1.55 | O20: -
A21: =1+A20 -> 17 | B21: Paula Celaya | C21: Garita Vieja | D21: E | E21: 260355 | F21: 339957 | G21: 31 | H21: - | I21: 0.8 | J21: 8 | K21: =N21-I21 -> 3.75 | L21: - | N21: 4.55 | O21: -
A22: =1+A21 -> 18 | B22: Juan Pablo Arrieta | C22: Garita Nueva | D22: E | E22: 259558 | F22: 340347 | G22: 30 | H22: - | I22: 0.8 | J22: - | K22: =N22-I22 -> 1.05 | L22: - | N22: 1.85 | O22: -
A23: =1+A22 -> 19 | B23: Damián Matarrita | C23: Mangos | D23: E | E23: 260753 | F23: 340739 | G23: 34 | H23: - | I23: 0.9 | J23: 14 | K23: =N23-I23 -> 3.31 | L23: - | N23: 4.21 | O23: -
A24: =1+A23 -> 20 | B24: Cupertino López | C24: Tacasolapa | D24: E | E24: 258279 | F24: 340076 | G24: 31 | H24: - | I24: 1.15 | J24: - | K24: =N24-I24 -> 1.33 | L24: - | N24: 2.48 | O24: -
A25: =1+A24 -> 21 | B25: AyA Tamarindo P6 Plantel | C25: Tamarindo | D25: P | E25: 255183 | F25: 336781 | G25: 31 | H25: - | I25: 0 | J25: - | K25: =N25-I25 -> 3.56 | L25: - | N25: 3.56 | O25: -
A26: =1+A25 -> 22 | B26: AyA Tamarindo P1 Jobo | C26: Los Jobos | D26: P | E26: 253123 | F26: 335558 | G26: 34 | H26: - | I26: 0.43 | J26: - | K26: =N26-I26 -> 1.25 | L26: - | N26: 1.68 | O26: -
A27: =1+A26 -> 23 | B27: AyA Tamarindo P2 Jobo | C27: Los Jobos | D27: P | E27: 252958 | F27: 335376 | G27: 35 | H27: - | I27: 1.13 | J27: - | K27: - | L27: =O27-I27 -> 1.81 | N27: - | O27: 2.94
A28: =1+A27 -> 24 | B28: AyA Tamarindo P1 Guanacaste | C28: Tamarindo | D28: P | E28: 256002 | F28: 336544 | G28: 29 | H28: - | I28: 0.28 | J28: - | K28: =N28-I28 -> 2.28 | L28: - | N28: 2.56 | O28: -
A29: =1+A28 -> 25 | B29: AyA Tamarindo P2 Virgilio | C29: Tamarindo | D29: P | E29: 255974 | F29: 336856 | G29: 26 | H29: - | I29: 0.55 | J29: - | K29: - | L29: =O29-I29 -> 6.61 | N29: - | O29: 7.16
A30: =1+A29 -> 26 | B30: AyA Tamarindo P2b Virgilio (nuevo) | C30: Tamarindo | D30: P | E30: 255966 | F30: 336871 | G30: 27 | H30: - | I30: 0.6 | J30: - | K30: =N30-I30 -> 4.19 | L30: - | N30: 4.79 | O30: -
A31: =1+A30 -> 27 | B31: AyA Tamarindo P3 Papaturro | C31: Tamarindo | D31: P | E31: 255838 | F31: 337001 | G31: 27 | H31: - | I31: 0.85 | J31: - | K31: - | L31: =O31-I31 -> 8.71 | N31: - | O31: 9.56
A32: =1+A31 -> 28 | B32: AyA Tamarindo P4 Pochote | C32: Tamarindo | D32: P | E32: 255461 | F32: 336874 | G32: 28 | H32: - | I32: 0.45 | J32: - | K32: - | L32: =O32-I32 -> 5.01 | N32: - | O32: 5.46
A33: =1+A32 -> 29 | B33: AyA Tamarindo P4b Pochote (nuevo) | C33: Tamarindo | D33: P | E33: 255442 | F33: 336873 | G33: 26 | H33: - | I33: 0.45 | J33: - | K33: - | L33: =O33-I33 -> 8.64 | N33: - | O33: 9.09
A34: =1+A33 -> 30 | B34: AyA Tamarindo P5 Albin | C34: Tamarindo | D34: P | E34: 255477 | F34: 337058 | G34: 27 | H34: - | I34: 0.2 | J34: - | K34: - | L34: =O34-I34 -> 21 | N34: - | O34: 21.2
A35: =1+A34 -> 31 | B35: Gineth López Rosales | C35: Matapalo | D35: E | E35: 260752 | F35: 337937 | G35: 43 | H35: - | I35: 0.68 | J35: - | K35: =N35-I35 -> 3.17 | L35: - | N35: 3.85 | O35: -
A36: =1+A35 -> 32 | B36: ASADA Matapalo P3 | C36: Matapalo | D36: P | E36: 260776 | F36: 338205 | G36: 17 | H36: - | I36: 0.38 | J36: - | K36: =N36-I36 -> 4.48 | L36: - | N36: 4.86 | O36: -
A37: =1+A36 -> 33 | B37: ASADA Matapalo P1 | C37: Matapalo | D37: P | E37: 260777 | F37: 338205 | G37: 12 | H37: - | I37: 0.52 | J37: - | K37: - | L37: =O37-I37 -> 5.5 | N37: - | O37: 6.02
A38: =1+A37 -> 34 | B38: ASADA Matapalo P2 | C38: Matapalo | D38: P | E38: 260686 | F38: 338490 | G38: 31 | H38: - | I38: 0.75 | J38: - | K38: - | L38: =O38-I38 -> 2.59 | N38: - | O38: 3.34
A39: =1+A38 -> 35 | B39: ASADA Tamarindo P5 Jobo | C39: Matapalo | D39: P | E39: 253123 | F39: 335786 | G39: 23 | H39: - | I39: 0.52 | J39: - | K39: =N39-I39 -> 3.19 | L39: - | N39: 3.71 | O39: -
A40: =1+A39 -> 36 | B40: ASADA Tamarindo P3 Fertana | C40: Matapalo | D40: P | E40: 254952 | F40: 336152 | G40: 21 | H40: - | I40: 0.6 | J40: - | K40: =N40-I40 -> 3.93 | L40: - | N40: 4.53 | O40: -
A41: =1+A40 -> 37 | B41: ASADA Tamarindo P1 Guanacaste | C41: Matapalo | D41: P | E41: 255121 | F41: 336224 | G41: 20 | H41: - | I41: 0.25 | J41: - | K41: - | L41: =O41-I41 -> 2.18 | N41: - | O41: 2.43
A42: =1+A41 -> 38 | B42: ASADA Tamarindo P2 Curia | C42: Matapalo | D42: P | E42: 256943 | F42: 337838 | G42: 20 | H42: - | I42: 0.15 | J42: - | K42: - | L42: - | N42: S/D | O42: -
A43: =1+A42 -> 39 | B43: ASADA Tamarindo P1 Curia | C43: Matapalo | D43: P | E43: 256929 | F43: 337845 | G43: 18 | H43: - | I43: 0.93 | J43: - | K43: =N43-I43 -> 1.5 | L43: - | N43: 2.43 | O43: -

Sheet noviembre 2013
A1: Plan de Monitoreo Acuífero Huacas Tamarindo
A2: Fecha: 21 de noviembre del 2013
A4: N˚ | B4: Nombre del POZO | C4: Lugar | D4: Tipo | E4: Latitud | F4: Longitud | G4: Altitud sobre nivel de Mar | H4: Diámetro armado (in) | I4: Brocal (m) | J4: Profundidad de pozo (m) | K4: Nivel estático (m) | L4: Nivel dinámico (m)
A5: 1 | B5: Aeropuerto Tamarindo Cancha de Golf | C5: Tamarindo | D5: P | E5: 255134 | F5: 337474 | G5: 41 | H5: - | I5: 0.45 | J5: - | K5: 2.05 | L5: nd
A6: =1+A5 -> 2 | B6: Aeropuerto Tamarindo cerca río San Andrés | C6: Tamarindo | D6: P | E6: 255381 | F6: 337593 | G6: 31 | H6: - | I6: 0.33 | J6: - | K6: 2.47 | L6: nd
A7: =1+A6 -> 3 | B7: Aeropuerto Tamarindo Abrevadero | C7: Tamarindo | D7: P | E7: 255744 | F7: 337763 | G7: 26 | H7: - | I7: 0.5 | J7: - | K7: 1.38 | L7: nd
A8: =1+A7 -> 4 | B8: Aeropuerto Tamarindo los Tornillos | C8: Tamarindo | D8: P | E8: 255800 | F8: 337245 | G8: 23 | H8: - | I8: 0.6 | J8: - | K8: 1.63 | L8: nd
A9: =1+A8 -> 5 | B9: Elvira Matarrita | C9: El Llano | D9: E | E9: 256089 | F9: 338238 | G9: 30 | H9: - | I9: 0.84 | J9: - | K9: 6.38 | L9: nd
A10: =1+A9 -> 6 | B10: ASADA Villarreal P1 | C10: Villarreal | D10: P | E10: 255579 | F10: 338206 | G10: 20 | H10: - | I10: - | J10: 18 | K10: nd | L10: nd
A11: =1+A10 -> 7 | B11: ASADA Villarreal P2 | C11: Villarreal | D11: P | E11: 255562 | F11: 338189 | G11: 30 | H11: - | I11: 0.5 | J11: 18 | K11: nd | L11: 3.66
A12: =1+A11 -> 8 | B12: ASADA Villarreal P3 | C12: Villarreal | D12: P | E12: 255605 | F12: 338552 | G12: 33 | H12: - | I12: 1.87 | J12: 19 | K12: nd | L12: nd
A13: =1+A12 -> 9 | B13: Maritza Obando | C13: San Andrés | D13: E | E13: 255576 | F13: 338998 | G13: 34 | H13: - | I13: 0.73 | J13: - | K13: 3.03 | L13: nd
A14: =1+A13 -> 10 | B14: ASADA Santa Rosa | C14: Santa Rosa | D14: P | E14: 255198 | F14: 340143 | G14: 22 | H14: - | I14: 0.8 | J14: - | K14: nd | L14: nd
A15: =1+A14 -> 11 | B15: Seabees Santa Rosa | C15: Santa Rosa | D15: P | E15: 255267 | F15: 340939 | G15: 31 | H15: - | I15: 0.38 | J15: - | K15: 3.4 | L15: nd
A16: =1+A15 -> 12 | B16: Magdalena Obando | C16: Santa Rosa | D16: E | E16: 255293 | F16: 340970 | G16: 32 | H16: - | I16: 0.84 | J16: - | K16: 3.33 | L16: nd
A17: =1+A16 -> 13 | B17: ASADA Lomas | C17: Lomas | D17: P | E17: 258631 | F17: 338988 | G17: 16 | H17: - | I17: 1.18 | J17: 26 | K17: 0.74 | L17: nd
A18: =1+A17 -> 14 | B18: José Catalino Jaén | C18: Lomas | D18: E | E18: 259080 | F18: 338723 | G18: 21 | H18: - | I18: 0.8 | J18: 11-12 | K18: 3.63 | L18: nd
A19: =1+A18 -> 15 | B19: Santos Arrieta | C19: Salinitas | D19: E | E19: 258896 | F19: 337242 | G19: 13 | H19: - | I19: 1 | J19: - | K19: 1.75 | L19: nd
A20: =1+A19 -> 16 | B20: María Luisa Contreras | C20: Huacas | D20: E | E20: 261652 | F20: 341432 | G20: 41 | H20: - | I20: 0.78 | J20: - | K20: 1.04 | L20: nd
A21: =1+A20 -> 17 | B21: Paula Celaya | C21: Garita Vieja | D21: E | E21: 260355 | F21: 339957 | G21: 31 | H21: - | I21: 0.8 | J21: 8 | K21: 3.6 | L21: nd
A22: =1+A21 -> 18 | B22: Juan Pablo Arrieta | C22: Garita Nueva | D22: E | E22: 259558 | F22: 340347 | G22: 30 | H22: - | I22: 0.8 | J22: - | K22: 1.15 | L22: nd
A23: =1+A22 -> 19 | B23: Damián Matarrita | C23: Mangos | D23: E | E23: 260753 | F23: 340739 | G23: 34 | H23: - | I23: 0.9 | J23: 14 | K23: 3.48 | L23: nd
A24: =1+A23 -> 20 | B24: Cupertino López | C24: Tacasolapa | D24: E | E24: 258279 | F24: 340076 | G24: 31 | H24: - | I24: 1.15 | J24: - | K24: 1.8 | L24: nd
A25: =1+A24 -> 21 | B25: AyA Tamarindo P6 Plantel | C25: Tamarindo | D25: P | E25: 255183 | F25: 336781 | G25: 31 | H25: - | I25: 0 | J25: - | K25: 3.66 | L25: nd
A26: =1+A25 -> 22 | B26: AyA Tamarindo P1 Jobo | C26: Los Jobos | D26: P | E26: 253123 | F26: 335558 | G26: 34 | H26: - | I26: 0.43 | J26: - | K26: 0.94 | L26: nd
A27: =1+A26 -> 23 | B27: AyA Tamarindo P2 Jobo | C27: Los Jobos | D27: P | E27: 252958 | F27: 335376 | G27: 35 | H27: - | I27: 1.13 | J27: - | K27: nd | L27: 1.77
A28: =1+A27 -> 24 | B28: AyA Tamarindo P1 Guanacaste | C28: Tamarindo | D28: P | E28: 256002 | F28: 336544 | G28: 29 | H28: - | I28: 0.28 | J28: - | K28: 2.02 | L28: nd
A29: =1+A28 -> 25 | B29: AyA Tamarindo P2 Virgilio | C29: Tamarindo | D29: P | E29: 255974 | F29: 336856 | G29: 26 | H29: - | I29: 0.55 | J29: - | K29: nd | L29: 6.65
A30: =1+A29 -> 26 | B30: AyA Tamarindo P2b Virgilio (nuevo) | C30: Tamarindo | D30: P | E30: 255966 | F30: 336871 | G30: 27 | H30: - | I30: 0.6 | J30: - | K30: 4.2 | L30: nd
A31: =1+A30 -> 27 | B31: AyA Tamarindo P3 Papaturro | C31: Tamarindo | D31: P | E31: 255838 | F31: 337001 | G31: 27 | H31: - | I31: 0.85 | J31: - | K31: nd | L31: 8.98
A32: =1+A31 -> 28 | B32: AyA Tamarindo P4 Pochote | C32: Tamarindo | D32: P | E32: 255461 | F32: 336874 | G32: 28 | H32: - | I32: 0.45 | J32: - | K32: nd | L32: 4.47
A33: =1+A32 -> 29 | B33: AyA Tamarindo P4b Pochote (nuevo) | C33: Tamarindo | D33: P | E33: 255442 | F33: 336873 | G33: 26 | H33: - | I33: 0.45 | J33: - | K33: nd | L33: 8.48
A34: =1+A33 -> 30 | B34: AyA Tamarindo P5 Albin | C34: Tamarindo | D34: P | E34: 255477 | F34: 337058 | G34: 27 | H34: - | I34: 0.2 | J34: - | K34: nd | L34: 19.4
A35: =1+A34 -> 31 | B35: Gineth López Rosales | C35: Matapalo | D35: E | E35: 260752 | F35: 337937 | G35: 43 | H35: - | I35: 0.68 | J35: - | K35: 3.46 | L35: nd
A36: =1+A35 -> 32 | B36: ASADA Matapalo P3 | C36: Matapalo | D36: P | E36: 260776 | F36: 338205 | G36: 17 | H36: - | I36: 0.38 | J36: - | K36: 3.92 | L36: nd
A37: =1+A36 -> 33 | B37: ASADA Matapalo P1 | C37: Matapalo | D37: P | E37: 260777 | F37: 338205 | G37: 12 | H37: - | I37: 0.52 | J37: - | K37: nd | L37: 5.13
A38: =1+A37 -> 34 | B38: ASADA Matapalo P2 | C38: Matapalo | D38: P | E38: 260686 | F38: 338490 | G38: 31 | H38: - | I38: 0.75 | J38: - | K38: 1.63 | L38: nd
A39: =1+A38 -> 35 | B39: ASADA Tamarindo P5 Jobo | C39: Matapalo | D39: P | E39: 253123 | F39: 335786 | G39: 23 | H39: - | I39: 0.52 | J39: - | K39: 3.02 | L39: nd
A40: =1+A39 -> 36 | B40: ASADA Tamarindo P3 Fertana | C40: Matapalo | D40: P | E40: 254952 | F40: 336152 | G40: 21 | H40: - | I40: 0.6 | J40: - | K40: 3.65 | L40: nd
A41: =1+A40 -> 37 | B41: ASADA Tamarindo P1 Guanacaste | C41: Matapalo | D41: P | E41: 255121 | F41: 336224 | G41: 20 | H41: - | I41: 0.25 | J41: - | K41: 0.72 | L41: nd
A42: =1+A41 -> 38 | B42: ASADA Tamarindo P2 Curia | C42: Matapalo | D42: P | E42: 256943 | F42: 337838 | G42: 20 | H42: - | I42: 0.15 | J42: - | K42: nd | L42: nd
A43: =1+A42 -> 39 | B43: ASADA Tamarindo P1 Curia | C43: Matapalo | D43: P | E43: 256929 | F43: 337845 | G43: 18 | H43: - | I43: 0.93 | J43: - | K43: nd | L43: 2.02
A44: =1+A43 -> 40 | B44: AyA Tamarindo P5b Albin (nuevo) | C44: Tamarindo | D44: P | E44: 255482 | F44: 337072 | H44: - | I44: 0.34 | J44: - | K44: nd | L44: nd

Sheet diciembre 2013
A1: Plan de Monitoreo Acuífero Huacas Tamarindo
A2: Fecha: 19 de diciembre 2013
N3: Datos de campo
A4: N˚ | B4: Nombre del POZO | C4: Lugar | D4: Tipo | E4: Latitud | F4: Longitud | G4: Altitud sobre nivel de Mar | H4: Diámetro armado (in) | I4: Brocal (m) | J4: Profundidad de pozo (m) | K4: Nivel estático (m) | L4: Nivel dinámico (m) | N4: Nivel estático (m) + Brocal | O4: Nivel dinámico (m) + Brocal
A5: 1 | B5: Aeropuerto Tamarindo Cancha de Golf | C5: Tamarindo | D5: P | E5: 255134 | F5: 337474 | G5: 41 | H5: - | I5: 0.45 | J5: - | K5: =N5-I5 -> 2.84 | L5: - | N5: 3.29 | O5: -
A6: =1+A5 -> 2 | B6: Aeropuerto Tamarindo cerca río San Andrés | C6: Tamarindo | D6: P | E6: 255381 | F6: 337593 | G6: 31 | H6: - | I6: 0.33 | J6: - | K6: =N6-I6 -> 2.77 | L6: - | N6: 3.1 | O6: -
A7: =1+A6 -> 3 | B7: Aeropuerto Tamarindo Abrevadero | C7: Tamarindo | D7: P | E7: 255744 | F7: 337763 | G7: 26 | H7: - | I7: 0.5 | J7: - | K7: =N7-I7 -> 2.05 | L7: - | N7: 2.55 | O7: -
A8: =1+A7 -> 4 | B8: Aeropuerto Tamarindo los Tornillos | C8: Tamarindo | D8: P | E8: 255800 | F8: 337245 | G8: 23 | H8: - | I8: 0.6 | J8: - | K8: =N8-I8 -> 2.21 | L8: - | N8: 2.81 | O8: -
A9: =1+A8 -> 5 | B9: Elvira Matarrita | C9: El Llano | D9: E | E9: 256089 | F9: 338238 | G9: 30 | H9: - | I9: 0.84 | J9: - | K9: =N9-I9 -> 7.18 | L9: - | N9: 8.02 | O9: -
A10: =1+A9 -> 6 | B10: ASADA Villarreal P1 | C10: Villarreal | D10: P | E10: 255579 | F10: 338206 | G10: 20 | H10: - | I10: - | J10: 18 | K10: Línea de aire obstruida | N10: Línea de aire obstruida
A11: =1+A10 -> 7 | B11: ASADA Villarreal P2 | C11: Villarreal | D11: P | E11: 255562 | F11: 338189 | G11: 30 | H11: - | I11: 0.5 | J11: 18 | K11: =N11-I11 -> 2.61 | L11: - | N11: 3.11
A12: =1+A11 -> 8 | B12: ASADA Villarreal P3 | C12: Villarreal | D12: P | E12: 255605 | F12: 338552 | G12: 33 | H12: - | I12: 1.87 | J12: 19 | K12: Línea de aire obstruida | N12: Línea de aire obstruida
A13: =1+A12 -> 9 | B13: Maritza Obando | C13: San Andrés | D13: E | E13: 255576 | F13: 338998 | G13: 34 | H13: - | I13: 0.73 | J13: - | K13: =N13-I13 -> 3.14 | L13: - | N13: 3.87 | O13: -
A14: =1+A13 -> 10 | B14: ASADA Santa Rosa | C14: Santa Rosa | D14: P | E14: 255198 | F14: 340143 | G14: 22 | H14: - | I14: 0.8 | J14: - | K14: =N14-I14 -> 4.58 | L14: - | N14: 5.38 | O14: -
A15: =1+A14 -> 11 | B15: Seabees Santa Rosa | C15: Santa Rosa | D15: P | E15: 255267 | F15: 340939 | G15: 31 | H15: - | I15: 0.38 | J15: - | K15: =N15-I15 -> 4.29 | L15: - | N15: 4.67 | O15: -
A16: =1+A15 -> 12 | B16: Magdalena Obando | C16: Santa Rosa | D16: E | E16: 255293 | F16: 340970 | G16: 32 | H16: - | I16: 0.84 | J16: - | K16: =N16-I16 -> 3.96 | L16: - | N16: 4.8 | O16: -
A17: =1+A16 -> 13 | B17: ASADA Lomas | C17: Lomas | D17: P | E17: 258631 | F17: 338988 | G17: 16 | H17: - | I17: 1.18 | J17: 26 | K17: - | L17: =O17-I17 -> 4.82 | N17: - | O17: 6
A18: =1+A17 -> 14 | B18: José Catalino Jaén | C18: Lomas | D18: E | E18: 259080 | F18: 338723 | G18: 21 | H18: - | I18: 0.8 | J18: 11-12 | K18: =N18-I18 -> 4.35 | L18: - | N18: 5.15 | O18: -
A19: =1+A18 -> 15 | B19: Santos Arrieta | C19: Salinitas | D19: E | E19: 258896 | F19: 337242 | G19: 13 | H19: - | I19: 1 | J19: - | K19: - | L19: =O19-I19 -> 2.8 | N19: - | O19: 3.8
A20: =1+A19 -> 16 | B20: María Luisa Contreras | C20: Huacas | D20: E | E20: 261652 | F20: 341432 | G20: 41 | H20: - | I20: 0.78 | J20: - | K20: =N20-I20 -> 1.32 | L20: - | N20: 2.1 | O20: -
A21: =1+A20 -> 17 | B21: Paula Celaya | C21: Garita Vieja | D21: E | E21: 260355 | F21: 339957 | G21: 31 | H21: - | I21: 0.8 | J21: 8 | K21: =N21-I21 -> 4.2 | L21: - | N21: 5 | O21: -
A22: =1+A21 -> 18 | B22: Juan Pablo Arrieta | C22: Garita Nueva | D22: E | E22: 259558 | F22: 340347 | G22: 30 | H22: - | I22: 0.8 | J22: - | K22: =N22-I22 -> 1.8 | L22: - | N22: 2.6 | O22: -
A23: =1+A22 -> 19 | B23: Damián Matarrita | C23: Mangos | D23: E | E23: 260753 | F23: 340739 | G23: 34 | H23: - | I23: 0.9 | J23: 14 | K23: =N23-I23 -> 3.77 | L23: - | N23: 4.67 | O23: -
A24: =1+A23 -> 20 | B24: Cupertino López | C24: Tacasolapa | D24: E | E24: 258279 | F24: 340076 | G24: 31 | H24: - | I24: 1.15 | J24: - | K24: =N24-I24 -> 2.51 | L24: - | N24: 3.66 | O24: -
A25: =1+A24 -> 21 | B25: AyA Tamarindo P6 Plantel | C25: Tamarindo | D25: P | E25: 255183 | F25: 336781 | G25: 31 | H25: - | I25: 0 | J25: - | K25: =N25-I25 -> 4.45 | L25: - | N25: 4.45 | O25: -
A26: =1+A25 -> 22 | B26: AyA Tamarindo P1 Jobo | C26: Los Jobos | D26: P | E26: 253123 | F26: 335558 | G26: 34 | H26: - | I26: 0.43 | J26: - | K26: - | L26: =O26-I26 -> 1.92 | N26: - | O26: 2.35
A27: =1+A26 -> 23 | B27: AyA Tamarindo P2 Jobo | C27: Los Jobos | D27: P | E27: 252958 | F27: 335376 | G27: 35 | H27: - | I27: 1.13 | J27: - | K27: - | L27: =O27-I27 -> 2.17 | N27: - | O27: 3.3
A28: =1+A27 -> 24 | B28: AyA Tamarindo P1 Guanacaste | C28: Tamarindo | D28: P | E28: 256002 | F28: 336544 | G28: 29 | H28: - | I28: 0.28 | J28: - | K28: =N28-I28 -> 2.55 | L28: - | N28: 2.83 | O28: -
A29: =1+A28 -> 25 | B29: AyA Tamarindo P2 Virgilio | C29: Tamarindo | D29: P | E29: 255974 | F29: 336856 | G29: 26 | H29: - | I29: 0.55 | J29: - | K29: - | L29: =O29-I29 -> 7.45 | N29: - | O29: 8
A30: =1+A29 -> 26 | B30: AyA Tamarindo P2b Virgilio (nuevo) | C30: Tamarindo | D30: P | E30: 255966 | F30: 336871 | G30: 27 | H30: - | I30: 0.6 | J30: - | K30: =N30-I30 -> 4.72 | L30: - | N30: 5.32 | O30: -
A31: =1+A30 -> 27 | B31: AyA Tamarindo P3 Papaturro | C31: Tamarindo | D31: P | E31: 255838 | F31: 337001 | G31: 27 | H31: - | I31: 0.85 | J31: - | K31: - | L31: =O31-I31 -> 9.91 | N31: - | O31: 10.76
A32: =1+A31 -> 28 | B32: AyA Tamarindo P4 Pochote | C32: Tamarindo | D32: P | E32: 255461 | F32: 336874 | G32: 28 | H32: - | I32: 0.45 | J32: - | K32: - | L32: =O32-I32 -> 4.4 | N32: - | O32: 4.85
A33: =1+A32 -> 29 | B33: AyA Tamarindo P4b Pochote (nuevo) | C33: Tamarindo | D33: P | E33: 255442 | F33: 336873 | G33: 26 | H33: - | I33: 0.45 | J33: - | K33: =N33-I33 -> 3.85 | L33: - | N33: 4.3 | O33: -
A34: =1+A33 -> 30 | B34: AyA Tamarindo P5 Albin | C34: Tamarindo | D34: P | E34: 255477 | F34: 337058 | G34: 27 | H34: - | I34: 0.2 | J34: - | K34: =N34-I34 -> 3.27 | L34: - | N34: 3.47 | O34: -
A35: =1+A34 -> 31 | B35: Gineth López Rosales | C35: Matapalo | D35: E | E35: 260752 | F35: 337937 | G35: 43 | H35: - | I35: 0.68 | J35: - | K35: =N35-I35 -> 3.87 | L35: - | N35: 4.55 | O35: -
A36: =1+A35 -> 32 | B36: ASADA Matapalo P3 | C36: Matapalo | D36: P | E36: 260776 | F36: 338205 | G36: 17 | H36: - | I36: 0.38 | J36: - | K36: =N36-I36 -> 4.57 | L36: - | N36: 4.95 | O36: -
A37: =1+A36 -> 33 | B37: ASADA Matapalo P1 | C37: Matapalo | D37: P | E37: 260777 | F37: 338205 | G37: 12 | H37: - | I37: 0.52 | J37: - | K37: - | L37: =O37-I37 -> 5.89 | N37: - | O37: 6.41
A38: =1+A37 -> 34 | B38: ASADA Matapalo P2 | C38: Matapalo | D38: P | E38: 260686 | F38: 338490 | G38: 31 | H38: - | I38: 0.75 | J38: - | K38: - | L38: =O38-I38 -> 2.29 | N38: - | O38: 3.04
A39: =1+A38 -> 35 | B39: ASADA Tamarindo P5 Jobo | C39: Matapalo | D39: P | E39: 253123 | F39: 335786 | G39: 23 | H39: - | I39: 0.52 | J39: - | K39: =N39-I39 -> 3.52 | L39: - | N39: 4.04 | O39: -
A40: =1+A39 -> 36 | B40: ASADA Tamarindo P3 Fertana | C40: Matapalo | D40: P | E40: 254952 | F40: 336152 | G40: 21 | H40: - | I40: 0.6 | J40: - | K40: =N40-I40 -> 4.8 | L40: - | N40: 5.4 | O40: -
A41: =1+A40 -> 37 | B41: ASADA Tamarindo P1 Guanacaste | C41: Matapalo | D41: P | E41: 255121 | F41: 336224 | G41: 20 | H41: - | I41: 0.25 | J41: - | K41: - | L41: =O41-I41 -> 2.09 | N41: - | O41: 2.34
A42: =1+A41 -> 38 | B42: ASADA Tamarindo P2 Curia | C42: Matapalo | D42: P | E42: 256943 | F42: 337838 | G42: 20 | H42: - | I42: 0.15 | J42: - | K42: Cerrado con llave | N42: S/D | O42: -
A43: =1+A42 -> 39 | B43: ASADA Tamarindo P1 Curia | C43: Matapalo | D43: P | E43: 256929 | F43: 337845 | G43: 18 | H43: - | I43: 0.93 | J43: - | K43: =N43-I43 -> 2.3 | L43: - | N43: 3.23 | O43: -
A44: =1+A43 -> 40 | B44: AyA Tamarindo P5b Albin (nuevo) | C44: Tamarindo | D44: P | E44: 255482 | F44: 337072 | H44: - | I44: 0.34 | J44: - | K44: - | L44: =O44-I44 -> 13.92 | N44: - | O44: 14.26

Sheet enero 2014
A1: Plan de Monitoreo Acuífero Huacas Tamarindo
A2: Fecha: 23 de enero del 2014
N3: Datos de campo
A4: N˚ | B4: Nombre del POZO | C4: Lugar | D4: Tipo | E4: Latitud | F4: Longitud | G4: Altitud sobre nivel de Mar | H4: Diámetro armado (in) | I4: Brocal (m) | J4: Profundidad de pozo (m) | K4: Nivel estático (m) | L4: Nivel dinámico (m) | N4: Nivel estático (m) + Brocal | O4: Nivel dinámico (m) + Brocal
A5: 1 | B5: Aeropuerto Tamarindo Cancha de Golf | C5: Tamarindo | D5: P | E5: 255134 | F5: 337474 | G5: 41 | H5: - | I5: 0.45 | J5: - | K5: =N5-I5 -> 3.32 | L5: - | N5: 3.77 | O5: -
A6: =1+A5 -> 2 | B6: Aeropuerto Tamarindo cerca río San Andrés | C6: Tamarindo | D6: P | E6: 255381 | F6: 337593 | G6: 31 | H6: - | I6: 0.33 | J6: - | K6: =N6-I6 -> 3.25 | L6: - | N6: 3.58 | O6: -
A7: =1+A6 -> 3 | B7: Aeropuerto Tamarindo Abrevadero | C7: Tamarindo | D7: P | E7: 255744 | F7: 337763 | G7: 26 | H7: - | I7: 0.5 | J7: - | K7: =N7-I7 -> 2.5 | L7: - | N7: 3 | O7: -
A8: =1+A7 -> 4 | B8: Aeropuerto Tamarindo los Tornillos | C8: Tamarindo | D8: P | E8: 255800 | F8: 337245 | G8: 23 | H8: - | I8: 0.6 | J8: - | K8: =N8-I8 -> 2.78 | L8: - | N8: 3.38 | O8: -
A9: =1+A8 -> 5 | B9: Elvira Matarrita | C9: El Llano | D9: E | E9: 256089 | F9: 338238 | G9: 30 | H9: - | I9: 0.84 | J9: - | K9: =N9-I9 -> 7.82 | L9: - | N9: 8.66 | O9: -
A10: =1+A9 -> 6 | B10: ASADA Villarreal P1 | C10: Villarreal | D10: P | E10: 255579 | F10: 338206 | G10: 20 | H10: - | I10: - | J10: 18 | K10: Línea de aire obstruida | N10: Línea de aire obstruida
A11: =1+A10 -> 7 | B11: ASADA Villarreal P2 | C11: Villarreal | D11: P | E11: 255562 | F11: 338189 | G11: 30 | H11: - | I11: 0.5 | J11: 18 | K11: =N11-I11 -> 2.93 | L11: - | N11: 3.43
A12: =1+A11 -> 8 | B12: ASADA Villarreal P3 | C12: Villarreal | D12: P | E12: 255605 | F12: 338552 | G12: 33 | H12: - | I12: 1.87 | J12: 19 | K12: Línea de aire obstruida | N12: Línea de aire obstruida
A13: =1+A12 -> 9 | B13: Maritza Obando | C13: San Andrés | D13: E | E13: 255576 | F13: 338998 | G13: 34 | H13: - | I13: 0.73 | J13: - | K13: =N13-I13 -> 3.27 | L13: - | N13: 4 | O13: -
A14: =1+A13 -> 10 | B14: ASADA Santa Rosa | C14: Santa Rosa | D14: P | E14: 255198 | F14: 340143 | G14: 22 | H14: - | I14: 0.8 | J14: - | K14: - | L14: =O14-I14 -> 9.14 | N14: - | O14: 9.94
A15: =1+A14 -> 11 | B15: Seabees Santa Rosa | C15: Santa Rosa | D15: P | E15: 255267 | F15: 340939 | G15: 31 | H15: - | I15: 0.38 | J15: - | K15: =N15-I15 -> 5.17 | L15: - | N15: 5.55 | O15: -
A16: =1+A15 -> 12 | B16: Magdalena Obando | C16: Santa Rosa | D16: E | E16: 255293 | F16: 340970 | G16: 32 | H16: - | I16: 0.84 | J16: - | K16: =N16-I16 -> 5.16 | L16: - | N16: 6 | O16: -
A17: =1+A16 -> 13 | B17: ASADA Lomas | C17: Lomas | D17: P | E17: 258631 | F17: 338988 | G17: 16 | H17: - | I17: 1.18 | J17: 26 | K17: =N17-I17 -> 1.16 | L17: - | N17: 2.34
A18: =1+A17 -> 14 | B18: José Catalino Jaén | C18: Lomas | D18: E | E18: 259080 | F18: 338723 | G18: 21 | H18: - | I18: 0.8 | J18: 11-12 | K18: =N18-I18 -> 4.67 | L18: - | N18: 5.47 | O18: -
A19: =1+A18 -> 15 | B19: Santos Arrieta | C19: Salinitas | D19: E | E19: 258896 | F19: 337242 | G19: 13 | H19: - | I19: 1 | J19: - | K19: =N19-I19 -> 3.24 | L19: - | N19: 4.24 | O19: -
A20: =1+A19 -> 16 | B20: María Luisa Contreras | C20: Huacas | D20: E | E20: 261652 | F20: 341432 | G20: 41 | H20: - | I20: 0.78 | J20: - | K20: =N20-I20 -> 1.63 | L20: - | N20: 2.41 | O20: -
A21: =1+A20 -> 17 | B21: Paula Celaya | C21: Garita Vieja | D21: E | E21: 260355 | F21: 339957 | G21: 31 | H21: - | I21: 0.8 | J21: 8 | K21: =N21-I21 -> 4.74 | L21: - | N21: 5.54 | O21: -
A22: =1+A21 -> 18 | B22: Juan Pablo Arrieta | C22: Garita Nueva | D22: E | E22: 259558 | F22: 340347 | G22: 30 | H22: - | I22: 0.8 | J22: - | K22: =N22-I22 -> 2.49 | L22: - | N22: 3.29 | O22: -
A23: =1+A22 -> 19 | B23: Damián Matarrita | C23: Mangos | D23: E | E23: 260753 | F23: 340739 | G23: 34 | H23: - | I23: 0.9 | J23: 14 | K23: =N23-I23 -> 4.53 | L23: - | N23: 5.43 | O23: -
A24: =1+A23 -> 20 | B24: Cupertino López | C24: Tacasolapa | D24: E | E24: 258279 | F24: 340076 | G24: 31 | H24: - | I24: 1.15 | J24: - | K24: =N24-I24 -> 3.56 | L24: - | N24: 4.71 | O24: -
A25: =1+A24 -> 21 | B25: AyA Tamarindo P6 Plantel | C25: Tamarindo | D25: P | E25: 255183 | F25: 336781 | G25: 31 | H25: - | I25: 0 | J25: - | K25: =N25-I25 -> 5.1 | L25: - | N25: 5.1 | O25: -
A26: =1+A25 -> 22 | B26: AyA Tamarindo P1 Jobo | C26: Los Jobos | D26: P | E26: 253123 | F26: 335558 | G26: 34 | H26: - | I26: 0.43 | J26: - | K26: =N26-I26 -> 2.77 | L26: - | N26: 3.2 | O26: -
A27: =1+A26 -> 23 | B27: AyA Tamarindo P2 Jobo | C27: Los Jobos | D27: P | E27: 252958 | F27: 335376 | G27: 35 | H27: - | I27: 1.13 | J27: - | K27: =N27-I27 -> 2.51 | L27: - | N27: 3.64 | O27: -
A28: =1+A27 -> 24 | B28: AyA Tamarindo P1 Guanacaste | C28: Tamarindo | D28: P | E28: 256002 | F28: 336544 | G28: 29 | H28: - | I28: 0.28 | J28: - | K28: =N28-I28 -> 4 | L28: - | N28: 4.28 | O28: -
A29: =1+A28 -> 25 | B29: AyA Tamarindo P2 Virgilio | C29: Tamarindo | D29: P | E29: 255974 | F29: 336856 | G29: 26 | H29: - | I29: 0.55 | J29: - | K29: =N29-I29 -> 5.27 | L29: - | N29: 5.82 | O29: -
A30: =1+A29 -> 26 | B30: AyA Tamarindo P2b Virgilio (nuevo) | C30: Tamarindo | D30: P | E30: 255966 | F30: 336871 | G30: 27 | H30: - | I30: 0.6 | J30: - | K30: - | L30: =O30-I30 -> 7.34 | N30: - | O30: 7.94
A31: =1+A30 -> 27 | B31: AyA Tamarindo P3 Papaturro | C31: Tamarindo | D31: P | E31: 255838 | F31: 337001 | G31: 27 | H31: - | I31: 0.85 | J31: - | K31: - | L31: =O31-I31 -> 10.29 | N31: - | O31: 11.14
A32: =1+A31 -> 28 | B32: AyA Tamarindo P4 Pochote | C32: Tamarindo | D32: P | E32: 255461 | F32: 336874 | G32: 28 | H32: - | I32: 0.45 | J32: - | K32: - | L32: =O32-I32 -> 11.78 | N32: - | O32: 12.23
A33: =1+A32 -> 29 | B33: AyA Tamarindo P4b Pochote (nuevo) | C33: Tamarindo | D33: P | E33: 255442 | F33: 336873 | G33: 26 | H33: - | I33: 0.45 | J33: - | K33: - | L33: =O33-I33 -> 10.6 | N33: - | O33: 11.05
A34: =1+A33 -> 30 | B34: AyA Tamarindo P5 Albin | C34: Tamarindo | D34: P | E34: 255477 | F34: 337058 | G34: 27 | H34: - | I34: 0.2 | J34: - | K34: - | L34: =O34-I34 -> 8.36 | N34: - | O34: 8.56
A35: =1+A34 -> 31 | B35: Gineth López Rosales | C35: Matapalo | D35: E | E35: 260752 | F35: 337937 | G35: 43 | H35: - | I35: 0.68 | J35: - | K35: =N35-I35 -> 4.17 | L35: - | N35: 4.85 | O35: -
A36: =1+A35 -> 32 | B36: ASADA Matapalo P3 | C36: Matapalo | D36: P | E36: 260776 | F36: 338205 | G36: 17 | H36: - | I36: 0.38 | J36: - | K36: Línea de aire obstruida | N36: - | O36: -
A37: =1+A36 -> 33 | B37: ASADA Matapalo P1 | C37: Matapalo | D37: P | E37: 260777 | F37: 338205 | G37: 12 | H37: - | I37: 0.52 | J37: - | K37: - | L37: =O37-I37 -> 5.51 | N37: - | O37: 6.03
A38: =1+A37 -> 34 | B38: ASADA Matapalo P2 | C38: Matapalo | D38: P | E38: 260686 | F38: 338490 | G38: 31 | H38: - | I38: 0.75 | J38: - | K38: - | L38: =O38-I38 -> 3.25 | N38: - | O38: 4
A39: =1+A38 -> 35 | B39: ASADA Tamarindo P5 Jobo | C39: Matapalo | D39: P | E39: 253123 | F39: 335786 | G39: 23 | H39: - | I39: 0.52 | J39: - | K39: =N39-I39 -> 4.6 | L39: - | N39: 5.12 | O39: -
A40: =1+A39 -> 36 | B40: ASADA Tamarindo P3 Fertana | C40: Matapalo | D40: P | E40: 254952 | F40: 336152 | G40: 21 | H40: - | I40: 0.6 | J40: - | K40: =N40-I40 -> 5.83 | L40: - | N40: 6.43 | O40: -
A41: =1+A40 -> 37 | B41: ASADA Tamarindo P1 Guanacaste | C41: Matapalo | D41: P | E41: 255121 | F41: 336224 | G41: 20 | H41: - | I41: 0.25 | J41: - | K41: =N41-I41 -> 2.5 | L41: - | N41: 2.75 | O41: -
A42: =1+A41 -> 38 | B42: ASADA Tamarindo P2 Curia | C42: Matapalo | D42: P | E42: 256943 | F42: 337838 | G42: 20 | H42: - | I42: 0.15 | J42: - | K42: Cerrado con llave | N42: S/D | O42: -
A43: =1+A42 -> 39 | B43: ASADA Tamarindo P1 Curia | C43: Matapalo | D43: P | E43: 256929 | F43: 337845 | G43: 18 | H43: - | I43: 0.93 | J43: - | K43: - | L43: =O43-I43 -> 7.47 | N43: - | O43: 8.4
A44: =1+A43 -> 40 | B44: AyA Tamarindo P5b Albin (nuevo) | C44: Tamarindo | D44: P | E44: 255482 | F44: 337072 | H44: - | I44: 0.34 | J44: - | K44: Sellado | N44: - | O44: -

Sheet febrero 2014
A1: Plan de Monitoreo Acuífero Huacas Tamarindo
A2: Fecha: 27 de febrero del 2014
N3: Datos de campo
A4: N˚ | B4: Nombre del POZO | C4: Lugar | D4: Tipo | E4: Latitud | F4: Longitud | G4: Altitud sobre nivel de Mar | H4: Diámetro armado (in) | I4: Brocal (m) | J4: Profundidad de pozo (m) | K4: Nivel estático (m) | L4: Nivel dinámico (m) | N4: Nivel estático (m) + Brocal | O4: Nivel dinámico (m) + Brocal
A5: 1 | B5: Aeropuerto Tamarindo Cancha de Golf | C5: Tamarindo | D5: P | E5: 255134 | F5: 337474 | G5: 41 | H5: - | I5: 0.45 | J5: - | K5: =N5-I5 -> 4.29 | L5: - | N5: 4.74 | O5: -
A6: =1+A5 -> 2 | B6: Aeropuerto Tamarindo cerca río San Andrés | C6: Tamarindo | D6: P | E6: 255381 | F6: 337593 | G6: 31 | H6: - | I6: 0.33 | J6: - | K6: =N6-I6 -> 4.07 | L6: - | N6: 4.4 | O6: -
A7: =1+A6 -> 3 | B7: Aeropuerto Tamarindo Abrevadero | C7: Tamarindo | D7: P | E7: 255744 | F7: 337763 | G7: 26 | H7: - | I7: 0.5 | J7: - | K7: =N7-I7 -> 2.95 | L7: - | N7: 3.45 | O7: -
A8: =1+A7 -> 4 | B8: Aeropuerto Tamarindo los Tornillos | C8: Tamarindo | D8: P | E8: 255800 | F8: 337245 | G8: 23 | H8: - | I8: 0.6 | J8: - | K8: =N8-I8 -> 3.36 | L8: - | N8: 3.96 | O8: -
A9: =1+A8 -> 5 | B9: Elvira Matarrita | C9: El Llano | D9: E | E9: 256089 | F9: 338238 | G9: 30 | H9: - | I9: 0.84 | J9: - | K9: =N9-I9 -> 8.27 | L9: - | N9: 9.11 | O9: -
A10: =1+A9 -> 6 | B10: ASADA Villarreal P1 | C10: Villarreal | D10: P | E10: 255579 | F10: 338206 | G10: 20 | H10: - | I10: - | J10: 18 | K10: Línea de aire obstruida | N10: Línea de aire obstruida
A11: =1+A10 -> 7 | B11: ASADA Villarreal P2 | C11: Villarreal | D11: P | E11: 255562 | F11: 338189 | G11: 30 | H11: - | I11: 0.5 | J11: 18 | K11: - | L11: =O11-I11 -> 5.34 | N11: - | O11: 5.84
A12: =1+A11 -> 8 | B12: ASADA Villarreal P3 | C12: Villarreal | D12: P | E12: 255605 | F12: 338552 | G12: 33 | H12: - | I12: 1.87 | J12: 19 | K12: Línea de aire obstruida | N12: Línea de aire obstruida
A13: =1+A12 -> 9 | B13: Maritza Obando | C13: San Andrés | D13: E | E13: 255576 | F13: 338998 | G13: 34 | H13: - | I13: 0.73 | J13: - | K13: =N13-I13 -> 3.6 | L13: - | N13: 4.33 | O13: -
A14: =1+A13 -> 10 | B14: ASADA Santa Rosa | C14: Santa Rosa | D14: P | E14: 255198 | F14: 340143 | G14: 22 | H14: - | I14: 0.8 | J14: - | K14: - | L14: =O14-I14 -> 9.5 | N14: - | O14: 10.3
A15: =1+A14 -> 11 | B15: Seabees Santa Rosa | C15: Santa Rosa | D15: P | E15: 255267 | F15: 340939 | G15: 31 | H15: - | I15: 0.38 | J15: - | K15: =N15-I15 -> 5.86 | L15: - | N15: 6.24 | O15: -
A16: =1+A15 -> 12 | B16: Magdalena Obando | C16: Santa Rosa | D16: E | E16: 255293 | F16: 340970 | G16: 32 | H16: - | I16: 0.84 | J16: - | K16: =N16-I16 -> 5.92 | L16: - | N16: 6.76 | O16: -
A17: =1+A16 -> 13 | B17: ASADA Lomas | C17: Lomas | D17: P | E17: 258631 | F17: 338988 | G17: 16 | H17: - | I17: 1.18 | J17: 26 | K17: =N17-I17 -> 1.26 | L17: - | N17: 2.44
A18: =1+A17 -> 14 | B18: José Catalino Jaén | C18: Lomas | D18: E | E18: 259080 | F18: 338723 | G18: 21 | H18: - | I18: 0.8 | J18: 11-12 | K18: =N18-I18 -> 5.22 | L18: - | N18: 6.02 | O18: -
A19: =1+A18 -> 15 | B19: Santos Arrieta | C19: Salinitas | D19: E | E19: 258896 | F19: 337242 | G19: 13 | H19: - | I19: 1 | J19: - | K19: - | L19: =O19-I19 -> 4.42 | N19: - | O19: 5.42
A20: =1+A19 -> 16 | B20: María Luisa Contreras | C20: Huacas | D20: E | E20: 261652 | F20: 341432 | G20: 41 | H20: - | I20: 0.78 | J20: - | K20: =N20-I20 -> 1.85 | L20: - | N20: 2.63 | O20: -
A21: =1+A20 -> 17 | B21: Paula Celaya | C21: Garita Vieja | D21: E | E21: 260355 | F21: 339957 | G21: 31 | H21: - | I21: 0.8 | J21: 8 | K21: =N21-I21 -> 4.97 | L21: - | N21: 5.77 | O21: -
A22: =1+A21 -> 18 | B22: Juan Pablo Arrieta | C22: Garita Nueva | D22: E | E22: 259558 | F22: 340347 | G22: 30 | H22: - | I22: 0.8 | J22: - | K22: =N22-I22 -> 3 | L22: - | N22: 3.8 | O22: -
A23: =1+A22 -> 19 | B23: Damián Matarrita | C23: Mangos | D23: E | E23: 260753 | F23: 340739 | G23: 34 | H23: - | I23: 0.9 | J23: 14 | K23: =N23-I23 -> 5.48 | L23: - | N23: 6.38 | O23: -
A24: =1+A23 -> 20 | B24: Cupertino López | C24: Tacasolapa | D24: E | E24: 258279 | F24: 340076 | G24: 31 | H24: - | I24: 1.15 | J24: - | K24: =N24-I24 -> 4.63 | L24: - | N24: 5.78 | O24: -
A25: =1+A24 -> 21 | B25: AyA Tamarindo P6 Plantel | C25: Tamarindo | D25: P | E25: 255183 | F25: 336781 | G25: 31 | H25: - | I25: 0 | J25: - | K25: =N25-I25 -> 6.34 | L25: - | N25: 6.34 | O25: -
A26: =1+A25 -> 22 | B26: AyA Tamarindo P1 Jobo | C26: Los Jobos | D26: P | E26: 253123 | F26: 335558 | G26: 34 | H26: - | I26: 0.43 | J26: - | K26: - | L26: =O26-I26 -> 4.86 | N26: - | O26: 5.29
A27: =1+A26 -> 23 | B27: AyA Tamarindo P2 Jobo | C27: Los Jobos | D27: P | E27: 252958 | F27: 335376 | G27: 35 | H27: - | I27: 1.13 | J27: - | K27: - | L27: =O27-I27 -> 4.55 | N27: - | O27: 5.68
A28: =1+A27 -> 24 | B28: AyA Tamarindo P1 Guanacaste | C28: Tamarindo | D28: P | E28: 256002 | F28: 336544 | G28: 29 | H28: - | I28: 0.28 | J28: - | K28: - | L28: =O28-I28 -> 6.95 | N28: - | O28: 7.23
A29: =1+A28 -> 25 | B29: AyA Tamarindo P2 Virgilio | C29: Tamarindo | D29: P | E29: 255974 | F29: 336856 | G29: 26 | H29: - | I29: 0.55 | J29: - | K29: - | L29: =O29-I29 -> 11.25 | N29: - | O29: 11.8
A30: =1+A29 -> 26 | B30: AyA Tamarindo P2b Virgilio (nuevo) | C30: Tamarindo | D30: P | E30: 255966 | F30: 336871 | G30: 27 | H30: - | I30: 0.6 | J30: - | K30: - | L30: =O30-I30 -> 10.66 | N30: - | O30: 11.26
A31: =1+A30 -> 27 | B31: AyA Tamarindo P3 Papaturro | C31: Tamarindo | D31: P | E31: 255838 | F31: 337001 | G31: 27 | H31: - | I31: 0.85 | J31: - | K31: - | L31: =O31-I31 -> 11.62 | N31: - | O31: 12.47
A32: =1+A31 -> 28 | B32: AyA Tamarindo P4 Pochote | C32: Tamarindo | D32: P | E32: 255461 | F32: 336874 | G32: 28 | H32: - | I32: 0.45 | J32: - | K32: - | L32: =O32-I32 -> 12.98 | N32: - | O32: 13.43
A33: =1+A32 -> 29 | B33: AyA Tamarindo P4b Pochote (nuevo) | C33: Tamarindo | D33: P | E33: 255442 | F33: 336873 | G33: 26 | H33: - | I33: 0.45 | J33: - | K33: - | L33: =O33-I33 -> 14.55 | N33: - | O33: 15
A34: =1+A33 -> 30 | B34: AyA Tamarindo P5 Albin | C34: Tamarindo | D34: P | E34: 255477 | F34: 337058 | G34: 27 | H34: - | I34: 0.2 | J34: - | K34: - | L34: =O34-I34 -> 22.5 | N34: - | O34: 22.7
A35: =1+A34 -> 31 | B35: Gineth López Rosales | C35: Matapalo | D35: E | E35: 260752 | F35: 337937 | G35: 43 | H35: - | I35: 0.68 | J35: - | K35: =N35-I35 -> 4.42 | L35: - | N35: 5.1 | O35: -
A36: =1+A35 -> 32 | B36: ASADA Matapalo P3 | C36: Matapalo | D36: P | E36: 260776 | F36: 338205 | G36: 17 | H36: - | I36: 0.38 | J36: - | K36: =N36-I36 -> 5.24 | L36: - | N36: 5.62 | O36: -
A37: =1+A36 -> 33 | B37: ASADA Matapalo P1 | C37: Matapalo | D37: P | E37: 260777 | F37: 338205 | G37: 12 | H37: - | I37: 0.52 | J37: - | K37: - | L37: =O37-I37 -> 6.46 | N37: - | O37: 6.98
A38: =1+A37 -> 34 | B38: ASADA Matapalo P2 | C38: Matapalo | D38: P | E38: 260686 | F38: 338490 | G38: 31 | H38: - | I38: 0.75 | J38: - | K38: - | L38: =O38-I38 -> 4.24 | N38: - | O38: 4.99
A39: =1+A38 -> 35 | B39: ASADA Tamarindo P5 Jobo | C39: Matapalo | D39: P | E39: 253123 | F39: 335786 | G39: 23 | H39: - | I39: 0.52 | J39: - | K39: - | L39: =O39-I39 -> 7.13 | N39: - | O39: 7.65
A40: =1+A39 -> 36 | B40: ASADA Tamarindo P3 Fertana | C40: Matapalo | D40: P | E40: 254952 | F40: 336152 | G40: 21 | H40: - | I40: 0.6 | J40: - | K40: =N40-I40 -> 6.63 | L40: - | N40: 7.23 | O40: -
A41: =1+A40 -> 37 | B41: ASADA Tamarindo P1 Guanacaste | C41: Matapalo | D41: P | E41: 255121 | F41: 336224 | G41: 20 | H41: - | I41: 0.25 | J41: - | K41: - | L41: =O41-I41 -> 4.66 | N41: - | O41: 4.91
A42: =1+A41 -> 38 | B42: ASADA Tamarindo P2 Curia | C42: Matapalo | D42: P | E42: 256943 | F42: 337838 | G42: 20 | H42: - | I42: 0.15 | J42: - | K42: Cerrado con llave | N42: - | O42: -
A43: =1+A42 -> 39 | B43: ASADA Tamarindo P1 Curia | C43: Matapalo | D43: P | E43: 256929 | F43: 337845 | G43: 18 | H43: - | I43: 0.93 | J43: - | K43: - | L43: =O43-I43 -> 11.21 | N43: - | O43: 12.14
A44: =1+A43 -> 40 | B44: AyA Tamarindo P5b Albin (nuevo) | C44: Tamarindo | D44: P | E44: 255482 | F44: 337072 | H44: - | I44: 0.34 | J44: - | K44: Sellado | N44: - | O44: -

Sheet abril 2014
A1: Plan de Monitoreo Acuífero Huacas Tamarindo
A2: Fecha: 24 de abril del 2014
A4: N˚ | B4: Nombre del POZO | C4: Lugar | D4: Tipo | E4: Latitud | F4: Longitud | G4: Altitud sobre nivel de Mar | H4: Diámetro armado (in) | I4: Brocal (m) | J4: Profundidad de pozo (m) | K4: Nivel estático (m) | L4: Nivel dinámico (m)
A5: 1 | B5: Aeropuerto Tamarindo Cancha de Golf | C5: Tamarindo | D5: P | E5: 255134 | F5: 337474 | G5: 41 | H5: - | I5: 0.45 | J5: - | K5: 5.87 | L5: nd
A6: =1+A5 -> 2 | B6: Aeropuerto Tamarindo cerca río San Andrés | C6: Tamarindo | D6: P | E6: 255381 | F6: 337593 | G6: 31 | H6: - | I6: 0.33 | J6: - | K6: 6.42 | L6: nd
A7: =1+A6 -> 3 | B7: Aeropuerto Tamarindo Abrevadero | C7: Tamarindo | D7: P | E7: 255744 | F7: 337763 | G7: 26 | H7: - | I7: 0.5 | J7: - | K7: 5.28 | L7: nd
A8: =1+A7 -> 4 | B8: Aeropuerto Tamarindo los Tornillos | C8: Tamarindo | D8: P | E8: 255800 | F8: 337245 | G8: 23 | H8: - | I8: 0.6 | J8: - | K8: 5.37 | L8: nd
A9: =1+A8 -> 5 | B9: Elvira Matarrita | C9: El Llano | D9: E | E9: 256089 | F9: 338238 | G9: 30 | H9: - | I9: 0.84 | J9: - | K9: 9.14 | L9: nd
A10: =1+A9 -> 6 | B10: ASADA Villarreal P1 | C10: Villarreal | D10: P | E10: 255579 | F10: 338206 | G10: 20 | H10: - | I10: - | J10: 18 | K10: nd | L10: nd
A11: =1+A10 -> 7 | B11: ASADA Villarreal P2 | C11: Villarreal | D11: P | E11: 255562 | F11: 338189 | G11: 30 | H11: - | I11: 0.5 | J11: 18 | K11: nd | L11: 8.5
A12: =1+A11 -> 8 | B12: ASADA Villarreal P3 | C12: Villarreal | D12: P | E12: 255605 | F12: 338552 | G12: 33 | H12: - | I12: 1.87 | J12: 19 | K12: nd | L12: nd
A13: =1+A12 -> 9 | B13: Maritza Obando | C13: San Andrés | D13: E | E13: 255576 | F13: 338998 | G13: 34 | H13: - | I13: 0.73 | J13: - | K13: 4.79 | L13: nd
A14: =1+A13 -> 10 | B14: ASADA Santa Rosa | C14: Santa Rosa | D14: P | E14: 255198 | F14: 340143 | G14: 22 | H14: - | I14: 0.8 | J14: - | K14: nd | L14: 14.3
A15: =1+A14 -> 11 | B15: Seabees Santa Rosa | C15: Santa Rosa | D15: P | E15: 255267 | F15: 340939 | G15: 31 | H15: - | I15: 0.38 | J15: - | K15: 7.35 | L15: nd
A16: =1+A15 -> 12 | B16: Magdalena Obando | C16: Santa Rosa | D16: E | E16: 255293 | F16: 340970 | G16: 32 | H16: - | I16: 0.84 | J16: - | K16: 6.98 | L16: nd
A17: =1+A16 -> 13 | B17: ASADA Lomas | C17: Lomas | D17: P | E17: 258631 | F17: 338988 | G17: 16 | H17: - | I17: 1.18 | J17: 26 | K17: 5.98 | L17: nd
A18: =1+A17 -> 14 | B18: José Catalino Jaén | C18: Lomas | D18: E | E18: 259080 | F18: 338723 | G18: 21 | H18: - | I18: 0.8 | J18: 11-12 | K18: 6.26 | L18: nd
A19: =1+A18 -> 15 | B19: Santos Arrieta | C19: Salinitas | D19: E | E19: 258896 | F19: 337242 | G19: 13 | H19: - | I19: 1 | J19: - | K19: 5.28 | L19: nd
A20: =1+A19 -> 16 | B20: María Luisa Contreras | C20: Huacas | D20: E | E20: 261652 | F20: 341432 | G20: 41 | H20: - | I20: 0.78 | J20: - | K20: 2.52 | L20: nd
A21: =1+A20 -> 17 | B21: Paula Celaya | C21: Garita Vieja | D21: E | E21: 260355 | F21: 339957 | G21: 31 | H21: - | I21: 0.8 | J21: 8 | K21: 5.46 | L21: nd
A22: =1+A21 -> 18 | B22: Juan Pablo Arrieta | C22: Garita Nueva | D22: E | E22: 259558 | F22: 340347 | G22: 30 | H22: - | I22: 0.8 | J22: - | K22: 3.84 | L22: nd
A23: =1+A22 -> 19 | B23: Damián Matarrita | C23: Mangos | D23: E | E23: 260753 | F23: 340739 | G23: 34 | H23: - | I23: 0.9 | J23: 14 | K23: 6.8 | L23: nd
A24: =1+A23 -> 20 | B24: Cupertino López | C24: Tacasolapa | D24: E | E24: 258279 | F24: 340076 | G24: 31 | H24: - | I24: 1.15 | J24: - | K24: 6.02 | L24: nd
A25: =1+A24 -> 21 | B25: AyA Tamarindo P6 Plantel | C25: Tamarindo | D25: P | E25: 255183 | F25: 336781 | G25: 31 | H25: - | I25: 0 | J25: - | K25: 8.72 | L25: nd
A26: =1+A25 -> 22 | B26: AyA Tamarindo P1 Jobo | C26: Los Jobos | D26: P | E26: 253123 | F26: 335558 | G26: 34 | H26: - | I26: 0.43 | J26: - | K26: nd | L26: 8.24
A27: =1+A26 -> 23 | B27: AyA Tamarindo P2 Jobo | C27: Los Jobos | D27: P | E27: 252958 | F27: 335376 | G27: 35 | H27: - | I27: 1.13 | J27: - | K27: nd | L27: 6.07
A28: =1+A27 -> 24 | B28: AyA Tamarindo P1 Guanacaste | C28: Tamarindo | D28: P | E28: 256002 | F28: 336544 | G28: 29 | H28: - | I28: 0.28 | J28: - | K28: 6.37 | L28: nd
A29: =1+A28 -> 25 | B29: AyA Tamarindo P2 Virgilio | C29: Tamarindo | D29: P | E29: 255974 | F29: 336856 | G29: 26 | H29: - | I29: 0.55 | J29: - | K29: nd | L29: 15.67
A30: =1+A29 -> 26 | B30: AyA Tamarindo P2b Virgilio (nuevo) | C30: Tamarindo | D30: P | E30: 255966 | F30: 336871 | G30: 27 | H30: - | I30: 0.6 | J30: - | K30: nd | L30: 14.5
A31: =1+A30 -> 27 | B31: AyA Tamarindo P3 Papaturro | C31: Tamarindo | D31: P | E31: 255838 | F31: 337001 | G31: 27 | H31: - | I31: 0.85 | J31: - | K31: nd | L31: 14.07
A32: =1+A31 -> 28 | B32: AyA Tamarindo P4 Pochote | C32: Tamarindo | D32: P | E32: 255461 | F32: 336874 | G32: 28 | H32: - | I32: 0.45 | J32: - | K32: nd | L32: 18.45
A33: =1+A32 -> 29 | B33: AyA Tamarindo P4b Pochote (nuevo) | C33: Tamarindo | D33: P | E33: 255442 | F33: 336873 | G33: 26 | H33: - | I33: 0.45 | J33: - | K33: nd | L33: 18.05
A34: =1+A33 -> 30 | B34: AyA Tamarindo P5 Albin | C34: Tamarindo | D34: P | E34: 255477 | F34: 337058 | G34: 27 | H34: - | I34: 0.2 | J34: - | K34: nd | L34: 16.13
A35: =1+A34 -> 31 | B35: Gineth López Rosales | C35: Matapalo | D35: E | E35: 260752 | F35: 337937 | G35: 43 | H35: - | I35: 0.68 | J35: - | K35: nd | L35: nd
A36: =1+A35 -> 32 | B36: ASADA Matapalo P3 | C36: Matapalo | D36: P | E36: 260776 | F36: 338205 | G36: 17 | H36: - | I36: 0.38 | J36: - | K36: nd | L36: 10.64
A37: =1+A36 -> 33 | B37: ASADA Matapalo P1 | C37: Matapalo | D37: P | E37: 260777 | F37: 338205 | G37: 12 | H37: - | I37: 0.52 | J37: - | K37: nd | L37: 7.98
A38: =1+A37 -> 34 | B38: ASADA Matapalo P2 | C38: Matapalo | D38: P | E38: 260686 | F38: 338490 | G38: 31 | H38: - | I38: 0.75 | J38: - | K38: nd | L38: 5.87
A39: =1+A38 -> 35 | B39: ASADA Tamarindo P5 Jobo | C39: Matapalo | D39: P | E39: 253123 | F39: 335786 | G39: 23 | H39: - | I39: 0.52 | J39: - | K39: nd | L39: 10.08
A40: =1+A39 -> 36 | B40: ASADA Tamarindo P3 Fertana | C40: Matapalo | D40: P | E40: 254952 | F40: 336152 | G40: 21 | H40: - | I40: 0.6 | J40: - | K40: 6.68 | L40: nd
A41: =1+A40 -> 37 | B41: ASADA Tamarindo P4 Guanacaste | C41: Matapalo | D41: P | E41: 255121 | F41: 336224 | G41: 20 | H41: - | I41: 0.25 | J41: - | K41: nd | L41: 9.67
A42: =1+A41 -> 38 | B42: ASADA Tamarindo P2 Curia | C42: Matapalo | D42: P | E42: 256943 | F42: 337838 | G42: 20 | H42: - | I42: 0.15 | J42: - | K42: nd | L42: nd
A43: =1+A42 -> 39 | B43: ASADA Tamarindo P1 Curia | C43: Matapalo | D43: P | E43: 256929 | F43: 337845 | G43: 18 | H43: - | I43: 0.93 | J43: - | K43: nd | L43: 14.99
A44: =1+A43 -> 40 | B44: AyA Tamarindo P5b Albin (nuevo) | C44: Tamarindo | D44: P | E44: 255482 | F44: 337072 | H44: - | I44: 0.34 | J44: - | K44: nd | L44: 17.25

Sheet mayo 2014
A1: Plan de Monitoreo Acuífero Huacas Tamarindo
A2: Fecha: 29 de mayo del 2014
N3: Datos de campo
A4: N˚ | B4: Nombre del POZO | C4: Lugar | D4: Tipo | E4: Latitud | F4: Longitud | G4: Altitud sobre nivel de Mar | H4: Diámetro armado (in) | I4: Brocal (m) | J4: Profundidad de pozo (m) | K4: Nivel estático (m) | L4: Nivel dinámico (m) | N4: Nivel estático (m) + Brocal | O4: Nivel dinámico (m) + Brocal
A5: 1 | B5: Aeropuerto Tamarindo Cancha de Golf | C5: Tamarindo | D5: P | E5: 255134 | F5: 337474 | G5: 41 | H5: - | I5: 0.45 | J5: - | K5: - | L5: =O5-I5 -> 9.62 | N5: - | O5: 10.07
A6: =1+A5 -> 2 | B6: Aeropuerto Tamarindo cerca río San Andrés | C6: Tamarindo | D6: P | E6: 255381 | F6: 337593 | G6: 31 | H6: - | I6: 0.33 | J6: - | K6: =N6-I6 -> 6.41 | L6: - | N6: 6.74 | O6: -
A7: =1+A6 -> 3 | B7: Aeropuerto Tamarindo Abrevadero | C7: Tamarindo | D7: P | E7: 255744 | F7: 337763 | G7: 26 | H7: - | I7: 0.5 | J7: - | K7: =N7-I7 -> 5.22 | L7: - | N7: 5.72 | O7: -
A8: =1+A7 -> 4 | B8: Aeropuerto Tamarindo los Tornillos | C8: Tamarindo | D8: P | E8: 255800 | F8: 337245 | G8: 23 | H8: - | I8: 0.6 | J8: - | K8: =N8-I8 -> 5.2 | L8: - | N8: 5.8 | O8: -
A9: =1+A8 -> 5 | B9: Elvira Matarrita | C9: El Llano | D9: E | E9: 256089 | F9: 338238 | G9: 30 | H9: - | I9: 0.84 | J9: - | K9: =N9-I9 -> 9.76 | L9: - | N9: 10.6 | O9: -
A10: =1+A9 -> 6 | B10: ASADA Villarreal P1 | C10: Villarreal | D10: P | E10: 255579 | F10: 338206 | G10: 20 | H10: - | I10: - | J10: 18 | K10: Línea de aire obstruida | N10: Línea de aire obstruida
A11: =1+A10 -> 7 | B11: ASADA Villarreal P2 | C11: Villarreal | D11: P | E11: 255562 | F11: 338189 | G11: 30 | H11: - | I11: 0.5 | J11: 18 | K11: - | L11: =O11-I11 -> 8.71 | N11: - | O11: 9.21
A12: =1+A11 -> 8 | B12: ASADA Villarreal P3 | C12: Villarreal | D12: P | E12: 255605 | F12: 338552 | G12: 33 | H12: - | I12: 1.87 | J12: 19 | K12: Línea de aire obstruida | N12: Línea de aire obstruida
A13: =1+A12 -> 9 | B13: Maritza Obando | C13: San Andrés | D13: E | E13: 255576 | F13: 338998 | G13: 34 | H13: - | I13: 0.73 | J13: - | K13: =N13-I13 -> 5.28 | L13: - | N13: 6.01 | O13: -
A14: =1+A13 -> 10 | B14: ASADA Santa Rosa | C14: Santa Rosa | D14: P | E14: 255198 | F14: 340143 | G14: 22 | H14: - | I14: 0.8 | J14: - | K14: =N14-I14 -> 8.48 | L14: - | N14: 9.28 | O14: -
A15: =1+A14 -> 11 | B15: Seabees Santa Rosa | C15: Santa Rosa | D15: P | E15: 255267 | F15: 340939 | G15: 31 | H15: - | I15: 0.38 | J15: - | K15: =N15-I15 -> 7.41 | L15: - | N15: 7.79 | O15: -
A16: =1+A15 -> 12 | B16: Magdalena Obando | C16: Santa Rosa | D16: E | E16: 255293 | F16: 340970 | G16: 32 | H16: - | I16: 0.84 | J16: - | K16: =N16-I16 -> 7.58 | L16: - | N16: 8.42 | O16: -
A17: =1+A16 -> 13 | B17: ASADA Lomas | C17: Lomas | D17: P | E17: 258631 | F17: 338988 | G17: 16 | H17: - | I17: 1.18 | J17: 26 | K17: =N17-I17 -> 2.48 | L17: - | N17: 3.66
A18: =1+A17 -> 14 | B18: José Catalino Jaén | C18: Lomas | D18: E | E18: 259080 | F18: 338723 | G18: 21 | H18: - | I18: 0.8 | J18: 11-12 | K18: =N18-I18 -> 6.63 | L18: - | N18: 7.43 | O18: -
A19: =1+A18 -> 15 | B19: Santos Arrieta | C19: Salinitas | D19: E | E19: 258896 | F19: 337242 | G19: 13 | H19: - | I19: 1 | J19: - | K19: =N19-I19 -> 5.86 | L19: - | N19: 6.86 | O19: -
A20: =1+A19 -> 16 | B20: María Luisa Contreras | C20: Huacas | D20: E | E20: 261652 | F20: 341432 | G20: 41 | H20: - | I20: 0.78 | J20: - | K20: =N20-I20 -> 2.44 | L20: - | N20: 3.22 | O20: -
A21: =1+A20 -> 17 | B21: Paula Celaya | C21: Garita Vieja | D21: E | E21: 260355 | F21: 339957 | G21: 31 | H21: - | I21: 0.8 | J21: 8 | K21: =N21-I21 -> 5.81 | L21: - | N21: 6.61 | O21: -
A22: =1+A21 -> 18 | B22: Juan Pablo Arrieta | C22: Garita Nueva | D22: E | E22: 259558 | F22: 340347 | G22: 30 | H22: - | I22: 0.8 | J22: - | K22: =N22-I22 -> 4.22 | L22: - | N22: 5.02 | O22: -
A23: =1+A22 -> 19 | B23: Damián Matarrita | C23: Mangos | D23: E | E23: 260753 | F23: 340739 | G23: 34 | H23: - | I23: 0.9 | J23: 14 | K23: seco | L23: - | N23: - | O23: -
A24: =1+A23 -> 20 | B24: Cupertino López | C24: Tacasolapa | D24: E | E24: 258279 | F24: 340076 | G24: 31 | H24: - | I24: 1.15 | J24: - | K24: =N24-I24 -> 6.64 | L24: - | N24: 7.79 | O24: -
A25: =1+A24 -> 21 | B25: AyA Tamarindo P6 Plantel | C25: Tamarindo | D25: P | E25: 255183 | F25: 336781 | G25: 31 | H25: - | I25: 0 | J25: - | K25: =N25-I25 -> 8.47 | L25: - | N25: 8.47 | O25: -
A26: =1+A25 -> 22 | B26: AyA Tamarindo P1 Jobo | C26: Los Jobos | D26: P | E26: 253123 | F26: 335558 | G26: 34 | H26: - | I26: 0.43 | J26: - | K26: - | L26: =O26-I26 -> 9.74 | N26: - | O26: 10.17
A27: =1+A26 -> 23 | B27: AyA Tamarindo P2 Jobo | C27: Los Jobos | D27: P | E27: 252958 | F27: 335376 | G27: 35 | H27: - | I27: 1.13 | J27: - | K27: - | L27: =O27-I27 -> 8.44 | N27: - | O27: 9.57
A28: =1+A27 -> 24 | B28: AyA Tamarindo P1 Guanacaste | C28: Tamarindo | D28: P | E28: 256002 | F28: 336544 | G28: 29 | H28: - | I28: 0.28 | J28: - | K28: =N28-I28 -> 5.76 | L28: - | N28: 6.04 | O28: -
A29: =1+A28 -> 25 | B29: AyA Tamarindo P2 Virgilio | C29: Tamarindo | D29: P | E29: 255974 | F29: 336856 | G29: 26 | H29: - | I29: 0.55 | J29: - | K29: - | L29: =O29-I29 -> 13.06 | N29: - | O29: 13.61
A30: =1+A29 -> 26 | B30: AyA Tamarindo P2b Virgilio (nuevo) | C30: Tamarindo | D30: P | E30: 255966 | F30: 336871 | G30: 27 | H30: - | I30: 0.6 | J30: - | K30: - | L30: =O30-I30 -> 12.55 | N30: - | O30: 13.15
A31: =1+A30 -> 27 | B31: AyA Tamarindo P3 Papaturro | C31: Tamarindo | D31: P | E31: 255838 | F31: 337001 | G31: 27 | H31: - | I31: 0.85 | J31: - | K31: - | L31: =O31-I31 -> 16.58 | N31: - | O31: 17.43
A32: =1+A31 -> 28 | B32: AyA Tamarindo P4 Pochote | C32: Tamarindo | D32: P | E32: 255461 | F32: 336874 | G32: 28 | H32: - | I32: 0.45 | J32: - | K32: - | L32: =O32-I32 -> 13.17 | N32: - | O32: 13.62
A33: =1+A32 -> 29 | B33: AyA Tamarindo P4b Pochote (nuevo) | C33: Tamarindo | D33: P | E33: 255442 | F33: 336873 | G33: 26 | H33: - | I33: 0.45 | J33: - | K33: - | L33: =O33-I33 -> 17.81 | N33: - | O33: 18.26
A34: =1+A33 -> 30 | B34: AyA Tamarindo P5 Albin | C34: Tamarindo | D34: P | E34: 255477 | F34: 337058 | G34: 27 | H34: - | I34: 0.2 | J34: - | K34: - | L34: =O34-I34 -> 15.42 | N34: - | O34: 15.62
A35: =1+A34 -> 31 | B35: Gineth López Rosales | C35: Matapalo | D35: E | E35: 260752 | F35: 337937 | G35: 43 | H35: - | I35: 0.68 | J35: - | K35: =N35-I35 -> 5.57 | L35: - | N35: 6.25 | O35: -
A36: =1+A35 -> 32 | B36: ASADA Matapalo P3 | C36: Matapalo | D36: P | E36: 260776 | F36: 338205 | G36: 17 | H36: - | I36: 0.38 | J36: - | K36: - | L36: =O36-I36 -> 10.06 | N36: - | O36: 10.44
A37: =1+A36 -> 33 | B37: ASADA Matapalo P1 | C37: Matapalo | D37: P | E37: 260777 | F37: 338205 | G37: 12 | H37: - | I37: 0.52 | J37: - | K37: - | L37: =O37-I37 -> 8.41 | N37: - | O37: 8.93
A38: =1+A37 -> 34 | B38: ASADA Matapalo P2 | C38: Matapalo | D38: P | E38: 260686 | F38: 338490 | G38: 31 | H38: - | I38: 0.75 | J38: - | K38: - | L38: =O38-I38 -> 7.25 | N38: - | O38: 8
A39: =1+A38 -> 35 | B39: ASADA Tamarindo P5 Jobo | C39: Matapalo | D39: P | E39: 253123 | F39: 335786 | G39: 23 | H39: - | I39: 0.52 | J39: - | K39: =N39-I39 -> 11.09 | L39: - | N39: 11.61 | O39: -
A40: =1+A39 -> 36 | B40: ASADA Tamarindo P3 Fertana | C40: Matapalo | D40: P | E40: 254952 | F40: 336152 | G40: 21 | H40: - | I40: 0.6 | J40: - | K40: =N40-I40 -> 8.22 | L40: - | N40: 8.82 | O40: -
A41: =1+A40 -> 37 | B41: ASADA Tamarindo P4 Guanacaste | C41: Matapalo | D41: P | E41: 255121 | F41: 336224 | G41: 20 | H41: - | I41: 0.25 | J41: - | K41: - | L41: =O41-I41 -> 9.76 | N41: - | O41: 10.01
A42: =1+A41 -> 38 | B42: ASADA Tamarindo P2 Curia | C42: Matapalo | D42: P | E42: 256943 | F42: 337838 | G42: 20 | H42: - | I42: 0.15 | J42: - | K42: Cerrado con llave | N42: - | O42: -
A43: =1+A42 -> 39 | B43: ASADA Tamarindo P1 Curia | C43: Matapalo | D43: P | E43: 256929 | F43: 337845 | G43: 18 | H43: - | I43: 0.93 | J43: - | K43: - | L43: =O43-I43 -> 15.74 | N43: - | O43: 16.67
A44: =1+A43 -> 40 | B44: AyA Tamarindo P5b Albin (nuevo) | C44: Tamarindo | D44: P | E44: 255482 | F44: 337072 | H44: - | I44: 0.34 | J44: - | K44: Sellado | N44: - | O44: 17.76

Sheet junio 2014
A1: Plan de Monitoreo Acuífero Huacas Tamarindo
A2: Fecha: 26 de junio del 2014
N3: Datos de campo
A4: N˚ | B4: Nombre del POZO | C4: Lugar | D4: Tipo | E4: Latitud | F4: Longitud | G4: Altitud sobre nivel de Mar | H4: Diámetro armado (in) | I4: Brocal (m) | J4: Profundidad de pozo (m) | K4: Nivel estático (m) | L4: Nivel dinámico (m) | N4: Nivel estático (m) + Brocal | O4: Nivel dinámico (m) + Brocal
A5: 1 | B5: Aeropuerto Tamarindo Cancha de Golf | C5: Tamarindo | D5: P | E5: 255134 | F5: 337474 | G5: 41 | H5: - | I5: 0.45 | J5: - | K5: =N5-I5 -> 6.15 | L5: - | N5: 6.6 | O5: -
A6: =1+A5 -> 2 | B6: Aeropuerto Tamarindo cerca río San Andrés | C6: Tamarindo | D6: P | E6: 255381 | F6: 337593 | G6: 31 | H6: - | I6: 0.33 | J6: - | K6: =N6-I6 -> 6.57 | L6: - | N6: 6.9 | O6: -
A7: =1+A6 -> 3 | B7: Aeropuerto Tamarindo Abrevadero | C7: Tamarindo | D7: P | E7: 255744 | F7: 337763 | G7: 26 | H7: - | I7: 0.5 | J7: - | K7: =N7-I7 -> 5.49 | L7: - | N7: 5.99 | O7: -
A8: =1+A7 -> 4 | B8: Aeropuerto Tamarindo los Tornillos | C8: Tamarindo | D8: P | E8: 255800 | F8: 337245 | G8: 23 | H8: - | I8: 0.6 | J8: - | K8: =N8-I8 -> 5.58 | L8: - | N8: 6.18 | O8: -
A9: =1+A8 -> 5 | B9: Elvira Matarrita | C9: El Llano | D9: E | E9: 256089 | F9: 338238 | G9: 30 | H9: - | I9: 0.84 | J9: - | K9: =N9-I9 -> 9.81 | L9: - | N9: 10.65 | O9: -
A10: =1+A9 -> 6 | B10: ASADA Villarreal P1 | C10: Villarreal | D10: P | E10: 255579 | F10: 338206 | G10: 20 | H10: - | I10: - | J10: 18 | K10: Línea de aire obstruida | N10: Línea de aire obstruida
A11: =1+A10 -> 7 | B11: ASADA Villarreal P2 | C11: Villarreal | D11: P | E11: 255562 | F11: 338189 | G11: 30 | H11: - | I11: 0.5 | J11: 18 | K11: - | L11: =O11-I11 -> 8.96 | N11: - | O11: 9.46
A12: =1+A11 -> 8 | B12: ASADA Villarreal P3 | C12: Villarreal | D12: P | E12: 255605 | F12: 338552 | G12: 33 | H12: - | I12: 1.87 | J12: 19 | K12: Línea de aire obstruida | N12: Línea de aire obstruida
A13: =1+A12 -> 9 | B13: Maritza Obando | C13: San Andrés | D13: E | E13: 255576 | F13: 338998 | G13: 34 | H13: - | I13: 0.73 | J13: - | K13: Seco | L13: - | N13: seco | O13: -
A14: =1+A13 -> 10 | B14: ASADA Santa Rosa | C14: Santa Rosa | D14: P | E14: 255198 | F14: 340143 | G14: 22 | H14: - | I14: 0.8 | J14: - | K14: =N14-I14 -> 8.36 | L14: - | N14: 9.16 | O14: -
A15: =1+A14 -> 11 | B15: Seabees Santa Rosa | C15: Santa Rosa | D15: P | E15: 255267 | F15: 340939 | G15: 31 | H15: - | I15: 0.38 | J15: - | K15: =N15-I15 -> 7.5 | L15: - | N15: 7.88 | O15: -
A16: =1+A15 -> 12 | B16: Magdalena Obando | C16: Santa Rosa | D16: E | E16: 255293 | F16: 340970 | G16: 32 | H16: - | I16: 0.84 | J16: - | K16: Seco | L16: - | N16: - | O16: -
A17: =1+A16 -> 13 | B17: ASADA Lomas | C17: Lomas | D17: P | E17: 258631 | F17: 338988 | G17: 16 | H17: - | I17: 1.18 | J17: 26 | K17: - | L17: =O17-I17 -> 6.39 | N17: - | O17: 7.57
A18: =1+A17 -> 14 | B18: José Catalino Jaén | C18: Lomas | D18: E | E18: 259080 | F18: 338723 | G18: 21 | H18: - | I18: 0.8 | J18: 11-12 | K18: =N18-I18 -> 6.65 | L18: - | N18: 7.45 | O18: -
A19: =1+A18 -> 15 | B19: Santos Arrieta | C19: Salinitas | D19: E | E19: 258896 | F19: 337242 | G19: 13 | H19: - | I19: 1 | J19: - | K19: =N19-I19 -> 6.06 | L19: - | N19: 7.06 | O19: -
A20: =1+A19 -> 16 | B20: María Luisa Contreras | C20: Huacas | D20: E | E20: 261652 | F20: 341432 | G20: 41 | H20: - | I20: 0.78 | J20: - | K20: =N20-I20 -> 2.4 | L20: - | N20: 3.18 | O20: -
A21: =1+A20 -> 17 | B21: Paula Celaya | C21: Garita Vieja | D21: E | E21: 260355 | F21: 339957 | G21: 31 | H21: - | I21: 0.8 | J21: 8 | K21: =N21-I21 -> 5.74 | L21: - | N21: 6.54 | O21: -
A22: =1+A21 -> 18 | B22: Juan Pablo Arrieta | C22: Garita Nueva | D22: E | E22: 259558 | F22: 340347 | G22: 30 | H22: - | I22: 0.8 | J22: - | K22: Seco | L22: - | N22: - | O22: -
A23: =1+A22 -> 19 | B23: Damián Matarrita | C23: Mangos | D23: E | E23: 260753 | F23: 340739 | G23: 34 | H23: - | I23: 0.9 | J23: 14 | K23: Seco | L23: - | N23: - | O23: -
A24: =1+A23 -> 20 | B24: Cupertino López | C24: Tacasolapa | D24: E | E24: 258279 | F24: 340076 | G24: 31 | H24: - | I24: 1.15 | J24: - | K24: =N24-I24 -> 6.34 | L24: - | N24: 7.49 | O24: -
A25: =1+A24 -> 21 | B25: AyA Tamarindo P6 Plantel | C25: Tamarindo | D25: P | E25: 255183 | F25: 336781 | G25: 31 | H25: - | I25: 0 | J25: - | K25: =N25-I25 -> 8.67 | L25: - | N25: 8.67 | O25: -
A26: =1+A25 -> 22 | B26: AyA Tamarindo P1 Jobo | C26: Los Jobos | D26: P | E26: 253123 | F26: 335558 | G26: 34 | H26: - | I26: 0.43 | J26: - | K26: - | L26: =O26-I26 -> 11.22 | N26: - | O26: 11.65
A27: =1+A26 -> 23 | B27: AyA Tamarindo P2 Jobo | C27: Los Jobos | D27: P | E27: 252958 | F27: 335376 | G27: 35 | H27: - | I27: 1.13 | J27: - | K27: - | L27: =O27-I27 -> 10.72 | N27: - | O27: 11.85
A28: =1+A27 -> 24 | B28: AyA Tamarindo P1 Guanacaste | C28: Tamarindo | D28: P | E28: 256002 | F28: 336544 | G28: 29 | H28: - | I28: 0.28 | J28: - | K28: =N28-I28 -> 5.58 | L28: - | N28: 5.86 | O28: -
A29: =1+A28 -> 25 | B29: AyA Tamarindo P2 Virgilio | C29: Tamarindo | D29: P | E29: 255974 | F29: 336856 | G29: 26 | H29: - | I29: 0.55 | J29: - | K29: - | L29: - | N29: 9 | O29: -
A30: =1+A29 -> 26 | B30: AyA Tamarindo P2b Virgilio (nuevo) | C30: Tamarindo | D30: P | E30: 255966 | F30: 336871 | G30: 27 | H30: - | I30: 0.6 | J30: - | K30: - | L30: =O30-I30 -> 13.7 | N30: - | O30: 14.3
A31: =1+A30 -> 27 | B31: AyA Tamarindo P3 Papaturro | C31: Tamarindo | D31: P | E31: 255838 | F31: 337001 | G31: 27 | H31: - | I31: 0.85 | J31: - | K31: - | L31: =O31-I31 -> 20.69 | N31: - | O31: 21.54
A32: =1+A31 -> 28 | B32: AyA Tamarindo P4 Pochote | C32: Tamarindo | D32: P | E32: 255461 | F32: 336874 | G32: 28 | H32: - | I32: 0.45 | J32: - | K32: - | L32: - | N32: 8.52 | O32: -
A33: =1+A32 -> 29 | B33: AyA Tamarindo P4b Pochote (nuevo) | C33: Tamarindo | D33: P | E33: 255442 | F33: 336873 | G33: 26 | H33: - | I33: 0.45 | J33: - | K33: - | L33: =O33-I33 -> 13.67 | N33: - | O33: 14.12
A34: =1+A33 -> 30 | B34: AyA Tamarindo P5 Albin | C34: Tamarindo | D34: P | E34: 255477 | F34: 337058 | G34: 27 | H34: - | I34: 0.2 | J34: - | K34: - | L34: =O34-I34 -> 22.62 | N34: - | O34: 22.82
A35: =1+A34 -> 31 | B35: Gineth López Rosales | C35: Matapalo | D35: E | E35: 260752 | F35: 337937 | G35: 43 | H35: - | I35: 0.68 | J35: - | K35: =N35-I35 -> 5.64 | L35: - | N35: 6.32 | O35: -
A36: =1+A35 -> 32 | B36: ASADA Matapalo P3 | C36: Matapalo | D36: P | E36: 260776 | F36: 338205 | G36: 17 | H36: - | I36: 0.38 | J36: - | K36: - | L36: - | N36: 6.83 | O36: -
A37: =1+A36 -> 33 | B37: ASADA Matapalo P1 | C37: Matapalo | D37: P | E37: 260777 | F37: 338205 | G37: 12 | H37: - | I37: 0.52 | J37: - | K37: - | L37: =O37-I37 -> 7.69 | N37: - | O37: 8.21
A38: =1+A37 -> 34 | B38: ASADA Matapalo P2 | C38: Matapalo | D38: P | E38: 260686 | F38: 338490 | G38: 31 | H38: - | I38: 0.75 | J38: - | K38: - | L38: =O38-I38 -> 9.21 | N38: - | O38: 9.96
A39: =1+A38 -> 35 | B39: ASADA Tamarindo P5 Jobo | C39: Matapalo | D39: P | E39: 253123 | F39: 335786 | G39: 23 | H39: - | I39: 0.52 | J39: - | K39: =N39-I39 -> 11.63 | L39: - | N39: 12.15 | O39: -
A40: =1+A39 -> 36 | B40: ASADA Tamarindo P3 Fertana | C40: Matapalo | D40: P | E40: 254952 | F40: 336152 | G40: 21 | H40: - | I40: 0.6 | J40: - | K40: =N40-I40 -> 8.05 | L40: - | N40: 8.65 | O40: -
A41: =1+A40 -> 37 | B41: ASADA Tamarindo P4 Guanacaste | C41: Matapalo | D41: P | E41: 255121 | F41: 336224 | G41: 20 | H41: - | I41: 0.25 | J41: - | K41: - | L41: =O41-I41 -> 6.38 | N41: - | O41: 6.63
A42: =1+A41 -> 38 | B42: ASADA Tamarindo P2 Curia | C42: Matapalo | D42: P | E42: 256943 | F42: 337838 | G42: 20 | H42: - | I42: 0.15 | J42: - | K42: Cerrado con llave | N42: - | O42: -
A43: =1+A42 -> 39 | B43: ASADA Tamarindo P1 Curia | C43: Matapalo | D43: P | E43: 256929 | F43: 337845 | G43: 18 | H43: - | I43: 0.93 | J43: - | K43: - | L43: =O43-I43 -> 15.12 | N43: - | O43: 16.05
A44: =1+A43 -> 40 | B44: AyA Tamarindo P5b Albin (nuevo) | C44: Tamarindo | D44: P | E44: 255482 | F44: 337072 | H44: - | I44: 0.34 | J44: - | K44: - | L44: =O44-I44 -> 17.84 | N44: - | O44: 18.18

Sheet julio 2014
A1: Plan de Monitoreo Acuífero Huacas Tamarindo
A2: Fecha: 17 de julio del 2014
N3: Datos de campo
A4: N˚ | B4: Nombre del POZO | C4: Lugar | D4: Tipo | E4: Latitud | F4: Longitud | G4: Altitud sobre nivel de Mar | H4: Diámetro armado (in) | I4: Brocal (m) | J4: Profundidad de pozo (m) | K4: Nivel estático (m) | L4: Nivel dinámico (m) | N4: Nivel estático (m) + Brocal | O4: Nivel dinámico (m) + Brocal
A5: 1 | B5: Aeropuerto Tamarindo Cancha de Golf | C5: Tamarindo | D5: P | E5: 255134 | F5: 337474 | G5: 41 | H5: - | I5: 0.45 | J5: - | K5: =N5-I5 -> 6.91 | L5: - | N5: 7.36 | O5: -
A6: =1+A5 -> 2 | B6: Aeropuerto Tamarindo cerca río San Andrés | C6: Tamarindo | D6: P | E6: 255381 | F6: 337593 | G6: 31 | H6: - | I6: 0.33 | J6: - | K6: =N6-I6 -> 6.84 | L6: - | N6: 7.17 | O6: -
A7: =1+A6 -> 3 | B7: Aeropuerto Tamarindo Abrevadero | C7: Tamarindo | D7: P | E7: 255744 | F7: 337763 | G7: 26 | H7: - | I7: 0.5 | J7: - | K7: =N7-I7 -> 6.01 | L7: - | N7: 6.51 | O7: -
A8: =1+A7 -> 4 | B8: Aeropuerto Tamarindo los Tornillos | C8: Tamarindo | D8: P | E8: 255800 | F8: 337245 | G8: 23 | H8: - | I8: 0.6 | J8: - | K8: =N8-I8 -> 5.88 | L8: - | N8: 6.48 | O8: -
A9: =1+A8 -> 5 | B9: Elvira Matarrita | C9: El Llano | D9: E | E9: 256089 | F9: 338238 | G9: 30 | H9: - | I9: 0.84 | J9: - | K9: =N9-I9 -> 10.01 | L9: - | N9: 10.85 | O9: -
A10: =1+A9 -> 6 | B10: ASADA Villarreal P1 | C10: Villarreal | D10: P | E10: 255579 | F10: 338206 | G10: 20 | H10: - | I10: - | J10: 18 | K10: Línea de aire obstruida | N10: Línea de aire obstruida
A11: =1+A10 -> 7 | B11: ASADA Villarreal P2 | C11: Villarreal | D11: P | E11: 255562 | F11: 338189 | G11: 30 | H11: - | I11: 0.5 | J11: 18 | K11: - | L11: =O11-I11 -> 11.98 | N11: - | O11: 12.48
A12: =1+A11 -> 8 | B12: ASADA Villarreal P3 | C12: Villarreal | D12: P | E12: 255605 | F12: 338552 | G12: 33 | H12: - | I12: 1.87 | J12: 19 | K12: Línea de aire obstruida | N12: Línea de aire obstruida
A13: =1+A12 -> 9 | B13: Maritza Obando | C13: San Andrés | D13: E | E13: 255576 | F13: 338998 | G13: 34 | H13: - | I13: 0.73 | J13: - | K13: Seco | L13: - | N13: seco | O13: -
A14: =1+A13 -> 10 | B14: ASADA Santa Rosa | C14: Santa Rosa | D14: P | E14: 255198 | F14: 340143 | G14: 22 | H14: - | I14: 0.8 | J14: - | K14: - | L14: =O14-I14 -> 14.68 | N14: - | O14: 15.48
A15: =1+A14 -> 11 | B15: Seabees Santa Rosa | C15: Santa Rosa | D15: P | E15: 255267 | F15: 340939 | G15: 31 | H15: - | I15: 0.38 | J15: - | K15: =N15-I15 -> 7.85 | L15: - | N15: 8.23 | O15: -
A16: =1+A15 -> 12 | B16: Magdalena Obando | C16: Santa Rosa | D16: E | E16: 255293 | F16: 340970 | G16: 32 | H16: - | I16: 0.84 | J16: - | K16: Seco | L16: - | N16: - | O16: -
A17: =1+A16 -> 13 | B17: ASADA Lomas | C17: Lomas | D17: P | E17: 258631 | F17: 338988 | G17: 16 | H17: - | I17: 1.18 | J17: 26 | K17: - | L17: =O17-I17 -> 6.76 | N17: - | O17: 7.94
A18: =1+A17 -> 14 | B18: José Catalino Jaén | C18: Lomas | D18: E | E18: 259080 | F18: 338723 | G18: 21 | H18: - | I18: 0.8 | J18: 11-12 | K18: =N18-I18 -> 6.97 | L18: - | N18: 7.77 | O18: -
A19: =1+A18 -> 15 | B19: Santos Arrieta | C19: Salinitas | D19: E | E19: 258896 | F19: 337242 | G19: 13 | H19: - | I19: 1 | J19: - | K19: Seco | L19: - | N19: - | O19: -
A20: =1+A19 -> 16 | B20: María Luisa Contreras | C20: Huacas | D20: E | E20: 261652 | F20: 341432 | G20: 41 | H20: - | I20: 0.78 | J20: - | K20: =N20-I20 -> 2.69 | L20: - | N20: 3.47 | O20: -
A21: =1+A20 -> 17 | B21: Paula Celaya | C21: Garita Vieja | D21: E | E21: 260355 | F21: 339957 | G21: 31 | H21: - | I21: 0.8 | J21: 8 | K21: =N21-I21 -> 6.23 | L21: - | N21: 7.03 | O21: -
A22: =1+A21 -> 18 | B22: Juan Pablo Arrieta | C22: Garita Nueva | D22: E | E22: 259558 | F22: 340347 | G22: 30 | H22: - | I22: 0.8 | J22: - | K22: Seco | L22: - | N22: - | O22: -
A23: =1+A22 -> 19 | B23: Damián Matarrita | C23: Mangos | D23: E | E23: 260753 | F23: 340739 | G23: 34 | H23: - | I23: 0.9 | J23: 14 | K23: Seco | L23: - | N23: - | O23: -
A24: =1+A23 -> 20 | B24: Cupertino López | C24: Tacasolapa | D24: E | E24: 258279 | F24: 340076 | G24: 31 | H24: - | I24: 1.15 | J24: - | K24: =N24-I24 -> 7.03 | L24: - | N24: 8.18 | O24: -
A25: =1+A24 -> 21 | B25: AyA Tamarindo P6 Plantel | C25: Tamarindo | D25: P | E25: 255183 | F25: 336781 | G25: 31 | H25: - | I25: 0 | J25: - | K25: =N25-I25 -> 8.87 | L25: - | N25: 8.87 | O25: -
A26: =1+A25 -> 22 | B26: AyA Tamarindo P1 Jobo | C26: Los Jobos | D26: P | E26: 253123 | F26: 335558 | G26: 34 | H26: - | I26: 0.43 | J26: - | K26: - | L26: =O26-I26 -> 24.55 | N26: - | O26: 24.98
A27: =1+A26 -> 23 | B27: AyA Tamarindo P2 Jobo | C27: Los Jobos | D27: P | E27: 252958 | F27: 335376 | G27: 35 | H27: - | I27: 1.13 | J27: - | K27: - | L27: =O27-I27 -> 27.38 | N27: - | O27: 28.51
A28: =1+A27 -> 24 | B28: AyA Tamarindo P1 Guanacaste | C28: Tamarindo | D28: P | E28: 256002 | F28: 336544 | G28: 29 | H28: - | I28: 0.28 | J28: - | K28: =N28-I28 -> 5.93 | L28: - | N28: 6.21 | O28: -
A29: =1+A28 -> 25 | B29: AyA Tamarindo P2 Virgilio | C29: Tamarindo | D29: P | E29: 255974 | F29: 336856 | G29: 26 | H29: - | I29: 0.55 | J29: - | K29: - | L29: - | N29: 9.31 | O29: -
A30: =1+A29 -> 26 | B30: AyA Tamarindo P2b Virgilio (nuevo) | C30: Tamarindo | D30: P | E30: 255966 | F30: 336871 | G30: 27 | H30: - | I30: 0.6 | J30: - | K30: - | L30: =O30-I30 -> 13.34 | N30: - | O30: 13.94
A31: =1+A30 -> 27 | B31: AyA Tamarindo P3 Papaturro | C31: Tamarindo | D31: P | E31: 255838 | F31: 337001 | G31: 27 | H31: - | I31: 0.85 | J31: - | K31: - | L31: =O31-I31 -> 24.16 | N31: - | O31: 25.01
A32: =1+A31 -> 28 | B32: AyA Tamarindo P4 Pochote | C32: Tamarindo | D32: P | E32: 255461 | F32: 336874 | G32: 28 | H32: - | I32: 0.45 | J32: - | K32: =N32-I32 -> 10.41 | L32: - | N32: 10.86 | O32: -
A33: =1+A32 -> 29 | B33: AyA Tamarindo P4b Pochote (nuevo) | C33: Tamarindo | D33: P | E33: 255442 | F33: 336873 | G33: 26 | H33: - | I33: 0.45 | J33: - | K33: - | L33: =O33-I33 -> 17.2 | N33: - | O33: 17.65
A34: =1+A33 -> 30 | B34: AyA Tamarindo P5 Albin | C34: Tamarindo | D34: P | E34: 255477 | F34: 337058 | G34: 27 | H34: - | I34: 0.2 | J34: - | K34: - | L34: =O34-I34 -> 19.76 | N34: - | O34: 19.96
A35: =1+A34 -> 31 | B35: Gineth López Rosales | C35: Matapalo | D35: E | E35: 260752 | F35: 337937 | G35: 43 | H35: - | I35: 0.68 | J35: - | K35: =N35-I35 -> 6.08 | L35: - | N35: 6.76 | O35: -
A36: =1+A35 -> 32 | B36: ASADA Matapalo P3 | C36: Matapalo | D36: P | E36: 260776 | F36: 338205 | G36: 17 | H36: - | I36: 0.38 | J36: - | K36: =N36-I36 -> 7.3 | L36: - | N36: 7.68 | O36: -
A37: =1+A36 -> 33 | B37: ASADA Matapalo P1 | C37: Matapalo | D37: P | E37: 260777 | F37: 338205 | G37: 12 | H37: - | I37: 0.52 | J37: - | K37: - | L37: =O37-I37 -> 8.5 | N37: - | O37: 9.02
A38: =1+A37 -> 34 | B38: ASADA Matapalo P2 | C38: Matapalo | D38: P | E38: 260686 | F38: 338490 | G38: 31 | H38: - | I38: 0.75 | J38: - | K38: - | L38: =O38-I38 -> 10.05 | N38: - | O38: 10.8
A39: =1+A38 -> 35 | B39: ASADA Tamarindo P5 Jobo | C39: Matapalo | D39: P | E39: 253123 | F39: 335786 | G39: 23 | H39: - | I39: 0.52 | J39: - | K39: =N39-I39 -> 13.73 | L39: - | N39: 14.25 | O39: -
A40: =1+A39 -> 36 | B40: ASADA Tamarindo P3 Fertana | C40: Matapalo | D40: P | E40: 254952 | F40: 336152 | G40: 21 | H40: - | I40: 0.6 | J40: - | K40: =N40-I40 -> 8.44 | L40: - | N40: 9.04 | O40: -
A41: =1+A40 -> 37 | B41: ASADA Tamarindo P4 Guanacaste | C41: Matapalo | D41: P | E41: 255121 | F41: 336224 | G41: 20 | H41: - | I41: 0.25 | J41: - | K41: - | L41: =O41-I41 -> 6.55 | N41: - | O41: 6.8
A42: =1+A41 -> 38 | B42: ASADA Tamarindo P2 Curia | C42: Matapalo | D42: P | E42: 256943 | F42: 337838 | G42: 20 | H42: - | I42: 0.15 | J42: - | K42: Cerrado con llave | N42: - | O42: -
A43: =1+A42 -> 39 | B43: ASADA Tamarindo P1 Curia | C43: Matapalo | D43: P | E43: 256929 | F43: 337845 | G43: 18 | H43: - | I43: 0.93 | J43: - | K43: - | L43: =O43-I43 -> 15.39 | N43: - | O43: 16.32
A44: =1+A43 -> 40 | B44: AyA Tamarindo P5b Albin (nuevo) | C44: Tamarindo | D44: P | E44: 255482 | F44: 337072 | H44: - | I44: 0.34 | J44: - | K44: - | L44: =O44-I44 -> 16.75 | N44: - | O44: 17.09

Sheet Agosto 2014
A1: Plan de Monitoreo Acuífero Huacas Tamarindo
A2: Fecha: 28 de agosto del 2014
N3: Datos de campo
A4: N˚ | B4: Nombre del POZO | C4: Lugar | D4: Tipo | E4: Latitud | F4: Longitud | G4: Altitud sobre nivel de Mar | H4: Diámetro armado (in) | I4: Brocal (m) | J4: Profundidad de pozo (m) | K4: Nivel estático (m) | L4: Nivel dinámico (m) | N4: Nivel estático (m) + Brocal | O4: Nivel dinámico (m) + Brocal
A5: 1 | B5: Aeropuerto Tamarindo Cancha de Golf | C5: Tamarindo | D5: P | E5: 255134 | F5: 337474 | G5: 41 | H5: - | I5: 0.45 | J5: - | K5: =N5-I5 -> 8.69 | L5: - | N5: 9.14 | O5: -
A6: =1+A5 -> 2 | B6: Aeropuerto Tamarindo cerca río San Andrés | C6: Tamarindo | D6: P | E6: 255381 | F6: 337593 | G6: 31 | H6: - | I6: 0.33 | J6: - | K6: =N6-I6 -> 7.53 | L6: - | N6: 7.86 | O6: -
A7: =1+A6 -> 3 | B7: Aeropuerto Tamarindo Abrevadero | C7: Tamarindo | D7: P | E7: 255744 | F7: 337763 | G7: 26 | H7: - | I7: 0.5 | J7: - | K7: =N7-I7 -> 6.87 | L7: - | N7: 7.37 | O7: -
A8: =1+A7 -> 4 | B8: Aeropuerto Tamarindo los Tornillos | C8: Tamarindo | D8: P | E8: 255800 | F8: 337245 | G8: 23 | H8: - | I8: 0.6 | J8: - | K8: =N8-I8 -> 6.7 | L8: - | N8: 7.3 | O8: -
A9: =1+A8 -> 5 | B9: Elvira Matarrita | C9: El Llano | D9: E | E9: 256089 | F9: 338238 | G9: 30 | H9: - | I9: 0.84 | J9: - | K9: =N9-I9 -> 10.42 | L9: - | N9: 11.26 | O9: -
A10: =1+A9 -> 6 | B10: ASADA Villarreal P1 | C10: Villarreal | D10: P | E10: 255579 | F10: 338206 | G10: 20 | H10: - | I10: - | J10: 18 | K10: Línea de aire obstruida | N10: Línea de aire obstruida
A11: =1+A10 -> 7 | B11: ASADA Villarreal P2 | C11: Villarreal | D11: P | E11: 255562 | F11: 338189 | G11: 30 | H11: - | I11: 0.5 | J11: 18 | K11: - | L11: =O11-I11 -> 9.77 | N11: - | O11: 10.27
A12: =1+A11 -> 8 | B12: ASADA Villarreal P3 | C12: Villarreal | D12: P | E12: 255605 | F12: 338552 | G12: 33 | H12: - | I12: 1.87 | J12: 19 | K12: Línea de aire obstruida | N12: Línea de aire obstruida
A13: =1+A12 -> 9 | B13: Maritza Obando | C13: San Andrés | D13: E | E13: 255576 | F13: 338998 | G13: 34 | H13: - | I13: 0.73 | J13: - | K13: Seco | L13: - | N13: seco | O13: -
A14: =1+A13 -> 10 | B14: ASADA Santa Rosa | C14: Santa Rosa | D14: P | E14: 255198 | F14: 340143 | G14: 22 | H14: - | I14: 0.8 | J14: - | K14: - | L14: =O14-I14 -> 17.88 | N14: - | O14: 18.68
A15: =1+A14 -> 11 | B15: Seabees Santa Rosa | C15: Santa Rosa | D15: P | E15: 255267 | F15: 340939 | G15: 31 | H15: - | I15: 0.38 | J15: - | K15: =N15-I15 -> 9.44 | L15: - | N15: 9.82 | O15: -
A16: =1+A15 -> 12 | B16: Magdalena Obando | C16: Santa Rosa | D16: E | E16: 255293 | F16: 340970 | G16: 32 | H16: - | I16: 0.84 | J16: - | K16: Seco | L16: - | N16: - | O16: -
A17: =1+A16 -> 13 | B17: ASADA Lomas | C17: Lomas | D17: P | E17: 258631 | F17: 338988 | G17: 16 | H17: - | I17: 1.18 | J17: 26 | K17: =N17-I17 -> 4.13 | L17: - | N17: 5.31 | O17: -
A18: =1+A17 -> 14 | B18: José Catalino Jaén | C18: Lomas | D18: E | E18: 259080 | F18: 338723 | G18: 21 | H18: - | I18: 0.8 | J18: 11-12 | K18: =N18-I18 -> 8.14 | L18: - | N18: 8.94 | O18: -
A19: =1+A18 -> 15 | B19: Santos Arrieta | C19: Salinitas | D19: E | E19: 258896 | F19: 337242 | G19: 13 | H19: - | I19: 1 | J19: - | K19: Seco | L19: - | N19: 8.72 | O19: -
A20: =1+A19 -> 16 | B20: María Luisa Contreras | C20: Huacas | D20: E | E20: 261652 | F20: 341432 | G20: 41 | H20: - | I20: 0.78 | J20: - | K20: =N20-I20 -> 3.76 | L20: - | N20: 4.54 | O20: -
A21: =1+A20 -> 17 | B21: Paula Celaya | C21: Garita Vieja | D21: E | E21: 260355 | F21: 339957 | G21: 31 | H21: - | I21: 0.8 | J21: 8 | K21: Seco | L21: - | N21: - | O21: -
A22: =1+A21 -> 18 | B22: Juan Pablo Arrieta | C22: Garita Nueva | D22: E | E22: 259558 | F22: 340347 | G22: 30 | H22: - | I22: 0.8 | J22: - | K22: Seco | L22: - | N22: - | O22: -
A23: =1+A22 -> 19 | B23: Damián Matarrita | C23: Mangos | D23: E | E23: 260753 | F23: 340739 | G23: 34 | H23: - | I23: 0.9 | J23: 14 | K23: Seco | L23: - | N23: - | O23: -
A24: =1+A23 -> 20 | B24: Cupertino López | C24: Tacasolapa | D24: E | E24: 258279 | F24: 340076 | G24: 31 | H24: - | I24: 1.15 | J24: - | K24: Seco | L24: - | N24: - | O24: -
A25: =1+A24 -> 21 | B25: AyA Tamarindo P6 Plantel | C25: Tamarindo | D25: P | E25: 255183 | F25: 336781 | G25: 31 | H25: - | I25: 0 | J25: - | K25: =N25-I25 -> 10.32 | L25: - | N25: 10.32 | O25: -
A26: =1+A25 -> 22 | B26: AyA Tamarindo P1 Jobo | C26: Los Jobos | D26: P | E26: 253123 | F26: 335558 | G26: 34 | H26: - | I26: 0.43 | J26: - | K26: - | L26: =O26-I26 -> 13.62 | N26: - | O26: 14.05
A27: =1+A26 -> 23 | B27: AyA Tamarindo P2 Jobo | C27: Los Jobos | D27: P | E27: 252958 | F27: 335376 | G27: 35 | H27: - | I27: 1.13 | J27: - | K27: - | L27: =O27-I27 -> 16.25 | N27: - | O27: 17.38
A28: =1+A27 -> 24 | B28: AyA Tamarindo P1 Guanacaste | C28: Tamarindo | D28: P | E28: 256002 | F28: 336544 | G28: 29 | H28: - | I28: 0.28 | J28: - | K28: =N28-I28 -> 7.02 | L28: - | N28: 7.3 | O28: -
A29: =1+A28 -> 25 | B29: AyA Tamarindo P2 Virgilio | C29: Tamarindo | D29: P | E29: 255974 | F29: 336856 | G29: 26 | H29: - | I29: 0.55 | J29: - | K29: - | L29: =O29-I29 -> 14 | N29: - | O29: 14.55
A30: =1+A29 -> 26 | B30: AyA Tamarindo P2b Virgilio (nuevo) | C30: Tamarindo | D30: P | E30: 255966 | F30: 336871 | G30: 27 | H30: - | I30: 0.6 | J30: - | K30: - | L30: =O30-I30 -> 13.79 | N30: - | O30: 14.39
A31: =1+A30 -> 27 | B31: AyA Tamarindo P3 Papaturro | C31: Tamarindo | D31: P | E31: 255838 | F31: 337001 | G31: 27 | H31: - | I31: 0.85 | J31: - | K31: - | L31: =O31-I31 -> 30.19 | N31: - | O31: 31.04
A32: =1+A31 -> 28 | B32: AyA Tamarindo P4 Pochote | C32: Tamarindo | D32: P | E32: 255461 | F32: 336874 | G32: 28 | H32: - | I32: 0.45 | J32: - | K32: =N32-I32 -> 10.26 | L32: - | N32: 10.71 | O32: -
A33: =1+A32 -> 29 | B33: AyA Tamarindo P4b Pochote (nuevo) | C33: Tamarindo | D33: P | E33: 255442 | F33: 336873 | G33: 26 | H33: - | I33: 0.45 | J33: - | K33: - | L33: =O33-I33 -> 18.25 | N33: - | O33: 18.7
A34: =1+A33 -> 30 | B34: AyA Tamarindo P5 Albin | C34: Tamarindo | D34: P | E34: 255477 | F34: 337058 | G34: 27 | H34: - | I34: 0.2 | J34: - | K34: =N34-I34 -> 8.25 | L34: - | N34: 8.45 | O34: -
A35: =1+A34 -> 31 | B35: Gineth López Rosales | C35: Matapalo | D35: E | E35: 260752 | F35: 337937 | G35: 43 | H35: - | I35: 0.68 | J35: - | K35: =N35-I35 -> 7.38 | L35: - | N35: 8.06 | O35: -
A36: =1+A35 -> 32 | B36: ASADA Matapalo P3 | C36: Matapalo | D36: P | E36: 260776 | F36: 338205 | G36: 17 | H36: - | I36: 0.38 | J36: - | K36: =N36-I36 -> 8.46 | L36: - | N36: 8.84 | O36: -
A37: =1+A36 -> 33 | B37: ASADA Matapalo P1 | C37: Matapalo | D37: P | E37: 260777 | F37: 338205 | G37: 12 | H37: - | I37: 0.52 | J37: - | K37: =N37-I37 -> 8.32 | L37: - | N37: 8.84 | O37: -
A38: =1+A37 -> 34 | B38: ASADA Matapalo P2 | C38: Matapalo | D38: P | E38: 260686 | F38: 338490 | G38: 31 | H38: - | I38: 0.75 | J38: - | K38: - | L38: =O38-I38 -> 13.79 | N38: - | O38: 14.54
A39: =1+A38 -> 35 | B39: ASADA Tamarindo P5 Jobo | C39: Matapalo | D39: P | E39: 253123 | F39: 335786 | G39: 23 | H39: - | I39: 0.52 | J39: - | K39: =N39-I39 -> 15.26 | L39: - | N39: 15.78 | O39: -
A40: =1+A39 -> 36 | B40: ASADA Tamarindo P3 Fertana | C40: Matapalo | D40: P | E40: 254952 | F40: 336152 | G40: 21 | H40: - | I40: 0.6 | J40: - | K40: Línea de aire obstruida | N40: - | O40: -
A41: =1+A40 -> 37 | B41: ASADA Tamarindo P4 Guanacaste | C41: Matapalo | D41: P | E41: 255121 | F41: 336224 | G41: 20 | H41: - | I41: 0.25 | J41: - | K41: - | L41: =O41-I41 -> 11.05 | N41: - | O41: 11.3
A42: =1+A41 -> 38 | B42: ASADA Tamarindo P2 Curia | C42: Matapalo | D42: P | E42: 256943 | F42: 337838 | G42: 20 | H42: - | I42: 0.15 | J42: - | K42: Cerrado con llave | N42: - | O42: -
A43: =1+A42 -> 39 | B43: ASADA Tamarindo P1 Curia | C43: Matapalo | D43: P | E43: 256929 | F43: 337845 | G43: 18 | H43: - | I43: 0.93 | J43: - | K43: - | L43: =O43-I43 -> 15.08 | N43: - | O43: 16.01
A44: =1+A43 -> 40 | B44: AyA Tamarindo P5b Albin (nuevo) | C44: Tamarindo | D44: P | E44: 255482 | F44: 337072 | H44: - | I44: 0.34 | J44: - | K44: - | L44: =O44-I44 -> 12.06 | N44: - | O44: 12.4

Sheet Octubre 1 2014
A1: Plan de Monitoreo Acuífero Huacas Tamarindo
A2: Fecha: 2 de octubre del 2014
N3: Datos de campo
A4: N˚ | B4: Nombre del POZO | C4: Lugar | D4: Tipo | E4: Latitud | F4: Longitud | G4: Altitud sobre nivel de Mar | H4: Diámetro armado (in) | I4: Brocal (m) | J4: Profundidad de pozo (m) | K4: Nivel estático (m) | L4: Nivel dinámico (m) | N4: Nivel estático (m) + Brocal | O4: Nivel dinámico (m) + Brocal
A5: 1 | B5: Aeropuerto Tamarindo Cancha de Golf | C5: Tamarindo | D5: P | E5: 255134 | F5: 337474 | G5: 41 | H5: - | I5: 0.45 | J5: - | K5: =N5-I5 -> 3.45 | L5: - | N5: 3.9 | O5: -
A6: =1+A5 -> 2 | B6: Aeropuerto Tamarindo cerca río San Andrés | C6: Tamarindo | D6: P | E6: 255381 | F6: 337593 | G6: 31 | H6: - | I6: 0.33 | J6: - | K6: =N6-I6 -> 5.21 | L6: - | N6: 5.54 | O6: -
A7: =1+A6 -> 3 | B7: Aeropuerto Tamarindo Abrevadero | C7: Tamarindo | D7: P | E7: 255744 | F7: 337763 | G7: 26 | H7: - | I7: 0.5 | J7: - | K7: =N7-I7 -> 5.15 | L7: - | N7: 5.65 | O7: -
A8: =1+A7 -> 4 | B8: Aeropuerto Tamarindo los Tornillos | C8: Tamarindo | D8: P | E8: 255800 | F8: 337245 | G8: 23 | H8: - | I8: 0.6 | J8: - | K8: Sin acceso | N8: - | O8: -
A9: =1+A8 -> 5 | B9: Elvira Matarrita | C9: El Llano | D9: E | E9: 256089 | F9: 338238 | G9: 30 | H9: - | I9: 0.84 | J9: - | K9: =N9-I9 -> 8.48 | L9: - | N9: 9.32 | O9: -
A10: =1+A9 -> 6 | B10: ASADA Villarreal P1 | C10: Villarreal | D10: P | E10: 255579 | F10: 338206 | G10: 20 | H10: - | I10: - | J10: 18 | K10: Línea de aire obstruida | N10: Línea de aire obstruida
A11: =1+A10 -> 7 | B11: ASADA Villarreal P2 | C11: Villarreal | D11: P | E11: 255562 | F11: 338189 | G11: 30 | H11: - | I11: 0.5 | J11: 18 | K11: =N11-I11 -> 4.79 | L11: - | N11: 5.29 | O11: -
A12: =1+A11 -> 8 | B12: ASADA Villarreal P3 | C12: Villarreal | D12: P | E12: 255605 | F12: 338552 | G12: 33 | H12: - | I12: 1.87 | J12: 19 | K12: Línea de aire obstruida | N12: Línea de aire obstruida
A13: =1+A12 -> 9 | B13: Maritza Obando | C13: San Andrés | D13: E | E13: 255576 | F13: 338998 | G13: 34 | H13: - | I13: 0.73 | J13: - | K13: =N13-I13 -> 2.87 | L13: - | N13: 3.6 | O13: -
A14: =1+A13 -> 10 | B14: ASADA Santa Rosa | C14: Santa Rosa | D14: P | E14: 255198 | F14: 340143 | G14: 22 | H14: - | I14: 0.8 | J14: - | K14: =N14-I14 -> 4.61 | L14: - | N14: 5.41 | O14: -
A15: =1+A14 -> 11 | B15: Seabees Santa Rosa | C15: Santa Rosa | D15: P | E15: 255267 | F15: 340939 | G15: 31 | H15: - | I15: 0.38 | J15: - | K15: =N15-I15 -> 5.85 | L15: - | N15: 6.23 | O15: -
A16: =1+A15 -> 12 | B16: Magdalena Obando | C16: Santa Rosa | D16: E | E16: 255293 | F16: 340970 | G16: 32 | H16: - | I16: 0.84 | J16: - | K16: =N16-I16 -> 6.15 | L16: - | N16: 6.99 | O16: -
A17: =1+A16 -> 13 | B17: ASADA Lomas | C17: Lomas | D17: P | E17: 258631 | F17: 338988 | G17: 16 | H17: - | I17: 1.18 | J17: 26 | K17: - | L17: =O17-I17 -> 4.32 | N17: - | O17: 5.5
A18: =1+A17 -> 14 | B18: José Catalino Jaén | C18: Lomas | D18: E | E18: 259080 | F18: 338723 | G18: 21 | H18: - | I18: 0.8 | J18: 11-12 | K18: =N18-I18 -> 4.46 | L18: - | N18: 5.26 | O18: -
A19: =1+A18 -> 15 | B19: Santos Arrieta | C19: Salinitas | D19: E | E19: 258896 | F19: 337242 | G19: 13 | H19: - | I19: 1 | J19: - | K19: =N19-I19 -> 5.05 | L19: - | N19: 6.05 | O19: -
A20: =1+A19 -> 16 | B20: María Luisa Contreras | C20: Huacas | D20: E | E20: 261652 | F20: 341432 | G20: 41 | H20: - | I20: 0.78 | J20: - | K20: =N20-I20 -> 0.98 | L20: - | N20: 1.76 | O20: -
A21: =1+A20 -> 17 | B21: Paula Celaya | C21: Garita Vieja | D21: E | E21: 260355 | F21: 339957 | G21: 31 | H21: - | I21: 0.8 | J21: 8 | K21: =N21-I21 -> 4.35 | L21: - | N21: 5.15 | O21: -
A22: =1+A21 -> 18 | B22: Juan Pablo Arrieta | C22: Garita Nueva | D22: E | E22: 259558 | F22: 340347 | G22: 30 | H22: - | I22: 0.8 | J22: - | K22: =N22-I22 -> 3.04 | L22: - | N22: 3.84 | O22: -
A23: =1+A22 -> 19 | B23: Damián Matarrita | C23: Mangos | D23: E | E23: 260753 | F23: 340739 | G23: 34 | H23: - | I23: 0.9 | J23: 14 | K23: Seco | L23: - | N23: - | O23: -
A24: =1+A23 -> 20 | B24: Cupertino López | C24: Tacasolapa | D24: E | E24: 258279 | F24: 340076 | G24: 31 | H24: - | I24: 1.15 | J24: - | K24: =N24-I24 -> 5.8 | L24: - | N24: 6.95 | O24: -
A25: =1+A24 -> 21 | B25: AyA Tamarindo P6 Plantel | C25: Tamarindo | D25: P | E25: 255183 | F25: 336781 | G25: 31 | H25: - | I25: 0 | J25: - | K25: =N25-I25 -> 6.6 | L25: - | N25: 6.6 | O25: -
A26: =1+A25 -> 22 | B26: AyA Tamarindo P1 Jobo | C26: Los Jobos | D26: P | E26: 253123 | F26: 335558 | G26: 34 | H26: - | I26: 0.43 | J26: - | K26: - | L26: =O26-I26 -> 10.57 | N26: - | O26: 11
A27: =1+A26 -> 23 | B27: AyA Tamarindo P2 Jobo | C27: Los Jobos | D27: P | E27: 252958 | F27: 335376 | G27: 35 | H27: - | I27: 1.13 | J27: - | K27: - | L27: =O27-I27 -> 10.07 | N27: - | O27: 11.2
A28: =1+A27 -> 24 | B28: AyA Tamarindo P1 Guanacaste | C28: Tamarindo | D28: P | E28: 256002 | F28: 336544 | G28: 29 | H28: - | I28: 0.28 | J28: - | K28: =N28-I28 -> 4.42 | L28: - | N28: 4.7 | O28: -
A29: =1+A28 -> 25 | B29: AyA Tamarindo P2 Virgilio | C29: Tamarindo | D29: P | E29: 255974 | F29: 336856 | G29: 26 | H29: - | I29: 0.55 | J29: - | K29: Cerrado con llave | N29: - | O29: -
A30: =1+A29 -> 26 | B30: AyA Tamarindo P2b Virgilio (nuevo) | C30: Tamarindo | D30: P | E30: 255966 | F30: 336871 | G30: 27 | H30: - | I30: 0.6 | J30: - | K30: - | L30: =O30-I30 -> 10.23 | N30: - | O30: 10.83
A31: =1+A30 -> 27 | B31: AyA Tamarindo P3 Papaturro | C31: Tamarindo | D31: P | E31: 255838 | F31: 337001 | G31: 27 | H31: - | I31: 0.85 | J31: - | K31: - | L31: =O31-I31 -> 19.23 | N31: - | O31: 20.08
A32: =1+A31 -> 28 | B32: AyA Tamarindo P4 Pochote | C32: Tamarindo | D32: P | E32: 255461 | F32: 336874 | G32: 28 | H32: - | I32: 0.45 | J32: - | K32: Cerrado con llave | N32: - | O32: -
A33: =1+A32 -> 29 | B33: AyA Tamarindo P4b Pochote (nuevo) | C33: Tamarindo | D33: P | E33: 255442 | F33: 336873 | G33: 26 | H33: - | I33: 0.45 | J33: - | K33: - | L33: =O33-I33 -> 18.55 | N33: - | O33: 19
A34: =1+A33 -> 30 | B34: AyA Tamarindo P5 Albin | C34: Tamarindo | D34: P | E34: 255477 | F34: 337058 | G34: 27 | H34: - | I34: 0.2 | J34: - | K34: - | L34: =O34-I34 -> 13.4 | N34: - | O34: 13.6
A35: =1+A34 -> 31 | B35: Gineth López Rosales | C35: Matapalo | D35: E | E35: 260752 | F35: 337937 | G35: 43 | H35: - | I35: 0.68 | J35: - | K35: =N35-I35 -> 4.12 | L35: - | N35: 4.8 | O35: -
A36: =1+A35 -> 32 | B36: ASADA Matapalo P3 | C36: Matapalo | D36: P | E36: 260776 | F36: 338205 | G36: 17 | H36: - | I36: 0.38 | J36: - | K36: - | L36: =O36-I36 -> 12.75 | N36: - | O36: 13.13
A37: =1+A36 -> 33 | B37: ASADA Matapalo P1 | C37: Matapalo | D37: P | E37: 260777 | F37: 338205 | G37: 12 | H37: - | I37: 0.52 | J37: - | K37: - | L37: =O37-I37 -> 7.1 | N37: - | O37: 7.62
A38: =1+A37 -> 34 | B38: ASADA Matapalo P2 | C38: Matapalo | D38: P | E38: 260686 | F38: 338490 | G38: 31 | H38: - | I38: 0.75 | J38: - | K38: - | L38: - | N38: 6.45 | O38: -
A39: =1+A38 -> 35 | B39: ASADA Tamarindo P5 Jobo | C39: Matapalo | D39: P | E39: 253123 | F39: 335786 | G39: 23 | H39: - | I39: 0.52 | J39: - | K39: =N39-I39 -> 12.44 | L39: - | N39: 12.96 | O39: -
A40: =1+A39 -> 36 | B40: ASADA Tamarindo P3 Fertana | C40: Matapalo | D40: P | E40: 254952 | F40: 336152 | G40: 21 | H40: - | I40: 0.6 | J40: - | K40: =N40-I40 -> 5.54 | N40: 6.14 | O40: -
A41: =1+A40 -> 37 | B41: ASADA Tamarindo P4 Guanacaste | C41: Matapalo | D41: P | E41: 255121 | F41: 336224 | G41: 20 | H41: - | I41: 0.25 | J41: - | K41: Cerrado con llave | N41: =-O41 -> #VALUE! | O41: -
A42: =1+A41 -> 38 | B42: ASADA Tamarindo P2 Curia | C42: Matapalo | D42: P | E42: 256943 | F42: 337838 | G42: 20 | H42: - | I42: 0.15 | J42: - | K42: Cerrado con llave | N42: - | O42: -
A43: =1+A42 -> 39 | B43: ASADA Tamarindo P1 Curia | C43: Matapalo | D43: P | E43: 256929 | F43: 337845 | G43: 18 | H43: - | I43: 0.93 | J43: - | K43: - | L43: =O43-I43 -> 8.53 | N43: - | O43: 9.46
A44: =1+A43 -> 40 | B44: AyA Tamarindo P5b Albin (nuevo) | C44: Tamarindo | D44: P | E44: 255482 | F44: 337072 | H44: - | I44: 0.34 | J44: - | K44: - | L44: =O44-I44 -> 16 | N44: - | O44: 16.34

Sheet Octubre 2 2014
A1: Plan de Monitoreo Acuífero Huacas Tamarindo
A2: Fecha: 22 de octubre del 2014
N3: Datos de campo
A4: N˚ | B4: Nombre del POZO | C4: Lugar | D4: Tipo | E4: Latitud | F4: Longitud | G4: Altitud sobre nivel de Mar | H4: Diámetro armado (in) | I4: Brocal (m) | J4: Profundidad de pozo (m) | K4: Nivel estático (m) | L4: Nivel dinámico (m) | N4: Nivel estático (m) + Brocal | O4: Nivel dinámico (m) + Brocal
A5: 1 | B5: Aeropuerto Tamarindo Cancha de Golf | C5: Tamarindo | D5: P | E5: 255134 | F5: 337474 | G5: 41 | H5: - | I5: 0.45 | J5: - | K5: =N5-I5 -> 1.85 | L5: - | N5: 2.3 | O5: -
A6: =1+A5 -> 2 | B6: Aeropuerto Tamarindo cerca río San Andrés | C6: Tamarindo | D6: P | E6: 255381 | F6: 337593 | G6: 31 | H6: - | I6: 0.33 | J6: - | K6: =N6-I6 -> 2.93 | L6: - | N6: 3.26 | O6: -
A7: =1+A6 -> 3 | B7: Aeropuerto Tamarindo Abrevadero | C7: Tamarindo | D7: P | E7: 255744 | F7: 337763 | G7: 26 | H7: - | I7: 0.5 | J7: - | K7: Abejas | N7: - | O7: -
A8: =1+A7 -> 4 | B8: Aeropuerto Tamarindo los Tornillos | C8: Tamarindo | D8: P | E8: 255800 | F8: 337245 | G8: 23 | H8: - | I8: 0.6 | J8: - | K8: =N8-I8 -> 3.46 | N8: 4.06 | O8: -
A9: =1+A8 -> 5 | B9: Elvira Matarrita | C9: El Llano | D9: E | E9: 256089 | F9: 338238 | G9: 30 | H9: - | I9: 0.84 | J9: - | K9: =N9-I9 -> 8.14 | L9: - | N9: 8.98 | O9: -
A10: =1+A9 -> 6 | B10: ASADA Villarreal P1 | C10: Villarreal | D10: P | E10: 255579 | F10: 338206 | G10: 20 | H10: - | I10: - | J10: 18 | K10: Línea de aire obstruida | N10: Línea de aire obstruida
A11: =1+A10 -> 7 | B11: ASADA Villarreal P2 | C11: Villarreal | D11: P | E11: 255562 | F11: 338189 | G11: 30 | H11: - | I11: 0.5 | J11: 18 | K11: =N11-I11 -> 2.87 | L11: - | N11: 3.37 | O11: -
A12: =1+A11 -> 8 | B12: ASADA Villarreal P3 | C12: Villarreal | D12: P | E12: 255605 | F12: 338552 | G12: 33 | H12: - | I12: 1.87 | J12: 19 | K12: Línea de aire obstruida | N12: Línea de aire obstruida
A13: =1+A12 -> 9 | B13: Maritza Obando | C13: San Andrés | D13: E | E13: 255576 | F13: 338998 | G13: 34 | H13: - | I13: 0.73 | J13: - | K13: =N13-I13 -> 2.87 | L13: - | N13: 3.6 | O13: -
A14: =1+A13 -> 10 | B14: ASADA Santa Rosa | C14: Santa Rosa | D14: P | E14: 255198 | F14: 340143 | G14: 22 | H14: - | I14: 0.8 | J14: - | K14: - | L14: =O14-I14 -> 9.86 | N14: - | O14: 10.66
A15: =1+A14 -> 11 | B15: Seabees Santa Rosa | C15: Santa Rosa | D15: P | E15: 255267 | F15: 340939 | G15: 31 | H15: - | I15: 0.38 | J15: - | K15: =N15-I15 -> 3.56 | L15: - | N15: 3.94 | O15: -
A16: =1+A15 -> 12 | B16: Magdalena Obando | C16: Santa Rosa | D16: E | E16: 255293 | F16: 340970 | G16: 32 | H16: - | I16: 0.84 | J16: - | K16: =N16-I16 -> 3.51 | L16: - | N16: 4.35 | O16: -
A17: =1+A16 -> 13 | B17: ASADA Lomas | C17: Lomas | D17: P | E17: 258631 | F17: 338988 | G17: 16 | H17: - | I17: 1.18 | J17: 26 | K17: =N17-I17 -> 4.64 | L17: - | N17: 5.82 | O17: -
A18: =1+A17 -> 14 | B18: José Catalino Jaén | C18: Lomas | D18: E | E18: 259080 | F18: 338723 | G18: 21 | H18: - | I18: 0.8 | J18: 11-12 | K18: =N18-I18 -> 2.92 | L18: - | N18: 3.72 | O18: -
A19: =1+A18 -> 15 | B19: Santos Arrieta | C19: Salinitas | D19: E | E19: 258896 | F19: 337242 | G19: 13 | H19: - | I19: 1 | J19: - | K19: =N19-I19 -> 4.14 | L19: - | N19: 5.14 | O19: -
A20: =1+A19 -> 16 | B20: María Luisa Contreras | C20: Huacas | D20: E | E20: 261652 | F20: 341432 | G20: 41 | H20: - | I20: 0.78 | J20: - | K20: =N20-I20 -> 0.64 | L20: - | N20: 1.42 | O20: -
A21: =1+A20 -> 17 | B21: Paula Celaya | C21: Garita Vieja | D21: E | E21: 260355 | F21: 339957 | G21: 31 | H21: - | I21: 0.8 | J21: 8 | K21: =N21-I21 -> 4.34 | L21: - | N21: 5.14 | O21: -
A22: =1+A21 -> 18 | B22: Juan Pablo Arrieta | C22: Garita Nueva | D22: E | E22: 259558 | F22: 340347 | G22: 30 | H22: - | I22: 0.8 | J22: - | K22: =N22-I22 -> 1.56 | L22: - | N22: 2.36 | O22: -
A23: =1+A22 -> 19 | B23: Damián Matarrita | C23: Mangos | D23: E | E23: 260753 | F23: 340739 | G23: 34 | H23: - | I23: 0.9 | J23: 14 | K23: =N23-I23 -> 5.59 | L23: - | N23: 6.49 | O23: -
A24: =1+A23 -> 20 | B24: Cupertino López | C24: Tacasolapa | D24: E | E24: 258279 | F24: 340076 | G24: 31 | H24: - | I24: 1.15 | J24: - | K24: =N24-I24 -> 3.23 | L24: - | N24: 4.38 | O24: -
A25: =1+A24 -> 21 | B25: AyA Tamarindo P6 Plantel | C25: Tamarindo | D25: P | E25: 255183 | F25: 336781 | G25: 31 | H25: - | I25: 0 | J25: - | K25: =N25-I25 -> 6.87 | L25: - | N25: 6.87 | O25: -
A26: =1+A25 -> 22 | B26: AyA Tamarindo P1 Jobo | C26: Los Jobos | D26: P | E26: 253123 | F26: 335558 | G26: 34 | H26: - | I26: 0.43 | J26: - | K26: - | L26: =O26-I26 -> 6.95 | N26: - | O26: 7.38
A27: =1+A26 -> 23 | B27: AyA Tamarindo P2 Jobo | C27: Los Jobos | D27: P | E27: 252958 | F27: 335376 | G27: 35 | H27: - | I27: 1.13 | J27: - | K27: - | L27: =O27-I27 -> 8.87 | N27: - | O27: 10
A28: =1+A27 -> 24 | B28: AyA Tamarindo P1 Guanacaste | C28: Tamarindo | D28: P | E28: 256002 | F28: 336544 | G28: 29 | H28: - | I28: 0.28 | J28: - | K28: =N28-I28 -> 4.08 | L28: - | N28: 4.36 | O28: -
A29: =1+A28 -> 25 | B29: AyA Tamarindo P2 Virgilio | C29: Tamarindo | D29: P | E29: 255974 | F29: 336856 | G29: 26 | H29: - | I29: 0.55 | J29: - | K29: - | L29: =O29-I29 -> 8.23 | N29: - | O29: 8.78
A30: =1+A29 -> 26 | B30: AyA Tamarindo P2b Virgilio (nuevo) | C30: Tamarindo | D30: P | E30: 255966 | F30: 336871 | G30: 27 | H30: - | I30: 0.6 | J30: - | K30: - | L30: =O30-I30 -> 15.5 | N30: - | O30: 16.1
A31: =1+A30 -> 27 | B31: AyA Tamarindo P3 Papaturro | C31: Tamarindo | D31: P | E31: 255838 | F31: 337001 | G31: 27 | H31: - | I31: 0.85 | J31: - | K31: - | L31: =O31-I31 -> 11.6 | N31: - | O31: 12.45
A32: =1+A31 -> 28 | B32: AyA Tamarindo P4 Pochote | C32: Tamarindo | D32: P | E32: 255461 | F32: 336874 | G32: 28 | H32: - | I32: 0.45 | J32: - | K32: - | L32: - | N32: 5.88 | O32: -
A33: =1+A32 -> 29 | B33: AyA Tamarindo P4b Pochote (nuevo) | C33: Tamarindo | D33: P | E33: 255442 | F33: 336873 | G33: 26 | H33: - | I33: 0.45 | J33: - | K33: - | L33: =O33-I33 -> 16.7 | N33: - | O33: 17.15
A34: =1+A33 -> 30 | B34: AyA Tamarindo P5 Albin | C34: Tamarindo | D34: P | E34: 255477 | F34: 337058 | G34: 27 | H34: - | I34: 0.2 | J34: - | K34: - | L34: =O34-I34 -> 7.15 | N34: - | O34: 7.35
A35: =1+A34 -> 31 | B35: Gineth López Rosales | C35: Matapalo | D35: E | E35: 260752 | F35: 337937 | G35: 43 | H35: - | I35: 0.68 | J35: - | K35: =N35-I35 -> 2.94 | L35: - | N35: 3.62 | O35: -
A36: =1+A35 -> 32 | B36: ASADA Matapalo P3 | C36: Matapalo | D36: P | E36: 260776 | F36: 338205 | G36: 17 | H36: - | I36: 0.38 | J36: - | K36: =N36-I36 -> 4.39 | L36: - | N36: 4.77 | O36: -
A37: =1+A36 -> 33 | B37: ASADA Matapalo P1 | C37: Matapalo | D37: P | E37: 260777 | F37: 338205 | G37: 12 | H37: - | I37: 0.52 | J37: - | K37: - | L37: =O37-I37 -> 5.41 | N37: - | O37: 5.93
A38: =1+A37 -> 34 | B38: ASADA Matapalo P2 | C38: Matapalo | D38: P | E38: 260686 | F38: 338490 | G38: 31 | H38: - | I38: 0.75 | J38: - | K38: - | L38: =O38-I38 -> 8.19 | N38: - | O38: 8.94
A39: =1+A38 -> 35 | B39: ASADA Tamarindo P5 Jobo | C39: Matapalo | D39: P | E39: 253123 | F39: 335786 | G39: 23 | H39: - | I39: 0.52 | J39: - | K39: =N39-I39 -> 8.56 | L39: - | N39: 9.08 | O39: -
A40: =1+A39 -> 36 | B40: ASADA Tamarindo P3 Fertana | C40: Matapalo | D40: P | E40: 254952 | F40: 336152 | G40: 21 | H40: - | I40: 0.6 | J40: - | K40: =N40-I40 -> 5.24 | N40: 5.84 | O40: -
A41: =1+A40 -> 37 | B41: ASADA Tamarindo P4 Guanacaste | C41: Matapalo | D41: P | E41: 255121 | F41: 336224 | G41: 20 | H41: - | I41: 0.25 | J41: - | K41: =N41-I41 -> 1.98 | L41: - | N41: 2.23 | O41: -
A42: =1+A41 -> 38 | B42: ASADA Tamarindo P2 Curia | C42: Matapalo | D42: P | E42: 256943 | F42: 337838 | G42: 20 | H42: - | I42: 0.15 | J42: - | K42: Cerrado con llave | N42: - | O42: -
A43: =1+A42 -> 39 | B43: ASADA Tamarindo P1 Curia | C43: Matapalo | D43: P | E43: 256929 | F43: 337845 | G43: 18 | H43: - | I43: 0.93 | J43: - | K43: - | L43: =O43-I43 -> 9.42 | N43: - | O43: 10.35
A44: =1+A43 -> 40 | B44: AyA Tamarindo P5b Albin (nuevo) | C44: Tamarindo | D44: P | E44: 255482 | F44: 337072 | H44: - | I44: 0.34 | J44: - | K44: - | L44: =O44-I44 -> 12.4 | N44: - | O44: 12.74

Sheet Noviembre 2014
A1: Plan de Monitoreo Acuífero Huacas Tamarindo
A2: Fecha: 20 de noviembre del 2014
N3: Datos de campo
A4: N˚ | B4: Nombre del POZO | C4: Lugar | D4: Tipo | E4: Latitud | F4: Longitud | G4: Altitud sobre nivel de Mar | H4: Diámetro armado (in) | I4: Brocal (m) | J4: Profundidad de pozo (m) | K4: Nivel estático (m) | L4: Nivel dinámico (m) | N4: Nivel estático (m) + Brocal | O4: Nivel dinámico (m) + Brocal
A5: 1 | B5: Aeropuerto Tamarindo Cancha de Golf | C5: Tamarindo | D5: P | E5: 255134 | F5: 337474 | G5: 41 | H5: - | I5: 0.45 | J5: - | K5: =N5-I5 -> 2.3 | L5: - | N5: 2.75 | O5: -
A6: =1+A5 -> 2 | B6: Aeropuerto Tamarindo cerca río San Andrés | C6: Tamarindo | D6: P | E6: 255381 | F6: 337593 | G6: 31 | H6: - | I6: 0.33 | J6: - | K6: =N6-I6 -> 2.61 | L6: - | N6: 2.94 | O6: -
A7: =1+A6 -> 3 | B7: Aeropuerto Tamarindo Abrevadero | C7: Tamarindo | D7: P | E7: 255744 | F7: 337763 | G7: 26 | H7: - | I7: 0.5 | J7: - | K7: =N7-I7 -> 1.94 | L7: - | N7: 2.44 | O7: -
A8: =1+A7 -> 4 | B8: Aeropuerto Tamarindo los Tornillos | C8: Tamarindo | D8: P | E8: 255800 | F8: 337245 | G8: 23 | H8: - | I8: 0.6 | J8: - | K8: =N8-I8 -> 2.2 | N8: 2.8 | O8: -
A9: =1+A8 -> 5 | B9: Elvira Matarrita | C9: El Llano | D9: E | E9: 256089 | F9: 338238 | G9: 30 | H9: - | I9: 0.84 | J9: - | K9: =N9-I9 -> 7.42 | L9: - | N9: 8.26 | O9: -
A10: =1+A9 -> 6 | B10: ASADA Villarreal P1 | C10: Villarreal | D10: P | E10: 255579 | F10: 338206 | G10: 20 | H10: - | I10: - | J10: 18 | K10: Línea de aire obstruida | N10: Línea de aire obstruida
A11: =1+A10 -> 7 | B11: ASADA Villarreal P2 | C11: Villarreal | D11: P | E11: 255562 | F11: 338189 | G11: 30 | H11: - | I11: 0.5 | J11: 18 | K11: =N11-I11 -> 2.42 | L11: - | N11: 2.92 | O11: -
A12: =1+A11 -> 8 | B12: ASADA Villarreal P3 | C12: Villarreal | D12: P | E12: 255605 | F12: 338552 | G12: 33 | H12: - | I12: 1.87 | J12: 19 | K12: Línea de aire obstruida | N12: Línea de aire obstruida
A13: =1+A12 -> 9 | B13: Maritza Obando | C13: San Andrés | D13: E | E13: 255576 | F13: 338998 | G13: 34 | H13: - | I13: 0.73 | J13: - | K13: =N13-I13 -> 3.08 | L13: - | N13: 3.81 | O13: -
A14: =1+A13 -> 10 | B14: ASADA Santa Rosa | C14: Santa Rosa | D14: P | E14: 255198 | F14: 340143 | G14: 22 | H14: - | I14: 0.8 | J14: - | K14: =N14-I14 -> 4.55 | L14: - | N14: 5.35 | O14: -
A15: =1+A14 -> 11 | B15: Seabees Santa Rosa | C15: Santa Rosa | D15: P | E15: 255267 | F15: 340939 | G15: 31 | H15: - | I15: 0.38 | J15: - | K15: =N15-I15 -> 3.32 | L15: - | N15: 3.7 | O15: -
A16: =1+A15 -> 12 | B16: Magdalena Obando | C16: Santa Rosa | D16: E | E16: 255293 | F16: 340970 | G16: 32 | H16: - | I16: 0.84 | J16: - | K16: =N16-I16 -> 3.26 | L16: - | N16: 4.1 | O16: -
A17: =1+A16 -> 13 | B17: ASADA Lomas | C17: Lomas | D17: P | E17: 258631 | F17: 338988 | G17: 16 | H17: - | I17: 1.18 | J17: 26 | K17: =N17-I17 -> 0.82 | L17: - | N17: 2 | O17: -
A18: =1+A17 -> 14 | B18: José Catalino Jaén | C18: Lomas | D18: E | E18: 259080 | F18: 338723 | G18: 21 | H18: - | I18: 0.8 | J18: 11-12 | K18: =N18-I18 -> 3.92 | L18: - | N18: 4.72 | O18: -
A19: =1+A18 -> 15 | B19: Santos Arrieta | C19: Salinitas | D19: E | E19: 258896 | F19: 337242 | G19: 13 | H19: - | I19: 1 | J19: - | K19: =N19-I19 -> 2.54 | L19: - | N19: 3.54 | O19: -
A20: =1+A19 -> 16 | B20: María Luisa Contreras | C20: Huacas | D20: E | E20: 261652 | F20: 341432 | G20: 41 | H20: - | I20: 0.78 | J20: - | K20: =N20-I20 -> 1.07 | L20: - | N20: 1.85 | O20: -
A21: =1+A20 -> 17 | B21: Paula Celaya | C21: Garita Vieja | D21: E | E21: 260355 | F21: 339957 | G21: 31 | H21: - | I21: 0.8 | J21: 8 | K21: =N21-I21 -> 3.9 | L21: - | N21: 4.7 | O21: -
A22: =1+A21 -> 18 | B22: Juan Pablo Arrieta | C22: Garita Nueva | D22: E | E22: 259558 | F22: 340347 | G22: 30 | H22: - | I22: 0.8 | J22: - | K22: =N22-I22 -> 1.32 | L22: - | N22: 2.12 | O22: -
A23: =1+A22 -> 19 | B23: Damián Matarrita | C23: Mangos | D23: E | E23: 260753 | F23: 340739 | G23: 34 | H23: - | I23: 0.9 | J23: 14 | K23: =N23-I23 -> 3.68 | L23: - | N23: 4.58 | O23: -
A24: =1+A23 -> 20 | B24: Cupertino López | C24: Tacasolapa | D24: E | E24: 258279 | F24: 340076 | G24: 31 | H24: - | I24: 1.15 | J24: - | K24: =N24-I24 -> 1.73 | L24: - | N24: 2.88 | O24: -
A25: =1+A24 -> 21 | B25: AyA Tamarindo P6 Plantel | C25: Tamarindo | D25: P | E25: 255183 | F25: 336781 | G25: 31 | H25: - | I25: 0 | J25: - | K25: =N25-I25 -> 4.98 | L25: - | N25: 4.98 | O25: -
A26: =1+A25 -> 22 | B26: AyA Tamarindo P1 Jobo | C26: Los Jobos | D26: P | E26: 253123 | F26: 335558 | G26: 34 | H26: - | I26: 0.43 | J26: - | K26: - | L26: =O26-I26 -> 1.77 | N26: - | O26: 2.2
A27: =1+A26 -> 23 | B27: AyA Tamarindo P2 Jobo | C27: Los Jobos | D27: P | E27: 252958 | F27: 335376 | G27: 35 | H27: - | I27: 1.13 | J27: - | K27: - | L27: =O27-I27 -> 2.8 | N27: - | O27: 3.93
A28: =1+A27 -> 24 | B28: AyA Tamarindo P1 Guanacaste | C28: Tamarindo | D28: P | E28: 256002 | F28: 336544 | G28: 29 | H28: - | I28: 0.28 | J28: - | K28: =N28-I28 -> 3.26 | L28: - | N28: 3.54 | O28: -
A29: =1+A28 -> 25 | B29: AyA Tamarindo P2 Virgilio | C29: Tamarindo | D29: P | E29: 255974 | F29: 336856 | G29: 26 | H29: - | I29: 0.55 | J29: - | K29: - | L29: =O29-I29 -> 7.21 | N29: - | O29: 7.76
A30: =1+A29 -> 26 | B30: AyA Tamarindo P2b Virgilio (nuevo) | C30: Tamarindo | D30: P | E30: 255966 | F30: 336871 | G30: 27 | H30: - | I30: 0.6 | J30: - | K30: - | L30: =O30-I30 -> 11.75 | N30: - | O30: 12.35
A31: =1+A30 -> 27 | B31: AyA Tamarindo P3 Papaturro | C31: Tamarindo | D31: P | E31: 255838 | F31: 337001 | G31: 27 | H31: - | I31: 0.85 | J31: - | K31: - | L31: =O31-I31 -> 10.48 | N31: - | O31: 11.33
A32: =1+A31 -> 28 | B32: AyA Tamarindo P4 Pochote | C32: Tamarindo | D32: P | E32: 255461 | F32: 336874 | G32: 28 | H32: - | I32: 0.45 | J32: - | K32: - | L32: - | N32: 4.66 | O32: -
A33: =1+A32 -> 29 | B33: AyA Tamarindo P4b Pochote (nuevo) | C33: Tamarindo | D33: P | E33: 255442 | F33: 336873 | G33: 26 | H33: - | I33: 0.45 | J33: - | K33: - | L33: =O33-I33 -> 16.35 | N33: - | O33: 16.8
A34: =1+A33 -> 30 | B34: AyA Tamarindo P5 Albin | C34: Tamarindo | D34: P | E34: 255477 | F34: 337058 | G34: 27 | H34: - | I34: 0.2 | J34: - | K34: - | L34: =O34-I34 -> 6.3 | N34: - | O34: 6.5
A35: =1+A34 -> 31 | B35: Gineth López Rosales | C35: Matapalo | D35: E | E35: 260752 | F35: 337937 | G35: 43 | H35: - | I35: 0.68 | J35: - | K35: =N35-I35 -> 3.66 | L35: - | N35: 4.34 | O35: -
A36: =1+A35 -> 32 | B36: ASADA Matapalo P3 | C36: Matapalo | D36: P | E36: 260776 | F36: 338205 | G36: 17 | H36: - | I36: 0.38 | J36: - | K36: =N36-I36 -> 4.61 | L36: - | N36: 4.99 | O36: -
A37: =1+A36 -> 33 | B37: ASADA Matapalo P1 | C37: Matapalo | D37: P | E37: 260777 | F37: 338205 | G37: 12 | H37: - | I37: 0.52 | J37: - | K37: - | L37: =O37-I37 -> 5.58 | N37: - | O37: 6.1
A38: =1+A37 -> 34 | B38: ASADA Matapalo P2 | C38: Matapalo | D38: P | E38: 260686 | F38: 338490 | G38: 31 | H38: - | I38: 0.75 | J38: - | K38: - | L38: =O38-I38 -> 4.55 | N38: - | O38: 5.3
A39: =1+A38 -> 35 | B39: ASADA Tamarindo P5 Jobo | C39: Matapalo | D39: P | E39: 253123 | F39: 335786 | G39: 23 | H39: - | I39: 0.52 | J39: - | K39: =N39-I39 -> 3.57 | L39: - | N39: 4.09 | O39: -
A40: =1+A39 -> 36 | B40: ASADA Tamarindo P3 Fertana | C40: Matapalo | D40: P | E40: 254952 | F40: 336152 | G40: 21 | H40: - | I40: 0.6 | J40: - | K40: =N40-I40 -> 3.89 | N40: 4.49 | O40: -
A41: =1+A40 -> 37 | B41: ASADA Tamarindo P4 Guanacaste | C41: Matapalo | D41: P | E41: 255121 | F41: 336224 | G41: 20 | H41: - | I41: 0.25 | J41: - | K41: =N41-I41 -> 1.55 | L41: - | N41: 1.8 | O41: -
A42: =1+A41 -> 38 | B42: ASADA Tamarindo P2 Curia | C42: Matapalo | D42: P | E42: 256943 | F42: 337838 | G42: 20 | H42: - | I42: 0.15 | J42: - | K42: Cerrado con llave | N42: - | O42: -
A43: =1+A42 -> 39 | B43: ASADA Tamarindo P1 Curia | C43: Matapalo | D43: P | E43: 256929 | F43: 337845 | G43: 18 | H43: - | I43: 0.93 | J43: - | K43: - | L43: =O43-I43 -> 4.17 | O43: 5.1
A44: =1+A43 -> 40 | B44: AyA Tamarindo P5b Albin (nuevo) | C44: Tamarindo | D44: P | E44: 255482 | F44: 337072 | H44: - | I44: 0.34 | J44: - | K44: - | L44: =O44-I44 -> 11.07 | N44: - | O44: 11.41

Sheet Enero 2015
A1: Plan de Monitoreo Acuífero Huacas Tamarindo
A2: Fecha: 29 de Enero del 2015
N3: Datos de campo
A4: N˚ | B4: 5 | C4: Lugar | D4: Tipo | E4: Latitud | F4: Longitud | G4: Altitud sobre nivel de Mar | H4: Diámetro armado (in) | I4: Brocal (m) | J4: Profundidad de pozo (m) | K4: Nivel estático (m) | L4: Nivel dinámico (m) | N4: Nivel estático (m) + Brocal | O4: Nivel dinámico (m) + Brocal
A5: 1 | B5: Aeropuerto Tamarindo Cancha de Golf | C5: Tamarindo | D5: P | E5: 255134 | F5: 337474 | G5: 41 | H5: - | I5: 0.45 | J5: - | K5: =N5-I5 -> 3.64 | L5: - | N5: 4.09 | O5: -
A6: =1+A5 -> 2 | B6: Aeropuerto Tamarindo cerca río San Andrés | C6: Tamarindo | D6: P | E6: 255381 | F6: 337593 | G6: 31 | H6: - | I6: 0.33 | J6: - | K6: =N6-I6 -> 3.7 | L6: - | N6: 4.03 | O6: -
A7: =1+A6 -> 3 | B7: Aeropuerto Tamarindo Abrevadero | C7: Tamarindo | D7: P | E7: 255744 | F7: 337763 | G7: 26 | H7: - | I7: 0.5 | J7: - | K7: =N7-I7 -> 2.75 | L7: - | N7: 3.25 | O7: -
A8: =1+A7 -> 4 | B8: Aeropuerto Tamarindo los Tornillos | C8: Tamarindo | D8: P | E8: 255800 | F8: 337245 | G8: 23 | H8: - | I8: 0.6 | J8: - | K8: =N8-I8 -> 3.23 | N8: 3.83 | O8: -
A9: =1+A8 -> 5 | B9: Elvira Matarrita | C9: El Llano | D9: E | E9: 256089 | F9: 338238 | G9: 30 | H9: - | I9: 0.84 | J9: - | K9: =N9-I9 -> 8.04 | L9: - | N9: 8.88 | O9: -
A10: =1+A9 -> 6 | B10: ASADA Villarreal P1 | C10: Villarreal | D10: P | E10: 255579 | F10: 338206 | G10: 20 | H10: - | I10: - | J10: 18 | K10: Línea de aire obstruida | N10: Línea de aire obstruida
A11: =1+A10 -> 7 | B11: ASADA Villarreal P2 | C11: Villarreal | D11: P | E11: 255562 | F11: 338189 | G11: 30 | H11: - | I11: 0.5 | J11: 18 | K11: =N11-I11 -> 3.43 | L11: - | N11: 3.93 | O11: -
A12: =1+A11 -> 8 | B12: ASADA Villarreal P3 | C12: Villarreal | D12: P | E12: 255605 | F12: 338552 | G12: 33 | H12: - | I12: 1.87 | J12: 19 | K12: Línea de aire obstruida | N12: Línea de aire obstruida
A13: =1+A12 -> 9 | B13: Maritza Obando | C13: San Andrés | D13: E | E13: 255576 | F13: 338998 | G13: 34 | H13: - | I13: 0.73 | J13: - | K13: =N13-I13 -> 3.25 | L13: - | N13: 3.98 | O13: -
A14: =1+A13 -> 10 | B14: ASADA Santa Rosa | C14: Santa Rosa | D14: P | E14: 255198 | F14: 340143 | G14: 22 | H14: - | I14: 0.8 | J14: - | K14: - | L14: =O14-I14 -> 9.03 | N14: - | O14: 9.83
A15: =1+A14 -> 11 | B15: Seabees Santa Rosa | C15: Santa Rosa | D15: P | E15: 255267 | F15: 340939 | G15: 31 | H15: - | I15: 0.38 | J15: - | K15: =N15-I15 -> 5.35 | L15: - | N15: 5.73 | O15: -
A16: =1+A15 -> 12 | B16: Magdalena Obando | C16: Santa Rosa | D16: E | E16: 255293 | F16: 340970 | G16: 32 | H16: - | I16: 0.84 | J16: - | K16: =N16-I16 -> 5.29 | L16: - | N16: 6.13 | O16: -
A17: =1+A16 -> 13 | B17: ASADA Lomas | C17: Lomas | D17: P | E17: 258631 | F17: 338988 | G17: 16 | H17: - | I17: 1.18 | J17: 26 | K17: =N17-I17 -> 1.21 | L17: - | N17: 2.39 | O17: -
A18: =1+A17 -> 14 | B18: José Catalino Jaén | C18: Lomas | D18: E | E18: 259080 | F18: 338723 | G18: 21 | H18: - | I18: 0.8 | J18: 11-12 | K18: =N18-I18 -> 4.69 | L18: - | N18: 5.49 | O18: -
A19: =1+A18 -> 15 | B19: Santos Arrieta | C19: Salinitas | D19: E | E19: 258896 | F19: 337242 | G19: 13 | H19: - | I19: 1 | J19: - | K19: - | L19: =O19-I19 -> 3.33 | N19: - | O19: 4.33
A20: =1+A19 -> 16 | B20: María Luisa Contreras | C20: Huacas | D20: E | E20: 261652 | F20: 341432 | G20: 41 | H20: - | I20: 0.78 | J20: - | K20: =N20-I20 -> 1.78 | L20: - | N20: 2.56 | O20: -
A21: =1+A20 -> 17 | B21: Paula Celaya | C21: Garita Vieja | D21: E | E21: 260355 | F21: 339957 | G21: 31 | H21: - | I21: 0.8 | J21: 8 | K21: =N21-I21 -> 4.8 | L21: - | N21: 5.6 | O21: -
A22: =1+A21 -> 18 | B22: Juan Pablo Arrieta | C22: Garita Nueva | D22: E | E22: 259558 | F22: 340347 | G22: 30 | H22: - | I22: 0.8 | J22: - | K22: =N22-I22 -> 2.68 | L22: - | N22: 3.48 | O22: -
A23: =1+A22 -> 19 | B23: Damián Matarrita | C23: Mangos | D23: E | E23: 260753 | F23: 340739 | G23: 34 | H23: - | I23: 0.9 | J23: 14 | K23: =N23-I23 -> 4.84 | L23: - | N23: 5.74 | O23: -
A24: =1+A23 -> 20 | B24: Cupertino López | C24: Tacasolapa | D24: E | E24: 258279 | F24: 340076 | G24: 31 | H24: - | I24: 1.15 | J24: - | K24: =N24-I24 -> 3.56 | L24: - | N24: 4.71 | O24: -
A25: =1+A24 -> 21 | B25: AyA Tamarindo P6 Plantel | C25: Tamarindo | D25: P | E25: 255183 | F25: 336781 | G25: 31 | H25: - | I25: 0 | J25: - | K25: =N25-I25 -> 5.84 | L25: - | N25: 5.84 | O25: -
A26: =1+A25 -> 22 | B26: AyA Tamarindo P1 Jobo | C26: Los Jobos | D26: P | E26: 253123 | F26: 335558 | G26: 34 | H26: - | I26: 0.43 | J26: - | K26: - | L26: =O26-I26 -> 5.43 | N26: - | O26: 5.86
A27: =1+A26 -> 23 | B27: AyA Tamarindo P2 Jobo | C27: Los Jobos | D27: P | E27: 252958 | F27: 335376 | G27: 35 | H27: - | I27: 1.13 | J27: - | K27: - | L27: =O27-I27 -> 4.41 | N27: - | O27: 5.54
A28: =1+A27 -> 24 | B28: AyA Tamarindo P1 Guanacaste | C28: Tamarindo | D28: P | E28: 256002 | F28: 336544 | G28: 29 | H28: - | I28: 0.28 | J28: - | K28: =N28-I28 -> 4.02 | L28: - | N28: 4.3 | O28: -
A29: =1+A28 -> 25 | B29: AyA Tamarindo P2 Virgilio | C29: Tamarindo | D29: P | E29: 255974 | F29: 336856 | G29: 26 | H29: - | I29: 0.55 | J29: - | K29: - | L29: =O29-I29 -> 9.95 | N29: - | O29: 10.5
A30: =1+A29 -> 26 | B30: AyA Tamarindo P2b Virgilio (nuevo) | C30: Tamarindo | D30: P | E30: 255966 | F30: 336871 | G30: 27 | H30: - | I30: 0.6 | J30: - | K30: - | L30: =O30-I30 -> 12.8 | N30: - | O30: 13.4
A31: =1+A30 -> 27 | B31: AyA Tamarindo P3 Papaturro | C31: Tamarindo | D31: P | E31: 255838 | F31: 337001 | G31: 27 | H31: - | I31: 0.85 | J31: - | K31: - | L31: =O31-I31 -> 12.37 | N31: - | O31: 13.22
A32: =1+A31 -> 28 | B32: AyA Tamarindo P4 Pochote | C32: Tamarindo | D32: P | E32: 255461 | F32: 336874 | G32: 28 | H32: - | I32: 0.45 | J32: - | K32: - | L32: - | N32: 5.6 | O32: -
A33: =1+A32 -> 29 | B33: AyA Tamarindo P4b Pochote (nuevo) | C33: Tamarindo | D33: P | E33: 255442 | F33: 336873 | G33: 26 | H33: - | I33: 0.45 | J33: - | K33: - | L33: =O33-I33 -> 16.74 | N33: - | O33: 17.19
A34: =1+A33 -> 30 | B34: AyA Tamarindo P5 Albin | C34: Tamarindo | D34: P | E34: 255477 | F34: 337058 | G34: 27 | H34: - | I34: 0.2 | J34: - | K34: - | L34: =O34-I34 -> 10.44 | N34: - | O34: 10.64
A35: =1+A34 -> 31 | B35: Gineth López Rosales | C35: Matapalo | D35: E | E35: 260752 | F35: 337937 | G35: 43 | H35: - | I35: 0.68 | J35: - | K35: =N35-I35 -> 4.09 | L35: - | N35: 4.77 | O35: -
A36: =1+A35 -> 32 | B36: ASADA Matapalo P3 | C36: Matapalo | D36: P | E36: 260776 | F36: 338205 | G36: 17 | H36: - | I36: 0.38 | J36: - | K36: =N36-I36 -> 4.4 | L36: - | N36: 4.78 | O36: -
A37: =1+A36 -> 33 | B37: ASADA Matapalo P1 | C37: Matapalo | D37: P | E37: 260777 | F37: 338205 | G37: 12 | H37: - | I37: 0.52 | J37: - | K37: - | L37: =O37-I37 -> 5.26 | N37: - | O37: 5.78
A38: =1+A37 -> 34 | B38: ASADA Matapalo P2 | C38: Matapalo | D38: P | E38: 260686 | F38: 338490 | G38: 31 | H38: - | I38: 0.75 | J38: - | K38: - | L38: =O38-I38 -> 4.67 | N38: - | O38: 5.42
A39: =1+A38 -> 35 | B39: ASADA Tamarindo P5 Jobo | C39: Matapalo | D39: P | E39: 253123 | F39: 335786 | G39: 23 | H39: - | I39: 0.52 | J39: - | K39: - | L39: =O39-I39 -> 8.24 | N39: - | O39: 8.76
A40: =1+A39 -> 36 | B40: ASADA Tamarindo P3 Fertana | C40: Matapalo | D40: P | E40: 254952 | F40: 336152 | G40: 21 | H40: - | I40: 0.6 | J40: - | K40: =N40-I40 -> 6.12 | N40: 6.72 | O40: -
A41: =1+A40 -> 37 | B41: ASADA Tamarindo P4 Guanacaste | C41: Matapalo | D41: P | E41: 255121 | F41: 336224 | G41: 20 | H41: - | I41: 0.25 | J41: - | K41: =N41-I41 -> 2.87 | L41: - | N41: 3.12 | O41: -
A42: =1+A41 -> 38 | B42: ASADA Tamarindo P2 Curia | C42: Matapalo | D42: P | E42: 256943 | F42: 337838 | G42: 20 | H42: - | I42: 0.15 | J42: - | K42: Cerrado con llave | N42: - | O42: -
A43: =1+A42 -> 39 | B43: ASADA Tamarindo P1 Curia | C43: Matapalo | D43: P | E43: 256929 | F43: 337845 | G43: 18 | H43: - | I43: 0.93 | J43: - | K43: - | L43: =O43-I43 -> 3.77 | O43: 4.7
A44: =1+A43 -> 40 | B44: AyA Tamarindo P5b Albin (nuevo) | C44: Tamarindo | D44: P | E44: 255482 | F44: 337072 | H44: - | I44: 0.34 | J44: - | K44: - | L44: =O44-I44 -> 18.93 | N44: - | O44: 19.27

Sheet Febrero 2015
A1: Plan de Monitoreo Acuífero Huacas Tamarindo
A2: Fecha: 26 de febrero del 2015
N3: Datos de campo
A4: N˚ | B4: 5 | C4: Lugar | D4: Tipo | E4: Latitud | F4: Longitud | G4: Altitud sobre nivel de Mar | H4: Diámetro armado (in) | I4: Brocal (m) | J4: Profundidad de pozo (m) | K4: Nivel estático (m) | L4: Nivel dinámico (m) | N4: Nivel estático (m) + Brocal | O4: Nivel dinámico (m) + Brocal
A5: 1 | B5: Aeropuerto Tamarindo Cancha de Golf | C5: Tamarindo | D5: P | E5: 255134 | F5: 337474 | G5: 41 | H5: - | I5: 0.45 | J5: - | K5: =N5-I5 -> 4.17 | L5: - | N5: 4.62 | O5: -
A6: =1+A5 -> 2 | B6: Aeropuerto Tamarindo cerca río San Andrés | C6: Tamarindo | D6: P | E6: 255381 | F6: 337593 | G6: 31 | H6: - | I6: 0.33 | J6: - | K6: =N6-I6 -> 4.43 | L6: - | N6: 4.76 | O6: -
A7: =1+A6 -> 3 | B7: Aeropuerto Tamarindo Abrevadero | C7: Tamarindo | D7: P | E7: 255744 | F7: 337763 | G7: 26 | H7: - | I7: 0.5 | J7: - | K7: =N7-I7 -> 3.46 | L7: - | N7: 3.96 | O7: -
A8: =1+A7 -> 4 | B8: Aeropuerto Tamarindo los Tornillos | C8: Tamarindo | D8: P | E8: 255800 | F8: 337245 | G8: 23 | H8: - | I8: 0.6 | J8: - | K8: =N8-I8 -> 3.88 | N8: 4.48 | O8: -
A9: =1+A8 -> 5 | B9: Elvira Matarrita | C9: El Llano | D9: E | E9: 256089 | F9: 338238 | G9: 30 | H9: - | I9: 0.84 | J9: - | K9: =N9-I9 -> 8.59 | L9: - | N9: 9.43 | O9: -
A10: =1+A9 -> 6 | B10: ASADA Villarreal P1 | C10: Villarreal | D10: P | E10: 255579 | F10: 338206 | G10: 20 | H10: - | I10: - | J10: 18 | K10: Línea de aire obstruida | N10: Línea de aire obstruida
A11: =1+A10 -> 7 | B11: ASADA Villarreal P2 | C11: Villarreal | D11: P | E11: 255562 | F11: 338189 | G11: 30 | H11: - | I11: 0.5 | J11: 18 | K11: =N11-I11 -> 4.5 | L11: - | N11: 5 | O11: -
A12: =1+A11 -> 8 | B12: ASADA Villarreal P3 | C12: Villarreal | D12: P | E12: 255605 | F12: 338552 | G12: 33 | H12: - | I12: 1.87 | J12: 19 | K12: Línea de aire obstruida | N12: Línea de aire obstruida
A13: =1+A12 -> 9 | B13: Maritza Obando | C13: San Andrés | D13: E | E13: 255576 | F13: 338998 | G13: 34 | H13: - | I13: 0.73 | J13: - | K13: =N13-I13 -> 4.03 | L13: - | N13: 4.76 | O13: -
A14: =1+A13 -> 10 | B14: ASADA Santa Rosa | C14: Santa Rosa | D14: P | E14: 255198 | F14: 340143 | G14: 22 | H14: - | I14: 0.8 | J14: - | K14: =N14-I14 -> 6.33 | L14: - | N14: 7.13 | O14: -
A15: =1+A14 -> 11 | B15: Seabees Santa Rosa | C15: Santa Rosa | D15: P | E15: 255267 | F15: 340939 | G15: 31 | H15: - | I15: 0.38 | J15: - | K15: =N15-I15 -> 5.98 | L15: - | N15: 6.36 | O15: -
A16: =1+A15 -> 12 | B16: Magdalena Obando | C16: Santa Rosa | D16: E | E16: 255293 | F16: 340970 | G16: 32 | H16: - | I16: 0.84 | J16: - | K16: =N16-I16 -> 6.02 | L16: - | N16: 6.86 | O16: -
A17: =1+A16 -> 13 | B17: ASADA Lomas | C17: Lomas | D17: P | E17: 258631 | F17: 338988 | G17: 16 | H17: - | I17: 1.18 | J17: 26 | K17: - | L17: =O17-I17 -> 5.7 | N17: - | O17: 6.88
A18: =1+A17 -> 14 | B18: José Catalino Jaén | C18: Lomas | D18: E | E18: 259080 | F18: 338723 | G18: 21 | H18: - | I18: 0.8 | J18: 11-12 | K18: =N18-I18 -> 5.31 | L18: - | N18: 6.11 | O18: -
A19: =1+A18 -> 15 | B19: Santos Arrieta | C19: Salinitas | D19: E | E19: 258896 | F19: 337242 | G19: 13 | H19: - | I19: 1 | J19: - | K19: =N19-I19 -> 3.76 | L19: - | N19: 4.76 | O19: -
A20: =1+A19 -> 16 | B20: María Luisa Contreras | C20: Huacas | D20: E | E20: 261652 | F20: 341432 | G20: 41 | H20: - | I20: 0.78 | J20: - | K20: =N20-I20 -> 2 | L20: - | N20: 2.78 | O20: -
A21: =1+A20 -> 17 | B21: Paula Celaya | C21: Garita Vieja | D21: E | E21: 260355 | F21: 339957 | G21: 31 | H21: - | I21: 0.8 | J21: 8 | K21: =N21-I21 -> 5.1 | L21: - | N21: 5.9 | O21: -
A22: =1+A21 -> 18 | B22: Juan Pablo Arrieta | C22: Garita Nueva | D22: E | E22: 259558 | F22: 340347 | G22: 30 | H22: - | I22: 0.8 | J22: - | K22: =N22-I22 -> 3.14 | L22: - | N22: 3.94 | O22: -
A23: =1+A22 -> 19 | B23: Damián Matarrita | C23: Mangos | D23: E | E23: 260753 | F23: 340739 | G23: 34 | H23: - | I23: 0.9 | J23: 14 | K23: =N23-I23 -> 5.62 | L23: - | N23: 6.52 | O23: -
A24: =1+A23 -> 20 | B24: Cupertino López | C24: Tacasolapa | D24: E | E24: 258279 | F24: 340076 | G24: 31 | H24: - | I24: 1.15 | J24: - | K24: =N24-I24 -> 4.52 | L24: - | N24: 5.67 | O24: -
A25: =1+A24 -> 21 | B25: AyA Tamarindo P6 Plantel | C25: Tamarindo | D25: P | E25: 255183 | F25: 336781 | G25: 31 | H25: - | I25: 0 | J25: - | K25: =N25-I25 -> 6.78 | L25: - | N25: 6.78 | O25: -
A26: =1+A25 -> 22 | B26: AyA Tamarindo P1 Jobo | C26: Los Jobos | D26: P | E26: 253123 | F26: 335558 | G26: 34 | H26: - | I26: 0.43 | J26: - | K26: - | L26: =O26-I26 -> 8.6 | N26: - | O26: 9.03
A27: =1+A26 -> 23 | B27: AyA Tamarindo P2 Jobo | C27: Los Jobos | D27: P | E27: 252958 | F27: 335376 | G27: 35 | H27: - | I27: 1.13 | J27: - | K27: - | L27: =O27-I27 -> 7.31 | N27: - | O27: 8.44
A28: =1+A27 -> 24 | B28: AyA Tamarindo P1 Guanacaste | C28: Tamarindo | D28: P | E28: 256002 | F28: 336544 | G28: 29 | H28: - | I28: 0.28 | J28: - | K28: =N28-I28 -> 4.76 | L28: - | N28: 5.04 | O28: -
A29: =1+A28 -> 25 | B29: AyA Tamarindo P2 Virgilio | C29: Tamarindo | D29: P | E29: 255974 | F29: 336856 | G29: 26 | H29: - | I29: 0.55 | J29: - | K29: - | L29: =O29-I29 -> 12.83 | N29: - | O29: 13.38
A30: =1+A29 -> 26 | B30: AyA Tamarindo P2b Virgilio (nuevo) | C30: Tamarindo | D30: P | E30: 255966 | F30: 336871 | G30: 27 | H30: - | I30: 0.6 | J30: - | K30: - | L30: =O30-I30 -> 12.99 | N30: - | O30: 13.59
A31: =1+A30 -> 27 | B31: AyA Tamarindo P3 Papaturro | C31: Tamarindo | D31: P | E31: 255838 | F31: 337001 | G31: 27 | H31: - | I31: 0.85 | J31: - | K31: - | L31: =O31-I31 -> 13.03 | N31: - | O31: 13.88
A32: =1+A31 -> 28 | B32: AyA Tamarindo P4 Pochote | C32: Tamarindo | D32: P | E32: 255461 | F32: 336874 | G32: 28 | H32: - | I32: 0.45 | J32: - | K32: =N32-I32 -> 6.48 | L32: - | N32: 6.93 | O32: -
A33: =1+A32 -> 29 | B33: AyA Tamarindo P4b Pochote (nuevo) | C33: Tamarindo | D33: P | E33: 255442 | F33: 336873 | G33: 26 | H33: - | I33: 0.45 | J33: - | K33: - | L33: =O33-I33 -> 16.8 | N33: - | O33: 17.25
A34: =1+A33 -> 30 | B34: AyA Tamarindo P5 Albin | C34: Tamarindo | D34: P | E34: 255477 | F34: 337058 | G34: 27 | H34: - | I34: 0.2 | J34: - | K34: - | L34: =O34-I34 -> 22.34 | N34: - | O34: 22.54
A35: =1+A34 -> 31 | B35: Gineth López Rosales | C35: Matapalo | D35: E | E35: 260752 | F35: 337937 | G35: 43 | H35: - | I35: 0.68 | J35: - | K35: =N35-I35 -> 4.41 | L35: - | N35: 5.09
A36: =1+A35 -> 32 | B36: ASADA Matapalo P3 | C36: Matapalo | D36: P | E36: 260776 | F36: 338205 | G36: 17 | H36: - | I36: 0.38 | J36: - | K36: - | L36: =O36-I36 -> 10.91 | O36: 11.29
A37: =1+A36 -> 33 | B37: ASADA Matapalo P1 | C37: Matapalo | D37: P | E37: 260777 | F37: 338205 | G37: 12 | H37: - | I37: 0.52 | J37: - | K37: - | L37: =O37-I37 -> 7.25 | O37: 7.77
A38: =1+A37 -> 34 | B38: ASADA Matapalo P2 | C38: Matapalo | D38: P | E38: 260686 | F38: 338490 | G38: 31 | H38: - | I38: 0.75 | J38: - | K38: =N38-I38 -> 2.76 | L38: - | N38: 3.51
A39: =1+A38 -> 35 | B39: ASADA Tamarindo P5 Jobo | C39: Matapalo | D39: P | E39: 253123 | F39: 335786 | G39: 23 | H39: - | I39: 0.52 | J39: - | K39: =N39-I39 -> 7.77 | L39: - | N39: 8.29
A40: =1+A39 -> 36 | B40: ASADA Tamarindo P3 Fertana | C40: Matapalo | D40: P | E40: 254952 | F40: 336152 | G40: 21 | H40: - | I40: 0.6 | J40: - | K40: =N40-I40 -> 6.99 | L40: - | N40: 7.59
A41: =1+A40 -> 37 | B41: ASADA Tamarindo P4 Guanacaste | C41: Matapalo | D41: P | E41: 255121 | F41: 336224 | G41: 20 | H41: - | I41: 0.25 | J41: - | K41: =N41-I41 -> 4.72 | L41: - | N41: 4.97
A42: =1+A41 -> 38 | B42: ASADA Tamarindo P2 Curia | C42: Matapalo | D42: P | E42: 256943 | F42: 337838 | G42: 20 | H42: - | I42: 0.15 | J42: - | K42: Cerrado con llave | N42: Cerrado con llave
A43: =1+A42 -> 39 | B43: ASADA Tamarindo P1 Curia | C43: Matapalo | D43: P | E43: 256929 | F43: 337845 | G43: 18 | H43: - | I43: 0.93 | J43: - | K43: - | L43: =O43-I43 -> 13.15 | O43: 14.08
A44: =1+A43 -> 40 | B44: AyA Tamarindo P5b Albin (nuevo) | C44: Tamarindo | D44: P | E44: 255482 | F44: 337072 | H44: - | I44: 0.34 | J44: - | K44: - | L44: =O44-I44 -> 19.29 | O44: 19.63

Sheet Marzo 2015
A1: Plan de Monitoreo Acuífero Huacas Tamarindo
A2: Fecha: 19 marzo del 2015
N3: Datos de campo
A4: N˚ | B4: 5 | C4: Lugar | D4: Tipo | E4: Latitud | F4: Longitud | G4: Altitud sobre nivel de Mar | H4: Diámetro armado (in) | I4: Brocal (m) | J4: Profundidad de pozo (m) | K4: Nivel estático (m) | L4: Nivel dinámico (m) | N4: Nivel estático (m) + Brocal | O4: Nivel dinámico (m) + Brocal
A5: 1 | B5: Aeropuerto Tamarindo Cancha de Golf | C5: Tamarindo | D5: P | E5: 255134 | F5: 337474 | G5: 41 | H5: - | I5: 0.45 | J5: - | K5: =N5-I5 -> 4.71 | L5: - | N5: 5.16 | O5: -
A6: 2 | B6: Aeropuerto Tamarindo cerca río San Andrés | C6: Tamarindo | D6: P | E6: 255381 | F6: 337593 | G6: 31 | H6: - | I6: 0.33 | J6: - | K6: =N6-I6 -> 5.11 | L6: - | N6: 5.44 | O6: -
A7: 3 | B7: Aeropuerto Tamarindo Abrevadero | C7: Tamarindo | D7: P | E7: 255744 | F7: 337763 | G7: 26 | H7: - | I7: 0.5 | J7: - | K7: =N7-I7 -> 4.03 | L7: - | N7: 4.53 | O7: -
A8: 4 | B8: Aeropuerto Tamarindo los Tornillos | C8: Tamarindo | D8: P | E8: 255800 | F8: 337245 | G8: 23 | H8: - | I8: 0.6 | J8: - | K8: =N8-I8 -> 4.34 | L8: - | N8: 4.94 | O8: -
A9: 5 | B9: Elvira Matarrita | C9: El Llano | D9: E | E9: 256089 | F9: 338238 | G9: 30 | H9: - | I9: 0.84 | J9: - | K9: =N9-I9 -> 9.01 | L9: - | N9: 9.85 | O9: -
A10: 6 | B10: ASADA Villarreal P1 | C10: Villarreal | D10: P | E10: 255579 | F10: 338206 | G10: 20 | H10: - | I10: - | J10: 18 | K10: Línea de aire obstruida | N10: Línea de aire obstruida
A11: 7 | B11: ASADA Villarreal P2 | C11: Villarreal | D11: P | E11: 255562 | F11: 338189 | G11: 30 | H11: - | I11: 0.5 | J11: 18 | K11: =N11-I11 -> 5.32 | L11: - | N11: 5.82 | O11: -
A12: 8 | B12: ASADA Villarreal P3 | C12: Villarreal | D12: P | E12: 255605 | F12: 338552 | G12: 33 | H12: - | I12: 1.87 | J12: 19 | K12: Línea de aire obstruida | N12: Línea de aire obstruida
A13: 9 | B13: Maritza Obando | C13: San Andrés | D13: E | E13: 255576 | F13: 338998 | G13: 34 | H13: - | I13: 0.73 | J13: - | K13: =N13-I13 -> 4.6 | L13: - | N13: 5.33 | O13: -
A14: 10 | B14: ASADA Santa Rosa | C14: Santa Rosa | D14: P | E14: 255198 | F14: 340143 | G14: 22 | H14: - | I14: 0.8 | J14: - | K14: - | L14: =O14-I14 -> 14.52 | N14: - | O14: 15.32
A15: 11 | B15: Seabees Santa Rosa | C15: Santa Rosa | D15: P | E15: 255267 | F15: 340939 | G15: 31 | H15: - | I15: 0.38 | J15: - | K15: =N15-I15 -> 6.38 | L15: - | N15: 6.76 | O15: -
A16: 12 | B16: Magdalena Obando | C16: Santa Rosa | D16: E | E16: 255293 | F16: 340970 | G16: 32 | H16: - | I16: 0.84 | J16: - | K16: =N16-I16 -> 6.47 | L16: - | N16: 7.31 | O16: -
A17: 13 | B17: ASADA Lomas | C17: Lomas | D17: P | E17: 258631 | F17: 338988 | G17: 16 | H17: - | I17: 1.18 | J17: 26 | K17: =N17-I17 -> 1.99 | L17: - | N17: 3.17 | O17: -
A18: 14 | B18: José Catalino Jaén | C18: Lomas | D18: E | E18: 259080 | F18: 338723 | G18: 21 | H18: - | I18: 0.8 | J18: 11-12 | K18: =N18-I18 -> 5.82 | L18: - | N18: 6.62 | O18: -
A19: 15 | B19: Santos Arrieta | C19: Salinitas | D19: E | E19: 258896 | F19: 337242 | G19: 13 | H19: - | I19: 1 | J19: - | K19: =N19-I19 -> 4.21 | L19: - | N19: 5.21 | O19: -
A20: 16 | B20: María Luisa Contreras | C20: Huacas | D20: E | E20: 261652 | F20: 341432 | G20: 41 | H20: - | I20: 0.78 | J20: - | K20: =N20-I20 -> 2.17 | L20: - | N20: 2.95 | O20: -
A21: 17 | B21: Paula Celaya | C21: Garita Vieja | D21: E | E21: 260355 | F21: 339957 | G21: 31 | H21: - | I21: 0.8 | J21: 8 | K21: =N21-I21 -> 5.4 | L21: - | N21: 6.2 | O21: -
A22: 18 | B22: Juan Pablo Arrieta | C22: Garita Nueva | D22: E | E22: 259558 | F22: 340347 | G22: 30 | H22: - | I22: 0.8 | J22: - | K22: =N22-I22 -> 3.48 | L22: - | N22: 4.28 | O22: -
A23: 19 | B23: Damián Matarrita | C23: Mangos | D23: E | E23: 260753 | F23: 340739 | G23: 34 | H23: - | I23: 0.9 | J23: 14 | K23: =N23-I23 -> 6.22 | L23: - | N23: 7.12 | O23: -
A24: 20 | B24: Cupertino López | C24: Tacasolapa | D24: E | E24: 258279 | F24: 340076 | G24: 31 | H24: - | I24: 1.15 | J24: - | K24: =N24-I24 -> 5.17 | L24: - | N24: 6.32 | O24: -
A25: 21 | B25: AyA Tamarindo P6 Plantel | C25: Tamarindo | D25: P | E25: 255183 | F25: 336781 | G25: 31 | H25: - | I25: 0 | J25: - | K25: =N25-I25 -> 7.56 | L25: - | N25: 7.56 | O25: -
A26: 22 | B26: AyA Tamarindo P1 Jobo | C26: Los Jobos | D26: P | E26: 253123 | F26: 335558 | G26: 34 | H26: - | I26: 0.43 | J26: - | K26: - | L26: =O26-I26 -> 9.6 | N26: - | O26: 10.03
A27: 23 | B27: AyA Tamarindo P2 Jobo | C27: Los Jobos | D27: P | E27: 252958 | F27: 335376 | G27: 35 | H27: - | I27: 1.13 | J27: - | K27: - | L27: =O27-I27 -> 8.75 | N27: - | O27: 9.88
A28: 24 | B28: AyA Tamarindo P1 Guanacaste | C28: Tamarindo | D28: P | E28: 256002 | F28: 336544 | G28: 29 | H28: - | I28: 0.28 | J28: - | K28: =N28-I28 -> 5.16 | L28: - | N28: 5.44 | O28: -
A29: 25 | B29: AyA Tamarindo P2 Virgilio | C29: Tamarindo | D29: P | E29: 255974 | F29: 336856 | G29: 26 | H29: - | I29: 0.55 | J29: - | K29: - | L29: =O29-I29 -> 12.99 | N29: - | O29: 13.54
A30: 26 | B30: AyA Tamarindo P2b Virgilio (nuevo) | C30: Tamarindo | D30: P | E30: 255966 | F30: 336871 | G30: 27 | H30: - | I30: 0.6 | J30: - | K30: - | L30: =O30-I30 -> 13.56 | N30: - | O30: 14.16
A31: 27 | B31: AyA Tamarindo P3 Papaturro | C31: Tamarindo | D31: P | E31: 255838 | F31: 337001 | G31: 27 | H31: - | I31: 0.85 | J31: - | K31: - | L31: =O31-I31 -> 13.83 | N31: - | O31: 14.68
A32: 28 | B32: AyA Tamarindo P4 Pochote | C32: Tamarindo | D32: P | E32: 255461 | F32: 336874 | G32: 28 | H32: - | I32: 0.45 | J32: - | K32: =N32-I32 -> 7.1 | L32: - | N32: 7.55 | O32: -
A33: 29 | B33: AyA Tamarindo P4b Pochote (nuevo) | C33: Tamarindo | D33: P | E33: 255442 | F33: 336873 | G33: 26 | H33: - | I33: 0.45 | J33: - | K33: - | L33: =O33-I33 -> 16.92 | N33: - | O33: 17.37
A34: 30 | B34: AyA Tamarindo P5 Albin | C34: Tamarindo | D34: P | E34: 255477 | F34: 337058 | G34: 27 | H34: - | I34: 0.2 | J34: - | K34: - | L34: =O34-I34 -> 8.88 | N34: - | O34: 9.08
A35: 31 | B35: Gineth López Rosales | C35: Matapalo | D35: E | E35: 260752 | F35: 337937 | G35: 43 | H35: - | I35: 0.68 | J35: - | K35: =N35-I35 -> 4.65 | L35: - | N35: 5.33 | O35: -
A36: 32 | B36: ASADA Matapalo P3 | C36: Matapalo | D36: P | E36: 260776 | F36: 338205 | G36: 17 | H36: - | I36: 0.38 | J36: - | K36: - | L36: =O36-I36 -> 9.09 | N36: - | O36: 9.47
A37: 33 | B37: ASADA Matapalo P1 | C37: Matapalo | D37: P | E37: 260777 | F37: 338205 | G37: 12 | H37: - | I37: 0.52 | J37: - | K37: - | L37: =O37-I37 -> 7.15 | N37: - | O37: 7.67
A38: 34 | B38: ASADA Matapalo P2 | C38: Matapalo | D38: P | E38: 260686 | F38: 338490 | G38: 31 | H38: - | I38: 0.75 | J38: - | K38: =N38-I38 -> 5.09 | L38: - | N38: 5.84 | O38: -
A39: 35 | B39: ASADA Tamarindo P5 Jobo | C39: Matapalo | D39: P | E39: 253123 | F39: 335786 | G39: 23 | H39: - | I39: 0.52 | J39: - | K39: =N39-I39 -> 9.14 | L39: - | N39: 9.66 | O39: -
A40: 36 | B40: ASADA Tamarindo P3 Fertana | C40: Matapalo | D40: P | E40: 254952 | F40: 336152 | G40: 21 | H40: - | I40: 0.6 | J40: - | K40: =N40-I40 -> 7.67 | L40: - | N40: 8.27 | O40: -
A41: 37 | B41: ASADA Tamarindo P4 Guanacaste | C41: Matapalo | D41: P | E41: 255121 | F41: 336224 | G41: 20 | H41: - | I41: 0.25 | J41: - | K41: - | L41: =O41-I41 -> 5.81 | N41: - | O41: 6.06
A42: 38 | B42: ASADA Tamarindo P2 Curia | C42: Matapalo | D42: P | E42: 256943 | F42: 337838 | G42: 20 | H42: - | I42: 0.15 | J42: - | K42: Cerrado con llave | N42: Cerrado con llave
A43: 39 | B43: ASADA Tamarindo P1 Curia | C43: Matapalo | D43: P | E43: 256929 | F43: 337845 | G43: 18 | H43: - | I43: 0.93 | J43: - | K43: - | L43: =O43-I43 -> 13.4 | N43: - | O43: 14.33
A44: 40 | B44: AyA Tamarindo P5b Albin (nuevo) | C44: Tamarindo | D44: P | E44: 255482 | F44: 337072 | H44: - | I44: 0.34 | J44: - | K44: - | L44: =O44-I44 -> 21.26 | N44: - | O44: 21.6

Sheet Abril 2015
A1: Plan de Monitoreo Acuífero Huacas Tamarindo
A2: Fecha: 23 de abril del 2015
N3: Datos de campo
A4: N˚ | B4: 5 | C4: Lugar | D4: Tipo | E4: Latitud | F4: Longitud | G4: Altitud sobre nivel de Mar | H4: Diámetro armado (in) | I4: Brocal (m) | J4: Profundidad de pozo (m) | K4: Nivel estático (m) | L4: Nivel dinámico (m) | N4: Nivel estático (m) + Brocal | O4: Nivel dinámico (m) + Brocal
A5: 1 | B5: Aeropuerto Tamarindo Cancha de Golf | C5: Tamarindo | D5: P | E5: 255134 | F5: 337474 | G5: 41 | H5: - | I5: 0.45 | J5: - | K5: =N5-I5 -> 5.85 | L5: - | N5: 6.3 | O5: -
A6: 2 | B6: Aeropuerto Tamarindo cerca río San Andrés | C6: Tamarindo | D6: P | E6: 255381 | F6: 337593 | G6: 31 | H6: - | I6: 0.33 | J6: - | K6: =N6-I6 -> 6.02 | L6: - | N6: 6.35 | O6: -
A7: 3 | B7: Aeropuerto Tamarindo Abrevadero | C7: Tamarindo | D7: P | E7: 255744 | F7: 337763 | G7: 26 | H7: - | I7: 0.5 | J7: - | K7: =N7-I7 -> 4.84 | L7: - | N7: 5.34 | O7: -
A8: 4 | B8: Aeropuerto Tamarindo los Tornillos | C8: Tamarindo | D8: P | E8: 255800 | F8: 337245 | G8: 23 | H8: - | I8: 0.6 | J8: - | K8: =N8-I8 -> 4.03 | L8: - | N8: 4.63 | O8: -
A9: 5 | B9: Elvira Matarrita | C9: El Llano | D9: E | E9: 256089 | F9: 338238 | G9: 30 | H9: - | I9: 0.84 | J9: - | K9: =N9-I9 -> 9.59 | L9: - | N9: 10.43 | O9: -
A10: 6 | B10: ASADA Villarreal P1 | C10: Villarreal | D10: P | E10: 255579 | F10: 338206 | G10: 20 | H10: - | I10: - | J10: 18 | K10: Linea de aire obstruida | N10: - | O10: -
A11: 7 | B11: ASADA Villarreal P2 | C11: Villarreal | D11: P | E11: 255562 | F11: 338189 | G11: 30 | H11: - | I11: 0.5 | J11: 18 | K11: - | L11: =O11-I11 -> 8.57 | N11: - | O11: 9.07
A12: 8 | B12: ASADA Villarreal P3 | C12: Villarreal | D12: P | E12: 255605 | F12: 338552 | G12: 33 | H12: - | I12: 1.87 | J12: 19 | K12: Linea de aire obstruida | N12: - | O12: -
A13: 9 | B13: Maritza Obando | C13: San Andrés | D13: E | E13: 255576 | F13: 338998 | G13: 34 | H13: - | I13: 0.73 | J13: - | K13: seco | N13: - | O13: -
A14: 10 | B14: ASADA Santa Rosa | C14: Santa Rosa | D14: P | E14: 255198 | F14: 340143 | G14: 22 | H14: - | I14: 0.8 | J14: - | K14: - | L14: =O14-I14 -> 12.5 | N14: - | O14: 13.3
A15: 11 | B15: Seabees Santa Rosa | C15: Santa Rosa | D15: P | E15: 255267 | F15: 340939 | G15: 31 | H15: - | I15: 0.38 | J15: - | K15: =N15-I15 -> 7.04 | L15: - | N15: 7.42 | O15: -
A16: 12 | B16: Magdalena Obando | C16: Santa Rosa | D16: E | E16: 255293 | F16: 340970 | G16: 32 | H16: - | I16: 0.84 | J16: - | K16: =N16-I16 -> 7.2 | L16: - | N16: 8.04 | O16: -
A17: 13 | B17: ASADA Lomas | C17: Lomas | D17: P | E17: 258631 | F17: 338988 | G17: 16 | H17: - | I17: 1.18 | J17: 26 | K17: =N17-I17 -> 2.47 | L17: - | N17: 3.65 | O17: -
A18: 14 | B18: José Catalino Jaén | C18: Lomas | D18: E | E18: 259080 | F18: 338723 | G18: 21 | H18: - | I18: 0.8 | J18: 11-12 | K18: =N18-I18 -> 6.58 | L18: - | N18: 7.38 | O18: -
A19: 15 | B19: Santos Arrieta | C19: Salinitas | D19: E | E19: 258896 | F19: 337242 | G19: 13 | H19: - | I19: 1 | J19: - | K19: =N19-I19 -> 5.58 | L19: - | N19: 6.58 | O19: -
A20: 16 | B20: María Luisa Contreras | C20: Huacas | D20: E | E20: 261652 | F20: 341432 | G20: 41 | H20: - | I20: 0.78 | J20: - | K20: =N20-I20 -> 2.39 | L20: - | N20: 3.17 | O20: -
A21: 17 | B21: Paula Celaya | C21: Garita Vieja | D21: E | E21: 260355 | F21: 339957 | G21: 31 | H21: - | I21: 0.8 | J21: 8 | K21: =N21-I21 -> 5.75 | L21: - | N21: 6.55 | O21: -
A22: 18 | B22: Juan Pablo Arrieta | C22: Garita Nueva | D22: E | E22: 259558 | F22: 340347 | G22: 30 | H22: - | I22: 0.8 | J22: - | K22: seco | N22: - | O22: -
A23: 19 | B23: Damián Matarrita | C23: Mangos | D23: E | E23: 260753 | F23: 340739 | G23: 34 | H23: - | I23: 0.9 | J23: 14 | K23: seco | N23: - | O23: -
A24: 20 | B24: Cupertino López | C24: Tacasolapa | D24: E | E24: 258279 | F24: 340076 | G24: 31 | H24: - | I24: 1.15 | J24: - | K24: =N24-I24 -> 6.05 | L24: - | N24: 7.2 | O24: -
A25: 21 | B25: AyA Tamarindo P6 Plantel | C25: Tamarindo | D25: P | E25: 255183 | F25: 336781 | G25: 31 | H25: - | I25: 0 | J25: - | K25: =N25-I25 -> 8.35 | L25: - | N25: 8.35 | O25: -
A26: 22 | B26: AyA Tamarindo P1 Jobo | C26: Los Jobos | D26: P | E26: 253123 | F26: 335558 | G26: 34 | H26: - | I26: 0.43 | J26: - | K26: - | L26: =O26-I26 -> 11.97 | N26: - | O26: 12.4
A27: 23 | B27: AyA Tamarindo P2 Jobo | C27: Los Jobos | D27: P | E27: 252958 | F27: 335376 | G27: 35 | H27: - | I27: 1.13 | J27: - | K27: - | L27: =O27-I27 -> 24.57 | N27: - | O27: 25.7
A28: 24 | B28: AyA Tamarindo P1 Guanacaste | C28: Tamarindo | D28: P | E28: 256002 | F28: 336544 | G28: 29 | H28: - | I28: 0.28 | J28: - | K28: =N28-I28 -> 5.52 | L28: - | N28: 5.8 | O28: -
A29: 25 | B29: AyA Tamarindo P2 Virgilio | C29: Tamarindo | D29: P | E29: 255974 | F29: 336856 | G29: 26 | H29: - | I29: 0.55 | J29: - | K29: - | L29: =O29-I29 -> 11.21 | N29: - | O29: 11.76
A30: 26 | B30: AyA Tamarindo P2b Virgilio (nuevo) | C30: Tamarindo | D30: P | E30: 255966 | F30: 336871 | G30: 27 | H30: - | I30: 0.6 | J30: - | K30: - | L30: =O30-I30 -> 12.95 | N30: - | O30: 13.55
A31: 27 | B31: AyA Tamarindo P3 Papaturro | C31: Tamarindo | D31: P | E31: 255838 | F31: 337001 | G31: 27 | H31: - | I31: 0.85 | J31: - | K31: =N31-I31 -> 6.11 | L31: - | N31: 6.96 | O31: -
A32: 28 | B32: AyA Tamarindo P4 Pochote | C32: Tamarindo | D32: P | E32: 255461 | F32: 336874 | G32: 28 | H32: - | I32: 0.45 | J32: - | K32: - | L32: =O32-I32 -> 12.75 | N32: - | O32: 13.2
A33: 29 | B33: AyA Tamarindo P4b Pochote (nuevo) | C33: Tamarindo | D33: P | E33: 255442 | F33: 336873 | G33: 26 | H33: - | I33: 0.45 | J33: - | K33: - | L33: =O33-I33 -> 15.75 | N33: - | O33: 16.2
A34: 30 | B34: AyA Tamarindo P5 Albin | C34: Tamarindo | D34: P | E34: 255477 | F34: 337058 | G34: 27 | H34: - | I34: 0.2 | J34: - | K34: - | L34: =O34-I34 -> 17.93 | N34: - | O34: 18.13
A35: 31 | B35: Gineth López Rosales | C35: Matapalo | D35: E | E35: 260752 | F35: 337937 | G35: 43 | H35: - | I35: 0.68 | J35: - | K35: =N35-I35 -> 5.06 | L35: - | N35: 5.74 | O35: -
A36: 32 | B36: ASADA Matapalo P3 | C36: Matapalo | D36: P | E36: 260776 | F36: 338205 | G36: 17 | H36: - | I36: 0.38 | J36: - | K36: =N36-I36 -> 6.34 | L36: - | N36: 6.72 | O36: -
A37: 33 | B37: ASADA Matapalo P1 | C37: Matapalo | D37: P | E37: 260777 | F37: 338205 | G37: 12 | H37: - | I37: 0.52 | J37: - | K37: - | L37: =O37-I37 -> 7.48 | N37: - | O37: 8
A38: 34 | B38: ASADA Matapalo P2 | C38: Matapalo | D38: P | E38: 260686 | F38: 338490 | G38: 31 | H38: - | I38: 0.75 | J38: - | K38: - | L38: =O38-I38 -> 8.35 | N38: - | O38: 9.1
A39: 35 | B39: ASADA Tamarindo P5 Jobo | C39: Matapalo | D39: P | E39: 253123 | F39: 335786 | G39: 23 | H39: - | I39: 0.52 | J39: - | K39: =N39-I39 -> 11.53 | L39: - | N39: 12.05 | O39: -
A40: 36 | B40: ASADA Tamarindo P3 Fertana | C40: Matapalo | D40: P | E40: 254952 | F40: 336152 | G40: 21 | H40: - | I40: 0.6 | J40: - | K40: =N40-I40 -> 8.3 | L40: - | N40: 8.9 | O40: -
A41: 37 | B41: ASADA Tamarindo P4 Guanacaste | C41: Matapalo | D41: P | E41: 255121 | F41: 336224 | G41: 20 | H41: - | I41: 0.25 | J41: - | K41: - | L41: =O41-I41 -> 10.35 | N41: - | O41: 10.6
A42: 38 | B42: ASADA Tamarindo P2 Curia | C42: Matapalo | D42: P | E42: 256943 | F42: 337838 | G42: 20 | H42: - | I42: 0.15 | J42: - | K42: Cerrado con llave | N42: - | O42: -
A43: 39 | B43: ASADA Tamarindo P1 Curia | C43: Matapalo | D43: P | E43: 256929 | F43: 337845 | G43: 18 | H43: - | I43: 0.93 | J43: - | K43: - | L43: =O43-I43 -> 16.75 | N43: - | O43: 17.68
A44: 40 | B44: AyA Tamarindo P5b Albin (nuevo) | C44: Tamarindo | D44: P | E44: 255482 | F44: 337072 | H44: - | I44: 0.34 | J44: - | K44: - | L44: =O44-I44 -> 18.86 | N44: - | O44: 19.2

Sheet Mayo 2015
A1: Plan de Monitoreo Acuífero Huacas Tamarindo
A2: Fecha: 28 de Mayo del 2015
A4: N˚ | B4: 5 | C4: Lugar | D4: Tipo | E4: Latitud | F4: Longitud | G4: Altitud sobre nivel de Mar | H4: Diámetro armado (in) | I4: Brocal (m) | J4: Profundidad de pozo (m) | K4: Nivel estático (m) | L4: Nivel dinámico (m)
A5: 1 | B5: Aeropuerto Tamarindo Cancha de Golf | C5: Tamarindo | D5: P | E5: 255134 | F5: 337474 | G5: 41 | H5: - | I5: 0.45 | J5: - | K5: 8.03
A6: 2 | B6: Aeropuerto Tamarindo cerca río San Andrés | C6: Tamarindo | D6: P | E6: 255381 | F6: 337593 | G6: 31 | H6: - | I6: 0.33 | J6: - | K6: 8.09
A7: 3 | B7: Aeropuerto Tamarindo Abrevadero | C7: Tamarindo | D7: P | E7: 255744 | F7: 337763 | G7: 26 | H7: - | I7: 0.5 | J7: - | K7: 7.36
A8: 4 | B8: Aeropuerto Tamarindo los Tornillos | C8: Tamarindo | D8: P | E8: 255800 | F8: 337245 | G8: 23 | H8: - | I8: 0.6 | J8: - | K8: 7.62
