Workbook

Sheet Junio 2012
A1: Plan de Monitoreo Acuífero Caimital
A2: Fecha: 25 y 28 de junio del 2012
N3: Datos de campo
A4: N˚ | B4: Nombre del POZO | C4: Lugar | D4: Tipo | E4: Latitud | F4: Longitud | G4: Altitud sobre nivel de Mar | H4: Diámetro armado (in) | I4: Brocal (m) | J4: Profundidad de pozo (m) | K4: Nivel estático (m) | L4: Nivel dinámico (m) | N4: Nivel estático (m) + Brocal | O4: Nivel dinámico (m) + Brocal
A5: 1 | B5: AyA Caimital 1 | C5: Caimital | D5: P | E5: 228433 | F5: 374731 | G5: 176 | H5: 8 | I5: 0.45 | K5: - | L5: =O5-I5 -> 9.66 | N5: - | O5: 10.11
A6: =1+A5 -> 2 | B6: AyA Caimital 2 | C6: Caimital | D6: P | E6: 228410 | F6: 374618 | G6: 169 | H6: 10 | I6: 0.53 | K6: =N6-I6 -> 4.88 | L6: - | N6: 5.41 | O6: -
A7: =1+A6 -> 3 | B7: AyA Caimital 6 | C7: Caimital | D7: P | E7: 228332 | F7: 373697 | G7: 165 | H7: 8 | I7: 0.46 | K7: =N7-I7 -> 3.28 | L7: - | N7: 3.74 | O7: -
A8: =1+A7 -> 4 | B8: AyA Caimital 4 | C8: Caimital | D8: P | E8: 228311 | F8: 373468 | G8: 164 | H8: 10 | I8: 0.75 | K8: =N8-I8 -> 2.88 | L8: - | N8: 3.63 | O8: -
A9: =1+A8 -> 5 | B9: CJ-17 Villa Adela | C9: Dulce Nombre | D9: P | E9: 229011 | F9: 372774 | G9: 171 | H9: 10 | I9: 0.21 | K9: =N9-I9 -> 6.53 | L9: - | N9: 6.74 | O9: -
A10: =1+A9 -> 6 | B10: MTP-279 Jose Campos Camacho | C10: Dulce Nombre | D10: P | E10: 228975 | F10: 372676 | G10: 178 | H10: 6 | I10: 0.05 | K10: =N10-I10 -> 6.91 | L10: - | N10: 6.96 | O10: -
A11: =1+A10 -> 7 | B11: AyA Caimital 3 | C11: Caimital | D11: P | E11: 228362 | F11: 374622 | G11: 176 | H11: 8 | I11: 0.63 | K11: =N11-I11 -> 4.96 | L11: - | N11: 5.59 | O11: -
A12: =1+A11 -> 8 | B12: AyA Caimital 5 | C12: Caimital | D12: P | E12: 228388 | F12: 374670 | G12: 178 | H12: 8 | I12: 0.58 | K12: =N12-I12 -> 5.64 | L12: - | N12: 6.22 | O12: -
A13: =1+A12 -> 9 | B13: Melonera | C13: Dulce Nombre | D13: P | E13: 228558 | F13: 373122 | G13: 149 | H13: - | I13: - | K13: Sin linea aire | N13: Sin linea aire
A14: =1+A13 -> 10 | B14: ASADA Dulce Nombre 2 | C14: Dulce Nombre | D14: P | E14: 229344 | F14: 372629 | G14: 169 | H14: 6 | I14: 0.41 | K14: =N14-I14 -> 12.21 | L14: - | N14: 12.62 | O14: -
A15: =1+A14 -> 11 | B15: ASADA Dulce Nombre 1 | C15: Dulce Nombre | D15: P | E15: 229365 | F15: 372649 | G15: 170 | H15: 8 | I15: 0.38 | K15: - | L15: =O15-I15 -> 16.49 | N15: - | O15: 16.87
A16: =1+A15 -> 12 | B16: Heiner Fajardo | C16: Dulce Nombre | D16: E | E16: 230039 | F16: 373297 | G16: 177 | H16: - | I16: 0.45 | K16: =N16-I16 -> 12.65 | L16: - | N16: 13.1 | O16: -
A17: =1+A16 -> 13 | B17: Flor Fajardo | C17: Dulce Nombre | D17: E | E17: 230068 | F17: 373331 | G17: 178 | H17: - | I17: - | K17: - | L17: - | N17: seco | O17: -
A18: =1+A17 -> 14 | B18: Casa Abandonada | C18: Dulce Nombre | D18: E | E18: 228808 | F18: 372154 | G18: 172 | H18: - | I18: 0.78 | K18: - | L18: - | N18: seco | O18: -
A19: =1+A18 -> 15 | B19: Gavina Campos Noguera | C19: Gamalotal | D19: E | E19: 228215 | F19: 371804 | G19: 175 | H19: - | I19: 0.53 | K19: =N19-I19 -> 14.48 | L19: - | N19: 15.01 | O19: -
A20: =1+A19 -> 16 | B20: José Fernado Oriones Zuñiga | C20: Gamalotal | D20: E | E20: 226508 | F20: 370899 | G20: 153 | H20: - | I20: 0.6 | K20: - | L20: - | N20: seco | O20: -
A21: =1+A20 -> 17 | B21: Hilda Rodrigez Villalobos | C21: Gamalotal | D21: P | E21: 226538 | F21: 370372 | G21: 163 | H21: 6 | I21: 0 | J21: 25 | K21: =N21-I21 -> 6.4 | L21: - | N21: 6.4 | O21: -
A22: =1+A21 -> 18 | B22: ASADA Gamalotal | C22: Gamalotal | D22: P | E22: 227916 | F22: 371351 | G22: 184 | H22: 8 | I22: 0.31 | K22: - | L22: =O22-I22 -> 27.52 | N22: - | O22: 27.83
A23: =1+A22 -> 19 | B23: Paula Perez Carrillo | C23: Caimitalito | D23: E | E23: 227137 | F23: 372659 | G23: 175 | H23: - | I23: 0.43 | K23: =N23-I23 -> 8.76 | L23: - | N23: 9.19 | O23: -
A24: =1+A23 -> 20 | B24: ASADA Caimitalito | C24: Caimitalito | D24: P | E24: 227239 | F24: 372760 | G24: 178 | H24: - | I24: - | K24: Sin linea aire | N24: Sin linea aire
A25: =1+A24 -> 21 | B25: José Mora Lopez | C25: Caimital | D25: E | E25: 228001 | F25: 374482 | G25: 163 | H25: - | I25: 0.79 | K25: =N25-I25 -> 3.93 | L25: - | N25: 4.72 | O25: -
A26: =1+A25 -> 22 | B26: ASADA Caimital | C26: Caimital | D26: P | E26: 227968 | F26: 374756 | G26: 178 | H26: 8 | I26: 0.95 | K26: - | L26: =O26-I26 -> 6.78 | N26: - | O26: 7.73
A27: =1+A26 -> 23
A28: =1+A27 -> 24
A29: =1+A28 -> 25
A30: =1+A29 -> 26
A31: =1+A30 -> 27
A32: =1+A31 -> 28
A33: =1+A32 -> 29

Sheet Julio 2012
A1: Plan de Monitoreo Acuífero Caimital
A2: Fecha: 16 y 17 de julio del 2012
N3: Datos de campo
A4: N˚ | B4: Nombre del POZO | C4: Lugar | D4: Tipo | E4: Latitud | F4: Longitud | G4: Altitud sobre nivel de Mar | H4: Diámetro armado (in) | I4: Brocal (m) | J4: Profundidad de pozo (m) | K4: Nivel estático (m) | L4: Nivel dinámico (m) | N4: Nivel estático (m) + Brocal | O4: Nivel dinámico (m) + Brocal
A5: 1 | B5: AyA Caimital 1 | C5: Caimital | D5: P | E5: 228433 | F5: 374731 | G5: 176 | H5: 8 | I5: 0.45 | K5: =N5-I5 -> 5.86 | L5: - | N5: 6.31 | O5: -
A6: =1+A5 -> 2 | B6: AyA Caimital 2 | C6: Caimital | D6: P | E6: 228410 | F6: 374618 | G6: 169 | H6: 10 | I6: 0.53 | K6: =N6-I6 -> 4.55 | L6: - | N6: 5.08 | O6: -
A7: =1+A6 -> 3 | B7: AyA Caimital 6 | C7: Caimital | D7: P | E7: 228332 | F7: 373697 | G7: 165 | H7: 8 | I7: 0.46 | K7: =N7-I7 -> 3.11 | L7: - | N7: 3.57 | O7: -
A8: =1+A7 -> 4 | B8: AyA Caimital 4 | C8: Caimital | D8: P | E8: 228311 | F8: 373468 | G8: 164 | H8: 10 | I8: 0.75 | K8: =N8-I8 -> 2.8 | L8: - | N8: 3.55 | O8: -
A9: =1+A8 -> 5 | B9: CJ-17 Villa Adela | C9: Dulce Nombre | D9: P | E9: 229011 | F9: 372774 | G9: 171 | H9: 10 | I9: 0.21 | K9: =N9-I9 -> 6.03 | L9: - | N9: 6.24 | O9: -
A10: =1+A9 -> 6 | B10: MT-279 José Campos Camacho | C10: Dulce Nombre | D10: P | E10: 228975 | F10: 372676 | G10: 178 | H10: 6 | I10: 0.05 | K10: =N10-I10 -> 6.44 | L10: - | N10: 6.49 | O10: -
A11: =1+A10 -> 7 | B11: AyA Caimital 3 | C11: Caimital | D11: P | E11: 228362 | F11: 374622 | G11: 176 | H11: 8 | I11: 0.63 | K11: =N11-I11 -> 4.67 | L11: - | N11: 5.3 | O11: -
A12: =1+A11 -> 8 | B12: AyA Caimital 5 | C12: Caimital | D12: P | E12: 228388 | F12: 374670 | G12: 178 | H12: 8 | I12: 0.58 | K12: =N12-I12 -> 5.17 | L12: - | N12: 5.75 | O12: -
A13: =1+A12 -> 9 | B13: Melonera | C13: Dulce Nombre | D13: P | E13: 228558 | F13: 373122 | G13: 149 | H13: - | I13: - | K13: Sin linea aire | N13: Sin linea aire
A14: =1+A13 -> 10 | B14: ASADA Dulce Nombre 2 | C14: Dulce Nombre | D14: P | E14: 229344 | F14: 372629 | G14: 169 | H14: 6 | I14: 0.41 | K14: =N14-I14 -> 11.76 | L14: - | N14: 12.17 | O14: -
A15: =1+A14 -> 11 | B15: ASADA Dulce Nombre 1 | C15: Dulce Nombre | D15: P | E15: 229365 | F15: 372649 | G15: 170 | H15: 8 | I15: 0.38 | K15: =N15-I15 -> 11.75 | L15: - | N15: 12.13 | O15: -
A16: =1+A15 -> 12 | B16: Heiner Fajardo | C16: Dulce Nombre | D16: E | E16: 230039 | F16: 373297 | G16: 177 | H16: - | I16: 0.45 | K16: =N16-I16 -> 12.31 | L16: - | N16: 12.76 | O16: -
A17: =1+A16 -> 13 | B17: Flor Fajardo | C17: Dulce Nombre | D17: E | E17: 230068 | F17: 373331 | G17: 178 | H17: - | I17: - | K17: Seco | L17: - | N17: seco | O17: -
A18: =1+A17 -> 14 | B18: Casa Abandonada | C18: Dulce Nombre | D18: E | E18: 228808 | F18: 372154 | G18: 172 | H18: - | I18: 0.78 | K18: =N18-I18 -> 13.32 | L18: - | N18: 14.1 | O18: -
A19: =1+A18 -> 15 | B19: Gavina Campos Noguera | C19: Gamalotal | D19: E | E19: 228215 | F19: 371804 | G19: 175 | H19: - | I19: 0.53 | K19: =N19-I19 -> 14.65 | L19: - | N19: 15.18 | O19: -
A20: =1+A19 -> 16 | B20: José Fernando Oriones Zúñiga | C20: Gamalotal | D20: E | E20: 226508 | F20: 370899 | G20: 153 | H20: - | I20: 0.6 | K20: =N20-I20 -> 15.56 | L20: - | N20: 16.16 | O20: -
A21: =1+A20 -> 17 | B21: Hilda Rodríguez Villalobos | C21: Gamalotal | D21: P | E21: 226538 | F21: 370372 | G21: 163 | H21: 6 | I21: 0 | J21: 25 | K21: =N21-I21 -> 5.77 | L21: - | N21: 5.77 | O21: -
A22: =1+A21 -> 18 | B22: ASADA Gamalotal | C22: Gamalotal | D22: P | E22: 227916 | F22: 371351 | G22: 184 | H22: 8 | I22: 0.31 | K22: - | L22: =O22-I22 -> 31.32 | N22: - | O22: 31.63
A23: =1+A22 -> 19 | B23: Paula Pérez Carrillo | C23: Caimitalito | D23: E | E23: 227137 | F23: 372659 | G23: 175 | H23: - | I23: 0.43 | K23: - | L23: =O23-I23 -> 7.18 | N23: - | O23: 7.61
A24: =1+A23 -> 20 | B24: ASADA Caimitalito | C24: Caimitalito | D24: P | E24: 227239 | F24: 372760 | G24: 178 | H24: - | I24: - | J24: 28 | K24: Sin linea aire | N24: Sin linea aire
A25: =1+A24 -> 21 | B25: José Mora López | C25: Caimital | D25: E | E25: 228001 | F25: 374482 | G25: 163 | H25: - | I25: 0.79 | K25: =N25-I25 -> 3.59 | L25: - | N25: 4.38 | O25: -
A26: =1+A25 -> 22 | B26: ASADA Caimital | C26: Caimital | D26: P | E26: 227968 | F26: 374756 | G26: 178 | H26: 8 | I26: 0.95 | K26: - | L26: =O26-I26 -> 6.74 | N26: - | O26: 7.69
A27: =1+A26 -> 23 | B27: Blas Villegas | C27: Dulce Nombre | D27: E | E27: 230129 | F27: 373872 | G27: 183 | H27: - | I27: 0.51 | K27: =N27-I27 -> 7.25 | L27: - | N27: 7.76 | O27: -
A28: =1+A27 -> 24 | B28: Rafael Quiroz Perforado | C28: Caimitalito | D28: P | E28: 226896 | F28: 371931 | G28: 154 | H28: - | I28: 0 | J28: 32 | K28: =N28-I28 -> 10.13 | L28: - | N28: 10.13 | O28: -
A29: =1+A28 -> 25 | B29: Rafael Quiroz Excavado | C29: Caimitalito | D29: E | E29: 226897 | F29: 371914 | G29: 153 | H29: - | I29: 0.51 | J29: 11 | K29: =N29-I29 -> 7.49 | L29: - | N29: 8 | O29: -
A30: =1+A29 -> 26 | B30: MT-266 Asdrúbal Rojas Chávez | C30: Zompopa | D30: P | E30: 230865 | F30: 374057 | G30: 188 | H30: - | I30: 0.16 | J30: - | K30: =N30-I30 -> 5.78 | L30: - | N30: 5.94 | O30: -
A31: =1+A30 -> 27 | B31: Walter Vásquez | C31: Curime | D31: E | E31: 233304 | F31: 377094 | G31: 152 | H31: - | I31: 0.47 | J31: 10 | K31: =N31-I31 -> 7.71 | L31: - | N31: 8.18 | O31: -
A32: =1+A31 -> 28 | B32: MT-305 María de los Ángeles Pérez Rodríguez | C32: Curime | D32: P | E32: 233542 | F32: 376630 | G32: 165 | H32: - | I32: 0.27 | J32: 54 | K32: =N32-I32 -> 17.26 | L32: - | N32: 17.53 | O32: -
A33: =1+A32 -> 29 | B33: Marielos | C33: Hondores | D33: E | E33: 234045 | F33: 378793 | G33: 127 | H33: - | I33: 0.28 | J33: - | K33: =N33-I33 -> 2.04 | L33: - | N33: 2.32
A34: =1+A33 -> 30 | B34: Juan López | C34: Hondores | D34: E | E34: 233269 | F34: 379859 | G34: 133 | H34: - | I34: 0.37 | J34: - | K34: =N34-I34 -> 5.8 | L34: - | N34: 6.17 | O34: -
A35: =1+A34 -> 31 | B35: Arnoldo | C35: Fca el Carmen | D35: E | E35: 231370 | F35: 376354 | G35: 152 | H35: - | I35: 0.6 | J35: - | K35: =N35-I35 -> 4.92 | L35: - | N35: 5.52 | O35: -
A36: =1+A35 -> 32 | B36: MT-217 APAN | C36: Fca el Carmen | D36: P | E36: 230325 | F36: 376380 | G36: 173 | H36: 6 | I36: 0.24 | J36: - | K36: =N36-I36 -> 11.57 | L36: - | N36: 11.81 | O36: -
A37: =1+A36 -> 33 | B37: MT-197 Luna y Sol 2004 S.A. | C37: Caimitalito | D37: P | E37: 227193 | F37: 373134 | G37: 167 | H37: - | J37: - | K37: =N37-I37 -> 8.3 | L37: - | N37: 8.3 | O37: -

Sheet Agosto 2012
A1: Plan de Monitoreo Acuífero Caimital
A2: Fecha: 20 y 21 de agosto del 2012
N3: Datos de campo
A4: N˚ | B4: Nombre del POZO | C4: Lugar | D4: Tipo | E4: Latitud | F4: Longitud | G4: Altitud sobre nivel de Mar | H4: Diámetro armado (in) | I4: Brocal (m) | J4: Profundidad de pozo (m) | K4: Nivel estático (m) | L4: Nivel dinámico (m) | N4: Nivel estático (m) + Brocal | O4: Nivel dinámico (m) + Brocal
A5: 1 | B5: AyA Caimital 1 | C5: Caimital | D5: P | E5: 228433 | F5: 374731 | G5: 176 | H5: 8 | I5: 0.74 | K5: =N5-I5 -> 5.9 | L5: - | N5: 6.64 | O5: -
A6: =1+A5 -> 2 | B6: AyA Caimital 2 | C6: Caimital | D6: P | E6: 228410 | F6: 374618 | G6: 169 | H6: 10 | I6: 0.53 | K6: =N6-I6 -> 5.02 | L6: - | N6: 5.55 | O6: -
A7: =1+A6 -> 3 | B7: AyA Caimital 6 | C7: Caimital | D7: P | E7: 228332 | F7: 373697 | G7: 165 | H7: 8 | I7: 0.46 | K7: =N7-I7 -> 3.19 | L7: - | N7: 3.65 | O7: -
A8: =1+A7 -> 4 | B8: AyA Caimital 4 | C8: Caimital | D8: P | E8: 228311 | F8: 373468 | G8: 164 | H8: 10 | I8: 0.75 | K8: - | L8: =O8-I8 -> 2.82 | N8: - | O8: 3.57
A9: =1+A8 -> 5 | B9: CJ-17 Villa Adela | C9: Dulce Nombre | D9: P | E9: 229011 | F9: 372774 | G9: 171 | H9: 10 | I9: 0.21 | K9: =N9-I9 -> 6.44 | L9: - | N9: 6.65 | O9: -
A10: =1+A9 -> 6 | B10: MT-279 José Campos Camacho | C10: Dulce Nombre | D10: P | E10: 228975 | F10: 372676 | G10: 178 | H10: 6 | I10: 0.05 | K10: Sin Dato | L10: - | N10: Sin Dato | O10: -
A11: =1+A10 -> 7 | B11: AyA Caimital 3 | C11: Caimital | D11: P | E11: 228362 | F11: 374622 | G11: 176 | H11: 8 | I11: 0.63 | K11: =N11-I11 -> 4.94 | L11: - | N11: 5.57 | O11: -
A12: =1+A11 -> 8 | B12: AyA Caimital 5 | C12: Caimital | D12: P | E12: 228388 | F12: 374670 | G12: 178 | H12: 8 | I12: 0.58 | K12: =N12-I12 -> 5.44 | L12: - | N12: 6.02 | O12: -
A13: =1+A12 -> 9 | B13: Melonera | C13: Dulce Nombre | D13: P | E13: 228558 | F13: 373122 | G13: 149 | H13: - | I13: - | K13: Sin linea de aire | N13: -
A14: =1+A13 -> 10 | B14: ASADA Dulce Nombre 2 | C14: Dulce Nombre | D14: P | E14: 229344 | F14: 372629 | G14: 169 | H14: 6 | I14: 0.41 | K14: =N14-I14 -> 12.06 | L14: - | N14: 12.47 | O14: -
A15: =1+A14 -> 11 | B15: ASADA Dulce Nombre 1 | C15: Dulce Nombre | D15: P | E15: 229365 | F15: 372649 | G15: 170 | H15: 8 | I15: 0.38 | K15: - | L15: =O15-I15 -> 16.49 | N15: - | O15: 16.87
A16: =1+A15 -> 12 | B16: Heiner Fajardo | C16: Dulce Nombre | D16: E | E16: 230039 | F16: 373297 | G16: 177 | H16: - | I16: 0.45 | K16: =N16-I16 -> 11.95 | L16: - | N16: 12.4 | O16: -
A17: =1+A16 -> 13 | B17: Flor Fajardo | C17: Dulce Nombre | D17: E | E17: 230068 | F17: 373331 | G17: 178 | H17: - | I17: - | K17: Seco | L17: - | N17: seco | O17: -
A18: =1+A17 -> 14 | B18: Saúl Herrera | C18: Dulce Nombre | D18: E | E18: 228808 | F18: 372154 | G18: 172 | H18: - | I18: 0.78 | K18: Seco | L18: - | N18: seco | O18: -
A19: =1+A18 -> 15 | B19: Gavina Campos Noguera | C19: Gamalotal | D19: E | E19: 228215 | F19: 371804 | G19: 175 | H19: - | I19: 0.53 | K19: Seco | L19: - | N19: seco | O19: -
A20: =1+A19 -> 16 | B20: José Fernando Oriones Zúñiga | C20: Gamalotal | D20: E | E20: 226508 | F20: 370899 | G20: 153 | H20: - | I20: 0.6 | K20: Seco | L20: - | N20: seco | O20: -
A21: =1+A20 -> 17 | B21: Hilda Rodríguez Villalobos | C21: Gamalotal | D21: P | E21: 226538 | F21: 370372 | G21: 163 | H21: 6 | I21: 0 | J21: 25 | K21: =N21-I21 -> 5.9 | L21: - | N21: 5.9 | O21: -
A22: =1+A21 -> 18 | B22: ASADA Gamalotal | C22: Gamalotal | D22: P | E22: 227916 | F22: 371351 | G22: 184 | H22: 8 | I22: 0.31 | K22: - | L22: =O22-I22 -> 30.52 | N22: - | O22: 30.83
A23: =1+A22 -> 19 | B23: Paula Pérez Carrillo | C23: Caimitalito | D23: E | E23: 227137 | F23: 372659 | G23: 175 | H23: - | I23: 0.43 | K23: =N23-I23 -> 8.5 | L23: - | N23: 8.93 | O23: -
A24: =1+A23 -> 20 | B24: ASADA Caimitalito | C24: Caimitalito | D24: P | E24: 227239 | F24: 372760 | G24: 178 | H24: - | I24: - | J24: 28 | K24: Sin linea de aire
A25: =1+A24 -> 21 | B25: José Mora López | C25: Caimital | D25: E | E25: 228001 | F25: 374482 | G25: 163 | H25: - | I25: 0.79 | K25: =N25-I25 -> 3.44 | L25: - | N25: 4.23 | O25: -
A26: =1+A25 -> 22 | B26: ASADA Caimital | C26: Caimital | D26: P | E26: 227968 | F26: 374756 | G26: 178 | H26: 8 | I26: 0.95 | K26: - | L26: =O26-I26 -> 6.98 | N26: - | O26: 7.93
A27: =1+A26 -> 23 | B27: Blas Villegas | C27: Dulce Nombre | D27: E | E27: 230129 | F27: 373872 | G27: 183 | H27: - | I27: 0.51 | K27: =N27-I27 -> 7.09 | L27: - | N27: 7.6 | O27: -
A28: =1+A27 -> 24 | B28: Rafael Quiroz Perforado | C28: Caimitalito | D28: P | E28: 226896 | F28: 371931 | G28: 154 | H28: - | I28: 0 | J28: 32 | K28: =N28-I28 -> 10.29 | L28: - | N28: 10.29 | O28: -
A29: =1+A28 -> 25 | B29: Rafael Quiroz Excavado | C29: Caimitalito | D29: E | E29: 226897 | F29: 371914 | G29: 153 | H29: - | I29: 0.51 | J29: 11 | K29: =N29-I29 -> 9.29 | L29: - | N29: 9.8 | O29: -
A30: =1+A29 -> 26 | B30: MT-266 Asdrúbal Rojas Chávez | C30: Zompopa | D30: P | E30: 230865 | F30: 374057 | G30: 188 | H30: - | I30: 0.16 | J30: - | K30: =N30-I30 -> 6.05 | L30: - | N30: 6.21 | O30: -
A31: =1+A30 -> 27 | B31: Walter Vásquez | C31: Curime | D31: E | E31: 233304 | F31: 377094 | G31: 152 | H31: - | I31: 0.47 | J31: 10 | K31: =N31-I31 -> 7.75 | L31: - | N31: 8.22 | O31: -
A32: =1+A31 -> 28 | B32: MT-305 María de los Ángeles Pérez Rodríguez | C32: Curime | D32: P | E32: 233542 | F32: 376630 | G32: 165 | H32: - | I32: 0.27 | J32: 54 | K32: =N32-I32 -> 17.21 | L32: - | N32: 17.48 | O32: -
A33: =1+A32 -> 29 | B33: Marielos | C33: Hondores | D33: E | E33: 234045 | F33: 378793 | G33: 127 | H33: - | I33: 0.28 | J33: - | K33: =N33-I33 -> 2.61 | L33: - | N33: 2.89 | O33: -
A34: =1+A33 -> 30 | B34: Juan López | C34: Hondores | D34: E | E34: 233269 | F34: 379859 | G34: 133 | H34: - | I34: 0.37 | J34: - | K34: =N34-I34 -> 4.63 | L34: - | N34: 5 | O34: -
A35: =1+A34 -> 31 | B35: Arnoldo | C35: Fca el Carmen | D35: E | E35: 231370 | F35: 376354 | G35: 152 | H35: - | I35: 0.6 | J35: - | K35: =N35-I35 -> 4.77 | L35: - | N35: 5.37 | O35: -
A36: =1+A35 -> 32 | B36: MT-217 APAN | C36: Fca el Carmen | D36: P | E36: 230325 | F36: 376380 | G36: 173 | H36: 6 | I36: 0.24 | J36: - | K36: =N36-I36 -> 11.07 | L36: - | N36: 11.31 | O36: -
A37: =1+A36 -> 33 | B37: MT-197 Luna y Sol 2004 S.A. | C37: Caimitalito | D37: P | E37: 227193 | F37: 373134 | G37: 167 | H37: - | J37: - | K37: =N37-I37 -> 8.03 | L37: - | N37: 8.03 | O37: -

Sheet Setiembre 2012
A1: Plan de Monitoreo Acuífero Caimital
A2: Fecha: 24 y 25 de setiembre del 2012
N3: Datos de campo
A4: N˚ | B4: Nombre del POZO | C4: Lugar | D4: Tipo | E4: Latitud | F4: Longitud | G4: Altitud sobre nivel de Mar | H4: Diámetro armado (in) | I4: Brocal (m) | J4: Profundidad de pozo (m) | K4: Nivel estático (m) | L4: Nivel dinámico (m) | N4: Nivel estático (m) + Brocal | O4: Nivel dinámico (m) + Brocal
A5: 1 | B5: AyA Caimital 1 | C5: Caimital | D5: P | E5: 228433 | F5: 374731 | G5: 176 | H5: 8 | I5: 0.74 | K5: - | L5: =O5-I5 -> 12.74 | N5: - | O5: 13.48
A6: =1+A5 -> 2 | B6: AyA Caimital 2 | C6: Caimital | D6: P | E6: 228410 | F6: 374618 | G6: 169 | H6: 10 | I6: 0.53 | K6: - | L6: =O6-I6 -> 14.87 | N6: - | O6: 15.4
A7: =1+A6 -> 3 | B7: AyA Caimital 6 | C7: Caimital | D7: P | E7: 228332 | F7: 373697 | G7: 165 | H7: 8 | I7: 0.46 | K7: =N7-I7 -> 2.86 | L7: - | N7: 3.32 | O7: -
A8: =1+A7 -> 4 | B8: AyA Caimital 4 | C8: Caimital | D8: P | E8: 228311 | F8: 373468 | G8: 164 | H8: 10 | I8: 0.75 | K8: - | L8: =O8-I8 -> 5.37 | N8: - | O8: 6.12
A9: =1+A8 -> 5 | B9: CJ-17 Villa Adela | C9: Dulce Nombre | D9: P | E9: 229011 | F9: 372774 | G9: 171 | H9: 10 | I9: 0.21 | K9: =N9-I9 -> 4.56 | L9: - | N9: 4.77 | O9: -
A10: =1+A9 -> 6 | B10: MT-279 José Campos Camacho | C10: Dulce Nombre | D10: P | E10: 228975 | F10: 372676 | G10: 178 | H10: 6 | I10: 0.05 | K10: =N10-I10 -> 4.57 | L10: - | N10: 4.62 | O10: -
A11: =1+A10 -> 7 | B11: AyA Caimital 3 | C11: Caimital | D11: P | E11: 228362 | F11: 374622 | G11: 176 | H11: 8 | I11: 0.63 | K11: - | L11: =O11-I11 -> 14.31 | N11: - | O11: 14.94
A12: =1+A11 -> 8 | B12: AyA Caimital 5 | C12: Caimital | D12: P | E12: 228388 | F12: 374670 | G12: 178 | H12: 8 | I12: 0.58 | K12: =N12-I12 -> 4.9 | L12: - | N12: 5.48 | O12: -
A13: =1+A12 -> 9 | B13: Melonera | C13: Dulce Nombre | D13: P | E13: 228558 | F13: 373122 | G13: 149 | H13: - | I13: - | K13: Sin linea de aire
A14: =1+A13 -> 10 | B14: ASADA Dulce Nombre 2 | C14: Dulce Nombre | D14: P | E14: 229344 | F14: 372629 | G14: 169 | H14: 6 | I14: 0.41 | K14: =N14-I14 -> 8.97 | L14: - | N14: 9.38
A15: =1+A14 -> 11 | B15: ASADA Dulce Nombre 1 | C15: Dulce Nombre | D15: P | E15: 229365 | F15: 372649 | G15: 170 | H15: 8 | I15: 0.38 | K15: =N15-I15 -> 8.89 | L15: - | N15: 9.27
A16: =1+A15 -> 12 | B16: Heiner Fajardo | C16: Dulce Nombre | D16: E | E16: 230039 | F16: 373297 | G16: 177 | H16: - | I16: 0.45 | K16: =N16-I16 -> 8.86 | L16: - | N16: 9.31
A17: =1+A16 -> 13 | B17: Flor Fajardo | C17: Dulce Nombre | D17: E | E17: 230068 | F17: 373331 | G17: 178 | H17: - | I17: - | K17: Seco | L17: - | N17: seco
A18: =1+A17 -> 14 | B18: Saúl Herrera | C18: Dulce Nombre | D18: E | E18: 228808 | F18: 372154 | G18: 172 | H18: - | I18: 0.78 | K18: =N18-I18 -> 12.07 | L18: - | N18: 12.85
A19: =1+A18 -> 15 | B19: Gavina Campos Noguera | C19: Gamalotal | D19: E | E19: 228215 | F19: 371804 | G19: 175 | H19: - | I19: 0.53 | K19: =N19-I19 -> 14.28 | L19: - | N19: 14.81
A20: =1+A19 -> 16 | B20: José Fernando Oriones Zúñiga | C20: Gamalotal | D20: E | E20: 226508 | F20: 370899 | G20: 153 | H20: - | I20: 0.6 | K20: =N20-I20 -> 15.28 | L20: - | N20: 15.88
A21: =1+A20 -> 17 | B21: Hilda Rodríguez Villalobos | C21: Gamalotal | D21: P | E21: 226538 | F21: 370372 | G21: 163 | H21: 6 | I21: 0 | J21: 25 | K21: =N21-I21 -> 5.7 | L21: - | N21: 5.7
A22: =1+A21 -> 18 | B22: ASADA Gamalotal | C22: Gamalotal | D22: P | E22: 227916 | F22: 371351 | G22: 184 | H22: 8 | I22: 0.31 | K22: - | L22: =O22-I22 -> 29.93 | N22: - | O22: 30.24
A23: =1+A22 -> 19 | B23: Paula Pérez Carrillo | C23: Caimitalito | D23: E | E23: 227137 | F23: 372659 | G23: 175 | H23: - | I23: 0.43 | K23: =N23-I23 -> 6.48 | L23: - | N23: 6.91
A24: =1+A23 -> 20 | B24: ASADA Caimitalito | C24: Caimitalito | D24: P | E24: 227239 | F24: 372760 | G24: 178 | H24: - | I24: - | J24: 28 | K24: Sin linea de aire
A25: =1+A24 -> 21 | B25: José Mora López | C25: Caimital | D25: E | E25: 228001 | F25: 374482 | G25: 163 | H25: - | I25: 0.79 | K25: =N25-I25 -> 2.71 | L25: - | N25: 3.5
A26: =1+A25 -> 22 | B26: ASADA Caimital | C26: Caimital | D26: P | E26: 227968 | F26: 374756 | G26: 178 | H26: 8 | I26: 0.95 | K26: - | L26: =O26-I26 -> 5.53 | N26: - | O26: 6.48
A27: =1+A26 -> 23 | B27: Blas Villegas | C27: Dulce Nombre | D27: E | E27: 230129 | F27: 373872 | G27: 183 | H27: - | I27: 0.51 | K27: =N27-I27 -> 5.07 | L27: - | N27: 5.58
A28: =1+A27 -> 24 | B28: Rafael Quiroz Perforado | C28: Caimitalito | D28: P | E28: 226896 | F28: 371931 | G28: 154 | H28: - | I28: 0 | J28: 32 | K28: =N28-I28 -> 9.66 | L28: - | N28: 9.66
A29: =1+A28 -> 25 | B29: Rafael Quiroz Excavado | C29: Caimitalito | D29: E | E29: 226897 | F29: 371914 | G29: 153 | H29: - | I29: 0.51 | J29: 11 | K29: =N29-I29 -> 6.99 | L29: - | N29: 7.5
A30: =1+A29 -> 26 | B30: MT-266 Asdrúbal Rojas Chávez | C30: Zompopa | D30: P | E30: 230865 | F30: 374057 | G30: 188 | H30: - | I30: 0.16 | J30: - | K30: =N30-I30 -> 4.03 | L30: - | N30: 4.19
A31: =1+A30 -> 27 | B31: Walter Vásquez | C31: Curime | D31: E | E31: 233304 | F31: 377094 | G31: 152 | H31: - | I31: 0.47 | J31: 10 | K31: =N31-I31 -> 6.66 | L31: - | N31: 7.13
A32: =1+A31 -> 28 | B32: MT-305 María de los Ángeles Pérez Rodríguez | C32: Curime | D32: P | E32: 233542 | F32: 376630 | G32: 165 | H32: - | I32: 0.27 | J32: 54 | K32: =N32-I32 -> 15.89 | L32: - | N32: 16.16
A33: =1+A32 -> 29 | B33: Marielos | C33: Hondores | D33: E | E33: 234045 | F33: 378793 | G33: 127 | H33: - | I33: 0.28 | J33: - | K33: =N33-I33 -> 2.09 | L33: - | N33: 2.37
A34: =1+A33 -> 30 | B34: Juan López | C34: Hondores | D34: E | E34: 233269 | F34: 379859 | G34: 133 | H34: - | I34: 0.37 | J34: - | K34: =N34-I34 -> 5.25 | L34: - | N34: 5.62
A35: =1+A34 -> 31 | B35: Arnoldo | C35: Fca el Carmen | D35: E | E35: 231370 | F35: 376354 | G35: 152 | H35: - | I35: 0.6 | J35: - | K35: =N35-I35 -> 4.75 | L35: - | N35: 5.35
A36: =1+A35 -> 32 | B36: MT-217 APAN | C36: Fca el Carmen | D36: P | E36: 230325 | F36: 376380 | G36: 173 | H36: 6 | I36: 0.24 | J36: - | K36: =N36-I36 -> 10.79 | L36: - | N36: 11.03
A37: =1+A36 -> 33 | B37: MT-197 Luna y Sol 2004 S.A. | C37: Caimitalito | D37: P | E37: 227193 | F37: 373134 | G37: 167 | H37: - | J37: - | K37: =N37-I37 -> 3.9 | L37: - | N37: 3.9

Sheet Octubre 2012
A1: Plan de Monitoreo Acuífero Caimital
A2: Fecha: 23 de Octubre del 2012
N3: Datos de campo
A4: N˚ | B4: Nombre del POZO | C4: Lugar | D4: Tipo | E4: Latitud | F4: Longitud | G4: Altitud sobre nivel de Mar | H4: Diámetro armado (in) | I4: Brocal (m) | J4: Profundidad de pozo (m) | K4: Nivel estático (m) | L4: Nivel dinámico (m) | N4: Nivel estático (m) + Brocal | O4: Nivel dinámico (m) + Brocal
A5: 1 | B5: AyA Caimital 1 | C5: Caimital | D5: P | E5: 228433 | F5: 374731 | G5: 176 | H5: 8 | I5: 0.74 | K5: =N5-I5 -> 3.05 | L5: - | N5: 3.79 | O5: -
A6: =1+A5 -> 2 | B6: AyA Caimital 2 | C6: Caimital | D6: P | E6: 228410 | F6: 374618 | G6: 169 | H6: 10 | I6: 0.53 | K6: - | L6: =O6-I6 -> 3.37 | N6: - | O6: 3.9
A7: =1+A6 -> 3 | B7: AyA Caimital 6 | C7: Caimital | D7: P | E7: 228332 | F7: 373697 | G7: 165 | H7: 8 | I7: 0.46 | K7: =N7-I7 -> 2.7 | L7: - | N7: 3.16 | O7: -
A8: =1+A7 -> 4 | B8: AyA Caimital 4 | C8: Caimital | D8: P | E8: 228311 | F8: 373468 | G8: 164 | H8: 10 | I8: 0.75 | K8: - | L8: - | N8: 3.22 | O8: -
A9: =1+A8 -> 5 | B9: CJ-17 Villa Adela | C9: Dulce Nombre | D9: P | E9: 229011 | F9: 372774 | G9: 171 | H9: 10 | I9: 0.21 | K9: =N9-I9 -> 3.35 | L9: - | N9: 3.56 | O9: -
A10: =1+A9 -> 6 | B10: MT-279 José Campos Camacho | C10: Dulce Nombre | D10: P | E10: 228975 | F10: 372676 | G10: 178 | H10: 6 | I10: 0.05 | K10: Sin Dato | L10: - | N10: Sin Dato | O10: -
A11: =1+A10 -> 7 | B11: AyA Caimital 3 | C11: Caimital | D11: P | E11: 228362 | F11: 374622 | G11: 176 | H11: 8 | I11: 0.63 | K11: =N11-I11 -> 3.58 | L11: - | N11: 4.21 | O11: -
A12: =1+A11 -> 8 | B12: AyA Caimital 5 | C12: Caimital | D12: P | E12: 228388 | F12: 374670 | G12: 178 | H12: 8 | I12: 0.58 | K12: =N12-I12 -> 3.63 | L12: - | N12: 4.21 | O12: -
A13: =1+A12 -> 9 | B13: Melonera | C13: Dulce Nombre | D13: P | E13: 228558 | F13: 373122 | G13: 149 | H13: - | I13: - | K13: Sin linea de aire
A14: =1+A13 -> 10 | B14: ASADA Dulce Nombre 2 | C14: Dulce Nombre | D14: P | E14: 229344 | F14: 372629 | G14: 169 | H14: 6 | I14: 0.41 | K14: =N14-I14 -> 6.78 | L14: - | N14: 7.19 | O14: -
A15: =1+A14 -> 11 | B15: ASADA Dulce Nombre 1 | C15: Dulce Nombre | D15: P | E15: 229365 | F15: 372649 | G15: 170 | H15: 8 | I15: 0.38 | K15: - | L15: =O15-I15 -> 9.8 | N15: - | O15: 10.18
A16: =1+A15 -> 12 | B16: Heiner Fajardo | C16: Dulce Nombre | D16: E | E16: 230039 | F16: 373297 | G16: 177 | H16: - | I16: 0.45 | K16: =N16-I16 -> 6.53 | L16: - | N16: 6.98 | O16: -
A17: =1+A16 -> 13 | B17: Flor Fajardo | C17: Dulce Nombre | D17: E | E17: 230068 | F17: 373331 | G17: 178 | H17: - | I17: - | K17: Seco | L17: - | N17: seco | O17: -
A18: =1+A17 -> 14 | B18: Saúl Herrera | C18: Dulce Nombre | D18: E | E18: 228808 | F18: 372154 | G18: 172 | H18: - | I18: 0.78 | K18: =N18-I18 -> 10.32 | L18: - | N18: 11.1 | O18: -
A19: =1+A18 -> 15 | B19: Gavina Campos Noguera | C19: Gamalotal | D19: E | E19: 228215 | F19: 371804 | G19: 175 | H19: - | I19: 0.53 | K19: =N19-I19 -> 12.18 | L19: - | N19: 12.71 | O19: -
A20: =1+A19 -> 16 | B20: José Fernando Oriones Zúñiga | C20: Gamalotal | D20: E | E20: 226508 | F20: 370899 | G20: 153 | H20: - | I20: 0.6 | K20: =N20-I20 -> 14.62 | L20: - | N20: 15.22 | O20: -
A21: =1+A20 -> 17 | B21: Hilda Rodríguez Villalobos | C21: Gamalotal | D21: P | E21: 226538 | F21: 370372 | G21: 163 | H21: 6 | I21: 0 | J21: 25 | K21: =N21-I21 -> 3.22 | L21: - | N21: 3.22 | O21: -
A22: =1+A21 -> 18 | B22: ASADA Gamalotal | C22: Gamalotal | D22: P | E22: 227916 | F22: 371351 | G22: 184 | H22: 8 | I22: 0.31 | K22: - | L22: =O22-I22 -> 23.76 | N22: - | O22: 24.07
A23: =1+A22 -> 19 | B23: Paula Pérez Carrillo | C23: Caimitalito | D23: E | E23: 227137 | F23: 372659 | G23: 175 | H23: - | I23: 0.43 | K23: =N23-I23 -> 4.22 | L23: - | N23: 4.65 | O23: -
A24: =1+A23 -> 20 | B24: ASADA Caimitalito | C24: Caimitalito | D24: P | E24: 227239 | F24: 372760 | G24: 178 | H24: - | I24: - | J24: 28 | K24: Sin linea de aire
A25: =1+A24 -> 21 | B25: José Mora López | C25: Caimital | D25: E | E25: 228001 | F25: 374482 | G25: 163 | H25: - | I25: 0.79 | K25: =N25-I25 -> 2.16 | L25: - | N25: 2.95 | O25: -
A26: =1+A25 -> 22 | B26: ASADA Caimital | C26: Caimital | D26: P | E26: 227968 | F26: 374756 | G26: 178 | H26: 8 | I26: 0.95 | K26: - | L26: =O26-I26 -> 4.72 | N26: - | O26: 5.67
A27: =1+A26 -> 23 | B27: Blas Villegas | C27: Dulce Nombre | D27: E | E27: 230129 | F27: 373872 | G27: 183 | H27: - | I27: 0.51 | K27: =N27-I27 -> 3.82 | L27: - | N27: 4.33 | O27: -
A28: =1+A27 -> 24 | B28: Rafael Quiroz Perforado | C28: Caimitalito | D28: P | E28: 226896 | F28: 371931 | G28: 154 | H28: - | I28: 0 | J28: 32 | K28: =N28-I28 -> 9.27 | L28: - | N28: 9.27 | O28: -
A29: =1+A28 -> 25 | B29: Rafael Quiroz Excavado | C29: Caimitalito | D29: E | E29: 226897 | F29: 371914 | G29: 153 | H29: - | I29: 0.51 | J29: 11 | K29: =N29-I29 -> 6.1 | L29: - | N29: 6.61 | O29: -
A30: =1+A29 -> 26 | B30: MT-266 Asdrúbal Rojas Chávez | C30: Zompopa | D30: P | E30: 230865 | F30: 374057 | G30: 188 | H30: - | I30: 0.16 | J30: - | K30: =N30-I30 -> 2.59 | L30: - | N30: 2.75 | O30: -
A31: =1+A30 -> 27 | B31: Walter Vásquez | C31: Curime | D31: E | E31: 233304 | F31: 377094 | G31: 152 | H31: - | I31: 0.47 | J31: 10 | K31: =N31-I31 -> 5.6 | L31: - | N31: 6.07 | O31: -
A32: =1+A31 -> 28 | B32: MT-305 María de los Ángeles Pérez Rodríguez | C32: Curime | D32: P | E32: 233542 | F32: 376630 | G32: 165 | H32: - | I32: 0.27 | J32: 54 | K32: Sin Dato | L32: - | N32: Sin Dato | O32: -
A33: =1+A32 -> 29 | B33: Marielos | C33: Hondores | D33: E | E33: 234045 | F33: 378793 | G33: 127 | H33: - | I33: 0.28 | J33: - | K33: =N33-I33 -> 1.47 | L33: - | N33: 1.75 | O33: -
A34: =1+A33 -> 30 | B34: Juan López | C34: Hondores | D34: E | E34: 233269 | F34: 379859 | G34: 133 | H34: - | I34: 0.37 | J34: - | K34: =N34-I34 -> 4.8 | L34: - | N34: 5.17 | O34: -
A35: =1+A34 -> 31 | B35: Arnoldo | C35: Fca el Carmen | D35: E | E35: 231370 | F35: 376354 | G35: 152 | H35: - | I35: 0.6 | J35: - | K35: =N35-I35 -> 4.59 | L35: - | N35: 5.19 | O35: -
A36: =1+A35 -> 32 | B36: MT-217 APAN | C36: Fca el Carmen | D36: P | E36: 230325 | F36: 376380 | G36: 173 | H36: 6 | I36: 0.24 | J36: - | K36: =N36-I36 -> 10.51 | L36: - | N36: 10.75 | O36: -
A37: =1+A36 -> 33 | B37: MT-197 Luna y Sol 2004 S.A. | C37: Caimitalito | D37: P | E37: 227193 | F37: 373134 | G37: 167 | H37: - | J37: - | K37: =N37-I37 -> 1.16 | L37: - | N37: 1.16 | O37: -
A39: El pozo No. 6, MT-279 José Campos Camacho y No. 28 MT-305 María de los Ángeles Pérez Rodríguez no se pudieron medir ya que no se localizó al dueño de la casa.

Sheet Noviembre 2012
A1: Plan de Monitoreo Acuífero Caimital
A2: Fecha: 20 de noviembre del 2012
N3: Datos de campo
A4: N˚ | B4: Nombre del POZO | C4: Lugar | D4: Tipo | E4: Latitud | F4: Longitud | G4: Altitud sobre nivel de Mar | H4: Diámetro armado (in) | I4: Brocal (m) | J4: Profundidad de pozo (m) | K4: Nivel estático (m) | L4: Nivel dinámico (m) | N4: Nivel estático (m) + Brocal | O4: Nivel dinámico (m) + Brocal
A5: 1 | B5: AyA Caimital 1 | C5: Caimital | D5: P | E5: 228433 | F5: 374731 | G5: 176 | H5: 8 | I5: 0.74 | K5: - | L5: =O5-I5 -> 12.87 | O5: 13.61
A6: =1+A5 -> 2 | B6: AyA Caimital 2 | C6: Caimital | D6: P | E6: 228410 | F6: 374618 | G6: 169 | H6: 10 | I6: 0.53 | K6: - | L6: =O6-I6 -> 12.09 | O6: 12.62
A7: =1+A6 -> 3 | B7: AyA Caimital 6 | C7: Caimital | D7: P | E7: 228332 | F7: 373697 | G7: 165 | H7: 8 | I7: 0.46 | K7: =N7-I7 -> 3.05 | L7: - | N7: 3.51
A8: =1+A7 -> 4 | B8: AyA Caimital 4 | C8: Caimital | D8: P | E8: 228311 | F8: 373468 | G8: 164 | H8: 10 | I8: 0.75 | K8: =N8-I8 -> 2.65 | L8: - | N8: 3.4
A9: =1+A8 -> 5 | B9: CJ-17 Villa Adela | C9: Dulce Nombre | D9: P | E9: 229011 | F9: 372774 | G9: 171 | H9: 10 | I9: 0.21 | K9: =N9-I9 -> 3.62 | L9: - | N9: 3.83
A10: =1+A9 -> 6 | B10: MT-279 José Campos Camacho | C10: Dulce Nombre | D10: P | E10: 228975 | F10: 372676 | G10: 178 | H10: 6 | I10: 0.05 | K10: =N10-I10 -> 3.5 | L10: - | N10: 3.55
A11: =1+A10 -> 7 | B11: AyA Caimital 3 | C11: Caimital | D11: P | E11: 228362 | F11: 374622 | G11: 176 | H11: 8 | I11: 0.63 | K11: =N11-I11 -> 4.67 | L11: - | N11: 5.3
A12: =1+A11 -> 8 | B12: AyA Caimital 5 | C12: Caimital | D12: P | E12: 228388 | F12: 374670 | G12: 178 | H12: 8 | I12: 0.58 | K12: =N12-I12 -> 5.25 | L12: - | N12: 5.83
A13: =1+A12 -> 9 | B13: Melonera | C13: Dulce Nombre | D13: P | E13: 228558 | F13: 373122 | G13: 149 | H13: - | I13: - | K13: Sin linea de aire | N13: Sin linea de aire
A14: =1+A13 -> 10 | B14: ASADA Dulce Nombre 2 | C14: Dulce Nombre | D14: P | E14: 229344 | F14: 372629 | G14: 169 | H14: 6 | I14: 0.41 | K14: - | L14: =O14-I14 -> 8.49 | O14: 8.9
A15: =1+A14 -> 11 | B15: ASADA Dulce Nombre 1 | C15: Dulce Nombre | D15: P | E15: 229365 | F15: 372649 | G15: 170 | H15: 8 | I15: 0.38 | K15: =N15-I15 -> 6.09 | L15: - | N15: 6.47
A16: =1+A15 -> 12 | B16: Heiner Fajardo | C16: Dulce Nombre | D16: E | E16: 230039 | F16: 373297 | G16: 177 | H16: - | I16: 0.45 | K16: =N16-I16 -> 4.97 | L16: - | N16: 5.42
A17: =1+A16 -> 13 | B17: Flor Fajardo | C17: Dulce Nombre | D17: E | E17: 230068 | F17: 373331 | G17: 178 | H17: - | I17: - | N17: 6
A18: =1+A17 -> 14 | B18: Saúl Herrera | C18: Dulce Nombre | D18: E | E18: 228808 | F18: 372154 | G18: 172 | H18: - | I18: 0.78 | K18: =N18-I18 -> 8.49 | L18: - | N18: 9.27
A19: =1+A18 -> 15 | B19: Gavina Campos Noguera | C19: Gamalotal | D19: E | E19: 228215 | F19: 371804 | G19: 175 | H19: - | I19: 0.53 | K19: =N19-I19 -> 8.57 | L19: - | N19: 9.1
A20: =1+A19 -> 16 | B20: José Fernando Oriones Zúñiga | C20: Gamalotal | D20: E | E20: 226508 | F20: 370899 | G20: 153 | H20: - | I20: 0.6 | K20: =N20-I20 -> 14.72 | L20: - | N20: 15.32
A21: =1+A20 -> 17 | B21: Hilda Rodríguez Villalobos | C21: Gamalotal | D21: P | E21: 226538 | F21: 370372 | G21: 163 | H21: 6 | I21: 0 | J21: 25 | K21: =N21-I21 -> 2.5 | L21: - | N21: 2.5
A22: =1+A21 -> 18 | B22: ASADA Gamalotal | C22: Gamalotal | D22: P | E22: 227916 | F22: 371351 | G22: 184 | H22: 8 | I22: 0.31 | L22: =O22-I22 -> 19.69 | O22: 20
A23: =1+A22 -> 19 | B23: Paula Pérez Carrillo | C23: Caimitalito | D23: E | E23: 227137 | F23: 372659 | G23: 175 | H23: - | I23: 0.43 | K23: =N23-I23 -> 7.03 | L23: - | N23: 7.46
A24: =1+A23 -> 20 | B24: ASADA Caimitalito | C24: Caimitalito | D24: P | E24: 227239 | F24: 372760 | G24: 178 | H24: - | I24: - | J24: 28 | K24: Sin linea de aire | N24: Sin linea de aire
A25: =1+A24 -> 21 | B25: José Mora López | C25: Caimital | D25: E | E25: 228001 | F25: 374482 | G25: 163 | H25: - | I25: 0.79 | K25: =N25-I25 -> 3.11 | L25: - | N25: 3.9
A26: =1+A25 -> 22 | B26: ASADA Caimital | C26: Caimital | D26: P | E26: 227968 | F26: 374756 | G26: 178 | H26: 8 | I26: 0.95 | K26: - | L26: =O26-I26 -> 5.59 | N26: - | O26: 6.54
A27: =1+A26 -> 23 | B27: Blas Villegas | C27: Dulce Nombre | D27: E | E27: 230129 | F27: 373872 | G27: 183 | H27: - | I27: 0.51 | K27: =N27-I27 -> 4.01 | L27: - | N27: 4.52
A28: =1+A27 -> 24 | B28: Rafael Quiroz Perforado | C28: Caimitalito | D28: P | E28: 226896 | F28: 371931 | G28: 154 | H28: - | I28: 0 | J28: 32 | K28: =N28-I28 -> 9.46 | L28: - | N28: 9.46
A29: =1+A28 -> 25 | B29: Rafael Quiroz Excavado | C29: Caimitalito | D29: E | E29: 226897 | F29: 371914 | G29: 153 | H29: - | I29: 0.51 | J29: 11 | K29: =N29-I29 -> 7.99 | L29: - | N29: 8.5
A30: =1+A29 -> 26 | B30: MT-266 Asdrúbal Rojas Chávez | C30: Zompopa | D30: P | E30: 230865 | F30: 374057 | G30: 188 | H30: - | I30: 0.16 | J30: - | K30: =N30-I30 -> 2.16 | L30: - | N30: 2.32
A31: =1+A30 -> 27 | B31: Walter Vásquez | C31: Curime | D31: E | E31: 233304 | F31: 377094 | G31: 152 | H31: - | I31: 0.47 | J31: 10 | K31: =N31-I31 -> 5.13 | L31: - | N31: 5.6
A32: =1+A31 -> 28 | B32: MT-305 María de los Ángeles Pérez Rodríguez | C32: Curime | D32: P | E32: 233542 | F32: 376630 | G32: 165 | H32: - | I32: 0.27 | J32: 54 | K32: =N32-I32 -> 14.6 | L32: - | N32: 14.87
A33: =1+A32 -> 29 | B33: Marielos | C33: Hondores | D33: E | E33: 234045 | F33: 378793 | G33: 127 | H33: - | I33: 0.28 | J33: - | K33: =N33-I33 -> 3.07 | L33: - | N33: 3.35
A34: =1+A33 -> 30 | B34: Juan López | C34: Hondores | D34: E | E34: 233269 | F34: 379859 | G34: 133 | H34: - | I34: 0.37 | J34: - | K34: =N34-I34 -> 5.13 | L34: - | N34: 5.5
A35: =1+A34 -> 31 | B35: Arnoldo | C35: Fca el Carmen | D35: E | E35: 231370 | F35: 376354 | G35: 152 | H35: - | I35: 0.6 | J35: - | K35: =N35-I35 -> 4.75 | L35: - | N35: 5.35
A36: =1+A35 -> 32 | B36: MT-217 APAN | C36: Fca el Carmen | D36: P | E36: 230325 | F36: 376380 | G36: 173 | H36: 6 | I36: 0.24 | J36: - | K36: =N36-I36 -> 10.96 | L36: - | N36: 11.2
A37: =1+A36 -> 33 | B37: MT-197 Luna y Sol 2004 S.A. | C37: Caimitalito | D37: P | E37: 227193 | F37: 373134 | G37: 167 | H37: - | J37: - | K37: =N37-I37 -> 2.53 | L37: - | N37: 2.53
A39: El pozo N° 13 "Flor Fajardo" presenta un nivel estático a 6 metros, sin embargo en el historial de cálculos no aparece información del brocal. Se indica solamente la información medida en el campo.
A40: Adicional se midió el pozo S215 Antonio Vargas | D40: P | E40: 227196 | F40: 374931 | I40: 0.45 | J40: - | K40: =N40-I40 -> 5.45 | L40: - | N40: 5.9

Sheet Diciembre 2012
A1: Plan de Monitoreo Acuífero Caimital
A2: Fecha: 18 de diciembre del 2012
N3: Datos de campo
A4: N˚ | B4: Nombre del POZO | C4: Lugar | D4: Tipo | E4: Latitud | F4: Longitud | G4: Altitud sobre nivel de Mar | H4: Diámetro armado (in) | I4: Brocal (m) | J4: Profundidad de pozo (m) | K4: Nivel estático (m) | L4: Nivel dinámico (m) | N4: Nivel estático (m) + Brocal | O4: Nivel dinámico (m) + Brocal
A5: 1 | B5: AyA Caimital 1 | C5: Caimital | D5: P | E5: 228433 | F5: 374731 | G5: 176 | H5: 8 | I5: 0.74 | K5: - | L5: =O5-I5 -> 16.45 | N5: - | O5: 17.19
A6: =1+A5 -> 2 | B6: AyA Caimital 2 | C6: Caimital | D6: P | E6: 228410 | F6: 374618 | G6: 169 | H6: 10 | I6: 0.53 | K6: - | L6: =O6-I6 -> 14.89 | N6: - | O6: 15.42
A7: =1+A6 -> 3 | B7: AyA Caimital 6 | C7: Caimital | D7: P | E7: 228332 | F7: 373697 | G7: 165 | H7: 8 | I7: 0.46 | K7: =N7-I7 -> 3.25 | L7: - | N7: 3.71 | O7: -
A8: =1+A7 -> 4 | B8: AyA Caimital 4 | C8: Caimital | D8: P | E8: 228311 | F8: 373468 | G8: 164 | H8: 10 | I8: 0.75 | K8: - | L8: =O8-I8 -> 5.67 | N8: - | O8: 6.42
A9: =1+A8 -> 5 | B9: CJ-17 Villa Adela | C9: Dulce Nombre | D9: P | E9: 229011 | F9: 372774 | G9: 171 | H9: 10 | I9: 0.21 | K9: =N9-I9 -> 4.59 | L9: - | N9: 4.8 | O9: -
A10: =1+A9 -> 6 | B10: MT-279 José Campos Camacho | C10: Dulce Nombre | D10: P | E10: 228975 | F10: 372676 | G10: 178 | H10: 6 | I10: 0.05 | K10: =N10-I10 -> 4.52 | L10: - | N10: 4.57 | O10: -
A11: =1+A10 -> 7 | B11: AyA Caimital 3 | C11: Caimital | D11: P | E11: 228362 | F11: 374622 | G11: 176 | H11: 8 | I11: 0.63 | K11: - | L11: =O11-I11 -> 13.88 | N11: - | O11: 14.51
A12: =1+A11 -> 8 | B12: AyA Caimital 5 | C12: Caimital | D12: P | E12: 228388 | F12: 374670 | G12: 178 | H12: 8 | I12: 0.58 | K12: =N12-I12 -> 6.4 | L12: - | N12: 6.98 | O12: -
A13: =1+A12 -> 9 | B13: Melonera | C13: Dulce Nombre | D13: P | E13: 228558 | F13: 373122 | G13: 149 | H13: - | I13: - | K13: Sin linea de aire
A14: =1+A13 -> 10 | B14: ASADA Dulce Nombre 2 | C14: Dulce Nombre | D14: P | E14: 229344 | F14: 372629 | G14: 169 | H14: 6 | I14: 0.41 | K14: =N14-I14 -> 7.18 | L14: - | N14: 7.59 | O14: -
A15: =1+A14 -> 11 | B15: ASADA Dulce Nombre 1 | C15: Dulce Nombre | D15: P | E15: 229365 | F15: 372649 | G15: 170 | H15: 8 | I15: 0.38 | K15: - | L15: =O15-I15 -> 11.39 | N15: - | O15: 11.77
A16: =1+A15 -> 12 | B16: Heiner Fajardo | C16: Dulce Nombre | D16: E | E16: 230039 | F16: 373297 | G16: 177 | H16: - | I16: 0.45 | K16: =N16-I16 -> 6.1 | L16: - | N16: 6.55 | O16: -
A17: =1+A16 -> 13 | B17: Flor Fajardo | C17: Dulce Nombre | D17: E | E17: 230068 | F17: 373331 | G17: 178 | H17: - | I17: - | K17: Seco | L17: - | N17: seco | O17: -
A18: =1+A17 -> 14 | B18: Saúl Herrera | C18: Dulce Nombre | D18: E | E18: 228808 | F18: 372154 | G18: 172 | H18: - | I18: 0.78 | K18: =N18-I18 -> 9.86 | L18: - | N18: 10.64 | O18: -
A19: =1+A18 -> 15 | B19: Gavina Campos Noguera | C19: Gamalotal | D19: E | E19: 228215 | F19: 371804 | G19: 175 | H19: - | I19: 0.53 | K19: =N19-I19 -> 10.96 | L19: - | N19: 11.49 | O19: -
A20: =1+A19 -> 16 | B20: José Fernando Oriones Zúñiga | C20: Gamalotal | D20: E | E20: 226508 | F20: 370899 | G20: 153 | H20: - | I20: 0.6 | K20: =N20-I20 -> 14.97 | L20: - | N20: 15.57 | O20: -
A21: =1+A20 -> 17 | B21: Hilda Rodríguez Villalobos | C21: Gamalotal | D21: P | E21: 226538 | F21: 370372 | G21: 163 | H21: 6 | I21: 0 | J21: 25 | K21: =N21-I21 -> 3.56 | L21: - | N21: 3.56 | O21: -
A22: =1+A21 -> 18 | B22: ASADA Gamalotal | C22: Gamalotal | D22: P | E22: 227916 | F22: 371351 | G22: 184 | H22: 8 | I22: 0.31 | K22: - | L22: =O22-I22 -> 22.14 | N22: - | O22: 22.45
A23: =1+A22 -> 19 | B23: Paula Pérez Carrillo | C23: Caimitalito | D23: E | E23: 227137 | F23: 372659 | G23: 175 | H23: - | I23: 0.43 | K23: =N23-I23 -> 7.97 | L23: - | N23: 8.4 | O23: -
A24: =1+A23 -> 20 | B24: ASADA Caimitalito | C24: Caimitalito | D24: P | E24: 227239 | F24: 372760 | G24: 178 | H24: - | I24: - | J24: 28 | K24: Sin linea de aire
A25: =1+A24 -> 21 | B25: José Mora López | C25: Caimital | D25: E | E25: 228001 | F25: 374482 | G25: 163 | H25: - | I25: 0.79 | K25: =N25-I25 -> 3.71 | L25: - | N25: 4.5 | O25: -
A26: =1+A25 -> 22 | B26: ASADA Caimital | C26: Caimital | D26: P | E26: 227968 | F26: 374756 | G26: 178 | H26: 8 | I26: 0.95 | K26: - | L26: =O26-I26 -> 6.26 | N26: - | O26: 7.21
A27: =1+A26 -> 23 | B27: Blas Villegas | C27: Dulce Nombre | D27: E | E27: 230129 | F27: 373872 | G27: 183 | H27: - | I27: 0.51 | K27: =N27-I27 -> 5.22 | L27: - | N27: 5.73 | O27: -
A28: =1+A27 -> 24 | B28: Rafael Quiroz Perforado | C28: Caimitalito | D28: P | E28: 226896 | F28: 371931 | G28: 154 | H28: - | I28: 0 | J28: 32 | K28: =N28-I28 -> 8.45 | L28: - | N28: 8.45 | O28: -
A29: =1+A28 -> 25 | B29: Rafael Quiroz Excavado | C29: Caimitalito | D29: E | E29: 226897 | F29: 371914 | G29: 153 | H29: - | I29: 0.51 | J29: 11 | K29: =N29-I29 -> 8.96 | L29: - | N29: 9.47 | O29: -
A30: =1+A29 -> 26 | B30: MT-266 Asdrúbal Rojas Chávez | C30: Zompopa | D30: P | E30: 230865 | F30: 374057 | G30: 188 | H30: - | I30: 0.16 | J30: - | K30: - | L30: =O30-I30 -> 9.24 | N30: - | O30: 9.4
A31: =1+A30 -> 27 | B31: Walter Vásquez | C31: Curime | D31: E | E31: 233304 | F31: 377094 | G31: 152 | H31: - | I31: 0.47 | J31: 10 | K31: =N31-I31 -> 5.6 | L31: - | N31: 6.07 | O31: -
A32: =1+A31 -> 28 | B32: MT-305 María de los Ángeles Pérez Rodríguez | C32: Curime | D32: P | E32: 233542 | F32: 376630 | G32: 165 | H32: - | I32: 0.27 | J32: 54 | K32: =N32-I32 -> 15.06 | L32: - | N32: 15.33 | O32: -
A33: =1+A32 -> 29 | B33: Marielos | C33: Hondores | D33: E | E33: 234045 | F33: 378793 | G33: 127 | H33: - | I33: 0.28 | J33: - | K33: =N33-I33 -> 4.66 | L33: - | N33: 4.94 | O33: -
A34: =1+A33 -> 30 | B34: Juan López | C34: Hondores | D34: E | E34: 233269 | F34: 379859 | G34: 133 | H34: - | I34: 0.37 | J34: - | K34: =N34-I34 -> 5.7 | L34: - | N34: 6.07 | O34: -
A35: =1+A34 -> 31 | B35: Arnoldo | C35: Fca el Carmen | D35: E | E35: 231370 | F35: 376354 | G35: 152 | H35: - | I35: 0.6 | J35: - | K35: =N35-I35 -> 5 | L35: - | N35: 5.6 | O35: -
A36: =1+A35 -> 32 | B36: MT-217 APAN | C36: Fca el Carmen | D36: P | E36: 230325 | F36: 376380 | G36: 173 | H36: 6 | I36: 0.24 | J36: - | K36: =N36-I36 -> 11.31 | L36: - | N36: 11.55 | O36: -
A37: =1+A36 -> 33 | B37: MT-197 Luna y Sol 2004 S.A. | C37: Caimitalito | D37: P | E37: 227193 | F37: 373134 | G37: 167 | H37: - | J37: - | K37: =N37-I37 -> 5.05 | L37: - | N37: 5.05 | O37: -
A38: 34 | B38: Antonio Vargas | C38: Caimital | D38: P | E38: 227196 | F38: 374931 | G38: 174 | H38: - | I38: 0.45 | J38: - | K38: =N38-I38 -> 7.29 | L38: - | N38: 7.74 | O38: -

Sheet Enero 2013
A1: Plan de Monitoreo Acuífero Caimital
A2: Fecha: 29 de enero 2013
N3: Datos de campo
A4: N˚ | B4: Nombre del POZO | C4: Lugar | D4: Tipo | E4: Latitud | F4: Longitud | G4: Altitud sobre nivel de Mar | H4: Diámetro armado (in) | I4: Brocal (m) | J4: Profundidad de pozo (m) | K4: Nivel estático (m) | L4: Nivel dinámico (m) | N4: Nivel estático (m) + Brocal | O4: Nivel dinámico (m) + Brocal
A5: 1 | B5: AyA Caimital 1 | C5: Caimital | D5: P | E5: 228433 | F5: 374731 | G5: 176 | H5: 8 | I5: 0.74 | K5: - | L5: =O5-I5 -> 16.76 | N5: - | O5: 17.5
A6: =1+A5 -> 2 | B6: AyA Caimital 2 | C6: Caimital | D6: P | E6: 228410 | F6: 374618 | G6: 169 | H6: 10 | I6: 0.53 | K6: - | L6: =O6-I6 -> 14.73 | N6: - | O6: 15.26
A7: =1+A6 -> 3 | B7: AyA Caimital 6 | C7: Caimital | D7: P | E7: 228332 | F7: 373697 | G7: 165 | H7: 8 | I7: 0.46 | K7: =N7-I7 -> 3.86 | L7: - | N7: 4.32 | O7: -
A8: =1+A7 -> 4 | B8: AyA Caimital 4 | C8: Caimital | D8: P | E8: 228311 | F8: 373468 | G8: 164 | H8: 10 | I8: 0.75 | K8: - | L8: =O8-I8 -> 6.72 | N8: - | O8: 7.47
A9: =1+A8 -> 5 | B9: CJ-17 Villa Adela | C9: Dulce Nombre | D9: P | E9: 229011 | F9: 372774 | G9: 171 | H9: 10 | I9: 0.21 | K9: =N9-I9 -> 5.75 | L9: - | N9: 5.96 | O9: -
A10: =1+A9 -> 6 | B10: MT-279 José Campos Camacho | C10: Dulce Nombre | D10: P | E10: 228975 | F10: 372676 | G10: 178 | H10: 6 | I10: 0.05 | K10: =N10-I10 -> 5.8 | L10: - | N10: 5.85 | O10: -
A11: =1+A10 -> 7 | B11: AyA Caimital 3 | C11: Caimital | D11: P | E11: 228362 | F11: 374622 | G11: 176 | H11: 8 | I11: 0.63 | K11: - | L11: =O11-I11 -> 16.5 | N11: - | O11: 17.13
A12: =1+A11 -> 8 | B12: AyA Caimital 5 | C12: Caimital | D12: P | E12: 228388 | F12: 374670 | G12: 178 | H12: 8 | I12: 0.58 | K12: =N12-I12 -> 7.08 | L12: - | N12: 7.66 | O12: -
A13: =1+A12 -> 9 | B13: Melonera | C13: Dulce Nombre | D13: P | E13: 228558 | F13: 373122 | G13: 149 | H13: - | I13: - | K13: Sin linea de aire
A14: =1+A13 -> 10 | B14: ASADA Dulce Nombre 2 | C14: Dulce Nombre | D14: P | E14: 229344 | F14: 372629 | G14: 169 | H14: 6 | I14: 0.41 | K14: =N14-I14 -> 9.08 | L14: - | N14: 9.49 | O14: -
A15: =1+A14 -> 11 | B15: ASADA Dulce Nombre 1 | C15: Dulce Nombre | D15: P | E15: 229365 | F15: 372649 | G15: 170 | H15: 8 | I15: 0.38 | K15: - | L15: =O15-I15 -> 12.22 | N15: - | O15: 12.6
A16: =1+A15 -> 12 | B16: Heiner Fajardo | C16: Dulce Nombre | D16: E | E16: 230039 | F16: 373297 | G16: 177 | H16: - | I16: 0.45 | K16: =N16-I16 -> 8.05 | L16: - | N16: 8.5 | O16: -
A17: =1+A16 -> 13 | B17: Flor Fajardo | C17: Dulce Nombre | D17: E | E17: 230068 | F17: 373331 | G17: 178 | H17: - | I17: - | K17: seco | L17: - | N17: seco | O17: -
A18: =1+A17 -> 14 | B18: Casa Abandonada | C18: Dulce Nombre | D18: E | E18: 228808 | F18: 372154 | G18: 172 | H18: - | I18: 0.78 | K18: seco | L18: - | N18: seco | O18: -
A19: =1+A18 -> 15 | B19: Gavina Campos Noguera | C19: Gamalotal | D19: E | E19: 228215 | F19: 371804 | G19: 175 | H19: - | I19: 0.53 | K19: =N19-I19 -> 13.17 | L19: - | N19: 13.7 | O19: -
A20: =1+A19 -> 16 | B20: José Fernando Oriones Zúñiga | C20: Gamalotal | D20: E | E20: 226508 | F20: 370899 | G20: 153 | H20: - | I20: 0.6 | K20: =N20-I20 -> 15.26 | L20: - | N20: 15.86 | O20: -
A21: =1+A20 -> 17 | B21: Hilda Rodríguez Villalobos | C21: Gamalotal | D21: P | E21: 226538 | F21: 370372 | G21: 163 | H21: 6 | I21: 0 | J21: 25 | K21: =N21-I21 -> 5.34 | L21: - | N21: 5.34 | O21: -
A22: =1+A21 -> 18 | B22: ASADA Gamalotal | C22: Gamalotal | D22: P | E22: 227916 | F22: 371351 | G22: 184 | H22: 8 | I22: 0.31 | K22: - | L22: =O22-I22 -> 31.69 | N22: - | O22: 32
A23: =1+A22 -> 19 | B23: Paula Pérez Carrillo | C23: Caimitalito | D23: E | E23: 227137 | F23: 372659 | G23: 175 | H23: - | I23: 0.43 | K23: =N23-I23 -> 8.95 | L23: - | N23: 9.38 | O23: -
A24: =1+A23 -> 20 | B24: ASADA Caimitalito | C24: Caimitalito | D24: P | E24: 227239 | F24: 372760 | G24: 178 | H24: - | I24: - | J24: 28 | K24: Sin linea de aire
A25: =1+A24 -> 21 | B25: José Mora López | C25: Caimital | D25: E | E25: 228001 | F25: 374482 | G25: 163 | H25: - | I25: 0.79 | K25: =N25-I25 -> 4.27 | L25: - | N25: 5.06 | O25: -
A26: =1+A25 -> 22 | B26: ASADA Caimital | C26: Caimital | D26: P | E26: 227968 | F26: 374756 | G26: 178 | H26: 8 | I26: 0.95 | K26: - | L26: =O26-I26 -> 7.13 | N26: - | O26: 8.08
A27: =1+A26 -> 23 | B27: Blas Villegas | C27: Dulce Nombre | D27: E | E27: 230129 | F27: 373872 | G27: 183 | H27: - | I27: 0.51 | K27: =N27-I27 -> 7.97 | L27: - | N27: 8.48 | O27: -
A28: =1+A27 -> 24 | B28: Rafael Quiroz Perforado | C28: Caimitalito | D28: P | E28: 226896 | F28: 371931 | G28: 154 | H28: - | I28: 0 | J28: 32 | K28: =N28-I28 -> 10.12 | L28: - | N28: 10.12 | O28: -
A29: =1+A28 -> 25 | B29: Rafael Quiroz Excavado | C29: Caimitalito | D29: E | E29: 226897 | F29: 371914 | G29: 153 | H29: - | I29: 0.51 | J29: 11 | K29: =N29-I29 -> 9.55 | L29: - | N29: 10.06 | O29: -
A30: =1+A29 -> 26 | B30: MT-266 Asdrúbal Rojas Chávez | C30: Zompopa | D30: P | E30: 230865 | F30: 374057 | G30: 188 | H30: - | I30: 0.16 | J30: - | K30: - | L30: =O30-I30 -> 10.08 | N30: - | O30: 10.24
A31: =1+A30 -> 27 | B31: Walter Vásquez | C31: Curime | D31: E | E31: 233304 | F31: 377094 | G31: 152 | H31: - | I31: 0.47 | J31: 10 | K31: =N31-I31 -> 6.41 | L31: - | N31: 6.88 | O31: -
A32: =1+A31 -> 28 | B32: MT-305 María de los Ángeles Pérez Rodríguez | C32: Curime | D32: P | E32: 233542 | F32: 376630 | G32: 165 | H32: - | I32: 0.27 | J32: 54 | K32: =N32-I32 -> 15.97 | L32: - | N32: 16.24 | O32: -
A33: =1+A32 -> 29 | B33: Marielos | C33: Hondores | D33: E | E33: 234045 | F33: 378793 | G33: 127 | H33: - | I33: 0.28 | J33: - | K33: =N33-I33 -> 5.92 | L33: - | N33: 6.2 | O33: -
A34: =1+A33 -> 30 | B34: Juan López | C34: Hondores | D34: E | E34: 233269 | F34: 379859 | G34: 133 | H34: - | I34: 0.37 | J34: - | K34: =N34-I34 -> 6.37 | L34: - | N34: 6.74 | O34: -
A35: =1+A34 -> 31 | B35: Arnoldo | C35: Fca el Carmen | D35: E | E35: 231370 | F35: 376354 | G35: 152 | H35: - | I35: 0.6 | J35: - | K35: =N35-I35 -> 4.86 | L35: - | N35: 5.46 | O35: -
A36: =1+A35 -> 32 | B36: MT-217 APAN | C36: Fca el Carmen | D36: P | E36: 230325 | F36: 376380 | G36: 173 | H36: 6 | I36: 0.24 | J36: - | K36: =N36-I36 -> 11.55 | L36: - | N36: 11.79 | O36: -
A37: =1+A36 -> 33 | B37: MT-197 Luna y Sol 2004 S.A. | C37: Caimitalito | D37: P | E37: 227193 | F37: 373134 | G37: 167 | H37: - | J37: - | K37: =N37-I37 -> 7.84 | L37: - | N37: 7.84 | O37: -
A38: 34 | B38: Antonio Vargas | C38: Caimital | D38: P | E38: 227196 | F38: 374931 | G38: 174 | H38: - | I38: 0.45 | J38: - | K38: =N38-I38 -> 8.6 | L38: - | N38: 9.05 | O38: -

Sheet Febrero 2013
A1: Plan de Monitoreo Acuífero Caimital
A2: Fecha: 26 de febrero 2013
N3: Datos de campo
A4: N˚ | B4: Nombre del POZO | C4: Lugar | D4: Tipo | E4: Latitud | F4: Longitud | G4: Altitud sobre nivel de Mar | H4: Diámetro armado (in) | I4: Brocal (m) | J4: Profundidad de pozo (m) | K4: Nivel estático (m) | L4: Nivel dinámico (m) | N4: Nivel estático (m) + Brocal | O4: Nivel dinámico (m) + Brocal
A5: 1 | B5: AyA Caimital 1 | C5: Caimital | D5: P | E5: 228433 | F5: 374731 | G5: 176 | H5: 8 | I5: 0.74 | K5: - | L5: =O5-I5 -> 17.38 | N5: - | O5: 18.12
A6: =1+A5 -> 2 | B6: AyA Caimital 2 | C6: Caimital | D6: P | E6: 228410 | F6: 374618 | G6: 169 | H6: 10 | I6: 0.53 | K6: - | L6: =O6-I6 -> 12.09 | N6: - | O6: 12.62
A7: =1+A6 -> 3 | B7: AyA Caimital 6 | C7: Caimital | D7: P | E7: 228332 | F7: 373697 | G7: 165 | H7: 8 | I7: 0.46 | K7: =N7-I7 -> 4.43 | L7: - | N7: 4.89 | O7: -
A8: =1+A7 -> 4 | B8: AyA Caimital 4 | C8: Caimital | D8: P | E8: 228311 | F8: 373468 | G8: 164 | H8: 10 | I8: 0.75 | K8: =N8-I8 -> 4.02 | L8: - | N8: 4.77 | O8: -
A9: =1+A8 -> 5 | B9: CJ-17 Villa Adela | C9: Dulce Nombre | D9: P | E9: 229011 | F9: 372774 | G9: 171 | H9: 10 | I9: 0.21 | K9: =N9-I9 -> 6.7 | L9: - | N9: 6.91 | O9: -
A10: =1+A9 -> 6 | B10: MT-279 José Campos Camacho | C10: Dulce Nombre | D10: P | E10: 228975 | F10: 372676 | G10: 178 | H10: 6 | I10: 0.05 | K10: - | L10: =O10-I10 -> 8.97 | N10: - | O10: 9.02
A11: =1+A10 -> 7 | B11: AyA Caimital 3 | C11: Caimital | D11: P | E11: 228362 | F11: 374622 | G11: 176 | H11: 8 | I11: 0.63 | K11: - | L11: =O11-I11 -> 17.56 | N11: - | O11: 18.19
A12: =1+A11 -> 8 | B12: AyA Caimital 5 | C12: Caimital | D12: P | E12: 228388 | F12: 374670 | G12: 178 | H12: 8 | I12: 0.58 | K12: =N12-I12 -> 7.81 | L12: - | N12: 8.39 | O12: -
A13: =1+A12 -> 9 | B13: Melonera | C13: Dulce Nombre | D13: P | E13: 228558 | F13: 373122 | G13: 149 | H13: - | I13: - | K13: Sin línea de aire
A14: =1+A13 -> 10 | B14: ASADA Dulce Nombre 2 | C14: Dulce Nombre | D14: P | E14: 229344 | F14: 372629 | G14: 169 | H14: 6 | I14: 0.41 | K14: =N14-I14 -> 10.1 | L14: - | N14: 10.51 | O14: -
A15: =1+A14 -> 11 | B15: ASADA Dulce Nombre 1 | C15: Dulce Nombre | D15: P | E15: 229365 | F15: 372649 | G15: 170 | H15: 8 | I15: 0.38 | K15: =N15-I15 -> 9.83 | L15: - | N15: 10.21 | O15: -
A16: =1+A15 -> 12 | B16: Heiner Fajardo | C16: Dulce Nombre | D16: E | E16: 230039 | F16: 373297 | G16: 177 | H16: - | I16: 0.45 | K16: =N16-I16 -> 9.97 | L16: - | N16: 10.42 | O16: -
A17: =1+A16 -> 13 | B17: Flor Fajardo | C17: Dulce Nombre | D17: E | E17: 230068 | F17: 373331 | G17: 178 | H17: - | I17: - | K17: seco | L17: - | N17: seco | O17: -
A18: =1+A17 -> 14 | B18: Casa Abandonada | C18: Dulce Nombre | D18: E | E18: 228808 | F18: 372154 | G18: 172 | H18: - | I18: 0.78 | K18: =N18-I18 -> 12.7 | L18: - | N18: 13.48 | O18: -
A19: =1+A18 -> 15 | B19: Gavina Campos Noguera | C19: Gamalotal | D19: E | E19: 228215 | F19: 371804 | G19: 175 | H19: - | I19: 0.53 | K19: =N19-I19 -> 14.46 | L19: - | N19: 14.99 | O19: -
A20: =1+A19 -> 16 | B20: José Fernando Oriones Zúñiga | C20: Gamalotal | D20: E | E20: 226508 | F20: 370899 | G20: 153 | H20: - | I20: 0.6 | K20: =N20-I20 -> 15.47 | L20: - | N20: 16.07 | O20: -
A21: =1+A20 -> 17 | B21: Hilda Rodríguez Villalobos | C21: Gamalotal | D21: P | E21: 226538 | F21: 370372 | G21: 163 | H21: 6 | I21: 0 | J21: 25 | K21: =N21-I21 -> 6.48 | L21: - | N21: 6.48 | O21: -
A22: =1+A21 -> 18 | B22: ASADA Gamalotal | C22: Gamalotal | D22: P | E22: 227916 | F22: 371351 | G22: 184 | H22: 8 | I22: 0.31 | K22: =N22-I22 -> 29.22 | L22: - | N22: 29.53 | O22: -
A23: =1+A22 -> 19 | B23: Paula Pérez Carrillo | C23: Caimitalito | D23: E | E23: 227137 | F23: 372659 | G23: 175 | H23: - | I23: 0.43 | K23: =N23-I23 -> 9.56 | L23: - | N23: 9.99 | O23: -
A24: =1+A23 -> 20 | B24: ASADA Caimitalito | C24: Caimitalito | D24: P | E24: 227239 | F24: 372760 | G24: 178 | H24: - | I24: - | J24: 28 | K24: Sin línea de aire
A25: =1+A24 -> 21 | B25: José Mora López | C25: Caimital | D25: E | E25: 228001 | F25: 374482 | G25: 163 | H25: - | I25: 0.79 | K25: =N25-I25 -> 4.96 | L25: - | N25: 5.75 | O25: -
A26: =1+A25 -> 22 | B26: ASADA Caimital | C26: Caimital | D26: P | E26: 227968 | F26: 374756 | G26: 178 | H26: 8 | I26: 0.95 | K26: - | L26: =O26-I26 -> 7.39 | N26: - | O26: 8.34
A27: =1+A26 -> 23 | B27: Blas Villegas | C27: Dulce Nombre | D27: E | E27: 230129 | F27: 373872 | G27: 183 | H27: - | I27: 0.51 | K27: =N27-I27 -> 9.05 | L27: - | N27: 9.56 | O27: -
A28: =1+A27 -> 24 | B28: Rafael Quiroz Perforado | C28: Caimitalito | D28: P | E28: 226896 | F28: 371931 | G28: 154 | H28: - | I28: 0 | J28: 32 | K28: =N28-I28 -> 10.36 | L28: - | N28: 10.36 | O28: -
A29: =1+A28 -> 25 | B29: Rafael Quiroz Excavado | C29: Caimitalito | D29: E | E29: 226897 | F29: 371914 | G29: 153 | H29: - | I29: 0.51 | J29: 11 | K29: =N29-I29 -> 9.87 | L29: - | N29: 10.38 | O29: -
A30: =1+A29 -> 26 | B30: MT-266 Asdrúbal Rojas Chávez | C30: Zompopa | D30: P | E30: 230865 | F30: 374057 | G30: 188 | H30: - | I30: 0.16 | J30: - | K30: =N30-I30 -> 5.04 | L30: - | N30: 5.2 | O30: -
A31: =1+A30 -> 27 | B31: Walter Vásquez | C31: Curime | D31: E | E31: 233304 | F31: 377094 | G31: 152 | H31: - | I31: 0.47 | J31: 10 | K31: =N31-I31 -> 7.28 | L31: - | N31: 7.75 | O31: -
A32: =1+A31 -> 28 | B32: MT-305 María de los Ángeles Pérez Rodríguez | C32: Curime | D32: P | E32: 233542 | F32: 376630 | G32: 165 | H32: - | I32: 0.27 | J32: 54 | K32: =N32-I32 -> 16.61 | L32: - | N32: 16.88 | O32: -
A33: =1+A32 -> 29 | B33: Marielos | C33: Hondores | D33: E | E33: 234045 | F33: 378793 | G33: 127 | H33: - | I33: 0.28 | J33: - | K33: =N33-I33 -> 6.42 | L33: - | N33: 6.7 | O33: -
A34: =1+A33 -> 30 | B34: Juan López | C34: Hondores | D34: E | E34: 233269 | F34: 379859 | G34: 133 | H34: - | I34: 0.37 | J34: - | K34: =N34-I34 -> 6.69 | L34: - | N34: 7.06 | O34: -
A35: =1+A34 -> 31 | B35: Arnoldo | C35: Fca el Carmen | D35: E | E35: 231370 | F35: 376354 | G35: 152 | H35: - | I35: 0.6 | J35: - | K35: =N35-I35 -> 4.91 | L35: - | N35: 5.51 | O35: -
A36: =1+A35 -> 32 | B36: MT-217 APAN | C36: Fca el Carmen | D36: P | E36: 230325 | F36: 376380 | G36: 173 | H36: 6 | I36: 0.24 | J36: - | K36: =N36-I36 -> 11.72 | L36: - | N36: 11.96 | O36: -
A37: =1+A36 -> 33 | B37: MT-197 Luna y Sol 2004 S.A. | C37: Caimitalito | D37: P | E37: 227193 | F37: 373134 | G37: 167 | H37: - | J37: - | K37: =N37-I37 -> 9.98 | L37: - | N37: 9.98 | O37: -
A38: 34 | B38: Antonio Vargas | C38: Caimital | D38: P | E38: 227196 | F38: 374931 | G38: 174 | H38: - | I38: 0.45 | J38: - | K38: =N38-I38 -> 9.55 | L38: - | N38: 10 | O38: -
A39: 35 | B39: Costeña Proyecto 2 | C39: Caimital | D39: P | E39: 230121 | F39: 375557 | G39: 189 | H39: - | I39: 0.31 | J39: - | K39: - | L39: =O39-I39 -> 14.13 | N39: - | O39: 14.44
A40: 36 | B40: Costeña Proyecto 1 | C40: Caimital | D40: P | E40: 230506 | F40: 374383 | G40: 195 | H40: - | I40: 0.3 | J40: - | K40: - | L40: =O40-I40 -> 25.2 | N40: - | O40: 25.5

Sheet Marzo 2013
A1: Plan de Monitoreo Acuífero Caimital
A2: Fecha: 19 de marzo 2013
N3: Datos de campo
A4: N˚ | B4: Nombre del POZO | C4: Lugar | D4: Tipo | E4: Latitud | F4: Longitud | G4: Altitud sobre nivel de Mar | H4: Diámetro armado (in) | I4: Brocal (m) | J4: Profundidad de pozo (m) | K4: Nivel estático (m) | L4: Nivel dinámico (m) | N4: Nivel estático (m) + Brocal | O4: Nivel dinámico (m) + Brocal
A5: 1 | B5: AyA Caimital 1 | C5: Caimital | D5: P | E5: 228433 | F5: 374731 | G5: 176 | H5: 8 | I5: 0.74 | K5: =N5-I5 -> 9.05 | L5: - | N5: 9.79 | O5: -
A6: =1+A5 -> 2 | B6: AyA Caimital 2 | C6: Caimital | D6: P | E6: 228410 | F6: 374618 | G6: 169 | H6: 10 | I6: 0.53 | K6: - | L6: =O6-I6 -> 13.44 | N6: - | O6: 13.97
A7: =1+A6 -> 3 | B7: AyA Caimital 6 | C7: Caimital | D7: P | E7: 228332 | F7: 373697 | G7: 165 | H7: 8 | I7: 0.46 | K7: =N7-I7 -> 4.78 | L7: - | N7: 5.24 | O7: -
A8: =1+A7 -> 4 | B8: AyA Caimital 4 | C8: Caimital | D8: P | E8: 228311 | F8: 373468 | G8: 164 | H8: 10 | I8: 0.75 | K8: - | L8: =O8-I8 -> 9.68 | N8: - | O8: 10.43
A9: =1+A8 -> 5 | B9: CJ-17 Villa Adela | C9: Dulce Nombre | D9: P | E9: 229011 | F9: 372774 | G9: 171 | H9: 10 | I9: 0.21 | K9: =N9-I9 -> 7.04 | L9: - | N9: 7.25 | O9: -
A10: =1+A9 -> 6 | B10: MT-279 José Campos Camacho | C10: Dulce Nombre | D10: P | E10: 228975 | F10: 372676 | G10: 178 | H10: 6 | I10: 0.05 | K10: =N10-I10 -> 7.22 | L10: - | N10: 7.27 | O10: -
A11: =1+A10 -> 7 | B11: AyA Caimital 3 | C11: Caimital | D11: P | E11: 228362 | F11: 374622 | G11: 176 | H11: 8 | I11: 0.63 | K11: - | L11: =O11-I11 -> 14.12 | N11: - | O11: 14.75
A12: =1+A11 -> 8 | B12: AyA Caimital 5 | C12: Caimital | D12: P | E12: 228388 | F12: 374670 | G12: 178 | H12: 8 | I12: 0.58 | K12: =N12-I12 -> 7.86 | L12: - | N12: 8.44 | O12: -
A13: =1+A12 -> 9 | B13: Melonera | C13: Dulce Nombre | D13: P | E13: 228558 | F13: 373122 | G13: 149 | H13: - | I13: - | K13: Sin linea de aire
A14: =1+A13 -> 10 | B14: ASADA Dulce Nombre 2 | C14: Dulce Nombre | D14: P | E14: 229344 | F14: 372629 | G14: 169 | H14: 6 | I14: 0.41 | K14: =N14-I14 -> 11.62 | L14: - | N14: 12.03 | O14: -
A15: =1+A14 -> 11 | B15: ASADA Dulce Nombre 1 | C15: Dulce Nombre | D15: P | E15: 229365 | F15: 372649 | G15: 170 | H15: 8 | I15: 0.38 | K15: - | L15: =O15-I15 -> 15.45 | N15: - | O15: 15.83
A16: =1+A15 -> 12 | B16: Heiner Fajardo | C16: Dulce Nombre | D16: E | E16: 230039 | F16: 373297 | G16: 177 | H16: - | I16: 0.45 | K16: =N16-I16 -> 11.15 | L16: - | N16: 11.6 | O16: -
A17: =1+A16 -> 13 | B17: Flor Fajardo | C17: Dulce Nombre | D17: E | E17: 230068 | F17: 373331 | G17: 178 | H17: - | I17: - | K17: seco | L17: - | N17: seco | O17: -
A18: =1+A17 -> 14 | B18: Casa Abandonada | C18: Dulce Nombre | D18: E | E18: 228808 | F18: 372154 | G18: 172 | H18: - | I18: 0.78 | K18: seco | L18: - | N18: seco | O18: -
A19: =1+A18 -> 15 | B19: Gavina Campos Noguera | C19: Gamalotal | D19: E | E19: 228215 | F19: 371804 | G19: 175 | H19: - | I19: 0.53 | K19: seco | L19: - | N19: seco | O19: -
A20: =1+A19 -> 16 | B20: José Fernando Oriones Zúñiga | C20: Gamalotal | D20: E | E20: 226508 | F20: 370899 | G20: 153 | H20: - | I20: 0.6 | K20: seco | L20: - | N20: seco | O20: -
A21: =1+A20 -> 17 | B21: Hilda Rodríguez Villalobos | C21: Gamalotal | D21: P | E21: 226538 | F21: 370372 | G21: 163 | H21: 6 | I21: 0 | J21: 25 | K21: =N21-I21 -> 7.02 | L21: - | N21: 7.02 | O21: -
A22: =1+A21 -> 18 | B22: ASADA Gamalotal | C22: Gamalotal | D22: P | E22: 227916 | F22: 371351 | G22: 184 | H22: 8 | I22: 0.31 | K22: =N22-I22 -> 15.18 | L22: - | N22: 15.49 | O22: -
A23: =1+A22 -> 19 | B23: Paula Pérez Carrillo | C23: Caimitalito | D23: E | E23: 227137 | F23: 372659 | G23: 175 | H23: - | I23: 0.43 | K23: =N23-I23 -> 9.82 | L23: - | N23: 10.25 | O23: -
A24: =1+A23 -> 20 | B24: ASADA Caimitalito | C24: Caimitalito | D24: P | E24: 227239 | F24: 372760 | G24: 178 | H24: - | I24: - | J24: 28 | K24: Sin linea de aire
A25: =1+A24 -> 21 | B25: José Mora López | C25: Caimital | D25: E | E25: 228001 | F25: 374482 | G25: 163 | H25: - | I25: 0.79 | K25: =N25-I25 -> 4.95 | L25: - | N25: 5.74 | O25: -
A26: =1+A25 -> 22 | B26: ASADA Caimital | C26: Caimital | D26: P | E26: 227968 | F26: 374756 | G26: 178 | H26: 8 | I26: 0.95 | K26: - | L26: =O26-I26 -> 7.98 | N26: - | O26: 8.93
A27: =1+A26 -> 23 | B27: Blas Villegas | C27: Dulce Nombre | D27: E | E27: 230129 | F27: 373872 | G27: 183 | H27: - | I27: 0.51 | K27: =N27-I27 -> 8.92 | L27: - | N27: 9.43 | O27: -
A28: =1+A27 -> 24 | B28: Rafael Quiroz Perforado | C28: Caimitalito | D28: P | E28: 226896 | F28: 371931 | G28: 154 | H28: - | I28: 0 | J28: 32 | K28: =N28-I28 -> 10.51 | L28: - | N28: 10.51 | O28: -
A29: =1+A28 -> 25 | B29: Rafael Quiroz Excavado | C29: Caimitalito | D29: E | E29: 226897 | F29: 371914 | G29: 153 | H29: - | I29: 0.51 | J29: 11 | K29: =N29-I29 -> 9.97 | L29: - | N29: 10.48 | O29: -
A30: =1+A29 -> 26 | B30: MT-266 Asdrúbal Rojas Chávez | C30: Zompopa | D30: P | E30: 230865 | F30: 374057 | G30: 188 | H30: - | I30: 0.16 | J30: - | K30: =N30-I30 -> 5.38 | L30: - | N30: 5.54 | O30: -
A31: =1+A30 -> 27 | B31: Walter Vásquez | C31: Curime | D31: E | E31: 233304 | F31: 377094 | G31: 152 | H31: - | I31: 0.47 | J31: 10 | K31: =N31-I31 -> 7.4 | L31: - | N31: 7.87 | O31: -
A32: =1+A31 -> 28 | B32: MT-305 María de los Ángeles Pérez Rodríguez | C32: Curime | D32: P | E32: 233542 | F32: 376630 | G32: 165 | H32: - | I32: 0.27 | J32: 54 | K32: =N32-I32 -> 16.99 | L32: - | N32: 17.26 | O32: -
A33: =1+A32 -> 29 | B33: Marielos | C33: Hondores | D33: E | E33: 234045 | F33: 378793 | G33: 127 | H33: - | I33: 0.28 | J33: - | K33: =N33-I33 -> 6.59 | L33: - | N33: 6.87 | O33: -
A34: =1+A33 -> 30 | B34: Juan López | C34: Hondores | D34: E | E34: 233269 | F34: 379859 | G34: 133 | H34: - | I34: 0.37 | J34: - | K34: seco | L34: - | N34: seco | O34: -
A35: =1+A34 -> 31 | B35: Arnoldo | C35: Fca el Carmen | D35: E | E35: 231370 | F35: 376354 | G35: 152 | H35: - | I35: 0.6 | J35: - | K35: =N35-I35 -> 4.94 | L35: - | N35: 5.54 | O35: -
A36: =1+A35 -> 32 | B36: MT-217 APAN | C36: Fca el Carmen | D36: P | E36: 230325 | F36: 376380 | G36: 173 | H36: 6 | I36: 0.24 | J36: - | K36: =N36-I36 -> 11.76 | L36: - | N36: 12 | O36: -
A37: =1+A36 -> 33 | B37: MT-197 Luna y Sol 2004 S.A. | C37: Caimitalito | D37: P | E37: 227193 | F37: 373134 | G37: 167 | H37: - | J37: - | K37: =N37-I37 -> 9.95 | L37: - | N37: 9.95 | O37: -
A38: 34 | B38: Antonio Vargas | C38: Caimital | D38: P | E38: 227196 | F38: 374931 | G38: 174 | H38: - | I38: 0.45 | J38: - | K38: =N38-I38 -> 10.17 | N38: 10.62 | O38: -
A39: 35 | B39: Costeña Proyecto 2 | C39: Caimital | D39: P | E39: 230121 | F39: 375557 | G39: 189 | H39: - | I39: 0.31 | J39: - | K39: Linea de aire obstruida | N39: sin dato | O39: -
A40: 36 | B40: Costeña Proyecto 1 | C40: Caimital | D40: P | E40: 230506 | F40: 374383 | G40: 195 | H40: - | I40: 0.3 | J40: - | K40: - | L40: =O40-I40 -> 15.8 | N40: - | O40: 16.1

Sheet Abril 2013
A1: Plan de Monitoreo Acuífero Caimital
A2: Fecha: 23 de abril del 2013
N3: Datos de campo
A4: N˚ | B4: Nombre del POZO | C4: Lugar | D4: Tipo | E4: Latitud | F4: Longitud | G4: Altitud sobre nivel de Mar | H4: Diámetro armado (in) | I4: Brocal (m) | J4: Profundidad de pozo (m) | K4: Nivel estático (m) | L4: Nivel dinámico (m) | N4: Nivel estático (m) + Brocal | O4: Nivel dinámico (m) + Brocal
A5: 1 | B5: AyA Caimital 1 | C5: Caimital | D5: P | E5: 228433 | F5: 374731 | G5: 176 | H5: 8 | I5: 0.74 | K5: - | L5: =O5-I5 -> 15.76 | N5: - | O5: 16.5
A6: =1+A5 -> 2 | B6: AyA Caimital 2 | C6: Caimital | D6: P | E6: 228410 | F6: 374618 | G6: 169 | H6: 10 | I6: 0.53 | K6: - | L6: =O6-I6 -> 14.07 | N6: - | O6: 14.6
A7: =1+A6 -> 3 | B7: AyA Caimital 6 | C7: Caimital | D7: P | E7: 228332 | F7: 373697 | G7: 165 | H7: 8 | I7: 0.46 | K7: =N7-I7 -> 3.86 | L7: - | N7: 4.32 | O7: -
A8: =1+A7 -> 4 | B8: AyA Caimital 4 | C8: Caimital | D8: P | E8: 228311 | F8: 373468 | G8: 164 | H8: 10 | I8: 0.75 | K8: =N8-I8 -> 3.42 | L8: - | N8: 4.17 | O8: -
A9: =1+A8 -> 5 | B9: CJ-17 Villa Adela | C9: Dulce Nombre | D9: P | E9: 229011 | F9: 372774 | G9: 171 | H9: 10 | I9: 0.21 | K9: =N9-I9 -> 7.19 | L9: - | N9: 7.4 | O9: -
A10: =1+A9 -> 6 | B10: MT-279 José Campos Camacho | C10: Dulce Nombre | D10: P | E10: 228975 | F10: 372676 | G10: 178 | H10: 6 | I10: 0.05 | K10: - | L10: =O10-I10 -> 8.45 | N10: - | O10: 8.5
A11: =1+A10 -> 7 | B11: AyA Caimital 3 | C11: Caimital | D11: P | E11: 228362 | F11: 374622 | G11: 176 | H11: 8 | I11: 0.63 | K11: - | L11: =O11-I11 -> 15.17 | N11: - | O11: 15.8
A12: =1+A11 -> 8 | B12: AyA Caimital 5 | C12: Caimital | D12: P | E12: 228388 | F12: 374670 | G12: 178 | H12: 8 | I12: 0.58 | K12: =N12-I12 -> 8.36 | L12: - | N12: 8.94 | O12: -
A13: =1+A12 -> 9 | B13: Melonera | C13: Dulce Nombre | D13: P | E13: 228558 | F13: 373122 | G13: 149 | H13: - | I13: - | K13: Sin linea de aire
A14: =1+A13 -> 10 | B14: ASADA Dulce Nombre 2 | C14: Dulce Nombre | D14: P | E14: 229344 | F14: 372629 | G14: 169 | H14: 6 | I14: 0.41 | K14: =N14-I14 -> 12.73 | L14: - | N14: 13.14 | O14: -
A15: =1+A14 -> 11 | B15: ASADA Dulce Nombre 1 | C15: Dulce Nombre | D15: P | E15: 229365 | F15: 372649 | G15: 170 | H15: 8 | I15: 0.38 | K15: - | L15: =O15-I15 -> 23.26 | N15: - | O15: 23.64
A16: =1+A15 -> 12 | B16: Heiner Fajardo | C16: Dulce Nombre | D16: E | E16: 230039 | F16: 373297 | G16: 177 | H16: - | I16: 0.45 | K16: seco | L16: - | N16: seco | O16: -
A17: =1+A16 -> 13 | B17: Flor Fajardo | C17: Dulce Nombre | D17: E | E17: 230068 | F17: 373331 | G17: 178 | H17: - | I17: - | K17: seco | L17: - | N17: seco | O17: -
A18: =1+A17 -> 14 | B18: Casa Abandonada | C18: Dulce Nombre | D18: E | E18: 228808 | F18: 372154 | G18: 172 | H18: - | I18: 0.78 | K18: seco | L18: - | N18: seco | O18: -
A19: =1+A18 -> 15 | B19: Gavina Campos Noguera | C19: Gamalotal | D19: E | E19: 228215 | F19: 371804 | G19: 175 | H19: - | I19: 0.53 | K19: seco | L19: - | N19: seco | O19: -
A20: =1+A19 -> 16 | B20: José Fernando Oriones Zúñiga | C20: Gamalotal | D20: E | E20: 226508 | F20: 370899 | G20: 153 | H20: - | I20: 0.6 | K20: seco | L20: - | N20: seco | O20: -
A21: =1+A20 -> 17 | B21: Hilda Rodríguez Villalobos | C21: Gamalotal | D21: P | E21: 226538 | F21: 370372 | G21: 163 | H21: 6 | I21: 0 | J21: 25 | K21: =N21-I21 -> 7.57 | L21: - | N21: 7.57 | O21: -
A22: =1+A21 -> 18 | B22: ASADA Gamalotal | C22: Gamalotal | D22: P | E22: 227916 | F22: 371351 | G22: 184 | H22: 8 | I22: 0.31 | K22: =N22-I22 -> 15.27 | L22: - | N22: 15.58 | O22: -
A23: =1+A22 -> 19 | B23: Paula Pérez Carrillo | C23: Caimitalito | D23: E | E23: 227137 | F23: 372659 | G23: 175 | H23: - | I23: 0.43 | K23: =N23-I23 -> 9.67 | L23: - | N23: 10.1 | O23: -
A24: =1+A23 -> 20 | B24: ASADA Caimitalito | C24: Caimitalito | D24: P | E24: 227239 | F24: 372760 | G24: 178 | H24: - | I24: - | J24: 28 | K24: Sin linea de aire
A25: =1+A24 -> 21 | B25: José Mora López | C25: Caimital | D25: E | E25: 228001 | F25: 374482 | G25: 163 | H25: - | I25: 0.79 | K25: =N25-I25 -> 5.21 | L25: - | N25: 6 | O25: -
A26: =1+A25 -> 22 | B26: ASADA Caimital | C26: Caimital | D26: P | E26: 227968 | F26: 374756 | G26: 178 | H26: 8 | I26: 0.95 | K26: - | L26: =O26-I26 -> 8.65 | N26: - | O26: 9.6
A27: =1+A26 -> 23 | B27: Blas Villegas | C27: Dulce Nombre | D27: E | E27: 230129 | F27: 373872 | G27: 183 | H27: - | I27: 0.51 | K27: =N27-I27 -> 9.05 | L27: - | N27: 9.56 | O27: -
A28: =1+A27 -> 24 | B28: Rafael Quiroz Perforado | C28: Caimitalito | D28: P | E28: 226896 | F28: 371931 | G28: 154 | H28: - | I28: 0 | J28: 32 | K28: =N28-I28 -> 10.67 | L28: - | N28: 10.67 | O28: -
A29: =1+A28 -> 25 | B29: Rafael Quiroz Excavado | C29: Caimitalito | D29: E | E29: 226897 | F29: 371914 | G29: 153 | H29: - | I29: 0.51 | J29: 11 | K29: =N29-I29 -> 9.86 | L29: - | N29: 10.37 | O29: -
A30: =1+A29 -> 26 | B30: MT-266 Asdrúbal Rojas Chávez | C30: Zompopa | D30: P | E30: 230865 | F30: 374057 | G30: 188 | H30: - | I30: 0.16 | J30: - | K30: =N30-I30 -> 6.14 | L30: - | N30: 6.3 | O30: -
A31: =1+A30 -> 27 | B31: Walter Vásquez | C31: Curime | D31: E | E31: 233304 | F31: 377094 | G31: 152 | H31: - | I31: 0.47 | J31: 10 | K31: =N31-I31 -> 7.91 | L31: - | N31: 8.38 | O31: -
A32: =1+A31 -> 28 | B32: MT-305 María de los Ángeles Pérez Rodríguez | C32: Curime | D32: P | E32: 233542 | F32: 376630 | G32: 165 | H32: - | I32: 0.27 | J32: 54 | K32: =N32-I32 -> 17.55 | L32: - | N32: 17.82 | O32: -
A33: =1+A32 -> 29 | B33: Marielos | C33: Hondores | D33: E | E33: 234045 | F33: 378793 | G33: 127 | H33: - | I33: 0.28 | J33: - | K33: =N33-I33 -> 6.62 | L33: - | N33: 6.9 | O33: -
A34: =1+A33 -> 30 | B34: Juan López | C34: Hondores | D34: E | E34: 233269 | F34: 379859 | G34: 133 | H34: - | I34: 0.37 | J34: - | K34: seco | L34: - | N34: seco | O34: -
A35: =1+A34 -> 31 | B35: Arnoldo | C35: Fca el Carmen | D35: E | E35: 231370 | F35: 376354 | G35: 152 | H35: - | I35: 0.6 | J35: - | K35: =N35-I35 -> 4.96 | L35: - | N35: 5.56 | O35: -
A36: =1+A35 -> 32 | B36: MT-217 APAN | C36: Fca el Carmen | D36: P | E36: 230325 | F36: 376380 | G36: 173 | H36: 6 | I36: 0.24 | J36: - | K36: =N36-I36 -> 11.78 | L36: - | N36: 12.02 | O36: -
A37: =1+A36 -> 33 | B37: MT-197 Luna y Sol 2004 S.A. | C37: Caimitalito | D37: P | E37: 227193 | F37: 373134 | G37: 167 | H37: - | J37: - | K37: =N37-I37 -> 10.78 | L37: - | N37: 10.78 | O37: -
A38: 34 | B38: Antonio Vargas | C38: Caimital | D38: P | E38: 227196 | F38: 374931 | G38: 174 | H38: - | I38: 0.45 | J38: - | K38: =N38-I38 -> 11.01 | N38: 11.46 | O38: -
A39: 35 | B39: Costeña Proyecto 2 | C39: Caimital | D39: P | E39: 230121 | F39: 375557 | G39: 189 | H39: - | I39: 0.31 | J39: - | K39: Linea de aire obstruida | N39: sin dato | O39: -
A40: 36 | B40: Costeña Proyecto 1 | C40: Caimital | D40: P | E40: 230506 | F40: 374383 | G40: 195 | H40: - | I40: 0.3 | J40: - | K40: =N40-I40 -> 7.92 | L40: - | N40: 8.22 | O40: -

Sheet Mayo 2013
A1: Plan de Monitoreo Acuífero Caimital
A2: Fecha: 28 de mayo del 2013
N3: Datos de campo
A4: N˚ | B4: Nombre del POZO | C4: Lugar | D4: Tipo | E4: Latitud | F4: Longitud | G4: Altitud sobre nivel de Mar | H4: Diámetro armado (in) | I4: Brocal (m) | J4: Profundidad de pozo (m) | K4: Nivel estático (m) | L4: Nivel dinámico (m) | N4: Nivel estático (m) + Brocal | O4: Nivel dinámico (m) + Brocal
A5: 1 | B5: AyA Caimital 1 | C5: Caimital | D5: P | E5: 228433 | F5: 374731 | G5: 176 | H5: 8 | I5: 0.74 | K5: - | L5: =O5-I5 -> 17.91 | N5: - | O5: 18.65
A6: =1+A5 -> 2 | B6: AyA Caimital 2 | C6: Caimital | D6: P | E6: 228410 | F6: 374618 | G6: 169 | H6: 10 | I6: 0.53 | K6: - | L6: =O6-I6 -> 14.93 | N6: - | O6: 15.46
A7: =1+A6 -> 3 | B7: AyA Caimital 6 | C7: Caimital | D7: P | E7: 228332 | F7: 373697 | G7: 165 | H7: 8 | I7: 0.46 | K7: =N7-I7 -> 3.27 | L7: - | N7: 3.73 | O7: -
A8: =1+A7 -> 4 | B8: AyA Caimital 4 | C8: Caimital | D8: P | E8: 228311 | F8: 373468 | G8: 164 | H8: 10 | I8: 0.75 | K8: =N8-I8 -> 2.85 | L8: - | N8: 3.6 | O8: -
A9: =1+A8 -> 5 | B9: CJ-17 Villa Adela | C9: Dulce Nombre | D9: P | E9: 229011 | F9: 372774 | G9: 171 | H9: 10 | I9: 0.21 | K9: =N9-I9 -> 7.17 | L9: - | N9: 7.38 | O9: -
A10: =1+A9 -> 6 | B10: MT-279 José Campos Camacho | C10: Dulce Nombre | D10: P | E10: 228975 | F10: 372676 | G10: 178 | H10: 6 | I10: 0.05 | K10: =N10-I10 -> 7.53 | L10: - | N10: 7.58 | O10: -
A11: =1+A10 -> 7 | B11: AyA Caimital 3 | C11: Caimital | D11: P | E11: 228362 | F11: 374622 | G11: 176 | H11: 8 | I11: 0.63 | K11: =N11-I11 -> 6.57 | L11: - | N11: 7.2 | O11: -
A12: =1+A11 -> 8 | B12: AyA Caimital 5 | C12: Caimital | D12: P | E12: 228388 | F12: 374670 | G12: 178 | H12: 8 | I12: 0.58 | K12: =N12-I12 -> 7.42 | L12: - | N12: 8 | O12: -
A13: =1+A12 -> 9 | B13: Melonera | C13: Dulce Nombre | D13: P | E13: 228558 | F13: 373122 | G13: 149 | H13: - | I13: - | K13: Sin linea de aire
A14: =1+A13 -> 10 | B14: ASADA Dulce Nombre 2 | C14: Dulce Nombre | D14: P | E14: 229344 | F14: 372629 | G14: 169 | H14: 6 | I14: 0.41 | K14: =N14-I14 -> 13.39 | L14: - | N14: 13.8 | O14: -
A15: =1+A14 -> 11 | B15: ASADA Dulce Nombre 1 | C15: Dulce Nombre | D15: P | E15: 229365 | F15: 372649 | G15: 170 | H15: 8 | I15: 0.38 | K15: - | L15: =O15-I15 -> 22.12 | N15: - | O15: 22.5
A16: =1+A15 -> 12 | B16: Heiner Fajardo | C16: Dulce Nombre | D16: E | E16: 230039 | F16: 373297 | G16: 177 | H16: - | I16: 0.45 | K16: seco | L16: - | N16: seco | O16: -
A17: =1+A16 -> 13 | B17: Flor Fajardo | C17: Dulce Nombre | D17: E | E17: 230068 | F17: 373331 | G17: 178 | H17: - | I17: - | K17: seco | L17: - | N17: seco | O17: -
A18: =1+A17 -> 14 | B18: Casa Abandonada | C18: Dulce Nombre | D18: E | E18: 228808 | F18: 372154 | G18: 172 | H18: - | I18: 0.78 | K18: seco | L18: - | N18: seco | O18: -
A19: =1+A18 -> 15 | B19: Gavina Campos Noguera | C19: Gamalotal | D19: E | E19: 228215 | F19: 371804 | G19: 175 | H19: - | I19: 0.53 | K19: seco | L19: - | N19: seco | O19: -
A20: =1+A19 -> 16 | B20: José Fernando Oriones Zúñiga | C20: Gamalotal | D20: E | E20: 226508 | F20: 370899 | G20: 153 | H20: - | I20: 0.6 | K20: seco | L20: - | N20: seco | O20: -
A21: =1+A20 -> 17 | B21: Hilda Rodríguez Villalobos | C21: Gamalotal | D21: P | E21: 226538 | F21: 370372 | G21: 163 | H21: 6 | I21: 0 | J21: 25 | K21: =N21-I21 -> 7.7 | L21: - | N21: 7.7 | O21: -
A22: =1+A21 -> 18 | B22: ASADA Gamalotal | C22: Gamalotal | D22: P | E22: 227916 | F22: 371351 | G22: 184 | H22: 8 | I22: 0.31 | K22: - | L22: =O22-I22 -> 17.74 | N22: - | O22: 18.05
A23: =1+A22 -> 19 | B23: Paula Pérez Carrillo | C23: Caimitalito | D23: E | E23: 227137 | F23: 372659 | G23: 175 | H23: - | I23: 0.43 | K23: =N23-I23 -> 7.31 | L23: - | N23: 7.74 | O23: -
A24: =1+A23 -> 20 | B24: ASADA Caimitalito | C24: Caimitalito | D24: P | E24: 227239 | F24: 372760 | G24: 178 | H24: - | I24: - | J24: 28 | K24: Sin linea de aire
A25: =1+A24 -> 21 | B25: José Mora López | C25: Caimital | D25: E | E25: 228001 | F25: 374482 | G25: 163 | H25: - | I25: 0.79 | K25: =N25-I25 -> 4.41 | L25: - | N25: 5.2 | O25: -
A26: =1+A25 -> 22 | B26: ASADA Caimital | C26: Caimital | D26: P | E26: 227968 | F26: 374756 | G26: 178 | H26: 8 | I26: 0.95 | K26: - | L26: =O26-I26 -> 7.85 | N26: - | O26: 8.8
A27: =1+A26 -> 23 | B27: Blas Villegas | C27: Dulce Nombre | D27: E | E27: 230129 | F27: 373872 | G27: 183 | H27: - | I27: 0.51 | K27: =N27-I27 -> 9.11 | L27: - | N27: 9.62 | O27: -
A28: =1+A27 -> 24 | B28: Rafael Quiroz Perforado | C28: Caimitalito | D28: P | E28: 226896 | F28: 371931 | G28: 154 | H28: - | I28: 0 | J28: 32 | K28: =N28-I28 -> 10.46 | L28: - | N28: 10.46 | O28: -
A29: =1+A28 -> 25 | B29: Rafael Quiroz Excavado | C29: Caimitalito | D29: E | E29: 226897 | F29: 371914 | G29: 153 | H29: - | I29: 0.51 | J29: 11 | K29: =N29-I29 -> 8.11 | L29: - | N29: 8.62 | O29: -
A30: =1+A29 -> 26 | B30: MT-266 Asdrúbal Rojas Chávez | C30: Zompopa | D30: P | E30: 230865 | F30: 374057 | G30: 188 | H30: - | I30: 0.16 | J30: - | K30: =N30-I30 -> 6.94 | L30: - | N30: 7.1 | O30: -
A31: =1+A30 -> 27 | B31: Walter Vásquez | C31: Curime | D31: E | E31: 233304 | F31: 377094 | G31: 152 | H31: - | I31: 0.47 | J31: 10 | K31: =N31-I31 -> 8.21 | L31: - | N31: 8.68 | O31: -
A32: =1+A31 -> 28 | B32: MT-305 María de los Ángeles Pérez Rodríguez | C32: Curime | D32: P | E32: 233542 | F32: 376630 | G32: 165 | H32: - | I32: 0.27 | J32: 54 | K32: =N32-I32 -> 17.88 | L32: - | N32: 18.15 | O32: -
A33: =1+A32 -> 29 | B33: Marielos | C33: Hondores | D33: E | E33: 234045 | F33: 378793 | G33: 127 | H33: - | I33: 0.28 | J33: - | K33: =N33-I33 -> 5.27 | L33: - | N33: 5.55 | O33: -
A34: =1+A33 -> 30 | B34: Juan López | C34: Hondores | D34: E | E34: 233269 | F34: 379859 | G34: 133 | H34: - | I34: 0.37 | J34: - | K34: seco | L34: - | N34: seco | O34: -
A35: =1+A34 -> 31 | B35: Arnoldo | C35: Fca el Carmen | D35: E | E35: 231370 | F35: 376354 | G35: 152 | H35: - | I35: 0.6 | J35: - | K35: =N35-I35 -> 4.6 | L35: - | N35: 5.2 | O35: -
A36: =1+A35 -> 32 | B36: MT-217 APAN | C36: Fca el Carmen | D36: P | E36: 230325 | F36: 376380 | G36: 173 | H36: 6 | I36: 0.24 | J36: - | K36: =N36-I36 -> 11.79 | L36: - | N36: 12.03 | O36: -
A37: =1+A36 -> 33 | B37: MT-197 Luna y Sol 2004 S.A. | C37: Caimitalito | D37: P | E37: 227193 | F37: 373134 | G37: 167 | H37: - | J37: - | K37: =N37-I37 -> 10.53 | L37: - | N37: 10.53 | O37: -
A38: 34 | B38: Antonio Vargas | C38: Caimital | D38: P | E38: 227196 | F38: 374931 | G38: 174 | H38: - | I38: 0.45 | J38: - | K38: =N38-I38 -> 11.01 | L38: - | N38: 11.46 | O38: -
A39: 35 | B39: Costeña Proyecto 2 | C39: Caimital | D39: P | E39: 230121 | F39: 375557 | G39: 189 | H39: - | I39: 0.31 | J39: - | K39: Linea de aire obstruida | N39: sin dato | O39: -
A40: 36 | B40: Costeña Proyecto 1 | C40: Caimital | D40: P | E40: 230506 | F40: 374383 | G40: 195 | H40: - | I40: 0.3 | J40: - | K40: =N40-I40 -> 7.97 | L40: - | N40: 8.27 | O40: -

Sheet Junio 2013
A1: Plan de Monitoreo Acuífero Caimital
A2: Fecha: 18 de junio del 2013
N3: Datos de campo
A4: N˚ | B4: Nombre del POZO | C4: Lugar | D4: Tipo | E4: Latitud | F4: Longitud | G4: Altitud sobre nivel de Mar | H4: Diámetro armado (in) | I4: Brocal (m) | J4: Profundidad de pozo (m) | K4: Nivel estático (m) | L4: Nivel dinámico (m) | N4: Nivel estático (m) + Brocal | O4: Nivel dinámico (m) + Brocal
A5: 1 | B5: AyA Caimital 1 | C5: Caimital | D5: P | E5: 228433 | F5: 374731 | G5: 176 | H5: 8 | I5: 0.74 | K5: - | L5: =O5-I5 -> 14.37 | N5: - | O5: 15.11
A6: =1+A5 -> 2 | B6: AyA Caimital 2 | C6: Caimital | D6: P | E6: 228410 | F6: 374618 | G6: 169 | H6: 10 | I6: 0.53 | K6: - | L6: =O6-I6 -> 13.64 | N6: - | O6: 14.17
A7: =1+A6 -> 3 | B7: AyA Caimital 6 | C7: Caimital | D7: P | E7: 228332 | F7: 373697 | G7: 165 | H7: 8 | I7: 0.46 | K7: =N7-I7 -> 2.94 | L7: - | N7: 3.4 | O7: -
A8: =1+A7 -> 4 | B8: AyA Caimital 4 | C8: Caimital | D8: P | E8: 228311 | F8: 373468 | G8: 164 | H8: 10 | I8: 0.75 | K8: - | L8: =O8-I8 -> 8.85 | N8: - | O8: 9.6
A9: =1+A8 -> 5 | B9: CJ-17 Villa Adela | C9: Dulce Nombre | D9: P | E9: 229011 | F9: 372774 | G9: 171 | H9: 10 | I9: 0.21 | K9: =N9-I9 -> 6.07 | L9: - | N9: 6.28 | O9: -
A10: =1+A9 -> 6 | B10: MT-279 José Campos Camacho | C10: Dulce Nombre | D10: P | E10: 228975 | F10: 372676 | G10: 178 | H10: 6 | I10: 0.05 | K10: =N10-I10 -> 6.14 | L10: - | N10: 6.19 | O10: -
A11: =1+A10 -> 7 | B11: AyA Caimital 3 | C11: Caimital | D11: P | E11: 228362 | F11: 374622 | G11: 176 | H11: 8 | I11: 0.63 | K11: =N11-I11 -> 4.3 | L11: - | N11: 4.93 | O11: -
A12: =1+A11 -> 8 | B12: AyA Caimital 5 | C12: Caimital | D12: P | E12: 228388 | F12: 374670 | G12: 178 | H12: 8 | I12: 0.58 | K12: =N12-I12 -> 4.85 | L12: - | N12: 5.43 | O12: -
A13: =1+A12 -> 9 | B13: Melonera | C13: Dulce Nombre | D13: P | E13: 228558 | F13: 373122 | G13: 149 | H13: - | I13: - | K13: Sin linea de aire
A14: =1+A13 -> 10 | B14: ASADA Dulce Nombre 2 | C14: Dulce Nombre | D14: P | E14: 229344 | F14: 372629 | G14: 169 | H14: 6 | I14: 0.41 | K14: =N14-I14 -> 12.61 | L14: - | N14: 13.02 | O14: -
A15: =1+A14 -> 11 | B15: ASADA Dulce Nombre 1 | C15: Dulce Nombre | D15: P | E15: 229365 | F15: 372649 | G15: 170 | H15: 8 | I15: 0.38 | K15: - | L15: =O15-I15 -> 23.12 | N15: - | O15: 23.5
A16: =1+A15 -> 12 | B16: Heiner Fajardo | C16: Dulce Nombre | D16: E | E16: 230039 | F16: 373297 | G16: 177 | H16: - | I16: 0.45 | K16: seco | L16: - | N16: seco | O16: -
A17: =1+A16 -> 13 | B17: Flor Fajardo | C17: Dulce Nombre | D17: E | E17: 230068 | F17: 373331 | G17: 178 | H17: - | I17: - | K17: seco | L17: - | N17: seco | O17: -
A18: =1+A17 -> 14 | B18: Casa Abandonada | C18: Dulce Nombre | D18: E | E18: 228808 | F18: 372154 | G18: 172 | H18: - | I18: 0.78 | K18: seco | L18: - | N18: seco | O18: -
A19: =1+A18 -> 15 | B19: Gavina Campos Noguera | C19: Gamalotal | D19: E | E19: 228215 | F19: 371804 | G19: 175 | H19: - | I19: 0.53 | K19: seco | L19: - | N19: seco | O19: -
A20: =1+A19 -> 16 | B20: José Fernando Oriones Zúñiga | C20: Gamalotal | D20: E | E20: 226508 | F20: 370899 | G20: 153 | H20: - | I20: 0.6 | K20: =N20-I20 -> 15.49 | L20: - | N20: 16.09 | O20: -
A21: =1+A20 -> 17 | B21: Hilda Rodríguez Villalobos | C21: Gamalotal | D21: P | E21: 226538 | F21: 370372 | G21: 163 | H21: 6 | I21: 0 | J21: 25 | K21: =N21-I21 -> 6.95 | L21: - | N21: 6.95 | O21: -
A22: =1+A21 -> 18 | B22: ASADA Gamalotal | C22: Gamalotal | D22: P | E22: 227916 | F22: 371351 | G22: 184 | H22: 8 | I22: 0.31 | K22: =N22-I22 -> 16.29 | L22: - | N22: 16.6 | O22: -
A23: =1+A22 -> 19 | B23: Paula Pérez Carrillo | C23: Caimitalito | D23: E | E23: 227137 | F23: 372659 | G23: 175 | H23: - | I23: 0.43 | K23: =N23-I23 -> 5.12 | L23: - | N23: 5.55 | O23: -
A24: =1+A23 -> 20 | B24: ASADA Caimitalito | C24: Caimitalito | D24: P | E24: 227239 | F24: 372760 | G24: 178 | H24: - | I24: - | J24: 28 | K24: Sin linea de aire
A25: =1+A24 -> 21 | B25: José Mora López | C25: Caimital | D25: E | E25: 228001 | F25: 374482 | G25: 163 | H25: - | I25: 0.79 | K25: =N25-I25 -> 2.79 | L25: - | N25: 3.58 | O25: -
A26: =1+A25 -> 22 | B26: ASADA Caimital | C26: Caimital | D26: P | E26: 227968 | F26: 374756 | G26: 178 | H26: 8 | I26: 0.95 | K26: Con llave | N26: - | O26: -
A27: =1+A26 -> 23 | B27: Blas Villegas | C27: Dulce Nombre | D27: E | E27: 230129 | F27: 373872 | G27: 183 | H27: - | I27: 0.51 | K27: =N27-I27 -> 8.02 | L27: - | N27: 8.53 | O27: -
A28: =1+A27 -> 24 | B28: Rafael Quiroz Perforado | C28: Caimitalito | D28: P | E28: 226896 | F28: 371931 | G28: 154 | H28: - | I28: 0 | J28: 32 | K28: Linea de aire obstruida | N28: - | O28: -
A29: =1+A28 -> 25 | B29: Rafael Quiroz Excavado | C29: Caimitalito | D29: E | E29: 226897 | F29: 371914 | G29: 153 | H29: - | I29: 0.51 | J29: 11 | K29: =N29-I29 -> 7.17 | L29: - | N29: 7.68 | O29: -
A30: =1+A29 -> 26 | B30: MT-266 Asdrúbal Rojas Chávez | C30: Zompopa | D30: P | E30: 230865 | F30: 374057 | G30: 188 | H30: - | I30: 0.16 | J30: - | K30: =N30-I30 -> 6.92 | L30: - | N30: 7.08 | O30: -
A31: =1+A30 -> 27 | B31: Walter Vásquez | C31: Curime | D31: E | E31: 233304 | F31: 377094 | G31: 152 | H31: - | I31: 0.47 | J31: 10 | K31: =N31-I31 -> 8.3 | L31: - | N31: 8.77 | O31: -
A32: =1+A31 -> 28 | B32: MT-305 María de los Ángeles Pérez Rodríguez | C32: Curime | D32: P | E32: 233542 | F32: 376630 | G32: 165 | H32: - | I32: 0.27 | J32: 54 | K32: =N32-I32 -> 17.91 | L32: - | N32: 18.18 | O32: -
A33: =1+A32 -> 29 | B33: Marielos | C33: Hondores | D33: E | E33: 234045 | F33: 378793 | G33: 127 | H33: - | I33: 0.28 | J33: - | K33: =N33-I33 -> 2.02 | L33: - | N33: 2.3 | O33: -
A34: =1+A33 -> 30 | B34: Juan López | C34: Hondores | D34: E | E34: 233269 | F34: 379859 | G34: 133 | H34: - | I34: 0.37 | J34: - | K34: =N34-I34 -> 6.75 | L34: - | N34: 7.12 | O34: -
A35: =1+A34 -> 31 | B35: Arnoldo | C35: Fca el Carmen | D35: E | E35: 231370 | F35: 376354 | G35: 152 | H35: - | I35: 0.6 | J35: - | K35: =N35-I35 -> 4.94 | L35: - | N35: 5.54 | O35: -
A36: =1+A35 -> 32 | B36: MT-217 APAN | C36: Fca el Carmen | D36: P | E36: 230325 | F36: 376380 | G36: 173 | H36: 6 | I36: 0.24 | J36: - | K36: =N36-I36 -> 11.16 | L36: - | N36: 11.4 | O36: -
A37: =1+A36 -> 33 | B37: MT-197 Luna y Sol 2004 S.A. | C37: Caimitalito | D37: P | E37: 227193 | F37: 373134 | G37: 167 | H37: - | J37: - | K37: =N37-I37 -> 2.38 | L37: - | N37: 2.38 | O37: -
A38: 34 | B38: Antonio Vargas | C38: Caimital | D38: P | E38: 227196 | F38: 374931 | G38: 174 | H38: - | I38: 0.45 | J38: - | K38: =N38-I38 -> 4.4 | L38: - | N38: 4.85 | O38: -
A39: 35 | B39: Costeña Proyecto 2 | C39: Caimital | D39: P | E39: 230121 | F39: 375557 | G39: 189 | H39: - | I39: 0.31 | J39: - | K39: Linea de aire obstruida | N39: sin dato | O39: -
A40: 36 | B40: Costeña Proyecto 1 | C40: Caimital | D40: P | E40: 230506 | F40: 374383 | G40: 195 | H40: - | I40: 0.3 | J40: - | K40: =N40-I40 -> 7.36 | L40: - | N40: 7.66 | O40: -

Sheet Julio 2013
A1: Plan de Monitoreo Acuífero Caimital
A2: Fecha: 16 de julio del 2013
N3: Datos de campo
A4: N˚ | B4: Nombre del POZO | C4: Lugar | D4: Tipo | E4: Latitud | F4: Longitud | G4: Altitud sobre nivel de Mar | H4: Diámetro armado (in) | I4: Brocal (m) | J4: Profundidad de pozo (m) | K4: Nivel estático (m) | L4: Nivel dinámico (m) | N4: Nivel estático (m) + Brocal | O4: Nivel dinámico (m) + Brocal
A5: 1 | B5: AyA Caimital 1 | C5: Caimital | D5: P | E5: 228433 | F5: 374731 | G5: 176 | H5: 8 | I5: 0.74 | K5: =N5-I5 -> 5.36 | L5: - | N5: 6.1 | O5: -
A6: =1+A5 -> 2 | B6: AyA Caimital 2 | C6: Caimital | D6: P | E6: 228410 | F6: 374618 | G6: 169 | H6: 10 | I6: 0.53 | K6: - | L6: =O6-I6 -> 14.71 | N6: - | O6: 15.24
A7: =1+A6 -> 3 | B7: AyA Caimital 6 | C7: Caimital | D7: P | E7: 228332 | F7: 373697 | G7: 165 | H7: 8 | I7: 0.46 | K7: =N7-I7 -> 2.9 | L7: - | N7: 3.36 | O7: -
A8: =1+A7 -> 4 | B8: AyA Caimital 4 | C8: Caimital | D8: P | E8: 228311 | F8: 373468 | G8: 164 | H8: 10 | I8: 0.75 | K8: - | L8: =O8-I8 -> 8.75 | N8: - | O8: 9.5
A9: =1+A8 -> 5 | B9: CJ-17 Villa Adela | C9: Dulce Nombre | D9: P | E9: 229011 | F9: 372774 | G9: 171 | H9: 10 | I9: 0.21 | K9: =N9-I9 -> 5.09 | L9: - | N9: 5.3 | O9: -
A10: =1+A9 -> 6 | B10: MT-279 José Campos Camacho | C10: Dulce Nombre | D10: P | E10: 228975 | F10: 372676 | G10: 178 | H10: 6 | I10: 0.05 | K10: =N10-I10 -> 4.99 | L10: - | N10: 5.04 | O10: -
A11: =1+A10 -> 7 | B11: AyA Caimital 3 | C11: Caimital | D11: P | E11: 228362 | F11: 374622 | G11: 176 | H11: 8 | I11: 0.63 | K11: =N11-I11 -> 4.09 | L11: - | N11: 4.72 | O11: -
A12: =1+A11 -> 8 | B12: AyA Caimital 5 | C12: Caimital | D12: P | E12: 228388 | F12: 374670 | G12: 178 | H12: 8 | I12: 0.58 | K12: =N12-I12 -> 4.5 | L12: - | N12: 5.08 | O12: -
A13: =1+A12 -> 9 | B13: Melonera | C13: Dulce Nombre | D13: P | E13: 228558 | F13: 373122 | G13: 149 | H13: - | I13: - | K13: Sin linea de aire
A14: =1+A13 -> 10 | B14: ASADA Dulce Nombre 2 | C14: Dulce Nombre | D14: P | E14: 229344 | F14: 372629 | G14: 169 | H14: 6 | I14: 0.41 | K14: =N14-I14 -> 10.97 | L14: - | N14: 11.38 | O14: -
A15: =1+A14 -> 11 | B15: ASADA Dulce Nombre 1 | C15: Dulce Nombre | D15: P | E15: 229365 | F15: 372649 | G15: 170 | H15: 8 | I15: 0.38 | K15: - | L15: =O15-I15 -> 28.13 | N15: - | O15: 28.51
A16: =1+A15 -> 12 | B16: Heiner Fajardo | C16: Dulce Nombre | D16: E | E16: 230039 | F16: 373297 | G16: 177 | H16: - | I16: 0.45 | K16: =N16-I16 -> 12.1 | L16: - | N16: 12.55 | O16: -
A17: =1+A16 -> 13 | B17: Flor Fajardo | C17: Dulce Nombre | D17: E | E17: 230068 | F17: 373331 | G17: 178 | H17: - | I17: - | K17: Seco | L17: - | N17: seco | O17: -
A18: =1+A17 -> 14 | B18: Casa Abandonada | C18: Dulce Nombre | D18: E | E18: 228808 | F18: 372154 | G18: 172 | H18: - | I18: 0.78 | K18: =N18-I18 -> 12.46 | L18: - | N18: 13.24 | O18: -
A19: =1+A18 -> 15 | B19: Gavina Campos Noguera | C19: Gamalotal | D19: E | E19: 228215 | F19: 371804 | G19: 175 | H19: - | I19: 0.53 | K19: =N19-I19 -> 14.17 | L19: - | N19: 14.7 | O19: -
A20: =1+A19 -> 16 | B20: José Fernando Oriones Zúñiga | C20: Gamalotal | D20: E | E20: 226508 | F20: 370899 | G20: 153 | H20: - | I20: 0.6 | K20: =N20-I20 -> 15.04 | L20: - | N20: 15.64 | O20: -
A21: =1+A20 -> 17 | B21: Hilda Rodríguez Villalobos | C21: Gamalotal | D21: P | E21: 226538 | F21: 370372 | G21: 163 | H21: 6 | I21: 0 | J21: 25 | K21: =N21-I21 -> 4.74 | L21: - | N21: 4.74 | O21: -
A22: =1+A21 -> 18 | B22: ASADA Gamalotal | C22: Gamalotal | D22: P | E22: 227916 | F22: 371351 | G22: 184 | H22: 8 | I22: 0.31 | K22: =N22-I22 -> 14.4 | L22: - | N22: 14.71 | O22: -
A23: =1+A22 -> 19 | B23: Paula Pérez Carrillo | C23: Caimitalito | D23: E | E23: 227137 | F23: 372659 | G23: 175 | H23: - | I23: 0.43 | K23: =N23-I23 -> 5.4 | L23: - | N23: 5.83 | O23: -
A24: =1+A23 -> 20 | B24: ASADA Caimitalito | C24: Caimitalito | D24: P | E24: 227239 | F24: 372760 | G24: 178 | H24: - | I24: - | J24: 28 | K24: Sin linea de aire
A25: =1+A24 -> 21 | B25: José Mora López | C25: Caimital | D25: E | E25: 228001 | F25: 374482 | G25: 163 | H25: - | I25: 0.79 | K25: =N25-I25 -> 2.7 | L25: - | N25: 3.49 | O25: -
A26: =1+A25 -> 22 | B26: ASADA Caimital | C26: Caimital | D26: P | E26: 227968 | F26: 374756 | G26: 178 | H26: 8 | I26: 0.95 | K26: - | L26: =O26-I26 -> 5.35 | N26: - | O26: 6.3
A27: =1+A26 -> 23 | B27: Blas Villegas | C27: Dulce Nombre | D27: E | E27: 230129 | F27: 373872 | G27: 183 | H27: - | I27: 0.51 | K27: =N27-I27 -> 7.04 | L27: - | N27: 7.55 | O27: -
A28: =1+A27 -> 24 | B28: Rafael Quiroz Perforado | C28: Caimitalito | D28: P | E28: 226896 | F28: 371931 | G28: 154 | H28: - | I28: 0 | J28: 32 | K28: Linea de aire obstruida | N28: - | O28: -
A29: =1+A28 -> 25 | B29: Rafael Quiroz Excavado | C29: Caimitalito | D29: E | E29: 226897 | F29: 371914 | G29: 153 | H29: - | I29: 0.51 | J29: 11 | K29: =N29-I29 -> 7.21 | L29: - | N29: 7.72 | O29: -
A30: =1+A29 -> 26 | B30: MT-266 Asdrúbal Rojas Chávez | C30: Zompopa | D30: P | E30: 230865 | F30: 374057 | G30: 188 | H30: - | I30: 0.16 | J30: - | K30: =N30-I30 -> 6.96 | L30: - | N30: 7.12 | O30: -
A31: =1+A30 -> 27 | B31: Walter Vásquez | C31: Curime | D31: E | E31: 233304 | F31: 377094 | G31: 152 | H31: - | I31: 0.47 | J31: 10 | K31: =N31-I31 -> 8.02 | L31: - | N31: 8.49 | O31: -
A32: =1+A31 -> 28 | B32: MT-305 María de los Ángeles Pérez Rodríguez | C32: Curime | D32: P | E32: 233542 | F32: 376630 | G32: 165 | H32: - | I32: 0.27 | J32: 54 | K32: =N32-I32 -> 12.67 | L32: - | N32: 12.94 | O32: -
A33: =1+A32 -> 29 | B33: Marielos | C33: Hondores | D33: E | E33: 234045 | F33: 378793 | G33: 127 | H33: - | I33: 0.28 | J33: - | K33: =N33-I33 -> 1.72 | L33: - | N33: 2 | O33: -
A34: =1+A33 -> 30 | B34: Juan López | C34: Hondores | D34: E | E34: 233269 | F34: 379859 | G34: 133 | H34: - | I34: 0.37 | J34: - | K34: =N34-I34 -> 6.02 | L34: - | N34: 6.39 | O34: -
A35: =1+A34 -> 31 | B35: Arnoldo | C35: Fca el Carmen | D35: E | E35: 231370 | F35: 376354 | G35: 152 | H35: - | I35: 0.6 | J35: - | K35: =N35-I35 -> 4.86 | L35: - | N35: 5.46 | O35: -
A36: =1+A35 -> 32 | B36: MT-217 APAN | C36: Fca el Carmen | D36: P | E36: 230325 | F36: 376380 | G36: 173 | H36: 6 | I36: 0.24 | J36: - | K36: =N36-I36 -> 10.87 | L36: - | N36: 11.11 | O36: -
A37: =1+A36 -> 33 | B37: MT-197 Luna y Sol 2004 S.A. | C37: Caimitalito | D37: P | E37: 227193 | F37: 373134 | G37: 167 | H37: - | J37: - | K37: =N37-I37 -> 1.7 | L37: - | N37: 1.7 | O37: -
A38: 34 | B38: Antonio Vargas | C38: Caimital | D38: P | E38: 227196 | F38: 374931 | G38: 174 | H38: - | I38: 0.45 | J38: - | K38: =N38-I38 -> 4.01 | L38: - | N38: 4.46 | O38: -
A39: 35 | B39: Costeña Proyecto 2 | C39: Caimital | D39: P | E39: 230121 | F39: 375557 | G39: 189 | H39: - | I39: 0.31 | J39: - | K39: Linea de aire obstruida | N39: sin dato | O39: -
A40: 36 | B40: Costeña Proyecto 1 | C40: Caimital | D40: P | E40: 230506 | F40: 374383 | G40: 195 | H40: - | I40: 0.3 | J40: - | K40: =N40-I40 -> 6.4 | L40: - | N40: 6.7 | O40: -

Sheet agosto 2013
A1: Plan de Monitoreo Acuífero Caimital
A2: Fecha: 27 de agosto del 2013
N3: Datos de campo
A4: N˚ | B4: Nombre del POZO | C4: Lugar | D4: Tipo | E4: Latitud | F4: Longitud | G4: Altitud sobre nivel de Mar | H4: Diámetro armado (in) | I4: Brocal (m) | J4: Profundidad de pozo (m) | K4: Nivel estático (m) | L4: Nivel dinámico (m) | N4: Nivel estático (m) + Brocal | O4: Nivel dinámico (m) + Brocal
A5: 1 | B5: AyA Caimital 1 | C5: Caimital | D5: P | E5: 228433 | F5: 374731 | G5: 176 | H5: 8 | I5: 0.74 | K5: - | L5: =O5-I5 -> 13.7 | N5: - | O5: 14.44
A6: =1+A5 -> 2 | B6: AyA Caimital 2 | C6: Caimital | D6: P | E6: 228410 | F6: 374618 | G6: 169 | H6: 10 | I6: 0.53 | K6: - | L6: =O6-I6 -> 13.89 | N6: - | O6: 14.42
A7: =1+A6 -> 3 | B7: AyA Caimital 6 | C7: Caimital | D7: P | E7: 228332 | F7: 373697 | G7: 165 | H7: 8 | I7: 0.46 | K7: =N7-I7 -> 2.96 | L7: - | N7: 3.42 | O7: -
A8: =1+A7 -> 4 | B8: AyA Caimital 4 | C8: Caimital | D8: P | E8: 228311 | F8: 373468 | G8: 164 | H8: 10 | I8: 0.75 | K8: =N8-I8 -> 2.69 | L8: - | N8: 3.44 | O8: -
A9: =1+A8 -> 5 | B9: CJ-17 Villa Adela | C9: Dulce Nombre | D9: P | E9: 229011 | F9: 372774 | G9: 171 | H9: 10 | I9: 0.21 | K9: =N9-I9 -> 3.83 | L9: - | N9: 4.04 | O9: -
A10: =1+A9 -> 6 | B10: MT-279 José Campos Camacho | C10: Dulce Nombre | D10: P | E10: 228975 | F10: 372676 | G10: 178 | H10: 6 | I10: 0.05 | K10: =N10-I10 -> 3.65 | L10: - | N10: 3.7 | O10: -
A11: =1+A10 -> 7 | B11: AyA Caimital 3 | C11: Caimital | D11: P | E11: 228362 | F11: 374622 | G11: 176 | H11: 8 | I11: 0.63 | K11: =N11-I11 -> 4.15 | L11: - | N11: 4.78 | O11: -
A12: =1+A11 -> 8 | B12: AyA Caimital 5 | C12: Caimital | D12: P | E12: 228388 | F12: 374670 | G12: 178 | H12: 8 | I12: 0.58 | K12: =N12-I12 -> 4.54 | L12: - | N12: 5.12 | O12: -
A13: =1+A12 -> 9 | B13: Melonera | C13: Dulce Nombre | D13: P | E13: 228558 | F13: 373122 | G13: 149 | H13: - | I13: - | K13: Sin linea de aire
A14: =1+A13 -> 10 | B14: ASADA Dulce Nombre 2 | C14: Dulce Nombre | D14: P | E14: 229344 | F14: 372629 | G14: 169 | H14: 6 | I14: 0.41 | K14: - | L14: =O14-I14 -> 12.29 | N14: - | O14: 12.7
A15: =1+A14 -> 11 | B15: ASADA Dulce Nombre 1 | C15: Dulce Nombre | D15: P | E15: 229365 | F15: 372649 | G15: 170 | H15: 8 | I15: 0.38 | K15: =N15-I15 -> 7.08 | L15: - | N15: 7.46 | O15: -
A16: =1+A15 -> 12 | B16: Heiner Fajardo | C16: Dulce Nombre | D16: E | E16: 230039 | F16: 373297 | G16: 177 | H16: - | I16: 0.45 | K16: =N16-I16 -> 7.62 | L16: - | N16: 8.07 | O16: -
A17: =1+A16 -> 13 | B17: Flor Fajardo | C17: Dulce Nombre | D17: E | E17: 230068 | F17: 373331 | G17: 178 | H17: - | I17: - | K17: Seco | L17: - | N17: seco | O17: -
A18: =1+A17 -> 14 | B18: Casa Abandonada | C18: Dulce Nombre | D18: E | E18: 228808 | F18: 372154 | G18: 172 | H18: - | I18: 0.78 | K18: Seco | L18: - | N18: seco | O18: -
A19: =1+A18 -> 15 | B19: Gavina Campos Noguera | C19: Gamalotal | D19: E | E19: 228215 | F19: 371804 | G19: 175 | H19: - | I19: 0.53 | K19: =N19-I19 -> 9.17 | L19: - | N19: 9.7 | O19: -
A20: =1+A19 -> 16 | B20: José Fernando Oriones Zúñiga | C20: Gamalotal | D20: E | E20: 226508 | F20: 370899 | G20: 153 | H20: - | I20: 0.6 | K20: =N20-I20 -> 14.78 | L20: - | N20: 15.38 | O20: -
A21: =1+A20 -> 17 | B21: Hilda Rodríguez Villalobos | C21: Gamalotal | D21: P | E21: 226538 | F21: 370372 | G21: 163 | H21: 6 | I21: 0 | J21: 25 | K21: =N21-I21 -> 2.96 | L21: - | N21: 2.96 | O21: -
A22: =1+A21 -> 18 | B22: ASADA Gamalotal | C22: Gamalotal | D22: P | E22: 227916 | F22: 371351 | G22: 184 | H22: 8 | I22: 0.31 | K22: =N22-I22 -> 11.05 | L22: - | N22: 11.36 | O22: -
A23: =1+A22 -> 19 | B23: Paula Pérez Carrillo | C23: Caimitalito | D23: E | E23: 227137 | F23: 372659 | G23: 175 | H23: - | I23: 0.43 | K23: =N23-I23 -> 6.89 | L23: - | N23: 7.32 | O23: -
A24: =1+A23 -> 20 | B24: ASADA Caimitalito | C24: Caimitalito | D24: P | E24: 227239 | F24: 372760 | G24: 178 | H24: - | I24: - | J24: 28 | K24: Sin linea de aire
A25: =1+A24 -> 21 | B25: José Mora López | C25: Caimital | D25: E | E25: 228001 | F25: 374482 | G25: 163 | H25: - | I25: 0.79 | K25: =N25-I25 -> 2.89 | L25: - | N25: 3.68 | O25: -
A26: =1+A25 -> 22 | B26: ASADA Caimital | C26: Caimital | D26: P | E26: 227968 | F26: 374756 | G26: 178 | H26: 8 | I26: 0.95 | K26: - | L26: =O26-I26 -> 5.89 | N26: - | O26: 6.84
A27: =1+A26 -> 23 | B27: Blas Villegas | C27: Dulce Nombre | D27: E | E27: 230129 | F27: 373872 | G27: 183 | H27: - | I27: 0.51 | K27: =N27-I27 -> 5.51 | L27: - | N27: 6.02 | O27: -
A28: =1+A27 -> 24 | B28: Rafael Quiroz Perforado | C28: Caimitalito | D28: P | E28: 226896 | F28: 371931 | G28: 154 | H28: - | I28: 0 | J28: 32 | K28: Linea de aire obstruida | N28: - | O28: -
A29: =1+A28 -> 25 | B29: Rafael Quiroz Excavado | C29: Caimitalito | D29: E | E29: 226897 | F29: 371914 | G29: 153 | H29: - | I29: 0.51 | J29: 11 | K29: =N29-I29 -> 7.15 | L29: - | N29: 7.66 | O29: -
A30: =1+A29 -> 26 | B30: MT-266 Asdrúbal Rojas Chávez | C30: Zompopa | D30: P | E30: 230865 | F30: 374057 | G30: 188 | H30: - | I30: 0.16 | J30: - | K30: =N30-I30 -> 5.07 | L30: - | N30: 5.23 | O30: -
A31: =1+A30 -> 27 | B31: Walter Vásquez | C31: Curime | D31: E | E31: 233304 | F31: 377094 | G31: 152 | H31: - | I31: 0.47 | J31: 10 | K31: =N31-I31 -> 6.85 | L31: - | N31: 7.32 | O31: -
A32: =1+A31 -> 28 | B32: MT-305 María de los Ángeles Pérez Rodríguez | C32: Curime | D32: P | E32: 233542 | F32: 376630 | G32: 165 | H32: - | I32: 0.27 | J32: 54 | K32: =N32-I32 -> 15.98 | L32: - | N32: 16.25 | O32: -
A33: =1+A32 -> 29 | B33: Marielos (Francisco García) | C33: Hondores | D33: E | E33: 234045 | F33: 378793 | G33: 127 | H33: - | I33: 0.28 | J33: - | K33: =N33-I33 -> 1.81 | L33: - | N33: 2.09 | O33: -
A34: =1+A33 -> 30 | B34: Juan López | C34: Hondores | D34: E | E34: 233269 | F34: 379859 | G34: 133 | H34: - | I34: 0.37 | J34: - | K34: =N34-I34 -> 5.37 | L34: - | N34: 5.74 | O34: -
A35: =1+A34 -> 31 | B35: Arnoldo Fajardo | C35: Fca el Carmen | D35: E | E35: 231370 | F35: 376354 | G35: 152 | H35: - | I35: 0.6 | J35: - | K35: =N35-I35 -> 4.76 | L35: - | N35: 5.36 | O35: -
A36: =1+A35 -> 32 | B36: MT-217 APAN | C36: Fca el Carmen | D36: P | E36: 230325 | F36: 376380 | G36: 173 | H36: 6 | I36: 0.24 | J36: - | K36: =N36-I36 -> 11.01 | L36: - | N36: 11.25 | O36: -
A37: =1+A36 -> 33 | B37: MT-197 Luna y Sol 2004 S.A. | C37: Caimitalito | D37: P | E37: 227193 | F37: 373134 | G37: 167 | H37: - | J37: - | K37: =N37-I37 -> 2.32 | L37: - | N37: 2.32 | O37: -
A38: 34 | B38: Antonio Vargas | C38: Caimital | D38: P | E38: 227196 | F38: 374931 | G38: 174 | H38: - | I38: 0.45 | J38: - | K38: =N38-I38 -> 5.63 | L38: - | N38: 6.08 | O38: -
A39: 35 | B39: Costeña Proyecto 2 | C39: Caimital | D39: P | E39: 230121 | F39: 375557 | G39: 189 | H39: - | I39: 0.31 | J39: - | K39: Linea de aire obstruida | N39: sin dato | O39: -
A40: 36 | B40: Costeña Proyecto 1 | C40: Caimital | D40: P | E40: 230506 | F40: 374383 | G40: 195 | H40: - | I40: 0.3 | J40: - | K40: =N40-I40 -> 5.42 | L40: - | N40: 5.72 | O40: -

Sheet Setiembre 2013
A1: Plan de Monitoreo Acuífero Caimital
A2: Fecha: 24 de setiembre del 2013
N3: Datos de campo
A4: N˚ | B4: Nombre del POZO | C4: Lugar | D4: Tipo | E4: Latitud | F4: Longitud | G4: Altitud sobre nivel de Mar | H4: Diámetro armado (in) | I4: Brocal (m) | J4: Profundidad de pozo (m) | K4: Nivel estático (m) | L4: Nivel dinámico (m) | N4: Nivel estático (m) + Brocal | O4: Nivel dinámico (m) + Brocal
A5: 1 | B5: AyA Caimital 1 | C5: Caimital | D5: P | E5: 228433 | F5: 374731 | G5: 176 | H5: 8 | I5: 0.74 | K5: - | L5: =O5-I5 -> 10.95 | N5: - | O5: 11.69
A6: =1+A5 -> 2 | B6: AyA Caimital 2 | C6: Caimital | D6: P | E6: 228410 | F6: 374618 | G6: 169 | H6: 10 | I6: 0.53 | K6: - | L6: =O6-I6 -> 9.88 | N6: - | O6: 10.41
A7: =1+A6 -> 3 | B7: AyA Caimital 6 | C7: Caimital | D7: P | E7: 228332 | F7: 373697 | G7: 165 | H7: 8 | I7: 0.46 | K7: =N7-I7 -> 2.77 | L7: - | N7: 3.23 | O7: -
A8: =1+A7 -> 4 | B8: AyA Caimital 4 | C8: Caimital | D8: P | E8: 228311 | F8: 373468 | G8: 164 | H8: 10 | I8: 0.75 | K8: - | L8: =O8-I8 -> 8.68 | N8: - | O8: 9.43
A9: =1+A8 -> 5 | B9: CJ-17 Villa Adela | C9: Dulce Nombre | D9: P | E9: 229011 | F9: 372774 | G9: 171 | H9: 10 | I9: 0.21 | K9: =N9-I9 -> 2.92 | L9: - | N9: 3.13 | O9: -
A10: =1+A9 -> 6 | B10: MT-279 José Campos Camacho | C10: Dulce Nombre | D10: P | E10: 228975 | F10: 372676 | G10: 178 | H10: 6 | I10: 0.05 | K10: =N10-I10 -> 2.49 | L10: - | N10: 2.54 | O10: -
A11: =1+A10 -> 7 | B11: AyA Caimital 3 | C11: Caimital | D11: P | E11: 228362 | F11: 374622 | G11: 176 | H11: 8 | I11: 0.63 | K11: - | L11: =O11-I11 -> 7.51 | N11: - | O11: 8.14
A12: =1+A11 -> 8 | B12: AyA Caimital 5 | C12: Caimital | D12: P | E12: 228388 | F12: 374670 | G12: 178 | H12: 8 | I12: 0.58 | K12: =N12-I12 -> 3.86 | L12: - | N12: 4.44 | O12: -
A13: =1+A12 -> 9 | B13: Melonera | C13: Dulce Nombre | D13: P | E13: 228558 | F13: 373122 | G13: 149 | H13: - | I13: - | K13: Sin linea de aire
A14: =1+A13 -> 10 | B14: ASADA Dulce Nombre 2 | C14: Dulce Nombre | D14: P | E14: 229344 | F14: 372629 | G14: 169 | H14: 6 | I14: 0.41 | K14: =N14-I14 -> 5.63 | L14: - | N14: 6.04 | O14: -
A15: =1+A14 -> 11 | B15: ASADA Dulce Nombre 1 | C15: Dulce Nombre | D15: P | E15: 229365 | F15: 372649 | G15: 170 | H15: 8 | I15: 0.38 | K15: - | L15: =O15-I15 -> 9.88 | N15: - | O15: 10.26
A16: =1+A15 -> 12 | B16: Heiner Fajardo | C16: Dulce Nombre | D16: E | E16: 230039 | F16: 373297 | G16: 177 | H16: - | I16: 0.45 | K16: =N16-I16 -> 5.43 | L16: - | N16: 5.88 | O16: -
A17: =1+A16 -> 13 | B17: Flor Fajardo | C17: Dulce Nombre | D17: E | E17: 230068 | F17: 373331 | G17: 178 | H17: - | I17: 0 | K17: =N17-I17 -> 6.5 | L17: - | N17: 6.5 | O17: -
A18: =1+A17 -> 14 | B18: Casa Abandonada | C18: Dulce Nombre | D18: E | E18: 228808 | F18: 372154 | G18: 172 | H18: - | I18: 0.78 | K18: =N18-I18 -> 7.04 | L18: - | N18: 7.82 | O18: -
A19: =1+A18 -> 15 | B19: Gavina Campos Noguera | C19: Gamalotal | D19: E | E19: 228215 | F19: 371804 | G19: 175 | H19: - | I19: 0.53 | K19: =N19-I19 -> 6.04 | L19: - | N19: 6.57 | O19: -
A20: =1+A19 -> 16 | B20: José Fernando Oriones Zúñiga | C20: Gamalotal | D20: E | E20: 226508 | F20: 370899 | G20: 153 | H20: - | I20: 0.6 | K20: =N20-I20 -> 14.45 | L20: - | N20: 15.05 | O20: -
A21: =1+A20 -> 17 | B21: Hilda Rodríguez Villalobos | C21: Gamalotal | D21: P | E21: 226538 | F21: 370372 | G21: 163 | H21: 6 | I21: 0 | J21: 25 | K21: =N21-I21 -> 2.05 | L21: - | N21: 2.05 | O21: -
A22: =1+A21 -> 18 | B22: ASADA Gamalotal | C22: Gamalotal | D22: P | E22: 227916 | F22: 371351 | G22: 184 | H22: 8 | I22: 0.31 | K22: =N22-I22 -> 10.74 | L22: - | N22: 11.05 | O22: -
A23: =1+A22 -> 19 | B23: Paula Pérez Carrillo | C23: Caimitalito | D23: E | E23: 227137 | F23: 372659 | G23: 175 | H23: - | I23: 0.43 | K23: =N23-I23 -> 4.92 | L23: - | N23: 5.35 | O23: -
A24: =1+A23 -> 20 | B24: ASADA Caimitalito | C24: Caimitalito | D24: P | E24: 227239 | F24: 372760 | G24: 178 | H24: - | I24: - | J24: 28 | K24: Sin linea de aire
A25: =1+A24 -> 21 | B25: José Mora López | C25: Caimital | D25: E | E25: 228001 | F25: 374482 | G25: 163 | H25: - | I25: 0.79 | K25: =N25-I25 -> 2.26 | L25: - | N25: 3.05 | O25: -
A26: =1+A25 -> 22 | B26: ASADA Caimital | C26: Caimital | D26: P | E26: 227968 | F26: 374756 | G26: 178 | H26: 8 | I26: 0.95 | K26: - | L26: =O26-I26 -> 5.2 | N26: - | O26: 6.15
A27: =1+A26 -> 23 | B27: Blas Villegas | C27: Dulce Nombre | D27: E | E27: 230129 | F27: 373872 | G27: 183 | H27: - | I27: 0.51 | K27: =N27-I27 -> 3.91 | L27: - | N27: 4.42 | O27: -
A28: =1+A27 -> 24 | B28: Rafael Quiroz Perforado | C28: Caimitalito | D28: P | E28: 226896 | F28: 371931 | G28: 154 | H28: - | I28: 0 | J28: 32 | K28: Linea de aire obstruida | N28: - | O28: -
A29: =1+A28 -> 25 | B29: Rafael Quiroz Excavado | C29: Caimitalito | D29: E | E29: 226897 | F29: 371914 | G29: 153 | H29: - | I29: 0.51 | J29: 11 | K29: =N29-I29 -> 6.27 | L29: - | N29: 6.78 | O29: -
A30: =1+A29 -> 26 | B30: MT-266 Asdrúbal Rojas Chávez | C30: Zompopa | D30: P | E30: 230865 | F30: 374057 | G30: 188 | H30: - | I30: 0.16 | J30: - | K30: =N30-I30 -> 2.86 | L30: - | N30: 3.02 | O30: -
A31: =1+A30 -> 27 | B31: Walter Vásquez | C31: Curime | D31: E | E31: 233304 | F31: 377094 | G31: 152 | H31: - | I31: 0.47 | J31: 10 | K31: =N31-I31 -> 5.66 | L31: - | N31: 6.13 | O31: -
A32: =1+A31 -> 28 | B32: MT-305 María de los Ángeles Pérez Rodríguez | C32: Curime | D32: P | E32: 233542 | F32: 376630 | G32: 165 | H32: - | I32: 0.27 | J32: 54 | K32: =N32-I32 -> 14.9 | L32: - | N32: 15.17 | O32: -
A33: =1+A32 -> 29 | B33: Marielos (Francisco García) | C33: Hondores | D33: E | E33: 234045 | F33: 378793 | G33: 127 | H33: - | I33: 0.28 | J33: - | K33: =N33-I33 -> 1.67 | L33: - | N33: 1.95 | O33: -
A34: =1+A33 -> 30 | B34: Juan López | C34: Hondores | D34: E | E34: 233269 | F34: 379859 | G34: 133 | H34: - | I34: 0.37 | J34: - | K34: =N34-I34 -> 4.11 | L34: - | N34: 4.48 | O34: -
A35: =1+A34 -> 31 | B35: Arnoldo Fajardo | C35: Fca el Carmen | D35: E | E35: 231370 | F35: 376354 | G35: 152 | H35: - | I35: 0.6 | J35: - | K35: =N35-I35 -> 4.63 | L35: - | N35: 5.23 | O35: -
A36: =1+A35 -> 32 | B36: MT-217 APAN | C36: Fca el Carmen | D36: P | E36: 230325 | F36: 376380 | G36: 173 | H36: 6 | I36: 0.24 | J36: - | K36: =N36-I36 -> 10.48 | L36: - | N36: 10.72 | O36: -
A37: =1+A36 -> 33 | B37: MT-197 Luna y Sol 2004 S.A. | C37: Caimitalito | D37: P | E37: 227193 | F37: 373134 | G37: 167 | H37: - | J37: - | K37: =N37-I37 -> 1.11 | L37: - | N37: 1.11 | O37: -
A38: 34 | B38: Antonio Vargas | C38: Caimital | D38: P | E38: 227196 | F38: 374931 | G38: 174 | H38: - | I38: 0.45 | J38: - | K38: =N38-I38 -> 4.6 | L38: - | N38: 5.05 | O38: -
A39: 35 | B39: Costeña Proyecto 2 | C39: Caimital | D39: P | E39: 230121 | F39: 375557 | G39: 189 | H39: - | I39: 0.31 | J39: - | K39: Linea de aire obstruida | N39: sin dato | O39: -
A40: 36 | B40: Costeña Proyecto 1 | C40: Caimital | D40: P | E40: 230506 | F40: 374383 | G40: 195 | H40: - | I40: 0.3 | J40: - | K40: =N40-I40 -> 3.55 | L40: - | N40: 3.85 | O40: -

Sheet octubre 2013
A1: Plan de Monitoreo Acuífero Caimital
A2: Fecha: 22 de octubre del 2013
N3: Datos de campo
A4: N˚ | B4: Nombre del POZO | C4: Lugar | D4: Tipo | E4: Latitud | F4: Longitud | G4: Altitud sobre nivel de Mar | H4: Diámetro armado (in) | I4: Brocal (m) | J4: Profundidad de pozo (m) | K4: Nivel estático (m) | L4: Nivel dinámico (m) | N4: Nivel estático (m) + Brocal | O4: Nivel dinámico (m) + Brocal
A5: 1 | B5: AyA Caimital 1 | C5: Caimital | D5: P | E5: 228433 | F5: 374731 | G5: 176 | H5: 8 | I5: 0.74 | K5: =N5-I5 -> 1.11 | L5: - | N5: 1.85 | O5: -
A6: =1+A5 -> 2 | B6: AyA Caimital 2 | C6: Caimital | D6: P | E6: 228410 | F6: 374618 | G6: 169 | H6: 10 | I6: 0.53 | K6: =N6-I6 -> 3.87 | L6: - | N6: 4.4 | O6: -
A7: =1+A6 -> 3 | B7: AyA Caimital 6 | C7: Caimital | D7: P | E7: 228332 | F7: 373697 | G7: 165 | H7: 8 | I7: 0.46 | K7: =N7-I7 -> 2.71 | L7: - | N7: 3.17 | O7: -
A8: =1+A7 -> 4 | B8: AyA Caimital 4 | C8: Caimital | D8: P | E8: 228311 | F8: 373468 | G8: 164 | H8: 10 | I8: 0.75 | K8: =N8-I8 -> 2.57 | L8: - | N8: 3.32 | O8: -
A9: =1+A8 -> 5 | B9: CJ-17 Villa Adela | C9: Dulce Nombre | D9: P | E9: 229011 | F9: 372774 | G9: 171 | H9: 10 | I9: 0.21 | K9: =N9-I9 -> 2.64 | L9: - | N9: 2.85 | O9: -
A10: =1+A9 -> 6 | B10: MT-279 José Campos Camacho | C10: Dulce Nombre | D10: P | E10: 228975 | F10: 372676 | G10: 178 | H10: 6 | I10: 0.05 | K10: =N10-I10 -> 2.21 | L10: - | N10: 2.26 | O10: -
A11: =1+A10 -> 7 | B11: AyA Caimital 3 | C11: Caimital | D11: P | E11: 228362 | F11: 374622 | G11: 176 | H11: 8 | I11: 0.63 | K11: =N11-I11 -> 3.5 | L11: - | N11: 4.13 | O11: -
A12: =1+A11 -> 8 | B12: AyA Caimital 5 | C12: Caimital | D12: P | E12: 228388 | F12: 374670 | G12: 178 | H12: 8 | I12: 0.58 | K12: =N12-I12 -> 3.82 | L12: - | N12: 4.4 | O12: -
A13: =1+A12 -> 9 | B13: Melonera | C13: Dulce Nombre | D13: P | E13: 228558 | F13: 373122 | G13: 149 | H13: - | I13: - | K13: Sin linea de aire
A14: =1+A13 -> 10 | B14: ASADA Dulce Nombre 2 | C14: Dulce Nombre | D14: P | E14: 229344 | F14: 372629 | G14: 169 | H14: 6 | I14: 0.41 | K14: - | L14: =O14-I14 -> 7.69 | N14: - | O14: 8.1
A15: =1+A14 -> 11 | B15: ASADA Dulce Nombre 1 | C15: Dulce Nombre | D15: P | E15: 229365 | F15: 372649 | G15: 170 | H15: 8 | I15: 0.38 | K15: =N15-I15 -> 4.62 | L15: - | N15: 5 | O15: -
A16: =1+A15 -> 12 | B16: Heiner Fajardo | C16: Dulce Nombre | D16: E | E16: 230039 | F16: 373297 | G16: 177 | H16: - | I16: 0.45 | K16: =N16-I16 -> 3.39 | L16: - | N16: 3.84 | O16: -
A17: =1+A16 -> 13 | B17: Flor Fajardo | C17: Dulce Nombre | D17: E | E17: 230068 | F17: 373331 | G17: 178 | H17: - | I17: - | K17: Seco | L17: - | N17: 4.54 | O17: -
A18: =1+A17 -> 14 | B18: Casa Abandonada | C18: Dulce Nombre | D18: E | E18: 228808 | F18: 372154 | G18: 172 | H18: - | I18: 0.78 | K18: =N18-I18 -> 4.9 | L18: - | N18: 5.68 | O18: -
A19: =1+A18 -> 15 | B19: Gavina Campos Noguera | C19: Gamalotal | D19: E | E19: 228215 | F19: 371804 | G19: 175 | H19: - | I19: 0.53 | K19: =N19-I19 -> 1.85 | L19: - | N19: 2.38 | O19: -
A20: =1+A19 -> 16 | B20: José Fernando Oriones Zúñiga | C20: Gamalotal | D20: E | E20: 226508 | F20: 370899 | G20: 153 | H20: - | I20: 0.6 | K20: =N20-I20 -> 14.17 | L20: - | N20: 14.77 | O20: -
A21: =1+A20 -> 17 | B21: Hilda Rodríguez Villalobos | C21: Gamalotal | D21: P | E21: 226538 | F21: 370372 | G21: 163 | H21: 6 | I21: 0 | J21: 25 | K21: =N21-I21 -> 1.06 | L21: - | N21: 1.06 | O21: -
A22: =1+A21 -> 18 | B22: ASADA Gamalotal | C22: Gamalotal | D22: P | E22: 227916 | F22: 371351 | G22: 184 | H22: 8 | I22: 0.31 | K22: =N22-I22 -> 10.36 | L22: - | N22: 10.67 | O22: -
A23: =1+A22 -> 19 | B23: Paula Pérez Carrillo | C23: Caimitalito | D23: E | E23: 227137 | F23: 372659 | G23: 175 | H23: - | I23: 0.43 | K23: =N23-I23 -> 4.52 | L23: - | N23: 4.95 | O23: -
A24: =1+A23 -> 20 | B24: ASADA Caimitalito | C24: Caimitalito | D24: P | E24: 227239 | F24: 372760 | G24: 178 | H24: - | I24: - | J24: 28 | K24: Sin linea de aire
A25: =1+A24 -> 21 | B25: José Mora López | C25: Caimital | D25: E | E25: 228001 | F25: 374482 | G25: 163 | H25: - | I25: 0.79 | K25: =N25-I25 -> 1.97 | L25: - | N25: 2.76 | O25: -
A26: =1+A25 -> 22 | B26: ASADA Caimital | C26: Caimital | D26: P | E26: 227968 | F26: 374756 | G26: 178 | H26: 8 | I26: 0.95 | K26: - | L26: =O26-I26 -> 4.95 | N26: - | O26: 5.9
A27: =1+A26 -> 23 | B27: Blas Villegas | C27: Dulce Nombre | D27: E | E27: 230129 | F27: 373872 | G27: 183 | H27: - | I27: 0.51 | K27: =N27-I2 -> 2.8 | L27: - | N27: 2.8 | O27: -
A28: =1+A27 -> 24 | B28: Rafael Quiroz Perforado | C28: Caimitalito | D28: P | E28: 226896 | F28: 371931 | G28: 154 | H28: - | I28: 0 | J28: 32 | K28: =N28-I3 -> 9.13 | L28: - | N28: 9.13 | O28: -
A29: =1+A28 -> 25 | B29: Rafael Quiroz Excavado | C29: Caimitalito | D29: E | E29: 226897 | F29: 371914 | G29: 153 | H29: - | I29: 0.51 | J29: 11 | K29: =N29-I29 -> 5.79 | L29: - | N29: 6.3 | O29: -
A30: =1+A29 -> 26 | B30: MT-266 Asdrúbal Rojas Chávez | C30: Zompopa | D30: P | E30: 230865 | F30: 374057 | G30: 188 | H30: - | I30: 0.16 | J30: - | K30: =N30-I30 -> 1.4 | L30: - | N30: 1.56 | O30: -
A31: =1+A30 -> 27 | B31: Walter Vásquez | C31: Curime | D31: E | E31: 233304 | F31: 377094 | G31: 152 | H31: - | I31: 0.47 | J31: 10 | K31: =N31-I31 -> 4.13 | L31: - | N31: 4.6 | O31: -
A32: =1+A31 -> 28 | B32: MT-305 María de los Ángeles Pérez Rodríguez | C32: Curime | D32: P | E32: 233542 | F32: 376630 | G32: 165 | H32: - | I32: 0.27 | J32: 54 | K32: =N32-I32 -> 10.15 | L32: - | N32: 10.42 | O32: -
A33: =1+A32 -> 29 | B33: Marielos (Francisco García) | C33: Hondores | D33: E | E33: 234045 | F33: 378793 | G33: 127 | H33: - | I33: 0.28 | J33: - | K33: nsp | L33: - | N33: nsp | O33: -
A34: =1+A33 -> 30 | B34: Juan López | C34: Hondores | D34: E | E34: 233269 | F34: 379859 | G34: 133 | H34: - | I34: 0.37 | J34: - | K34: =N34-I34 -> 3.2 | L34: - | N34: 3.57 | O34: -
A35: =1+A34 -> 31 | B35: Arnoldo Fajardo | C35: Fca el Carmen | D35: E | E35: 231370 | F35: 376354 | G35: 152 | H35: - | I35: 0.6 | J35: - | K35: =N35-I35 -> 4.52 | L35: - | N35: 5.12 | O35: -
A36: =1+A35 -> 32 | B36: MT-217 APAN | C36: Fca el Carmen | D36: P | E36: 230325 | F36: 376380 | G36: 173 | H36: 6 | I36: 0.24 | J36: - | K36: =N36-I36 -> 10.39 | L36: - | N36: 10.63 | O36: -
A37: =1+A36 -> 33 | B37: MT-197 Luna y Sol 2004 S.A. | C37: Caimitalito | D37: P | E37: 227193 | F37: 373134 | G37: 167 | H37: - | J37: - | K37: =N37-I37 -> 0.4 | L37: - | N37: 0.4 | O37: -
A38: 34 | B38: Antonio Vargas | C38: Caimital | D38: P | E38: 227196 | F38: 374931 | G38: 174 | H38: - | I38: 0.45 | J38: - | K38: =N38-I38 -> 2.92 | L38: - | N38: 3.37 | O38: -
A39: 35 | B39: Costeña Proyecto 2 | C39: Caimital | D39: P | E39: 230121 | F39: 375557 | G39: 189 | H39: - | I39: 0.31 | J39: - | K39: Linea de aire obstruida | N39: sin dato | O39: -
A40: 36 | B40: Costeña Proyecto 1 | C40: Caimital | D40: P | E40: 230506 | F40: 374383 | G40: 195 | H40: - | I40: 0.3 | J40: - | K40: =N40-I40 -> 2.83 | L40: - | N40: 3.13 | O40: -

Sheet Noviembre 2013
A1: Plan de Monitoreo Acuífero Caimital
A2: Fecha: 19 de noviembre del 2013
A4: N˚ | B4: Nombre del POZO | C4: Lugar | D4: Tipo | E4: Latitud | F4: Longitud | G4: Altitud sobre nivel de Mar | H4: Diámetro armado (in) | I4: Brocal (m) | J4: Profundidad de pozo (m) | K4: Nivel estático (m) | L4: Nivel dinámico (m)
A5: 1 | B5: AyA Caimital 1 | C5: Caimital | D5: P | E5: 228433 | F5: 374731 | G5: 176 | H5: 8 | I5: 0.74 | K5: nd | L5: 9.21
A6: =1+A5 -> 2 | B6: AyA Caimital 2 | C6: Caimital | D6: P | E6: 228410 | F6: 374618 | G6: 169 | H6: 10 | I6: 0.53 | K6: nd | L6: 4.02
A7: =1+A6 -> 3 | B7: AyA Caimital 6 | C7: Caimital | D7: P | E7: 228332 | F7: 373697 | G7: 165 | H7: 8 | I7: 0.46 | K7: 2.94 | L7: nd
A8: =1+A7 -> 4 | B8: AyA Caimital 4 | C8: Caimital | D8: P | E8: 228311 | F8: 373468 | G8: 164 | H8: 10 | I8: 0.75 | K8: nd | L8: 8.61
A9: =1+A8 -> 5 | B9: CJ-17 Villa Adela | C9: Dulce Nombre | D9: P | E9: 229011 | F9: 372774 | G9: 171 | H9: 10 | I9: 0.21 | K9: 3.1 | L9: nd
A10: =1+A9 -> 6 | B10: MT-279 José Campos Camacho | C10: Dulce Nombre | D10: P | E10: 228975 | F10: 372676 | G10: 178 | H10: 6 | I10: 0.05 | K10: 2.91 | L10: nd
A11: =1+A10 -> 7 | B11: AyA Caimital 3 | C11: Caimital | D11: P | E11: 228362 | F11: 374622 | G11: 176 | H11: 8 | I11: 0.63 | K11: nd | L11: 14.33
A12: =1+A11 -> 8 | B12: AyA Caimital 5 | C12: Caimital | D12: P | E12: 228388 | F12: 374670 | G12: 178 | H12: 8 | I12: 0.58 | K12: 4.07 | L12: nd
A13: =1+A12 -> 9 | B13: Melonera | C13: Dulce Nombre | D13: P | E13: 228558 | F13: 373122 | G13: 149 | H13: - | I13: - | K13: Sin linea de aire
A14: =1+A13 -> 10 | B14: ASADA Dulce Nombre 2 | C14: Dulce Nombre | D14: P | E14: 229344 | F14: 372629 | G14: 169 | H14: 6 | I14: 0.41 | K14: nd | L14: 7.69
A15: =1+A14 -> 11 | B15: ASADA Dulce Nombre 1 | C15: Dulce Nombre | D15: P | E15: 229365 | F15: 372649 | G15: 170 | H15: 8 | I15: 0.38 | K15: 5.26 | L15: nd
A16: =1+A15 -> 12 | B16: Heiner Fajardo | C16: Dulce Nombre | D16: E | E16: 230039 | F16: 373297 | G16: 177 | H16: - | I16: 0.45 | K16: 4.38 | L16: nd
A17: =1+A16 -> 13 | B17: Flor Fajardo | C17: Dulce Nombre | D17: E | E17: 230068 | F17: 373331 | G17: 178 | H17: - | I17: - | K17: 5.23 | L17: nd
A18: =1+A17 -> 14 | B18: Casa Abandonada | C18: Dulce Nombre | D18: E | E18: 228808 | F18: 372154 | G18: 172 | H18: - | I18: 0.78 | K18: 6.39 | L18: nd
A19: =1+A18 -> 15 | B19: Gavina Campos Noguera | C19: Gamalotal | D19: E | E19: 228215 | F19: 371804 | G19: 175 | H19: - | I19: 0.53 | K19: 4.42 | L19: nd
A20: =1+A19 -> 16 | B20: José Fernando Oriones Zúñiga | C20: Gamalotal | D20: E | E20: 226508 | F20: 370899 | G20: 153 | H20: - | I20: 0.6 | K20: 14.5 | L20: nd
A21: =1+A20 -> 17 | B21: Hilda Rodríguez Villalobos | C21: Gamalotal | D21: P | E21: 226538 | F21: 370372 | G21: 163 | H21: 6 | I21: 0 | J21: 25 | K21: 1.68 | L21: nd
A22: =1+A21 -> 18 | B22: ASADA Gamalotal | C22: Gamalotal | D22: P | E22: 227916 | F22: 371351 | G22: 184 | H22: 8 | I22: 0.31 | K22: 10.48 | L22: nd
A23: =1+A22 -> 19 | B23: Paula Pérez Carrillo | C23: Caimitalito | D23: E | E23: 227137 | F23: 372659 | G23: 175 | H23: - | I23: 0.43 | K23: 6.44 | L23: nd
A24: =1+A23 -> 20 | B24: ASADA Caimitalito | C24: Caimitalito | D24: P | E24: 227239 | F24: 372760 | G24: 178 | H24: - | I24: - | J24: 28 | K24: Sin linea de aire
A25: =1+A24 -> 21 | B25: José Mora López | C25: Caimital | D25: E | E25: 228001 | F25: 374482 | G25: 163 | H25: - | I25: 0.79 | K25: 2.83 | L25: nd
A26: =1+A25 -> 22 | B26: ASADA Caimital | C26: Caimital | D26: P | E26: 227968 | F26: 374756 | G26: 178 | H26: 8 | I26: 0.95 | K26: nd | L26: 5.67
A27: =1+A26 -> 23 | B27: Blas Villegas | C27: Dulce Nombre | D27: E | E27: 230129 | F27: 373872 | G27: 183 | H27: - | I27: 0.51 | K27: 3.1 | L27: nd
A28: =1+A27 -> 24 | B28: Rafael Quiroz Perforado | C28: Caimitalito | D28: P | E28: 226896 | F28: 371931 | G28: 154 | H28: - | I28: 0 | J28: 32 | K28: 9.46 | L28: nd
A29: =1+A28 -> 25 | B29: Rafael Quiroz Excavado | C29: Caimitalito | D29: E | E29: 226897 | F29: 371914 | G29: 153 | H29: - | I29: 0.51 | J29: 11 | K29: 6.85 | L29: nd
A30: =1+A29 -> 26 | B30: MT-266 Asdrúbal Rojas Chávez | C30: Zompopa | D30: P | E30: 230865 | F30: 374057 | G30: 188 | H30: - | I30: 0.16 | J30: - | K30: 1.75 | L30: nd
A31: =1+A30 -> 27 | B31: Walter Vásquez | C31: Curime | D31: E | E31: 233304 | F31: 377094 | G31: 152 | H31: - | I31: 0.47 | J31: 10 | K31: 4.41 | L31: nd
A32: =1+A31 -> 28 | B32: MT-305 María de los Ángeles Pérez Rodríguez | C32: Curime | D32: P | E32: 233542 | F32: 376630 | G32: 165 | H32: - | I32: 0.27 | J32: 54 | K32: 13.96 | L32: nd
A33: =1+A32 -> 29 | B33: Marielos (Francisco García) | C33: Hondores | D33: E | E33: 234045 | F33: 378793 | G33: 127 | H33: - | I33: 0.28 | J33: - | K33: 2.18 | L33: nd
A34: =1+A33 -> 30 | B34: Juan López | C34: Hondores | D34: E | E34: 233269 | F34: 379859 | G34: 133 | H34: - | I34: 0.37 | J34: - | K34: 4.05 | L34: nd
A35: =1+A34 -> 31 | B35: Arnoldo Fajardo | C35: Fca el Carmen | D35: E | E35: 231370 | F35: 376354 | G35: 152 | H35: - | I35: 0.6 | J35: - | K35: 4.68 | L35: nd
A36: =1+A35 -> 32 | B36: MT-217 APAN | C36: Fca el Carmen | D36: P | E36: 230325 | F36: 376380 | G36: 173 | H36: 6 | I36: 0.24 | J36: - | K36: 10.81 | L36: nd
A37: =1+A36 -> 33 | B37: MT-197 Luna y Sol 2004 S.A. | C37: Caimitalito | D37: P | E37: 227193 | F37: 373134 | G37: 167 | H37: - | J37: - | K37: 1.72 | L37: nd
A38: 34 | B38: Antonio Vargas | C38: Caimital | D38: P | E38: 227196 | F38: 374931 | G38: 174 | H38: - | I38: 0.45 | J38: - | K38: 5.4 | L38: nd
A39: 35 | B39: Costeña Proyecto 2 | C39: Caimital | D39: P | E39: 230121 | F39: 375557 | G39: 189 | H39: - | I39: 0.31 | J39: - | K39: Linea de aire obstruida
A40: 36 | B40: Costeña Proyecto 1 | C40: Caimital | D40: P | E40: 230506 | F40: 374383 | G40: 195 | H40: - | I40: 0.3 | J40: - | K40: 3.75 | L40: nd

Sheet diciembre 2013
A1: Plan de Monitoreo Acuífero Caimital
A2: Fecha: 17 de diciembre del 2013
N3: Datos de campo
A4: N˚ | B4: Nombre del POZO | C4: Lugar | D4: Tipo | E4: Latitud | F4: Longitud | G4: Altitud sobre nivel de Mar | H4: Diámetro armado (in) | I4: Brocal (m) | J4: Profundidad de pozo (m) | K4: Nivel estático (m) | L4: Nivel dinámico (m) | N4: Nivel estático (m) + Brocal | O4: Nivel dinámico (m) + Brocal
A5: 1 | B5: AyA Caimital 1 | C5: Caimital | D5: P | E5: 228433 | F5: 374731 | G5: 176 | H5: 8 | I5: 0.74 | K5: =N5-I5 -> 3.71 | L5: - | N5: 4.45 | O5: -
A6: =1+A5 -> 2 | B6: AyA Caimital 2 | C6: Caimital | D6: P | E6: 228410 | F6: 374618 | G6: 169 | H6: 10 | I6: 0.53 | K6: =N6-I6 -> 4.17 | L6: - | N6: 4.7 | O6: -
A7: =1+A6 -> 3 | B7: AyA Caimital 6 | C7: Caimital | D7: P | E7: 228332 | F7: 373697 | G7: 165 | H7: 8 | I7: 0.46 | K7: =N7-I7 -> 3.17 | L7: - | N7: 3.63 | O7: -
A8: =1+A7 -> 4 | B8: AyA Caimital 4 | C8: Caimital | D8: P | E8: 228311 | F8: 373468 | G8: 164 | H8: 10 | I8: 0.75 | K8: =N8-I8 -> 2.79 | L8: - | N8: 3.54 | O8: -
A9: =1+A8 -> 5 | B9: CJ-17 Villa Adela | C9: Dulce Nombre | D9: P | E9: 229011 | F9: 372774 | G9: 171 | H9: 10 | I9: 0.21 | K9: =N9-I9 -> 3.61 | L9: - | N9: 3.82 | O9: -
A10: =1+A9 -> 6 | B10: MT-279 José Campos Camacho | C10: Dulce Nombre | D10: P | E10: 228975 | F10: 372676 | G10: 178 | H10: 6 | I10: 0.05 | K10: =N10-I10 -> 3.37 | L10: - | N10: 3.42 | O10: -
A11: =1+A10 -> 7 | B11: AyA Caimital 3 | C11: Caimital | D11: P | E11: 228362 | F11: 374622 | G11: 176 | H11: 8 | I11: 0.63 | K11: =N11-I11 -> 4.18 | L11: - | N11: 4.81 | O11: -
A12: =1+A11 -> 8 | B12: AyA Caimital 5 | C12: Caimital | D12: P | E12: 228388 | F12: 374670 | G12: 178 | H12: 8 | I12: 0.58 | K12: =N12-I12 -> 4.42 | L12: - | N12: 5 | O12: -
A13: =1+A12 -> 9 | B13: Melonera | C13: Dulce Nombre | D13: P | E13: 228558 | F13: 373122 | G13: 149 | H13: - | I13: - | K13: Sin linea de aire
A14: =1+A13 -> 10 | B14: ASADA Dulce Nombre 2 | C14: Dulce Nombre | D14: P | E14: 229344 | F14: 372629 | G14: 169 | H14: 6 | I14: 0.41 | K14: =N14-I14 -> 5.86 | L14: - | N14: 6.27 | O14: -
A15: =1+A14 -> 11 | B15: ASADA Dulce Nombre 1 | C15: Dulce Nombre | D15: P | E15: 229365 | F15: 372649 | G15: 170 | H15: 8 | I15: 0.38 | K15: - | L15: =O15-I15 -> 10.12 | N15: - | O15: 10.5
A16: =1+A15 -> 12 | B16: Heiner Fajardo | C16: Dulce Nombre | D16: E | E16: 230039 | F16: 373297 | G16: 177 | H16: - | I16: 0.45 | K16: =N16-I16 -> 5.26 | L16: - | N16: 5.71 | O16: -
A17: =1+A16 -> 13 | B17: Flor Fajardo | C17: Dulce Nombre | D17: E | E17: 230068 | F17: 373331 | G17: 178 | H17: - | I17: - | K17: Seco | L17: - | N17: 6 | O17: -
A18: =1+A17 -> 14 | B18: Casa Abandonada | C18: Dulce Nombre | D18: E | E18: 228808 | F18: 372154 | G18: 172 | H18: - | I18: 0.78 | K18: =N18-I18 -> 8.92 | L18: - | N18: 9.7 | O18: -
A19: =1+A18 -> 15 | B19: Gavina Campos Noguera | C19: Gamalotal | D19: E | E19: 228215 | F19: 371804 | G19: 175 | H19: - | I19: 0.53 | K19: =N19-I19 -> 7.12 | L19: - | N19: 7.65 | O19: -
A20: =1+A19 -> 16 | B20: José Fernando Oriones Zúñiga | C20: Gamalotal | D20: E | E20: 226508 | F20: 370899 | G20: 153 | H20: - | I20: 0.6 | K20: =N20-I20 -> 14.78 | L20: - | N20: 15.38 | O20: -
A21: =1+A20 -> 17 | B21: Hilda Rodríguez Villalobos | C21: Gamalotal | D21: P | E21: 226538 | F21: 370372 | G21: 163 | H21: 6 | I21: 0 | J21: 25 | K21: =N21-I21 -> 2.64 | L21: - | N21: 2.64 | O21: -
A22: =1+A21 -> 18 | B22: ASADA Gamalotal | C22: Gamalotal | D22: P | E22: 227916 | F22: 371351 | G22: 184 | H22: 8 | I22: 0.31 | K22: =N22-I22 -> 10.74 | L22: - | N22: 11.05 | O22: -
A23: =1+A22 -> 19 | B23: Paula Pérez Carrillo | C23: Caimitalito | D23: E | E23: 227137 | F23: 372659 | G23: 175 | H23: - | I23: 0.43 | K23: =N23-I23 -> 7.71 | L23: - | N23: 8.14 | O23: -
A24: =1+A23 -> 20 | B24: ASADA Caimitalito | C24: Caimitalito | D24: P | E24: 227239 | F24: 372760 | G24: 178 | H24: - | I24: - | J24: 28 | K24: Sin linea de aire
A25: =1+A24 -> 21 | B25: José Mora López | C25: Caimital | D25: E | E25: 228001 | F25: 374482 | G25: 163 | H25: - | I25: 0.79 | K25: =N25-I25 -> 3.33 | L25: - | N25: 4.12 | O25: -
A26: =1+A25 -> 22 | B26: ASADA Caimital | C26: Caimital | D26: P | E26: 227968 | F26: 374756 | G26: 178 | H26: 8 | I26: 0.95 | K26: - | L26: =O26-I26 -> 6.45 | N26: - | O26: 7.4
A27: =1+A26 -> 23 | B27: Blas Villegas | C27: Dulce Nombre | D27: E | E27: 230129 | F27: 373872 | G27: 183 | H27: - | I27: 0.51 | K27: =N27-I2 -> 4.48 | L27: - | N27: 4.48 | O27: -
A28: =1+A27 -> 24 | B28: Rafael Quiroz Perforado | C28: Caimitalito | D28: P | E28: 226896 | F28: 371931 | G28: 154 | H28: - | I28: 0 | J28: 32 | K28: =N28-I3 -> 9.82 | L28: - | N28: 9.82 | O28: -
A29: =1+A28 -> 25 | B29: Rafael Quiroz Excavado | C29: Caimitalito | D29: E | E29: 226897 | F29: 371914 | G29: 153 | H29: - | I29: 0.51 | J29: 11 | K29: =N29-I29 -> 8.39 | L29: - | N29: 8.9 | O29: -
A30: =1+A29 -> 26 | B30: MT-266 Asdrúbal Rojas Chávez | C30: Zompopa | D30: P | E30: 230865 | F30: 374057 | G30: 188 | H30: - | I30: 0.16 | J30: - | K30: =N30-I30 -> 1.94 | L30: - | N30: 2.1 | O30: -
A31: =1+A30 -> 27 | B31: Walter Vásquez | C31: Curime | D31: E | E31: 233304 | F31: 377094 | G31: 152 | H31: - | I31: 0.47 | J31: 10 | K31: =N31-I31 -> 5.28 | L31: - | N31: 5.75 | O31: -
A32: =1+A31 -> 28 | B32: MT-305 María de los Ángeles Pérez Rodríguez | C32: Curime | D32: P | E32: 233542 | F32: 376630 | G32: 165 | H32: - | I32: 0.27 | J32: 54 | K32: =N32-I32 -> 14.65 | L32: - | N32: 14.92 | O32: -
A33: =1+A32 -> 29 | B33: Marielos (Francisco García) | C33: Hondores | D33: E | E33: 234045 | F33: 378793 | G33: 127 | H33: - | I33: 0.28 | J33: - | K33: Cerrado con llave | N33: nsp | O33: -
A34: =1+A33 -> 30 | B34: Juan López | C34: Hondores | D34: E | E34: 233269 | F34: 379859 | G34: 133 | H34: - | I34: 0.37 | J34: - | K34: =N34-I34 -> 4.68 | L34: - | N34: 5.05 | O34: -
A35: =1+A34 -> 31 | B35: Arnoldo Fajardo | C35: Fca el Carmen | D35: E | E35: 231370 | F35: 376354 | G35: 152 | H35: - | I35: 0.6 | J35: - | K35: =N35-I35 -> 4.82 | L35: - | N35: 5.42 | O35: -
A36: =1+A35 -> 32 | B36: MT-217 APAN | C36: Fca el Carmen | D36: P | E36: 230325 | F36: 376380 | G36: 173 | H36: 6 | I36: 0.24 | J36: - | K36: =N36-I36 -> 11.26 | L36: - | N36: 11.5 | O36: -
A37: =1+A36 -> 33 | B37: MT-197 Luna y Sol 2004 S.A. | C37: Caimitalito | D37: P | E37: 227193 | F37: 373134 | G37: 167 | H37: - | J37: - | K37: =N37-I37 -> 3.34 | L37: - | N37: 3.34 | O37: -
A38: 34 | B38: Antonio Vargas | C38: Caimital | D38: P | E38: 227196 | F38: 374931 | G38: 174 | H38: - | I38: 0.45 | J38: - | K38: =N38-I38 -> 6.93 | L38: - | N38: 7.38 | O38: -
A39: 35 | B39: Costeña Proyecto 2 | C39: Caimital | D39: P | E39: 230121 | F39: 375557 | G39: 189 | H39: - | I39: 0.31 | J39: - | K39: Linea de aire obstruida | N39: sin dato | O39: -
A40: 36 | B40: Costeña Proyecto 1 | C40: Caimital | D40: P | E40: 230506 | F40: 374383 | G40: 195 | H40: - | I40: 0.3 | J40: - | K40: - | L40: =O40-I40 -> 16.4 | N40: - | O40: 16.7

Sheet enero 2014
A1: Plan de Monitoreo Acuífero Caimital
A2: Fecha: 21 de enero del 2014
N3: Datos de campo
A4: N˚ | B4: Nombre del POZO | C4: Lugar | D4: Tipo | E4: Latitud | F4: Longitud | G4: Altitud sobre nivel de Mar | H4: Diámetro armado (in) | I4: Brocal (m) | J4: Profundidad de pozo (m) | K4: Nivel estático (m) | L4: Nivel dinámico (m) | N4: Nivel estático (m) + Brocal | O4: Nivel dinámico (m) + Brocal
A5: 1 | B5: AyA Caimital 1 | C5: Caimital | D5: P | E5: 228433 | F5: 374731 | G5: 176 | H5: 8 | I5: 0.74 | K5: - | L5: =O5-I5 -> 12.84 | N5: - | O5: 13.58
A6: =1+A5 -> 2 | B6: AyA Caimital 2 | C6: Caimital | D6: P | E6: 228410 | F6: 374618 | G6: 169 | H6: 10 | I6: 0.53 | K6: - | L6: =O6-I6 -> 14.21 | N6: - | O6: 14.74
A7: =1+A6 -> 3 | B7: AyA Caimital 6 | C7: Caimital | D7: P | E7: 228332 | F7: 373697 | G7: 165 | H7: 8 | I7: 0.46 | K7: =N7-I7 -> 3.44 | L7: - | N7: 3.9 | O7: -
A8: =1+A7 -> 4 | B8: AyA Caimital 4 | C8: Caimital | D8: P | E8: 228311 | F8: 373468 | G8: 164 | H8: 10 | I8: 0.75 | K8: - | L8: =O8-I8 -> 9.08 | N8: - | O8: 9.83
A9: =1+A8 -> 5 | B9: CJ-17 Villa Adela | C9: Dulce Nombre | D9: P | E9: 229011 | F9: 372774 | G9: 171 | H9: 10 | I9: 0.21 | K9: =N9-I9 -> 4.42 | L9: - | N9: 4.63 | O9: -
A10: =1+A9 -> 6 | B10: MT-279 José Campos Camacho | C10: Dulce Nombre | D10: P | E10: 228975 | F10: 372676 | G10: 178 | H10: 6 | I10: 0.05 | K10: =N10-I10 -> 4.32 | L10: - | N10: 4.37 | O10: -
A11: =1+A10 -> 7 | B11: AyA Caimital 3 | C11: Caimital | D11: P | E11: 228362 | F11: 374622 | G11: 176 | H11: 8 | I11: 0.63 | K11: =N11-I11 -> 4.72 | L11: - | N11: 5.35 | O11: -
A12: =1+A11 -> 8 | B12: AyA Caimital 5 | C12: Caimital | D12: P | E12: 228388 | F12: 374670 | G12: 178 | H12: 8 | I12: 0.58 | K12: =N12-I12 -> 5.19 | L12: - | N12: 5.77 | O12: -
A13: =1+A12 -> 9 | B13: Melonera | C13: Dulce Nombre | D13: P | E13: 228558 | F13: 373122 | G13: 149 | H13: - | I13: - | K13: Sin linea de aire
A14: =1+A13 -> 10 | B14: ASADA Dulce Nombre 2 | C14: Dulce Nombre | D14: P | E14: 229344 | F14: 372629 | G14: 169 | H14: 6 | I14: 0.41 | K14: =N14-I14 -> 7.42 | L14: - | N14: 7.83 | O14: -
A15: =1+A14 -> 11 | B15: ASADA Dulce Nombre 1 | C15: Dulce Nombre | D15: P | E15: 229365 | F15: 372649 | G15: 170 | H15: 8 | I15: 0.38 | K15: - | L15: =O15-I15 -> 12.98 | N15: - | O15: 13.36
A16: =1+A15 -> 12 | B16: Heiner Fajardo | C16: Dulce Nombre | D16: E | E16: 230039 | F16: 373297 | G16: 177 | H16: - | I16: 0.45 | K16: =N16-I16 -> 6.58 | L16: - | N16: 7.03 | O16: -
A17: =1+A16 -> 13 | B17: Flor Fajardo | C17: Dulce Nombre | D17: E | E17: 230068 | F17: 373331 | G17: 178 | H17: - | I17: - | K17: Seco | L17: - | N17: - | O17: -
A18: =1+A17 -> 14 | B18: Casa Abandonada | C18: Dulce Nombre | D18: E | E18: 228808 | F18: 372154 | G18: 172 | H18: - | I18: 0.78 | K18: =N18-I18 -> 9.74 | L18: - | N18: 10.52 | O18: -
A19: =1+A18 -> 15 | B19: Gavina Campos Noguera | C19: Gamalotal | D19: E | E19: 228215 | F19: 371804 | G19: 175 | H19: - | I19: 0.53 | K19: =N19-I19 -> 9.93 | L19: - | N19: 10.46 | O19: -
A20: =1+A19 -> 16 | B20: José Fernando Oriones Zúñiga | C20: Gamalotal | D20: E | E20: 226508 | F20: 370899 | G20: 153 | H20: - | I20: 0.6 | K20: =N20-I20 -> 15.09 | L20: - | N20: 15.69 | O20: -
A21: =1+A20 -> 17 | B21: Hilda Rodríguez Villalobos | C21: Gamalotal | D21: P | E21: 226538 | F21: 370372 | G21: 163 | H21: 6 | I21: 0 | J21: 25 | K21: =N21-I21 -> 3.59 | L21: - | N21: 3.59 | O21: -
A22: =1+A21 -> 18 | B22: ASADA Gamalotal | C22: Gamalotal | D22: P | E22: 227916 | F22: 371351 | G22: 184 | H22: 8 | I22: 0.31 | K22: =N22-I22 -> 11.54 | L22: - | N22: 11.85 | O22: -
A23: =1+A22 -> 19 | B23: Paula Pérez Carrillo | C23: Caimitalito | D23: E | E23: 227137 | F23: 372659 | G23: 175 | H23: - | I23: 0.43 | K23: =N23-I23 -> 8.29 | L23: - | N23: 8.72 | O23: -
A24: =1+A23 -> 20 | B24: ASADA Caimitalito | C24: Caimitalito | D24: P | E24: 227239 | F24: 372760 | G24: 178 | H24: - | I24: - | J24: 28 | K24: Sin linea de aire
A25: =1+A24 -> 21 | B25: José Mora López | C25: Caimital | D25: E | E25: 228001 | F25: 374482 | G25: 163 | H25: - | I25: 0.79 | K25: =N25-I25 -> 3.78 | L25: - | N25: 4.57 | O25: -
A26: =1+A25 -> 22 | B26: ASADA Caimital | C26: Caimital | D26: P | E26: 227968 | F26: 374756 | G26: 178 | H26: 8 | I26: 0.95 | K26: - | L26: =O26-I26 -> 6.96 | N26: - | O26: 7.91
A27: =1+A26 -> 23 | B27: Blas Villegas | C27: Dulce Nombre | D27: E | E27: 230129 | F27: 373872 | G27: 183 | H27: - | I27: 0.51 | K27: =N27-I2 -> 5.63 | L27: - | N27: 5.63 | O27: -
A28: =1+A27 -> 24 | B28: Rafael Quiroz Perforado | C28: Caimitalito | D28: P | E28: 226896 | F28: 371931 | G28: 154 | H28: - | I28: 0 | J28: 32 | K28: =N28-I3 -> 9.96 | L28: - | N28: 9.96 | O28: -
A29: =1+A28 -> 25 | B29: Rafael Quiroz Excavado | C29: Caimitalito | D29: E | E29: 226897 | F29: 371914 | G29: 153 | H29: - | I29: 0.51 | J29: 11 | K29: =N29-I29 -> 9.26 | L29: - | N29: 9.77 | O29: -
A30: =1+A29 -> 26 | B30: MT-266 Asdrúbal Rojas Chávez | C30: Zompopa | D30: P | E30: 230865 | F30: 374057 | G30: 188 | H30: - | I30: 0.16 | J30: - | K30: =N30-I30 -> 2.67 | L30: - | N30: 2.83 | O30: -
A31: =1+A30 -> 27 | B31: Walter Vásquez | C31: Curime | D31: E | E31: 233304 | F31: 377094 | G31: 152 | H31: - | I31: 0.47 | J31: 10 | K31: =N31-I31 -> 5.9 | L31: - | N31: 6.37 | O31: -
A32: =1+A31 -> 28 | B32: MT-305 María de los Ángeles Pérez Rodríguez | C32: Curime | D32: P | E32: 233542 | F32: 376630 | G32: 165 | H32: - | I32: 0.27 | J32: 54 | K32: =N32-I32 -> 15.47 | L32: - | N32: 15.74 | O32: -
A33: =1+A32 -> 29 | B33: Marielos (Francisco García) | C33: Hondores | D33: E | E33: 234045 | F33: 378793 | G33: 127 | H33: - | I33: 0.28 | J33: - | K33: =N33-I33 -> 4.99 | L33: - | N33: 5.27 | O33: -
A34: =1+A33 -> 30 | B34: Juan López | C34: Hondores | D34: E | E34: 233269 | F34: 379859 | G34: 133 | H34: - | I34: 0.37 | J34: - | K34: =N34-I34 -> 5.29 | L34: - | N34: 5.66 | O34: -
A35: =1+A34 -> 31 | B35: Arnoldo Fajardo | C35: Fca el Carmen | D35: E | E35: 231370 | F35: 376354 | G35: 152 | H35: - | I35: 0.6 | J35: - | K35: =N35-I35 -> 4.92 | L35: - | N35: 5.52 | O35: -
A36: =1+A35 -> 32 | B36: MT-217 APAN | C36: Fca el Carmen | D36: P | E36: 230325 | F36: 376380 | G36: 173 | H36: 6 | I36: 0.24 | J36: - | K36: =N36-I36 -> 11.43 | L36: - | N36: 11.67 | O36: -
A37: =1+A36 -> 33 | B37: MT-197 Luna y Sol 2004 S.A. | C37: Caimitalito | D37: P | E37: 227193 | F37: 373134 | G37: 167 | H37: - | J37: - | K37: =N37-I37 -> 5.64 | L37: - | N37: 5.64 | O37: -
A38: 34 | B38: Antonio Vargas | C38: Caimital | D38: P | E38: 227196 | F38: 374931 | G38: 174 | H38: - | I38: 0.45 | J38: - | K38: =N38-I38 -> 7.66 | L38: - | N38: 8.11 | O38: -
A39: 35 | B39: Costeña Proyecto 2 | C39: Caimital | D39: P | E39: 230121 | F39: 375557 | G39: 189 | H39: - | I39: 0.31 | J39: - | K39: Linea de aire obstruida | N39: sin dato | O39: -
A40: 36 | B40: Costeña Proyecto 1 | C40: Caimital | D40: P | E40: 230506 | F40: 374383 | G40: 195 | H40: - | I40: 0.3 | J40: - | K40: - | L40: =O40-I40 -> 17.12 | N40: - | O40: 17.42

Sheet febrero 2014
A1: Plan de Monitoreo Acuífero Caimital
A2: Fecha: 25 de febrero del 2014
N3: Datos de campo
A4: N˚ | B4: Nombre del POZO | C4: Lugar | D4: Tipo | E4: Latitud | F4: Longitud | G4: Altitud sobre nivel de Mar | H4: Diámetro armado (in) | I4: Brocal (m) | J4: Profundidad de pozo (m) | K4: Nivel estático (m) | L4: Nivel dinámico (m) | N4: Nivel estático (m) + Brocal | O4: Nivel dinámico (m) + Brocal
A5: 1 | B5: AyA Caimital 1 | C5: Caimital | D5: P | E5: 228433 | F5: 374731 | G5: 176 | H5: 8 | I5: 0.74 | K5: - | L5: =O5-I5 -> 15.91 | N5: - | O5: 16.65
A6: =1+A5 -> 2 | B6: AyA Caimital 2 | C6: Caimital | D6: P | E6: 228410 | F6: 374618 | G6: 169 | H6: 10 | I6: 0.53 | K6: - | L6: =O6-I6 -> 13.49 | N6: - | O6: 14.02
A7: =1+A6 -> 3 | B7: AyA Caimital 6 | C7: Caimital | D7: P | E7: 228332 | F7: 373697 | G7: 165 | H7: 8 | I7: 0.46 | K7: =N7-I7 -> 3.57 | L7: - | N7: 4.03 | O7: -
A8: =1+A7 -> 4 | B8: AyA Caimital 4 | C8: Caimital | D8: P | E8: 228311 | F8: 373468 | G8: 164 | H8: 10 | I8: 0.75 | K8: - | L8: =O8-I8 -> 9.81 | N8: - | O8: 10.56
A9: =1+A8 -> 5 | B9: CJ-17 Villa Adela | C9: Dulce Nombre | D9: P | E9: 229011 | F9: 372774 | G9: 171 | H9: 10 | I9: 0.21 | K9: =N9-I9 -> 5.21 | L9: - | N9: 5.42 | O9: -
A10: =1+A9 -> 6 | B10: MT-279 José Campos Camacho | C10: Dulce Nombre | D10: P | E10: 228975 | F10: 372676 | G10: 178 | H10: 6 | I10: 0.05 | K10: =N10-I10 -> 5.27 | L10: - | N10: 5.32 | O10: -
A11: =1+A10 -> 7 | B11: AyA Caimital 3 | C11: Caimital | D11: P | E11: 228362 | F11: 374622 | G11: 176 | H11: 8 | I11: 0.63 | K11: =N11-I11 -> 5.03 | L11: - | N11: 5.66 | O11: -
A12: =1+A11 -> 8 | B12: AyA Caimital 5 | C12: Caimital | D12: P | E12: 228388 | F12: 374670 | G12: 178 | H12: 8 | I12: 0.58 | K12: =N12-I12 -> 5.67 | L12: - | N12: 6.25 | O12: -
A13: =1+A12 -> 9 | B13: Melonera | C13: Dulce Nombre | D13: P | E13: 228558 | F13: 373122 | G13: 149 | H13: - | I13: - | K13: Sin linea de aire
A14: =1+A13 -> 10 | B14: ASADA Dulce Nombre 2 | C14: Dulce Nombre | D14: P | E14: 229344 | F14: 372629 | G14: 169 | H14: 6 | I14: 0.41 | K14: =N14-I14 -> 8.86 | L14: - | N14: 9.27 | O14: -
A15: =1+A14 -> 11 | B15: ASADA Dulce Nombre 1 | C15: Dulce Nombre | D15: P | E15: 229365 | F15: 372649 | G15: 170 | H15: 8 | I15: 0.38 | K15: =N15-I15 -> 8.66 | L15: - | N15: 9.04 | O15: -
A16: =1+A15 -> 12 | B16: Heiner Fajardo | C16: Dulce Nombre | D16: E | E16: 230039 | F16: 373297 | G16: 177 | H16: - | I16: 0.45 | K16: =N16-I16 -> 7.97 | L16: - | N16: 8.42 | O16: -
A17: =1+A16 -> 13 | B17: Flor Fajardo | C17: Dulce Nombre | D17: E | E17: 230068 | F17: 373331 | G17: 178 | H17: - | I17: - | K17: Seco | L17: - | N17: - | O17: -
A18: =1+A17 -> 14 | B18: Casa Abandonada | C18: Dulce Nombre | D18: E | E18: 228808 | F18: 372154 | G18: 172 | H18: - | I18: 0.78 | K18: =N18-I18 -> 11.12 | L18: - | N18: 11.9 | O18: -
A19: =1+A18 -> 15 | B19: Gavina Campos Noguera | C19: Gamalotal | D19: E | E19: 228215 | F19: 371804 | G19: 175 | H19: - | I19: 0.53 | K19: =N19-I19 -> 11.89 | L19: - | N19: 12.42 | O19: -
A20: =1+A19 -> 16 | B20: José Fernando Oriones Zúñiga | C20: Gamalotal | D20: E | E20: 226508 | F20: 370899 | G20: 153 | H20: - | I20: 0.6 | K20: =N20-I20 -> 15.28 | L20: - | N20: 15.88 | O20: -
A21: =1+A20 -> 17 | B21: Hilda Rodríguez Villalobos | C21: Gamalotal | D21: P | E21: 226538 | F21: 370372 | G21: 163 | H21: 6 | I21: 0 | J21: 25 | K21: =N21-I21 -> 4.88 | L21: - | N21: 4.88 | O21: -
A22: =1+A21 -> 18 | B22: ASADA Gamalotal | C22: Gamalotal | D22: P | E22: 227916 | F22: 371351 | G22: 184 | H22: 8 | I22: 0.31 | K22: =N22-I22 -> 13.08 | L22: - | N22: 13.39 | O22: -
A23: =1+A22 -> 19 | B23: Paula Pérez Carrillo | C23: Caimitalito | D23: E | E23: 227137 | F23: 372659 | G23: 175 | H23: - | I23: 0.43 | K23: =N23-I23 -> 8.84 | L23: - | N23: 9.27 | O23: -
A24: =1+A23 -> 20 | B24: ASADA Caimitalito | C24: Caimitalito | D24: P | E24: 227239 | F24: 372760 | G24: 178 | H24: - | I24: - | J24: 28 | K24: Sin linea de aire
A25: =1+A24 -> 21 | B25: José Mora López | C25: Caimital | D25: E | E25: 228001 | F25: 374482 | G25: 163 | H25: - | I25: 0.79 | K25: =N25-I25 -> 4.09 | L25: - | N25: 4.88 | O25: -
A26: =1+A25 -> 22 | B26: ASADA Caimital | C26: Caimital | D26: P | E26: 227968 | F26: 374756 | G26: 178 | H26: 8 | I26: 0.95 | K26: - | L26: =O26-I26 -> 7.5 | N26: - | O26: 8.45
A27: =1+A26 -> 23 | B27: Blas Villegas | C27: Dulce Nombre | D27: E | E27: 230129 | F27: 373872 | G27: 183 | H27: - | I27: 0.51 | K27: =N27-I2 -> 6.86 | L27: - | N27: 6.86 | O27: -
A28: =1+A27 -> 24 | B28: Rafael Quiroz Perforado | C28: Caimitalito | D28: P | E28: 226896 | F28: 371931 | G28: 154 | H28: - | I28: 0 | J28: 32 | K28: =N28-I3 -> 10.18 | L28: - | N28: 10.18 | O28: -
A29: =1+A28 -> 25 | B29: Rafael Quiroz Excavado | C29: Caimitalito | D29: E | E29: 226897 | F29: 371914 | G29: 153 | H29: - | I29: 0.51 | J29: 11 | K29: =N29-I29 -> 9.65 | L29: - | N29: 10.16 | O29: -
A30: =1+A29 -> 26 | B30: MT-266 Asdrúbal Rojas Chávez | C30: Zompopa | D30: P | E30: 230865 | F30: 374057 | G30: 188 | H30: - | I30: 0.16 | J30: - | K30: =N30-I30 -> 3.51 | L30: - | N30: 3.67 | O30: -
A31: =1+A30 -> 27 | B31: Walter Vásquez | C31: Curime | D31: E | E31: 233304 | F31: 377094 | G31: 152 | H31: - | I31: 0.47 | J31: 10 | K31: =N31-I31 -> 6.71 | L31: - | N31: 7.18 | O31: -
A32: =1+A31 -> 28 | B32: MT-305 María de los Ángeles Pérez Rodríguez | C32: Curime | D32: P | E32: 233542 | F32: 376630 | G32: 165 | H32: - | I32: 0.27 | J32: 54 | K32: =N32-I32 -> 16.15 | L32: - | N32: 16.42 | O32: -
A33: =1+A32 -> 29 | B33: Marielos (Francisco García) | C33: Hondores | D33: E | E33: 234045 | F33: 378793 | G33: 127 | H33: - | I33: 0.28 | J33: - | K33: =N33-I33 -> 5.87 | L33: - | N33: 6.15 | O33: -
A34: =1+A33 -> 30 | B34: Juan López | C34: Hondores | D34: E | E34: 233269 | F34: 379859 | G34: 133 | H34: - | I34: 0.37 | J34: - | K34: =N34-I34 -> 5.84 | L34: - | N34: 6.21 | O34: -
A35: =1+A34 -> 31 | B35: Arnoldo Fajardo | C35: Fca el Carmen | D35: E | E35: 231370 | F35: 376354 | G35: 152 | H35: - | I35: 0.6 | J35: - | K35: =N35-I35 -> 4.89 | L35: - | N35: 5.49 | O35: -
A36: =1+A35 -> 32 | B36: MT-217 APAN | C36: Fca el Carmen | D36: P | E36: 230325 | F36: 376380 | G36: 173 | H36: 6 | I36: 0.24 | J36: - | K36: =N36-I36 -> 11.6 | L36: - | N36: 11.84 | O36: -
A37: =1+A36 -> 33 | B37: MT-197 Luna y Sol 2004 S.A. | C37: Caimitalito | D37: P | E37: 227193 | F37: 373134 | G37: 167 | H37: - | J37: - | K37: Linea de aire obstruida | N37: ds | O37: -
A38: 34 | B38: Antonio Vargas | C38: Caimital | D38: P | E38: 227196 | F38: 374931 | G38: 174 | H38: - | I38: 0.45 | J38: - | K38: =N38-I38 -> 8.48 | L38: - | N38: 8.93 | O38: -
A39: 35 | B39: Costeña Proyecto 2 | C39: Caimital | D39: P | E39: 230121 | F39: 375557 | G39: 189 | H39: - | I39: 0.31 | J39: - | K39: Linea de aire obstruida | N39: sin dato | O39: -
A40: 36 | B40: Costeña Proyecto 1 | C40: Caimital | D40: P | E40: 230506 | F40: 374383 | G40: 195 | H40: - | I40: 0.3 | J40: - | K40: - | L40: =O40-I40 -> 20.38 | N40: - | O40: 20.68

Sheet marzo 2014
A1: Plan de Monitoreo Acuífero Caimital
A2: Fecha: 25 de marzo del 2014
A4: N˚ | B4: Nombre del POZO | C4: Lugar | D4: Tipo | E4: Latitud | F4: Longitud | G4: Altitud sobre nivel de Mar | H4: Diámetro armado (in) | I4: Brocal (m) | J4: Profundidad de pozo (m) | K4: Nivel estático (m) | L4: Nivel dinámico (m)
A5: 1 | B5: AyA Caimital 1 | C5: Caimital | D5: P | E5: 228433 | F5: 374731 | G5: 176 | H5: 8 | I5: 0.74 | K5: - | L5: 16.71
A6: =1+A5 -> 2 | B6: AyA Caimital 2 | C6: Caimital | D6: P | E6: 228410 | F6: 374618 | G6: 169 | H6: 10 | I6: 0.53 | K6: - | L6: 14.44
A7: =1+A6 -> 3 | B7: AyA Caimital 6 | C7: Caimital | D7: P | E7: 228332 | F7: 373697 | G7: 165 | H7: 8 | I7: 0.46 | K7: 4.2 | L7: -
A8: =1+A7 -> 4 | B8: AyA Caimital 4 | C8: Caimital | D8: P | E8: 228311 | F8: 373468 | G8: 164 | H8: 10 | I8: 0.75 | K8: 6.27 | L8: -
A9: =1+A8 -> 5 | B9: CJ-17 Villa Adela | C9: Dulce Nombre | D9: P | E9: 229011 | F9: 372774 | G9: 171 | H9: 10 | I9: 0.21 | K9: - | L9: 10.82
A10: =1+A9 -> 6 | B10: MT-279 José Campos Camacho | C10: Dulce Nombre | D10: P | E10: 228975 | F10: 372676 | G10: 178 | H10: 6 | I10: 0.05 | K10: 5.95 | L10: -
A11: =1+A10 -> 7 | B11: AyA Caimital 3 | C11: Caimital | D11: P | E11: 228362 | F11: 374622 | G11: 176 | H11: 8 | I11: 0.63 | K11: 6.86 | L11: -
A12: =1+A11 -> 8 | B12: AyA Caimital 5 | C12: Caimital | D12: P | E12: 228388 | F12: 374670 | G12: 178 | H12: 8 | I12: 0.58 | K12: 6.27 | L12: -
A13: =1+A12 -> 9 | B13: Melonera | C13: Dulce Nombre | D13: P | E13: 228558 | F13: 373122 | G13: 149 | H13: - | I13: - | K13: Sin linea de aire
A14: =1+A13 -> 10 | B14: ASADA Dulce Nombre 2 | C14: Dulce Nombre | D14: P | E14: 229344 | F14: 372629 | G14: 169 | H14: 6 | I14: 0.41 | K14: - | L14: 18.6
A15: =1+A14 -> 11 | B15: ASADA Dulce Nombre 1 | C15: Dulce Nombre | D15: P | E15: 229365 | F15: 372649 | G15: 170 | H15: 8 | I15: 0.38 | K15: 10.99 | L15: -
A16: =1+A15 -> 12 | B16: Heiner Fajardo | C16: Dulce Nombre | D16: E | E16: 230039 | F16: 373297 | G16: 177 | H16: - | I16: 0.45 | K16: 9.82 | L16: -
A17: =1+A16 -> 13 | B17: Flor Fajardo | C17: Dulce Nombre | D17: E | E17: 230068 | F17: 373331 | G17: 178 | H17: - | I17: - | K17: Seco | L17: -
A18: =1+A17 -> 14 | B18: Casa Abandonada | C18: Dulce Nombre | D18: E | E18: 228808 | F18: 372154 | G18: 172 | H18: - | I18: 0.78 | K18: 12.8 | L18: -
A19: =1+A18 -> 15 | B19: Gavina Campos Noguera | C19: Gamalotal | D19: E | E19: 228215 | F19: 371804 | G19: 175 | H19: - | I19: 0.53 | K19: 13.61 | L19: -
A20: =1+A19 -> 16 | B20: José Fernando Oriones Zúñiga | C20: Gamalotal | D20: E | E20: 226508 | F20: 370899 | G20: 153 | H20: - | I20: 0.6 | K20: 15.95 | L20: -
A21: =1+A20 -> 17 | B21: Hilda Rodríguez Villalobos | C21: Gamalotal | D21: P | E21: 226538 | F21: 370372 | G21: 163 | H21: 6 | I21: 0 | J21: 25 | K21: 5.83 | L21: -
A22: =1+A21 -> 18 | B22: ASADA Gamalotal | C22: Gamalotal | D22: P | E22: 227916 | F22: 371351 | G22: 184 | H22: 8 | I22: 0.31 | K22: 14.47 | L22: -
A23: =1+A22 -> 19 | B23: Paula Pérez Carrillo | C23: Caimitalito | D23: E | E23: 227137 | F23: 372659 | G23: 175 | H23: - | I23: 0.43 | K23: 9.82 | L23: -
A24: =1+A23 -> 20 | B24: ASADA Caimitalito | C24: Caimitalito | D24: P | E24: 227239 | F24: 372760 | G24: 178 | H24: - | I24: - | J24: 28 | K24: Sin linea de aire
A25: =1+A24 -> 21 | B25: José Mora López | C25: Caimital | D25: E | E25: 228001 | F25: 374482 | G25: 163 | H25: - | I25: 0.79 | K25: 5.41 | L25: -
A26: =1+A25 -> 22 | B26: ASADA Caimital | C26: Caimital | D26: P | E26: 227968 | F26: 374756 | G26: 178 | H26: 8 | I26: 0.95 | K26: - | L26: 8.84
A27: =1+A26 -> 23 | B27: Blas Villegas | C27: Dulce Nombre | D27: E | E27: 230129 | F27: 373872 | G27: 183 | H27: - | I27: 0.51 | K27: 7.73 | L27: -
A28: =1+A27 -> 24 | B28: Rafael Quiroz Perforado | C28: Caimitalito | D28: P | E28: 226896 | F28: 371931 | G28: 154 | H28: - | I28: 0 | J28: 32 | K28: 10.35 | L28: -
A29: =1+A28 -> 25 | B29: Rafael Quiroz Excavado | C29: Caimitalito | D29: E | E29: 226897 | F29: 371914 | G29: 153 | H29: - | I29: 0.51 | J29: 11 | K29: 10.31 | L29: -
A30: =1+A29 -> 26 | B30: MT-266 Asdrúbal Rojas Chávez | C30: Zompopa | D30: P | E30: 230865 | F30: 374057 | G30: 188 | H30: - | I30: 0.16 | J30: - | K30: 4.42 | L30: -
A31: =1+A30 -> 27 | B31: Walter Vásquez | C31: Curime | D31: E | E31: 233304 | F31: 377094 | G31: 152 | H31: - | I31: 0.47 | J31: 10 | K31: 7.67 | L31: -
A32: =1+A31 -> 28 | B32: MT-305 María de los Ángeles Pérez Rodríguez | C32: Curime | D32: P | E32: 233542 | F32: 376630 | G32: 165 | H32: - | I32: 0.27 | J32: 54 | K32: 17.1 | L32: -
A33: =1+A32 -> 29 | B33: Marielos (Francisco García) | C33: Hondores | D33: E | E33: 234045 | F33: 378793 | G33: 127 | H33: - | I33: 0.28 | J33: - | K33: 6.54 | L33: -
A34: =1+A33 -> 30 | B34: Juan López | C34: Hondores | D34: E | E34: 233269 | F34: 379859 | G34: 133 | H34: - | I34: 0.37 | J34: - | K34: 6.57 | L34: -
A35: =1+A34 -> 31 | B35: Arnoldo Fajardo | C35: Fca el Carmen | D35: E | E35: 231370 | F35: 376354 | G35: 152 | H35: - | I35: 0.6 | J35: - | K35: 5.51 | L35: -
A36: =1+A35 -> 32 | B36: MT-217 APAN | C36: Fca el Carmen | D36: P | E36: 230325 | F36: 376380 | G36: 173 | H36: 6 | I36: 0.24 | J36: - | K36: 11.92 | L36: -
A37: =1+A36 -> 33 | B37: MT-197 Luna y Sol 2004 S.A. | C37: Caimitalito | D37: P | E37: 227193 | F37: 373134 | G37: 167 | H37: - | J37: - | K37: 8.92
A38: 34 | B38: Antonio Vargas | C38: Caimital | D38: P | E38: 227196 | F38: 374931 | G38: 174 | H38: - | I38: 0.45 | J38: - | K38: 9.68 | L38: -
A39: 35 | B39: Costeña Proyecto 2 | C39: Caimital | D39: P | E39: 230121 | F39: 375557 | G39: 189 | H39: - | I39: 0.31 | J39: - | K39: Linea de aire obstruida
A40: 36 | B40: Costeña Proyecto 1 | C40: Caimital | D40: P | E40: 230506 | F40: 374383 | G40: 195 | H40: - | I40: 0.3 | J40: - | K40: - | L40: 14.94

Sheet Abril 2014
A1: Plan de Monitoreo Acuífero Caimital
A2: Fecha: 22 de abril del 2014
A4: N˚ | B4: Nombre del POZO | C4: Lugar | D4: Tipo | E4: Latitud | F4: Longitud | G4: Altitud sobre nivel de Mar | H4: Diámetro armado (in) | I4: Brocal (m) | J4: Profundidad de pozo (m) | K4: Nivel estático (m) | L4: Nivel dinámico (m)
A5: 1 | B5: AyA Caimital 1 | C5: Caimital | D5: P | E5: 228433 | F5: 374731 | G5: 176 | H5: 8 | I5: 0.74 | K5: nd | L5: 17.66
A6: =1+A5 -> 2 | B6: AyA Caimital 2 | C6: Caimital | D6: P | E6: 228410 | F6: 374618 | G6: 169 | H6: 10 | I6: 0.53 | K6: nd | L6: 15.67
A7: =1+A6 -> 3 | B7: AyA Caimital 6 | C7: Caimital | D7: P | E7: 228332 | F7: 373697 | G7: 165 | H7: 8 | I7: 0.46 | K7: 4.79 | L7: nd
A8: =1+A7 -> 4 | B8: AyA Caimital 4 | C8: Caimital | D8: P | E8: 228311 | F8: 373468 | G8: 164 | H8: 10 | I8: 0.75 | K8: nd | L8: 11.23
A9: =1+A8 -> 5 | B9: CJ-17 Villa Adela | C9: Dulce Nombre | D9: P | E9: 229011 | F9: 372774 | G9: 171 | H9: 10 | I9: 0.21 | K9: 7.34 | L9: nd
A10: =1+A9 -> 6 | B10: MT-279 José Campos Camacho | C10: Dulce Nombre | D10: P | E10: 228975 | F10: 372676 | G10: 178 | H10: 6 | I10: 0.05 | K10: 7.15 | L10: nd
A11: =1+A10 -> 7 | B11: AyA Caimital 3 | C11: Caimital | D11: P | E11: 228362 | F11: 374622 | G11: 176 | H11: 8 | I11: 0.63 | K11: 8.17 | L11: nd
A12: =1+A11 -> 8 | B12: AyA Caimital 5 | C12: Caimital | D12: P | E12: 228388 | F12: 374670 | G12: 178 | H12: 8 | I12: 0.58 | K12: 7.81 | L12: nd
A13: =1+A12 -> 9 | B13: Melonera | C13: Dulce Nombre | D13: P | E13: 228558 | F13: 373122 | G13: 149 | H13: - | I13: - | K13: Sin linea de aire
A14: =1+A13 -> 10 | B14: ASADA Dulce Nombre 2 | C14: Dulce Nombre | D14: P | E14: 229344 | F14: 372629 | G14: 169 | H14: 6 | I14: 0.41 | K14: 12.64 | L14: nd
A15: =1+A14 -> 11 | B15: ASADA Dulce Nombre 1 | C15: Dulce Nombre | D15: P | E15: 229365 | F15: 372649 | G15: 170 | H15: 8 | I15: 0.38 | K15: nd | L15: nd
A16: =1+A15 -> 12 | B16: Heiner Fajardo | C16: Dulce Nombre | D16: E | E16: 230039 | F16: 373297 | G16: 177 | H16: - | I16: 0.45 | K16: nd | L16: nd
A17: =1+A16 -> 13 | B17: Flor Fajardo | C17: Dulce Nombre | D17: E | E17: 230068 | F17: 373331 | G17: 178 | H17: - | I17: - | K17: nd | L17: nd
A18: =1+A17 -> 14 | B18: Casa Abandonada | C18: Dulce Nombre | D18: E | E18: 228808 | F18: 372154 | G18: 172 | H18: - | I18: 0.78 | K18: nd | L18: nd
A19: =1+A18 -> 15 | B19: Gavina Campos Noguera | C19: Gamalotal | D19: E | E19: 228215 | F19: 371804 | G19: 175 | H19: - | I19: 0.53 | K19: nd | L19: nd
A20: =1+A19 -> 16 | B20: José Fernando Oriones Zúñiga | C20: Gamalotal | D20: E | E20: 226508 | F20: 370899 | G20: 153 | H20: - | I20: 0.6 | K20: nd | L20: nd
A21: =1+A20 -> 17 | B21: Hilda Rodríguez Villalobos | C21: Gamalotal | D21: P | E21: 226538 | F21: 370372 | G21: 163 | H21: 6 | I21: 0 | J21: 25 | K21: 7.63 | L21: nd
A22: =1+A21 -> 18 | B22: ASADA Gamalotal | C22: Gamalotal | D22: P | E22: 227916 | F22: 371351 | G22: 184 | H22: 8 | I22: 0.31 | K22: 16.4 | L22: nd
A23: =1+A22 -> 19 | B23: Paula Pérez Carrillo | C23: Caimitalito | D23: E | E23: 227137 | F23: 372659 | G23: 175 | H23: - | I23: 0.43 | K23: 9.77 | L23: nd
A24: =1+A23 -> 20 | B24: ASADA Caimitalito | C24: Caimitalito | D24: P | E24: 227239 | F24: 372760 | G24: 178 | H24: - | I24: - | J24: 28 | K24: Sin linea de aire
A25: =1+A24 -> 21 | B25: José Mora López | C25: Caimital | D25: E | E25: 228001 | F25: 374482 | G25: 163 | H25: - | I25: 0.79 | K25: 6.04 | L25: nd
A26: =1+A25 -> 22 | B26: ASADA Caimital | C26: Caimital | D26: P | E26: 227968 | F26: 374756 | G26: 178 | H26: 8 | I26: 0.95 | K26: nd | L26: 9.75
A27: =1+A26 -> 23 | B27: Blas Villegas | C27: Dulce Nombre | D27: E | E27: 230129 | F27: 373872 | G27: 183 | H27: - | I27: 0.51 | K27: 6.31 | L27: nd
A28: =1+A27 -> 24 | B28: Rafael Quiroz Perforado | C28: Caimitalito | D28: P | E28: 226896 | F28: 371931 | G28: 154 | H28: - | I28: 0 | J28: 32 | K28: 11.56 | L28: nd
A29: =1+A28 -> 25 | B29: Rafael Quiroz Excavado | C29: Caimitalito | D29: E | E29: 226897 | F29: 371914 | G29: 153 | H29: - | I29: 0.51 | J29: 11 | K29: 11.09 | L29: nd
A30: =1+A29 -> 26 | B30: MT-266 Asdrúbal Rojas Chávez | C30: Zompopa | D30: P | E30: 230865 | F30: 374057 | G30: 188 | H30: - | I30: 0.16 | J30: - | K30: 3.04 | L30: nd
A31: =1+A30 -> 27 | B31: Walter Vásquez | C31: Curime | D31: E | E31: 233304 | F31: 377094 | G31: 152 | H31: - | I31: 0.47 | J31: 10 | K31: 7.63 | L31: nd
A32: =1+A31 -> 28 | B32: MT-305 María de los Ángeles Pérez Rodríguez | C32: Curime | D32: P | E32: 233542 | F32: 376630 | G32: 165 | H32: - | I32: 0.27 | J32: 54 | K32: 17.35 | L32: nd
A33: =1+A32 -> 29 | B33: Marielos (Francisco García) | C33: Hondores | D33: E | E33: 234045 | F33: 378793 | G33: 127 | H33: - | I33: 0.28 | J33: - | K33: 8.6 | L33: nd
A34: =1+A33 -> 30 | B34: Juan López | C34: Hondores | D34: E | E34: 233269 | F34: 379859 | G34: 133 | H34: - | I34: 0.37 | J34: - | K34: nd | L34: nd
A35: =1+A34 -> 31 | B35: Arnoldo Fajardo | C35: Fca el Carmen | D35: E | E35: 231370 | F35: 376354 | G35: 152 | H35: - | I35: 0.6 | J35: - | K35: 4.92 | L35: nd
A36: =1+A35 -> 32 | B36: MT-217 APAN | C36: Fca el Carmen | D36: P | E36: 230325 | F36: 376380 | G36: 173 | H36: 6 | I36: 0.24 | J36: - | K36: 11.78 | L36: nd
A37: =1+A36 -> 33 | B37: MT-197 Luna y Sol 2004 S.A. | C37: Caimitalito | D37: P | E37: 227193 | F37: 373134 | G37: 167 | H37: - | J37: - | K37: 9.86 | L37: nd
A38: 34 | B38: Antonio Vargas | C38: Caimital | D38: P | E38: 227196 | F38: 374931 | G38: 174 | H38: - | I38: 0.45 | J38: - | K38: 10.11 | L38: nd
A39: 35 | B39: Costeña Proyecto 2 | C39: Caimital | D39: P | E39: 230121 | F39: 375557 | G39: 189 | H39: - | I39: 0.31 | J39: - | K39: Linea de aire obstruida
A40: 36 | B40: Costeña Proyecto 1 | C40: Caimital | D40: P | E40: 230506 | F40: 374383 | G40: 195 | H40: - | I40: 0.3 | J40: - | K40: nd | L40: 17.16

Sheet mayo 2014
A1: Plan de Monitoreo Acuífero Caimital
A2: Fecha: 27 de mayo del 2014
N3: Datos de campo
A4: N˚ | B4: Nombre del POZO | C4: Lugar | D4: Tipo | E4: Latitud | F4: Longitud | G4: Altitud sobre nivel de Mar | H4: Diámetro armado (in) | I4: Brocal (m) | J4: Profundidad de pozo (m) | K4: Nivel estático (m) | L4: Nivel dinámico (m) | N4: Nivel estático (m) + Brocal | O4: Nivel dinámico (m) + Brocal
A5: 1 | B5: AyA Caimital 1 | C5: Caimital | D5: P | E5: 228433 | F5: 374731 | G5: 176 | H5: 8 | I5: 0.74 | K5: - | L5: =O5-I5 -> 16.21 | N5: - | O5: 16.95
A6: =1+A5 -> 2 | B6: AyA Caimital 2 | C6: Caimital | D6: P | E6: 228410 | F6: 374618 | G6: 169 | H6: 10 | I6: 0.53 | K6: - | L6: =O6-I6 -> 13.82 | N6: - | O6: 14.35
A7: =1+A6 -> 3 | B7: AyA Caimital 6 | C7: Caimital | D7: P | E7: 228332 | F7: 373697 | G7: 165 | H7: 8 | I7: 0.46 | K7: =N7-I7 -> 3.35 | L7: - | N7: 3.81 | O7: -
A8: =1+A7 -> 4 | B8: AyA Caimital 4 | C8: Caimital | D8: P | E8: 228311 | F8: 373468 | G8: 164 | H8: 10 | I8: 0.75 | K8: - | L8: =O8-I8 -> 9.13 | N8: - | O8: 9.88
A9: =1+A8 -> 5 | B9: CJ-17 Villa Adela | C9: Dulce Nombre | D9: P | E9: 229011 | F9: 372774 | G9: 171 | H9: 10 | I9: 0.21 | L9: =O9-I9 -> 7.87 | O9: 8.08
A10: =1+A9 -> 6 | B10: MT-279 José Campos Camacho | C10: Dulce Nombre | D10: P | E10: 228975 | F10: 372676 | G10: 178 | H10: 6 | I10: 0.05 | L10: =O10-I10 -> 6.85 | O10: 6.9
A11: =1+A10 -> 7 | B11: AyA Caimital 3 | C11: Caimital | D11: P | E11: 228362 | F11: 374622 | G11: 176 | H11: 8 | I11: 0.63 | K11: =N11-I11 -> 5.78 | L11: - | N11: 6.41 | O11: -
A12: =1+A11 -> 8 | B12: AyA Caimital 5 | C12: Caimital | D12: P | E12: 228388 | F12: 374670 | G12: 178 | H12: 8 | I12: 0.58 | K12: =N12-I12 -> 6.46 | L12: - | N12: 7.04 | O12: -
A13: =1+A12 -> 9 | B13: Melonera | C13: Dulce Nombre | D13: P | E13: 228558 | F13: 373122 | G13: 149 | H13: - | I13: - | K13: Sin linea de aire
A14: =1+A13 -> 10 | B14: ASADA Dulce Nombre 2 | C14: Dulce Nombre | D14: P | E14: 229344 | F14: 372629 | G14: 169 | H14: 6 | I14: 0.41 | K14: =N14-I14 -> 12.27 | L14: - | N14: 12.68 | O14: -
A15: =1+A14 -> 11 | B15: ASADA Dulce Nombre 1 | C15: Dulce Nombre | D15: P | E15: 229365 | F15: 372649 | G15: 170 | H15: 8 | I15: 0.38 | K15: - | L15: =O15-I15 -> 20.9 | N15: - | O15: 21.28
A16: =1+A15 -> 12 | B16: Heiner Fajardo | C16: Dulce Nombre | D16: E | E16: 230039 | F16: 373297 | G16: 177 | H16: - | I16: 0.45 | K16: =N16-I16 -> 12.53 | L16: - | N16: 12.98 | O16: -
A17: =1+A16 -> 13 | B17: Flor Fajardo | C17: Dulce Nombre | D17: E | E17: 230068 | F17: 373331 | G17: 178 | H17: - | I17: - | K17: Seco | L17: - | N17: - | O17: -
A18: =1+A17 -> 14 | B18: Casa Abandonada | C18: Dulce Nombre | D18: E | E18: 228808 | F18: 372154 | G18: 172 | H18: - | I18: 0.78 | K18: Seco | L18: - | N18: - | O18: -
A19: =1+A18 -> 15 | B19: Gavina Campos Noguera | C19: Gamalotal | D19: E | E19: 228215 | F19: 371804 | G19: 175 | H19: - | I19: 0.53 | K19: Seco | L19: - | N19: - | O19: -
A20: =1+A19 -> 16 | B20: José Fernando Oriones Zúñiga | C20: Gamalotal | D20: E | E20: 226508 | F20: 370899 | G20: 153 | H20: - | I20: 0.6 | K20: Seco | L20: - | N20: - | O20: -
A21: =1+A20 -> 17 | B21: Hilda Rodríguez Villalobos | C21: Gamalotal | D21: P | E21: 226538 | F21: 370372 | G21: 163 | H21: 6 | I21: 0 | J21: 25 | K21: =N21-I21 -> 7.04 | L21: - | N21: 7.04
A22: =1+A21 -> 18 | B22: ASADA Gamalotal | C22: Gamalotal | D22: P | E22: 227916 | F22: 371351 | G22: 184 | H22: 8 | I22: 0.31 | K22: =N22-I22 -> 16.51 | L22: - | N22: 16.82
A23: =1+A22 -> 19 | B23: Paula Pérez Carrillo | C23: Caimitalito | D23: E | E23: 227137 | F23: 372659 | G23: 175 | H23: - | I23: 0.43 | K23: =N23-I23 -> 8.56 | L23: - | N23: 8.99
A24: =1+A23 -> 20 | B24: ASADA Caimitalito | C24: Caimitalito | D24: P | E24: 227239 | F24: 372760 | G24: 178 | H24: - | I24: - | J24: 28 | K24: Sin linea de aire | N24: Sin linea de aire
A25: =1+A24 -> 21 | B25: José Mora López | C25: Caimital | D25: E | E25: 228001 | F25: 374482 | G25: 163 | H25: - | I25: 0.79 | K25: =N25-I25 -> 4.57 | L25: - | N25: 5.36
A26: =1+A25 -> 22 | B26: ASADA Caimital | C26: Caimital | D26: P | E26: 227968 | F26: 374756 | G26: 178 | H26: 8 | I26: 0.95 | K26: - | L26: =O26-I26 -> 8.12 | N26: - | O26: 9.07
A27: =1+A26 -> 23 | B27: Blas Villegas | C27: Dulce Nombre | D27: E | E27: 230129 | F27: 373872 | G27: 183 | H27: - | I27: 0.51 | K27: =N27-I2 -> 8.97 | L27: - | N27: 8.97
A28: =1+A27 -> 24 | B28: Rafael Quiroz Perforado | C28: Caimitalito | D28: P | E28: 226896 | F28: 371931 | G28: 154 | H28: - | I28: 0 | J28: 32 | K28: =N28-I3 -> 10.32 | L28: - | N28: 10.32
A29: =1+A28 -> 25 | B29: Rafael Quiroz Excavado | C29: Caimitalito | D29: E | E29: 226897 | F29: 371914 | G29: 153 | H29: - | I29: 0.51 | J29: 11 | K29: =N29-I29 -> 8.15 | L29: - | N29: 8.66
A30: =1+A29 -> 26 | B30: MT-266 Asdrúbal Rojas Chávez | C30: Zompopa | D30: P | E30: 230865 | F30: 374057 | G30: 188 | H30: - | I30: 0.16 | J30: - | K30: Seco | L30: - | N30: 6.04
A31: =1+A30 -> 27 | B31: Walter Vásquez | C31: Curime | D31: E | E31: 233304 | F31: 377094 | G31: 152 | H31: - | I31: 0.47 | J31: 10 | K31: =N31-I31 -> 8.12 | L31: - | N31: 8.59
A32: =1+A31 -> 28 | B32: MT-305 María de los Ángeles Pérez Rodríguez | C32: Curime | D32: P | E32: 233542 | F32: 376630 | G32: 165 | H32: - | I32: 0.27 | J32: 54 | K32: =N32-I32 -> 17.79 | L32: - | N32: 18.06
A33: =1+A32 -> 29 | B33: Marielos (Francisco García) | C33: Hondores | D33: E | E33: 234045 | F33: 378793 | G33: 127 | H33: - | I33: 0.28 | J33: - | K33: =N33-I33 -> 6 | L33: - | N33: 6.28
A34: =1+A33 -> 30 | B34: Juan López | C34: Hondores | D34: E | E34: 233269 | F34: 379859 | G34: 133 | H34: - | I34: 0.37 | J34: - | K34: Seco | L34: - | N34: -
A35: =1+A34 -> 31 | B35: Arnoldo Fajardo | C35: Fca el Carmen | D35: E | E35: 231370 | F35: 376354 | G35: 152 | H35: - | I35: 0.6 | J35: - | K35: =N35-I35 -> 5.03 | L35: - | N35: 5.63
A36: =1+A35 -> 32 | B36: MT-217 APAN | C36: Fca el Carmen | D36: P | E36: 230325 | F36: 376380 | G36: 173 | H36: 6 | I36: 0.24 | J36: - | K36: =N36-I36 -> 11.85 | L36: - | N36: 12.09
A37: =1+A36 -> 33 | B37: MT-197 Luna y Sol 2004 S.A. | C37: Caimitalito | D37: P | E37: 227193 | F37: 373134 | G37: 167 | H37: - | J37: - | K37: - | L37: =O37-I37 -> 10.33 | O37: 10.33
A38: 34 | B38: Antonio Vargas | C38: Caimital | D38: P | E38: 227196 | F38: 374931 | G38: 174 | H38: - | I38: 0.45 | J38: - | K38: =N38-I38 -> 10.91 | L38: - | N38: 11.36
A39: 35 | B39: Costeña Proyecto 2 | C39: Caimital | D39: P | E39: 230121 | F39: 375557 | G39: 189 | H39: - | I39: 0.31 | J39: - | K39: Linea de aire obstruida | N39: Linea de aire obstruida
A40: 36 | B40: Costeña Proyecto 1 | C40: Caimital | D40: P | E40: 230506 | F40: 374383 | G40: 195 | H40: - | I40: 0.3 | J40: - | K40: =N40-I40 -> 7.53 | N40: 7.83

Sheet Junio 2014
A1: Plan de Monitoreo Acuífero Caimital
A2: Fecha: 24 de junio del 2014
N3: Datos de campo
A4: N˚ | B4: Nombre del POZO | C4: Lugar | D4: Tipo | E4: Latitud | F4: Longitud | G4: Altitud sobre nivel de Mar | H4: Diámetro armado (in) | I4: Brocal (m) | J4: Profundidad de pozo (m) | K4: Nivel estático (m) | L4: Nivel dinámico (m) | N4: Nivel estático (m) + Brocal | O4: Nivel dinámico (m) + Brocal
A5: 1 | B5: AyA Caimital 1 | C5: Caimital | D5: P | E5: 228433 | F5: 374731 | G5: 176 | H5: 8 | I5: 0.74 | K5: - | L5: =O5-I5 -> 16.1 | N5: - | O5: 16.84
A6: =1+A5 -> 2 | B6: AyA Caimital 2 | C6: Caimital | D6: P | E6: 228410 | F6: 374618 | G6: 169 | H6: 10 | I6: 0.53 | K6: - | L6: =O6-I6 -> 10.5 | N6: - | O6: 11.03
A7: =1+A6 -> 3 | B7: AyA Caimital 6 | C7: Caimital | D7: P | E7: 228332 | F7: 373697 | G7: 165 | H7: 8 | I7: 0.46 | K7: =N7-I7 -> 3.46 | L7: - | N7: 3.92 | O7: -
A8: =1+A7 -> 4 | B8: AyA Caimital 4 | C8: Caimital | D8: P | E8: 228311 | F8: 373468 | G8: 164 | H8: 10 | I8: 0.75 | K8: =N8-I8 -> 3.22 | L8: - | N8: 3.97 | O8: -
A9: =1+A8 -> 5 | B9: CJ-17 Villa Adela | C9: Dulce Nombre | D9: P | E9: 229011 | F9: 372774 | G9: 171 | H9: 10 | I9: 0.21 | K9: =N9-I9 -> 6.95 | L9: - | N9: 7.16 | O9: -
A10: =1+A9 -> 6 | B10: MT-279 José Campos Camacho | C10: Dulce Nombre | D10: P | E10: 228975 | F10: 372676 | G10: 178 | H10: 6 | I10: 0.05 | K10: =N10-I10 -> 7.09 | L10: - | N10: 7.14 | O10: -
A11: =1+A10 -> 7 | B11: AyA Caimital 3 | C11: Caimital | D11: P | E11: 228362 | F11: 374622 | G11: 176 | H11: 8 | I11: 0.63 | K11: =N11-I11 -> 6.53 | L11: - | N11: 7.16 | O11: -
A12: =1+A11 -> 8 | B12: AyA Caimital 5 | C12: Caimital | D12: P | E12: 228388 | F12: 374670 | G12: 178 | H12: 8 | I12: 0.58 | K12: =N12-I12 -> 6.08 | L12: - | N12: 6.66 | O12: -
A13: =1+A12 -> 9 | B13: Melonera | C13: Dulce Nombre | D13: P | E13: 228558 | F13: 373122 | G13: 149 | H13: - | I13: - | K13: Sin linea de aire
A14: =1+A13 -> 10 | B14: ASADA Dulce Nombre 2 | C14: Dulce Nombre | D14: P | E14: 229344 | F14: 372629 | G14: 169 | H14: 6 | I14: 0.41 | K14: =N14-I14 -> 12.59 | L14: - | N14: 13 | O14: -
A15: =1+A14 -> 11 | B15: ASADA Dulce Nombre 1 | C15: Dulce Nombre | D15: P | E15: 229365 | F15: 372649 | G15: 170 | H15: 8 | I15: 0.38 | K15: - | L15: =O15-I15 -> 21.39 | N15: - | O15: 21.77
A16: =1+A15 -> 12 | B16: Heiner Fajardo | C16: Dulce Nombre | D16: E | E16: 230039 | F16: 373297 | G16: 177 | H16: - | I16: 0.45 | K16: Seco | L16: - | N16: - | O16: -
A17: =1+A16 -> 13 | B17: Flor Fajardo | C17: Dulce Nombre | D17: E | E17: 230068 | F17: 373331 | G17: 178 | H17: - | I17: - | K17: Seco | L17: - | N17: - | O17: -
A18: =1+A17 -> 14 | B18: Casa Abandonada | C18: Dulce Nombre | D18: E | E18: 228808 | F18: 372154 | G18: 172 | H18: - | I18: 0.78 | K18: Seco | L18: - | N18: - | O18: -
A19: =1+A18 -> 15 | B19: Gavina Campos Noguera | C19: Gamalotal | D19: E | E19: 228215 | F19: 371804 | G19: 175 | H19: - | I19: 0.53 | K19: Seco | L19: - | N19: - | O19: -
A20: =1+A19 -> 16 | B20: José Fernando Oriones Zúñiga | C20: Gamalotal | D20: E | E20: 226508 | F20: 370899 | G20: 153 | H20: - | I20: 0.6 | K20: Seco | L20: - | N20: - | O20: -
A21: =1+A20 -> 17 | B21: Hilda Rodríguez Villalobos | C21: Gamalotal | D21: P | E21: 226538 | F21: 370372 | G21: 163 | H21: 6 | I21: 0 | J21: 25 | K21: =N21-I21 -> 7 | L21: - | N21: 7
A22: =1+A21 -> 18 | B22: ASADA Gamalotal | C22: Gamalotal | D22: P | E22: 227916 | F22: 371351 | G22: 184 | H22: 8 | I22: 0.31 | K22: =N22-I22 -> 16.34 | L22: - | N22: 16.65
A23: =1+A22 -> 19 | B23: Paula Pérez Carrillo | C23: Caimitalito | D23: E | E23: 227137 | F23: 372659 | G23: 175 | H23: - | I23: 0.43 | K23: =N23-I23 -> 9.08 | L23: - | N23: 9.51
A24: =1+A23 -> 20 | B24: ASADA Caimitalito | C24: Caimitalito | D24: P | E24: 227239 | F24: 372760 | G24: 178 | H24: - | I24: - | J24: 28 | K24: Sin linea de aire | N24: Sin linea de aire
A25: =1+A24 -> 21 | B25: José Mora López | C25: Caimital | D25: E | E25: 228001 | F25: 374482 | G25: 163 | H25: - | I25: 0.79 | K25: =N25-I25 -> 4.06 | L25: - | N25: 4.85
A26: =1+A25 -> 22 | B26: ASADA Caimital | C26: Caimital | D26: P | E26: 227968 | F26: 374756 | G26: 178 | H26: 8 | I26: 0.95 | K26: - | L26: =O26-I26 -> 7.07 | N26: - | O26: 8.02
A27: =1+A26 -> 23 | B27: Blas Villegas | C27: Dulce Nombre | D27: E | E27: 230129 | F27: 373872 | G27: 183 | H27: - | I27: 0.51 | K27: =N27-I2 -> 9 | L27: - | N27: 9
A28: =1+A27 -> 24 | B28: Rafael Quiroz Perforado | C28: Caimitalito | D28: P | E28: 226896 | F28: 371931 | G28: 154 | H28: - | I28: 0 | J28: 32 | K28: =N28-I3 -> 10.63 | L28: - | N28: 10.63
A29: =1+A28 -> 25 | B29: Rafael Quiroz Excavado | C29: Caimitalito | D29: E | E29: 226897 | F29: 371914 | G29: 153 | H29: - | I29: 0.51 | J29: 11 | K29: =N29-I29 -> 9.84 | L29: - | N29: 10.35
A30: =1+A29 -> 26 | B30: MT-266 Asdrúbal Rojas Chávez | C30: Zompopa | D30: P | E30: 230865 | F30: 374057 | G30: 188 | H30: - | I30: 0.16 | J30: - | K30: =N30-I30 -> 6.34 | L30: - | N30: 6.5
A31: =1+A30 -> 27 | B31: Walter Vásquez | C31: Curime | D31: E | E31: 233304 | F31: 377094 | G31: 152 | H31: - | I31: 0.47 | J31: 10 | K31: =N31-I31 -> 8.62 | L31: - | N31: 9.09
A32: =1+A31 -> 28 | B32: MT-305 María de los Ángeles Pérez Rodríguez | C32: Curime | D32: P | E32: 233542 | F32: 376630 | G32: 165 | H32: - | I32: 0.27 | J32: 54 | K32: =N32-I32 -> 18.06 | L32: - | N32: 18.33
A33: =1+A32 -> 29 | B33: Marielos (Francisco García) | C33: Hondores | D33: E | E33: 234045 | F33: 378793 | G33: 127 | H33: - | I33: 0.28 | J33: - | K33: =N33-I33 -> 6.02 | L33: - | N33: 6.3
A34: =1+A33 -> 30 | B34: Juan López | C34: Hondores | D34: E | E34: 233269 | F34: 379859 | G34: 133 | H34: - | I34: 0.37 | J34: - | K34: Seco | L34: - | N34: -
A35: =1+A34 -> 31 | B35: Arnoldo Fajardo | C35: Fca el Carmen | D35: E | E35: 231370 | F35: 376354 | G35: 152 | H35: - | I35: 0.6 | J35: - | K35: =N35-I35 -> 5.07 | L35: - | N35: 5.67
A36: =1+A35 -> 32 | B36: MT-217 APAN | C36: Fca el Carmen | D36: P | E36: 230325 | F36: 376380 | G36: 173 | H36: 6 | I36: 0.24 | J36: - | K36: =N36-I36 -> 11.86 | L36: - | N36: 12.1
A37: =1+A36 -> 33 | B37: MT-197 Luna y Sol 2004 S.A. | C37: Caimitalito | D37: P | E37: 227193 | F37: 373134 | G37: 167 | H37: - | J37: - | K37: =N37-I37 -> 9.4 | L37: - | N37: 9.4 | O37: -
A38: 34 | B38: Antonio Vargas | C38: Caimital | D38: P | E38: 227196 | F38: 374931 | G38: 174 | H38: - | I38: 0.45 | J38: - | K38: =N38-I38 -> 9.91 | L38: - | N38: 10.36
A39: 35 | B39: Costeña Proyecto 2 | C39: Caimital | D39: P | E39: 230121 | F39: 375557 | G39: 189 | H39: - | I39: 0.31 | J39: - | K39: Linea de aire obstruida | N39: Linea de aire obstruida
A40: 36 | B40: Costeña Proyecto 1 | C40: Caimital | D40: P | E40: 230506 | F40: 374383 | G40: 195 | H40: - | I40: 0.3 | J40: - | K40: =N40-I40 -> 7.6 | N40: 7.9

Sheet Julio 2014
A1: Plan de Monitoreo Acuífero Caimital
A2: Fecha: 15 de julio del 2014
N3: Datos de campo
A4: N˚ | B4: Nombre del POZO | C4: Lugar | D4: Tipo | E4: Latitud | F4: Longitud | G4: Altitud sobre nivel de Mar | H4: Diámetro armado (in) | I4: Brocal (m) | J4: Profundidad de pozo (m) | K4: Nivel estático (m) | L4: Nivel dinámico (m) | N4: Nivel estático (m) + Brocal | O4: Nivel dinámico (m) + Brocal
A5: 1 | B5: AyA Caimital 1 | C5: Caimital | D5: P | E5: 228433 | F5: 374731 | G5: 176 | H5: 8 | I5: 0.74 | K5: =N5-I5 -> 6.74 | L5: - | N5: 7.48 | O5: -
A6: =1+A5 -> 2 | B6: AyA Caimital 2 | C6: Caimital | D6: P | E6: 228410 | F6: 374618 | G6: 169 | H6: 10 | I6: 0.53 | K6: - | L6: =O6-I6 -> 13.91 | N6: - | O6: 14.44
A7: =1+A6 -> 3 | B7: AyA Caimital 6 | C7: Caimital | D7: P | E7: 228332 | F7: 373697 | G7: 165 | H7: 8 | I7: 0.46 | K7: =N7-I7 -> 3.36 | L7: - | N7: 3.82 | O7: -
A8: =1+A7 -> 4 | B8: AyA Caimital 4 | C8: Caimital | D8: P | E8: 228311 | F8: 373468 | G8: 164 | H8: 10 | I8: 0.75 | K8: - | L8: - | N8: - | O8: 8.79
A9: =1+A8 -> 5 | B9: CJ-17 Villa Adela | C9: Dulce Nombre | D9: P | E9: 229011 | F9: 372774 | G9: 171 | H9: 10 | I9: 0.21 | K9: - | L9: - | N9: - | O9: 7.59
A10: =1+A9 -> 6 | B10: MT-279 José Campos Camacho | C10: Dulce Nombre | D10: P | E10: 228975 | F10: 372676 | G10: 178 | H10: 6 | I10: 0.05 | K10: =N10-I10 -> 7.15 | L10: - | N10: 7.2 | O10: -
A11: =1+A10 -> 7 | B11: AyA Caimital 3 | C11: Caimital | D11: P | E11: 228362 | F11: 374622 | G11: 176 | H11: 8 | I11: 0.63 | K11: =N11-I11 -> 6.58 | L11: - | N11: 7.21 | O11: -
A12: =1+A11 -> 8 | B12: AyA Caimital 5 | C12: Caimital | D12: P | E12: 228388 | F12: 374670 | G12: 178 | H12: 8 | I12: 0.58 | K12: =N12-I12 -> 6.35 | L12: - | N12: 6.93 | O12: -
A13: =1+A12 -> 9 | B13: Melonera | C13: Dulce Nombre | D13: P | E13: 228558 | F13: 373122 | G13: 149 | H13: - | I13: - | K13: Sin linea de aire
A14: =1+A13 -> 10 | B14: ASADA Dulce Nombre 2 | C14: Dulce Nombre | D14: P | E14: 229344 | F14: 372629 | G14: 169 | H14: 6 | I14: 0.41 | K14: =N14-I14 -> 12.87 | L14: - | N14: 13.28 | O14: -
A15: =1+A14 -> 11 | B15: ASADA Dulce Nombre 1 | C15: Dulce Nombre | D15: P | E15: 229365 | F15: 372649 | G15: 170 | H15: 8 | I15: 0.38 | K15: - | L15: =O15-I15 -> 28.3 | N15: - | O15: 28.68
A16: =1+A15 -> 12 | B16: Heiner Fajardo | C16: Dulce Nombre | D16: E | E16: 230039 | F16: 373297 | G16: 177 | H16: - | I16: 0.45 | K16: Seco | L16: - | N16: - | O16: -
A17: =1+A16 -> 13 | B17: Flor Fajardo | C17: Dulce Nombre | D17: E | E17: 230068 | F17: 373331 | G17: 178 | H17: - | I17: - | K17: Seco | L17: - | N17: - | O17: -
A18: =1+A17 -> 14 | B18: Casa Abandonada | C18: Dulce Nombre | D18: E | E18: 228808 | F18: 372154 | G18: 172 | H18: - | I18: 0.78 | K18: Seco | L18: - | N18: - | O18: -
A19: =1+A18 -> 15 | B19: Gavina Campos Noguera | C19: Gamalotal | D19: E | E19: 228215 | F19: 371804 | G19: 175 | H19: - | I19: 0.53 | K19: Seco | L19: - | N19: - | O19: -
A20: =1+A19 -> 16 | B20: José Fernando Oriones Zúñiga | C20: Gamalotal | D20: E | E20: 226508 | F20: 370899 | G20: 153 | H20: - | I20: 0.6 | K20: Seco | L20: - | N20: - | O20: -
A21: =1+A20 -> 17 | B21: Hilda Rodríguez Villalobos | C21: Gamalotal | D21: P | E21: 226538 | F21: 370372 | G21: 163 | H21: 6 | I21: 0 | J21: 25 | K21: =N21-I21 -> 7.1 | L21: - | N21: 7.1
A22: =1+A21 -> 18 | B22: ASADA Gamalotal | C22: Gamalotal | D22: P | E22: 227916 | F22: 371351 | G22: 184 | H22: 8 | I22: 0.31 | K22: =N22-I22 -> 16.62 | L22: - | N22: 16.93
A23: =1+A22 -> 19 | B23: Paula Pérez Carrillo | C23: Caimitalito | D23: E | E23: 227137 | F23: 372659 | G23: 175 | H23: - | I23: 0.43 | K23: =N23-I23 -> 9.48 | L23: - | N23: 9.91
A24: =1+A23 -> 20 | B24: ASADA Caimitalito | C24: Caimitalito | D24: P | E24: 227239 | F24: 372760 | G24: 178 | H24: - | I24: - | J24: 28 | K24: Sin linea de aire | N24: Sin linea de aire
A25: =1+A24 -> 21 | B25: José Mora López | C25: Caimital | D25: E | E25: 228001 | F25: 374482 | G25: 163 | H25: - | I25: 0.79 | K25: =N25-I25 -> 4.56 | L25: - | N25: 5.35 | O25: -
A26: =1+A25 -> 22 | B26: ASADA Caimital | C26: Caimital | D26: P | E26: 227968 | F26: 374756 | G26: 178 | H26: 8 | I26: 0.95 | K26: - | L26: =O26-I26 -> 8.12 | N26: - | O26: 9.07
A27: =1+A26 -> 23 | B27: Blas Villegas | C27: Dulce Nombre | D27: E | E27: 230129 | F27: 373872 | G27: 183 | H27: - | I27: 0.51 | K27: =N27-I2 -> 9.2 | L27: - | N27: 9.2 | O27: -
A28: =1+A27 -> 24 | B28: Rafael Quiroz Perforado | C28: Caimitalito | D28: P | E28: 226896 | F28: 371931 | G28: 154 | H28: - | I28: 0 | J28: 32 | K28: =N28-I3 -> 10.57 | L28: - | N28: 10.57 | O28: -
A29: =1+A28 -> 25 | B29: Rafael Quiroz Excavado | C29: Caimitalito | D29: E | E29: 226897 | F29: 371914 | G29: 153 | H29: - | I29: 0.51 | J29: 11 | K29: =N29-I29 -> 10.06 | L29: - | N29: 10.57 | O29: -
A30: =1+A29 -> 26 | B30: MT-266 Asdrúbal Rojas Chávez | C30: Zompopa | D30: P | E30: 230865 | F30: 374057 | G30: 188 | H30: - | I30: 0.16 | J30: - | K30: =N30-I30 -> 6.86 | L30: - | N30: 7.02 | O30: -
A31: =1+A30 -> 27 | B31: Walter Vásquez | C31: Curime | D31: E | E31: 233304 | F31: 377094 | G31: 152 | H31: - | I31: 0.47 | J31: 10 | K31: =N31-I31 -> 8.56 | L31: - | N31: 9.03 | O31: -
A32: =1+A31 -> 28 | B32: MT-305 María de los Ángeles Pérez Rodríguez | C32: Curime | D32: P | E32: 233542 | F32: 376630 | G32: 165 | H32: - | I32: 0.27 | J32: 54 | K32: =N32-I32 -> 18.31 | L32: - | N32: 18.58 | O32: -
A33: =1+A32 -> 29 | B33: Marielos (Francisco García) | C33: Hondores | D33: E | E33: 234045 | F33: 378793 | G33: 127 | H33: - | I33: 0.28 | J33: - | K33: Seco | L33: - | N33: - | O33: -
A34: =1+A33 -> 30 | B34: Juan López | C34: Hondores | D34: E | E34: 233269 | F34: 379859 | G34: 133 | H34: - | I34: 0.37 | J34: - | K34: Seco | L34: - | N34: - | O34: -
A35: =1+A34 -> 31 | B35: Arnoldo Fajardo | C35: Fca el Carmen | D35: E | E35: 231370 | F35: 376354 | G35: 152 | H35: - | I35: 0.6 | J35: - | K35: =N35-I35 -> 5.07 | L35: - | N35: 5.67 | O35: -
A36: =1+A35 -> 32 | B36: MT-217 APAN | C36: Fca el Carmen | D36: P | E36: 230325 | F36: 376380 | G36: 173 | H36: 6 | I36: 0.24 | J36: - | K36: =N36-I36 -> 12.06 | L36: - | N36: 12.3 | O36: -
A37: =1+A36 -> 33 | B37: MT-197 Luna y Sol 2004 S.A. | C37: Caimitalito | D37: P | E37: 227193 | F37: 373134 | G37: 167 | H37: - | J37: - | K37: - | L37: =O37-I37 -> 9.41 | N37: - | O37: 9.41
A38: 34 | B38: Antonio Vargas | C38: Caimital | D38: P | E38: 227196 | F38: 374931 | G38: 174 | H38: - | I38: 0.45 | J38: - | K38: =N38-I38 -> 22.84 | L38: - | N38: 23.29 | O38: -
A39: 35 | B39: Costeña Proyecto 2 | C39: Caimital | D39: P | E39: 230121 | F39: 375557 | G39: 189 | H39: - | I39: 0.31 | J39: - | K39: Linea de aire obstruida | N39: Linea de aire obstruida
A40: 36 | B40: Costeña Proyecto 1 | C40: Caimital | D40: P | E40: 230506 | F40: 374383 | G40: 195 | H40: - | I40: 0.3 | J40: - | K40: =N40-I40 -> 7.78 | N40: 8.08

Sheet Agosto 2014
A1: Plan de Monitoreo Acuífero Caimital
A2: Fecha: 26 de agosto del 2014
N3: Datos de campo
A4: N˚ | B4: Nombre del POZO | C4: Lugar | D4: Tipo | E4: Latitud | F4: Longitud | G4: Altitud sobre nivel de Mar | H4: Diámetro armado (in) | I4: Brocal (m) | J4: Profundidad de pozo (m) | K4: Nivel estático (m) | L4: Nivel dinámico (m) | N4: Nivel estático (m) + Brocal | O4: Nivel dinámico (m) + Brocal
A5: 1 | B5: AyA Caimital 1 | C5: Caimital | D5: P | E5: 228433 | F5: 374731 | G5: 176 | H5: 8 | I5: 0.74 | K5: - | L5: =O5-I5 -> 16.22 | N5: - | O5: 16.96
A6: =1+A5 -> 2 | B6: AyA Caimital 2 | C6: Caimital | D6: P | E6: 228410 | F6: 374618 | G6: 169 | H6: 10 | I6: 0.53 | K6: - | L6: =O6-I6 -> 14.89 | N6: - | O6: 15.42
A7: =1+A6 -> 3 | B7: AyA Caimital 6 | C7: Caimital | D7: P | E7: 228332 | F7: 373697 | G7: 165 | H7: 8 | I7: 0.46 | K7: =N7-I7 -> 3.34 | L7: - | N7: 3.8 | O7: -
A8: =1+A7 -> 4 | B8: AyA Caimital 4 | C8: Caimital | D8: P | E8: 228311 | F8: 373468 | G8: 164 | H8: 10 | I8: 0.75 | K8: - | L8: =O8-I8 -> 9.29 | N8: - | O8: 10.04
A9: =1+A8 -> 5 | B9: CJ-17 Villa Adela | C9: Dulce Nombre | D9: P | E9: 229011 | F9: 372774 | G9: 171 | H9: 10 | I9: 0.21 | K9: - | L9: - | N9: 7.5 | O9: -
A10: =1+A9 -> 6 | B10: MT-279 José Campos Camacho | C10: Dulce Nombre | D10: P | E10: 228975 | F10: 372676 | G10: 178 | H10: 6 | I10: 0.05 | K10: =N10-I10 -> 7.49 | L10: - | N10: 7.54 | O10: -
A11: =1+A10 -> 7 | B11: AyA Caimital 3 | C11: Caimital | D11: P | E11: 228362 | F11: 374622 | G11: 176 | H11: 8 | I11: 0.63 | K11: =N11-I11 -> 5.53 | L11: - | N11: 6.16 | O11: -
A12: =1+A11 -> 8 | B12: AyA Caimital 5 | C12: Caimital | D12: P | E12: 228388 | F12: 374670 | G12: 178 | H12: 8 | I12: 0.58 | K12: =N12-I12 -> 6.26 | L12: - | N12: 6.84 | O12: -
A13: =1+A12 -> 9 | B13: Melonera | C13: Dulce Nombre | D13: P | E13: 228558 | F13: 373122 | G13: 149 | H13: - | I13: - | K13: Sin linea de aire
A14: =1+A13 -> 10 | B14: ASADA Dulce Nombre 2 | C14: Dulce Nombre | D14: P | E14: 229344 | F14: 372629 | G14: 169 | H14: 6 | I14: 0.41 | K14: =N14-I14 -> 13.53 | L14: - | N14: 13.94 | O14: -
A15: =1+A14 -> 11 | B15: ASADA Dulce Nombre 1 | C15: Dulce Nombre | D15: P | E15: 229365 | F15: 372649 | G15: 170 | H15: 8 | I15: 0.38 | K15: - | L15: =O15-I15 -> 20.92 | N15: - | O15: 21.3
A16: =1+A15 -> 12 | B16: Heiner Fajardo | C16: Dulce Nombre | D16: E | E16: 230039 | F16: 373297 | G16: 177 | H16: - | I16: 0.45 | K16: Seco | L16: - | N16: - | O16: -
A17: =1+A16 -> 13 | B17: Flor Fajardo | C17: Dulce Nombre | D17: E | E17: 230068 | F17: 373331 | G17: 178 | H17: - | I17: - | K17: Seco | L17: - | N17: - | O17: -
A18: =1+A17 -> 14 | B18: Casa Abandonada | C18: Dulce Nombre | D18: E | E18: 228808 | F18: 372154 | G18: 172 | H18: - | I18: 0.78 | K18: Seco | L18: - | N18: - | O18: -
A19: =1+A18 -> 15 | B19: Gavina Campos Noguera | C19: Gamalotal | D19: E | E19: 228215 | F19: 371804 | G19: 175 | H19: - | I19: 0.53 | K19: Seco | L19: - | N19: - | O19: -
A20: =1+A19 -> 16 | B20: José Fernando Oriones Zúñiga | C20: Gamalotal | D20: E | E20: 226508 | F20: 370899 | G20: 153 | H20: - | I20: 0.6 | K20: Seco | L20: - | N20: - | O20: -
A21: =1+A20 -> 17 | B21: Hilda Rodríguez Villalobos | C21: Gamalotal | D21: P | E21: 226538 | F21: 370372 | G21: 163 | H21: 6 | I21: 0 | J21: 25 | K21: =N21-I21 -> 7.5 | L21: - | N21: 7.5
A22: =1+A21 -> 18 | B22: ASADA Gamalotal | C22: Gamalotal | D22: P | E22: 227916 | F22: 371351 | G22: 184 | H22: 8 | I22: 0.31 | K22: =N22-I22 -> 17.12 | L22: - | N22: 17.43
A23: =1+A22 -> 19 | B23: Paula Pérez Carrillo | C23: Caimitalito | D23: E | E23: 227137 | F23: 372659 | G23: 175 | H23: - | I23: 0.43 | K23: =N23-I23 -> 9.09 | L23: - | N23: 9.52
A24: =1+A23 -> 20 | B24: ASADA Caimitalito | C24: Caimitalito | D24: P | E24: 227239 | F24: 372760 | G24: 178 | H24: - | I24: - | J24: 28 | K24: Sin linea de aire | N24: Sin linea de aire
A25: =1+A24 -> 21 | B25: José Mora López | C25: Caimital | D25: E | E25: 228001 | F25: 374482 | G25: 163 | H25: - | I25: 0.79 | K25: =N25-I25 -> 4.21 | L25: - | N25: 5 | O25: -
A26: =1+A25 -> 22 | B26: ASADA Caimital | C26: Caimital | D26: P | E26: 227968 | F26: 374756 | G26: 178 | H26: 8 | I26: 0.95 | K26: - | L26: =O26-I26 -> 5.05 | N26: - | O26: 6
A27: =1+A26 -> 23 | B27: Blas Villegas | C27: Dulce Nombre | D27: E | E27: 230129 | F27: 373872 | G27: 183 | H27: - | I27: 0.51 | K27: =N27-I2 -> 9.65 | L27: - | N27: 9.65 | O27: -
A28: =1+A27 -> 24 | B28: Rafael Quiroz Perforado | C28: Caimitalito | D28: P | E28: 226896 | F28: 371931 | G28: 154 | H28: - | I28: 0 | J28: 32 | K28: =N28-I3 -> 10.67 | L28: - | N28: 10.67 | O28: -
A29: =1+A28 -> 25 | B29: Rafael Quiroz Excavado | C29: Caimitalito | D29: E | E29: 226897 | F29: 371914 | G29: 153 | H29: - | I29: 0.51 | J29: 11 | K29: =N29-I29 -> 9.93 | L29: - | N29: 10.44 | O29: -
A30: =1+A29 -> 26 | B30: MT-266 Asdrúbal Rojas Chávez | C30: Zompopa | D30: P | E30: 230865 | F30: 374057 | G30: 188 | H30: - | I30: 0.16 | J30: - | K30: =N30-I30 -> 7.88 | L30: - | N30: 8.04 | O30: -
A31: =1+A30 -> 27 | B31: Walter Vásquez | C31: Curime | D31: E | E31: 233304 | F31: 377094 | G31: 152 | H31: - | I31: 0.47 | J31: 10 | K31: =N31-I31 -> 8.95 | L31: - | N31: 9.42 | O31: -
A32: =1+A31 -> 28 | B32: MT-305 María de los Ángeles Pérez Rodríguez | C32: Curime | D32: P | E32: 233542 | F32: 376630 | G32: 165 | H32: - | I32: 0.27 | J32: 54 | K32: =N32-I32 -> 18.63 | L32: - | N32: 18.9 | O32: -
A33: =1+A32 -> 29 | B33: Marielos (Francisco García) | C33: Hondores | D33: E | E33: 234045 | F33: 378793 | G33: 127 | H33: - | I33: 0.28 | J33: - | K33: =N33-I33 -> 4.64 | L33: - | N33: 4.92 | O33: -
A34: =1+A33 -> 30 | B34: Juan López | C34: Hondores | D34: E | E34: 233269 | F34: 379859 | G34: 133 | H34: - | I34: 0.37 | J34: - | K34: Seco | L34: - | N34: - | O34: -
A35: =1+A34 -> 31 | B35: Arnoldo Fajardo | C35: Fca el Carmen | D35: E | E35: 231370 | F35: 376354 | G35: 152 | H35: - | I35: 0.6 | J35: - | K35: =N35-I35 -> 5.09 | L35: - | N35: 5.69 | O35: -
A36: =1+A35 -> 32 | B36: MT-217 APAN | C36: Fca el Carmen | D36: P | E36: 230325 | F36: 376380 | G36: 173 | H36: 6 | I36: 0.24 | J36: - | K36: =N36-I36 -> 12.01 | L36: - | N36: 12.25 | O36: -
A37: =1+A36 -> 33 | B37: MT-197 Luna y Sol 2004 S.A. | C37: Caimitalito | D37: P | E37: 227193 | F37: 373134 | G37: 167 | H37: - | J37: - | K37: =N37-I37 -> 10.2 | L37: - | N37: 10.2 | O37: -
A38: 34 | B38: Antonio Vargas | C38: Caimital | D38: P | E38: 227196 | F38: 374931 | G38: 174 | H38: - | I38: 0.45 | J38: - | K38: =N38-I38 -> 11.01 | L38: - | N38: 11.46 | O38: -
A39: 35 | B39: Costeña Proyecto 2 | C39: Caimital | D39: P | E39: 230121 | F39: 375557 | G39: 189 | H39: - | I39: 0.31 | J39: - | K39: Linea de aire obstruida | N39: Linea de aire obstruida
A40: 36 | B40: Costeña Proyecto 1 | C40: Caimital | D40: P | E40: 230506 | F40: 374383 | G40: 195 | H40: - | I40: 0.3 | J40: - | K40: =N40-I40 -> 8.22 | N40: 8.52
A41: 37 | B41: Casa Abandonada perforado | C41: Caimital | D41: P | H41: - | I41: 0 | J41: - | K41: =N41-I41 -> 14.05 | N41: 14.05

Sheet Setiembre 2014
A1: Plan de Monitoreo Acuífero Caimital
A2: Fecha: 30 de setiembre del 2014
N3: Datos de campo
A4: N˚ | B4: Nombre del POZO | C4: Lugar | D4: Tipo | E4: Latitud | F4: Longitud | G4: Altitud sobre nivel de Mar | H4: Diámetro armado (in) | I4: Brocal (m) | J4: Profundidad de pozo (m) | K4: Nivel estático (m) | L4: Nivel dinámico (m) | N4: Nivel estático (m) + Brocal | O4: Nivel dinámico (m) + Brocal
A5: 1 | B5: AyA Caimital 1 | C5: Caimital | D5: P | E5: 228433 | F5: 374731 | G5: 176 | H5: 8 | I5: 0.74 | K5: - | L5: =O5-I5 -> 13.02 | N5: - | O5: 13.76
A6: =1+A5 -> 2 | B6: AyA Caimital 2 | C6: Caimital | D6: P | E6: 228410 | F6: 374618 | G6: 169 | H6: 10 | I6: 0.53 | K6: - | L6: =O6-I6 -> 10.28 | N6: - | O6: 10.81
A7: =1+A6 -> 3 | B7: AyA Caimital 6 | C7: Caimital | D7: P | E7: 228332 | F7: 373697 | G7: 165 | H7: 8 | I7: 0.46 | K7: =N7-I7 -> 1.91 | L7: - | N7: 2.37 | O7: -
A8: =1+A7 -> 4 | B8: AyA Caimital 4 | C8: Caimital | D8: P | E8: 228311 | F8: 373468 | G8: 164 | H8: 10 | I8: 0.75 | K8: - | L8: =O8-I8 -> 8.32 | N8: - | O8: 9.07
A9: =1+A8 -> 5 | B9: CJ-17 Villa Adela | C9: Dulce Nombre | D9: P | E9: 229011 | F9: 372774 | G9: 171 | H9: 10 | I9: 0.21 | K9: - | L9: - | N9: 5.69 | O9: -
A10: =1+A9 -> 6 | B10: MT-279 José Campos Camacho | C10: Dulce Nombre | D10: P | E10: 228975 | F10: 372676 | G10: 178 | H10: 6 | I10: 0.05 | K10: =N10-I10 -> 5.62 | L10: - | N10: 5.67 | O10: -
A11: =1+A10 -> 7 | B11: AyA Caimital 3 | C11: Caimital | D11: P | E11: 228362 | F11: 374622 | G11: 176 | H11: 8 | I11: 0.63 | K11: =N11-I11 -> 3.25 | L11: - | N11: 3.88 | O11: -
A12: =1+A11 -> 8 | B12: AyA Caimital 5 | C12: Caimital | D12: P | E12: 228388 | F12: 374670 | G12: 178 | H12: 8 | I12: 0.58 | K12: =N12-I12 -> 3.82 | L12: - | N12: 4.4 | O12: -
A13: =1+A12 -> 9 | B13: Melonera | C13: Dulce Nombre | D13: P | E13: 228558 | F13: 373122 | G13: 149 | H13: - | I13: - | K13: Sin linea de aire
A14: =1+A13 -> 10 | B14: ASADA Dulce Nombre 2 | C14: Dulce Nombre | D14: P | E14: 229344 | F14: 372629 | G14: 169 | H14: 6 | I14: 0.41 | K14: =N14-I14 -> 12 | L14: - | N14: 12.41 | O14: -
A15: =1+A14 -> 11 | B15: ASADA Dulce Nombre 1 | C15: Dulce Nombre | D15: P | E15: 229365 | F15: 372649 | G15: 170 | H15: 8 | I15: 0.38 | K15: - | L15: =O15-I15 -> 20.57 | N15: - | O15: 20.95
A16: =1+A15 -> 12 | B16: Heiner Fajardo | C16: Dulce Nombre | D16: E | E16: 230039 | F16: 373297 | G16: 177 | H16: - | I16: 0.45 | K16: Seco | L16: - | N16: - | O16: -
A17: =1+A16 -> 13 | B17: Flor Fajardo | C17: Dulce Nombre | D17: E | E17: 230068 | F17: 373331 | G17: 178 | H17: - | I17: - | K17: Seco | L17: - | N17: - | O17: -
A18: =1+A17 -> 14 | B18: Casa Abandonada | C18: Dulce Nombre | D18: E | E18: 228808 | F18: 372154 | G18: 172 | H18: - | I18: 0.78 | K18: Seco | L18: - | N18: - | O18: -
A19: =1+A18 -> 15 | B19: Gavina Campos Noguera | C19: Gamalotal | D19: E | E19: 228215 | F19: 371804 | G19: 175 | H19: - | I19: 0.53 | K19: Seco | L19: - | N19: - | O19: -
A20: =1+A19 -> 16 | B20: José Fernando Oriones Zúñiga | C20: Gamalotal | D20: E | E20: 226508 | F20: 370899 | G20: 153 | H20: - | I20: 0.6 | K20: =N20-I20 -> 14.43 | L20: - | N20: 15.03 | O20: -
A21: =1+A20 -> 17 | B21: Hilda Rodríguez Villalobos | C21: Gamalotal | D21: P | E21: 226538 | F21: 370372 | G21: 163 | H21: 6 | I21: 0 | J21: 25 | K21: =N21-I21 -> 5.41 | L21: - | N21: 5.41 | O21: -
A22: =1+A21 -> 18 | B22: ASADA Gamalotal | C22: Gamalotal | D22: P | E22: 227916 | F22: 371351 | G22: 184 | H22: 8 | I22: 0.31 | K22: =N22-I22 -> 15.99 | L22: - | N22: 16.3 | O22: -
A23: =1+A22 -> 19 | B23: Paula Pérez Carrillo | C23: Caimitalito | D23: E | E23: 227137 | F23: 372659 | G23: 175 | H23: - | I23: 0.43 | K23: =N23-I23 -> 5.57 | L23: - | N23: 6 | O23: -
A24: =1+A23 -> 20 | B24: ASADA Caimitalito | C24: Caimitalito | D24: P | E24: 227239 | F24: 372760 | G24: 178 | H24: - | I24: - | J24: 28 | K24: Sin linea de aire | N24: Sin linea de aire
A25: =1+A24 -> 21 | B25: José Mora López | C25: Caimital | D25: E | E25: 228001 | F25: 374482 | G25: 163 | H25: - | I25: 0.79 | K25: =N25-I25 -> 2.06 | L25: - | N25: 2.85 | O25: -
A26: =1+A25 -> 22 | B26: ASADA Caimital | C26: Caimital | D26: P | E26: 227968 | F26: 374756 | G26: 178 | H26: 8 | I26: 0.95 | K26: - | L26: =O26-I26 -> 5.41 | N26: - | O26: 6.36
A27: =1+A26 -> 23 | B27: Blas Villegas | C27: Dulce Nombre | D27: E | E27: 230129 | F27: 373872 | G27: 183 | H27: - | I27: 0.51 | K27: =N27-I2 -> 6.52 | L27: - | N27: 6.52 | O27: -
A28: =1+A27 -> 24 | B28: Rafael Quiroz Perforado | C28: Caimitalito | D28: P | E28: 226896 | F28: 371931 | G28: 154 | H28: - | I28: 0 | J28: 32 | K28: =N28-I3 -> 6.4 | L28: - | N28: 6.4 | O28: -
A29: =1+A28 -> 25 | B29: Rafael Quiroz Excavado | C29: Caimitalito | D29: E | E29: 226897 | F29: 371914 | G29: 153 | H29: - | I29: 0.51 | J29: 11 | K29: =N29-I29 -> 5.41 | L29: - | N29: 5.92 | O29: -
A30: =1+A29 -> 26 | B30: MT-266 Asdrúbal Rojas Chávez | C30: Zompopa | D30: P | E30: 230865 | F30: 374057 | G30: 188 | H30: - | I30: 0.16 | J30: - | K30: =N30-I30 -> 6.63 | L30: - | N30: 6.79 | O30: -
A31: =1+A30 -> 27 | B31: Walter Vásquez | C31: Curime | D31: E | E31: 233304 | F31: 377094 | G31: 152 | H31: - | I31: 0.47 | J31: 10 | K31: =N31-I31 -> 6.45 | L31: - | N31: 6.92 | O31: -
A32: =1+A31 -> 28 | B32: MT-305 María de los Ángeles Pérez Rodríguez | C32: Curime | D32: P | E32: 233542 | F32: 376630 | G32: 165 | H32: - | I32: 0.27 | J32: 54 | K32: =N32-I32 -> 16.68 | L32: - | N32: 16.95 | O32: -
A33: =1+A32 -> 29 | B33: Marielos (Francisco García) | C33: Hondores | D33: E | E33: 234045 | F33: 378793 | G33: 127 | H33: - | I33: 0.28 | J33: - | K33: =N33-I33 -> 1.58 | L33: - | N33: 1.86 | O33: -
A34: =1+A33 -> 30 | B34: Juan López | C34: Hondores | D34: E | E34: 233269 | F34: 379859 | G34: 133 | H34: - | I34: 0.37 | J34: - | K34: Seco | L34: - | N34: 6.06 | O34: -
A35: =1+A34 -> 31 | B35: Arnoldo Fajardo | C35: Fca el Carmen | D35: E | E35: 231370 | F35: 376354 | G35: 152 | H35: - | I35: 0.6 | J35: - | K35: =N35-I35 -> 3.93 | L35: - | N35: 4.53 | O35: -
A36: =1+A35 -> 32 | B36: MT-217 APAN | C36: Fca el Carmen | D36: P | E36: 230325 | F36: 376380 | G36: 173 | H36: 6 | I36: 0.24 | J36: - | K36: =N36-I36 -> 10.22 | L36: - | N36: 10.46 | O36: -
A37: =1+A36 -> 33 | B37: MT-197 Luna y Sol 2004 S.A. | C37: Caimitalito | D37: P | E37: 227193 | F37: 373134 | G37: 167 | H37: - | J37: - | K37: =N37-I37 -> 5.84 | L37: - | N37: 5.84 | O37: -
A38: 34 | B38: Antonio Vargas | C38: Caimital | D38: P | E38: 227196 | F38: 374931 | G38: 174 | H38: - | I38: 0.45 | J38: - | K38: =N38-I38 -> 7.75 | L38: - | N38: 8.2 | O38: -
A39: 35 | B39: Costeña Proyecto 2 | C39: Caimital | D39: P | E39: 230121 | F39: 375557 | G39: 189 | H39: - | I39: 0.31 | J39: - | K39: Linea de aire obstruida | N39: Linea de aire obstruida
A40: 36 | B40: Costeña Proyecto 1 | C40: Caimital | D40: P | E40: 230506 | F40: 374383 | G40: 195 | H40: - | I40: 0.3 | J40: - | K40: =N40-I40 -> 6.46 | L40: - | N40: 6.76 | O40: -
A41: 37 | B41: Casa Abandonada perforado | C41: Caimital | D41: P | H41: - | I41: 0 | J41: - | K41: =N41-I41 -> 12.89 | L41: - | N41: 12.89 | O41: -

Sheet Octubre 2014
A1: Plan de Monitoreo Acuífero Caimital
A2: Fecha: 21 de octubre del 2014
N3: Datos de campo
A4: N˚ | B4: Nombre del POZO | C4: Lugar | D4: Tipo | E4: Latitud | F4: Longitud | G4: Altitud sobre nivel de Mar | H4: Diámetro armado (in) | I4: Brocal (m) | J4: Profundidad de pozo (m) | K4: Nivel estático (m) | L4: Nivel dinámico (m) | N4: Nivel estático (m) + Brocal | O4: Nivel dinámico (m) + Brocal
A5: 1 | B5: AyA Caimital 1 | C5: Caimital | D5: P | E5: 228433 | F5: 374731 | G5: 176 | H5: 8 | I5: 0.74 | K5: - | L5: =O5-I5 -> 10.13 | N5: - | O5: 10.87
A6: =1+A5 -> 2 | B6: AyA Caimital 2 | C6: Caimital | D6: P | E6: 228410 | F6: 374618 | G6: 169 | H6: 10 | I6: 0.53 | K6: - | L6: =O6-I6 -> 14.07 | N6: - | O6: 14.6
A7: =1+A6 -> 3 | B7: AyA Caimital 6 | C7: Caimital | D7: P | E7: 228332 | F7: 373697 | G7: 165 | H7: 8 | I7: 0.46 | K7: =N7-I7 -> 2.68 | L7: - | N7: 3.14 | O7: -
A8: =1+A7 -> 4 | B8: AyA Caimital 4 | C8: Caimital | D8: P | E8: 228311 | F8: 373468 | G8: 164 | H8: 10 | I8: 0.75 | K8: - | L8: =O8-I8 -> 9.01 | N8: - | O8: 9.76
A9: =1+A8 -> 5 | B9: CJ-17 Villa Adela | C9: Dulce Nombre | D9: P | E9: 229011 | F9: 372774 | G9: 171 | H9: 10 | I9: 0.21 | K9: - | L9: - | N9: 4.35 | O9: -
A10: =1+A9 -> 6 | B10: MT-279 José Campos Camacho | C10: Dulce Nombre | D10: P | E10: 228975 | F10: 372676 | G10: 178 | H10: 6 | I10: 0.05 | K10: =N10-I10 -> 3.9 | L10: - | N10: 3.95 | O10: -
A11: =1+A10 -> 7 | B11: AyA Caimital 3 | C11: Caimital | D11: P | E11: 228362 | F11: 374622 | G11: 176 | H11: 8 | I11: 0.63 | K11: =N11-I11 -> 3.41 | L11: - | N11: 4.04 | O11: -
A12: =1+A11 -> 8 | B12: AyA Caimital 5 | C12: Caimital | D12: P | E12: 228388 | F12: 374670 | G12: 178 | H12: 8 | I12: 0.58 | K12: =N12-I12 -> 3.64 | L12: - | N12: 4.22 | O12: -
A13: =1+A12 -> 9 | B13: Melonera | C13: Dulce Nombre | D13: P | E13: 228558 | F13: 373122 | G13: 149 | H13: - | I13: - | K13: Sin linea de aire
A14: =1+A13 -> 10 | B14: ASADA Dulce Nombre 2 | C14: Dulce Nombre | D14: P | E14: 229344 | F14: 372629 | G14: 169 | H14: 6 | I14: 0.41 | K14: =N14-I14 -> 11.53 | L14: - | N14: 11.94 | O14: -
A15: =1+A14 -> 11 | B15: ASADA Dulce Nombre 1 | C15: Dulce Nombre | D15: P | E15: 229365 | F15: 372649 | G15: 170 | H15: 8 | I15: 0.38 | K15: - | L15: =O15-I15 -> 11.95 | N15: - | O15: 12.33
A16: =1+A15 -> 12 | B16: Heiner Fajardo | C16: Dulce Nombre | D16: E | E16: 230039 | F16: 373297 | G16: 177 | H16: - | I16: 0.45 | K16: =N16-I16 -> 10.37 | L16: - | N16: 10.82 | O16: -
A17: =1+A16 -> 13 | B17: Flor Fajardo | C17: Dulce Nombre | D17: E | E17: 230068 | F17: 373331 | G17: 178 | H17: - | I17: - | K17: Seco | L17: - | N17: - | O17: -
A18: =1+A17 -> 14 | B18: Casa Abandonada | C18: Dulce Nombre | D18: E | E18: 228808 | F18: 372154 | G18: 172 | H18: - | I18: 0.78 | K18: =N18-I18 -> 10.92 | L18: - | N18: 11.7 | O18: -
A19: =1+A18 -> 15 | B19: Gavina Campos Noguera | C19: Gamalotal | D19: E | E19: 228215 | F19: 371804 | G19: 175 | H19: - | I19: 0.53 | K19: =N19-I19 -> 12.75 | L19: - | N19: 13.28 | O19: -
A20: =1+A19 -> 16 | B20: José Fernando Oriones Zúñiga | C20: Gamalotal | D20: E | E20: 226508 | F20: 370899 | G20: 153 | H20: - | I20: 0.6 | K20: =N20-I20 -> 13.75 | L20: - | N20: 14.35 | O20: -
A21: =1+A20 -> 17 | B21: Hilda Rodríguez Villalobos | C21: Gamalotal | D21: P | E21: 226538 | F21: 370372 | G21: 163 | H21: 6 | I21: 0 | J21: 25 | K21: =N21-I21 -> 4.12 | L21: - | N21: 4.12 | O21: -
A22: =1+A21 -> 18 | B22: ASADA Gamalotal | C22: Gamalotal | D22: P | E22: 227916 | F22: 371351 | G22: 184 | H22: 8 | I22: 0.31 | K22: =N22-I22 -> 14.55 | L22: - | N22: 14.86 | O22: -
A23: =1+A22 -> 19 | B23: Paula Pérez Carrillo | C23: Caimitalito | D23: E | E23: 227137 | F23: 372659 | G23: 175 | H23: - | I23: 0.43 | K23: =N23-I23 -> 4.72 | L23: - | N23: 5.15 | O23: -
A24: =1+A23 -> 20 | B24: ASADA Caimitalito | C24: Caimitalito | D24: P | E24: 227239 | F24: 372760 | G24: 178 | H24: - | I24: - | J24: 28 | K24: Sin linea de aire
A25: =1+A24 -> 21 | B25: José Mora López | C25: Caimital | D25: E | E25: 228001 | F25: 374482 | G25: 163 | H25: - | I25: 0.79 | K25: =N25-I25 -> 2.03 | L25: - | N25: 2.82 | O25: -
A26: =1+A25 -> 22 | B26: ASADA Caimital | C26: Caimital | D26: P | E26: 227968 | F26: 374756 | G26: 178 | H26: 8 | I26: 0.95 | K26: - | L26: =O26-I26 -> 4.81 | N26: - | O26: 5.76
A27: =1+A26 -> 23 | B27: Blas Villegas | C27: Dulce Nombre | D27: E | E27: 230129 | F27: 373872 | G27: 183 | H27: - | I27: 0.51 | K27: =N27-I2 -> 5.33 | L27: - | N27: 5.33 | O27: -
A28: =1+A27 -> 24 | B28: Rafael Quiroz Perforado | C28: Caimitalito | D28: P | E28: 226896 | F28: 371931 | G28: 154 | H28: - | I28: 0 | J28: 32 | K28: =N28-I3 -> 9.38 | L28: - | N28: 9.38 | O28: -
A29: =1+A28 -> 25 | B29: Rafael Quiroz Excavado | C29: Caimitalito | D29: E | E29: 226897 | F29: 371914 | G29: 153 | H29: - | I29: 0.51 | J29: 11 | K29: =N29-I29 -> 5.38 | L29: - | N29: 5.89 | O29: -
A30: =1+A29 -> 26 | B30: MT-266 Asdrúbal Rojas Chávez | C30: Zompopa | D30: P | E30: 230865 | F30: 374057 | G30: 188 | H30: - | I30: 0.16 | J30: - | K30: =N30-I30 -> 3.97 | L30: - | N30: 4.13 | O30: -
A31: =1+A30 -> 27 | B31: Walter Vásquez | C31: Curime | D31: E | E31: 233304 | F31: 377094 | G31: 152 | H31: - | I31: 0.47 | J31: 10 | K31: =N31-I31 -> 7.19 | L31: - | N31: 7.66 | O31: -
A32: =1+A31 -> 28 | B32: MT-305 María de los Ángeles Pérez Rodríguez | C32: Curime | D32: P | E32: 233542 | F32: 376630 | G32: 165 | H32: - | I32: 0.27 | J32: 54 | K32: =N32-I32 -> 16.29 | L32: - | N32: 16.56 | O32: -
A33: =1+A32 -> 29 | B33: Marielos (Francisco García) | C33: Hondores | D33: E | E33: 234045 | F33: 378793 | G33: 127 | H33: - | I33: 0.28 | J33: - | K33: =N33-I33 -> 1.35 | L33: - | N33: 1.63 | O33: -
A34: =1+A33 -> 30 | B34: Juan López | C34: Hondores | D34: E | E34: 233269 | F34: 379859 | G34: 133 | H34: - | I34: 0.37 | J34: - | K34: =N34-I34 -> 5.25 | L34: - | N34: 5.62 | O34: -
A35: =1+A34 -> 31 | B35: Arnoldo Fajardo | C35: Fca el Carmen | D35: E | E35: 231370 | F35: 376354 | G35: 152 | H35: - | I35: 0.6 | J35: - | K35: =N35-I35 -> 4.55 | L35: - | N35: 5.15 | O35: -
A36: =1+A35 -> 32 | B36: MT-217 APAN | C36: Fca el Carmen | D36: P | E36: 230325 | F36: 376380 | G36: 173 | H36: 6 | I36: 0.24 | J36: - | K36: =N36-I36 -> 10.29 | L36: - | N36: 10.53 | O36: -
A37: =1+A36 -> 33 | B37: MT-197 Luna y Sol 2004 S.A. | C37: Caimitalito | D37: P | E37: 227193 | F37: 373134 | G37: 167 | H37: - | J37: - | K37: =N37-I37 -> 1.13 | L37: - | N37: 1.13 | O37: -
A38: 34 | B38: Antonio Vargas | C38: Caimital | D38: P | E38: 227196 | F38: 374931 | G38: 174 | H38: - | I38: 0.45 | J38: - | K38: =N38-I38 -> 2.86 | L38: - | N38: 3.31 | O38: -
A39: 35 | B39: Costeña Proyecto 2 | C39: Caimital | D39: P | E39: 230121 | F39: 375557 | G39: 189 | H39: - | I39: 0.31 | J39: - | K39: Linea de aire obstruida | N39: Linea de aire obstruida
A40: 36 | B40: Costeña Proyecto 1 | C40: Caimital | D40: P | E40: 230506 | F40: 374383 | G40: 195 | H40: - | I40: 0.3 | J40: - | K40: =N40-I40 -> 4.3 | L40: - | N40: 4.6 | O40: -
A41: 37 | B41: Casa Abandonada perforado | C41: Caimital | D41: P | H41: - | I41: 0 | J41: - | K41: =N41-I41 -> 10.73 | L41: - | N41: 10.73 | O41: -

Sheet Noviembre 2014
A1: Plan de Monitoreo Acuífero Caimital
A2: Fecha: 18 de noviembre del 2014
N3: Datos de campo
A4: N˚ | B4: Nombre del POZO | C4: Lugar | D4: Tipo | E4: Latitud | F4: Longitud | G4: Altitud sobre nivel de Mar | H4: Diámetro armado (in) | I4: Brocal (m) | J4: Profundidad de pozo (m) | K4: Nivel estático (m) | L4: Nivel dinámico (m) | N4: Nivel estático (m) + Brocal | O4: Nivel dinámico (m) + Brocal
A5: 1 | B5: AyA Caimital 1 | C5: Caimital | D5: P | E5: 228433 | F5: 374731 | G5: 176 | H5: 8 | I5: 0.74 | K5: - | L5: 10.76 | N5: - | O5: 11.5
A6: 2 | B6: AyA Caimital 2 | C6: Caimital | D6: P | E6: 228410 | F6: 374618 | G6: 169 | H6: 10 | I6: 0.53 | K6: - | L6: 13.23 | N6: - | O6: 13.76
A7: 3 | B7: AyA Caimital 6 | C7: Caimital | D7: P | E7: 228332 | F7: 373697 | G7: 165 | H7: 8 | I7: 0.46 | K7: 3.03 | L7: - | N7: 3.49 | O7: -
A8: 4 | B8: AyA Caimital 4 | C8: Caimital | D8: P | E8: 228311 | F8: 373468 | G8: 164 | H8: 10 | I8: 0.75 | K8: - | L8: 9.05 | N8: - | O8: 9.8
A9: 5 | B9: CJ-17 Villa Adela | C9: Dulce Nombre | D9: P | E9: 229011 | F9: 372774 | G9: 171 | H9: 10 | I9: 0.21 | K9: - | L9: - | N9: 4 | O9: -
A10: 6 | B10: MT-279 José Campos Camacho | C10: Dulce Nombre | D10: P | E10: 228975 | F10: 372676 | G10: 178 | H10: 6 | I10: 0.05 | K10: 3.43 | L10: - | N10: 3.48 | O10: -
A11: 7 | B11: AyA Caimital 3 | C11: Caimital | D11: P | E11: 228362 | F11: 374622 | G11: 176 | H11: 8 | I11: 0.63 | K11: 4.06 | L11: - | N11: 4.69 | O11: -
A12: 8 | B12: AyA Caimital 5 | C12: Caimital | D12: P | E12: 228388 | F12: 374670 | G12: 178 | H12: 8 | I12: 0.58 | K12: 4.34 | L12: - | N12: 4.92 | O12: -
A13: 9 | B13: Melonera | C13: Dulce Nombre | D13: P | E13: 228558 | F13: 373122 | G13: 149 | H13: - | I13: - | K13: Sin linea de aire
A14: 10 | B14: ASADA Dulce Nombre 2 | C14: Dulce Nombre | D14: P | E14: 229344 | F14: 372629 | G14: 169 | H14: 6 | I14: 0.41 | K14: 6.71 | L14: - | N14: 7.12 | O14: -
A15: 11 | B15: ASADA Dulce Nombre 1 | C15: Dulce Nombre | D15: P | E15: 229365 | F15: 372649 | G15: 170 | H15: 8 | I15: 0.38 | K15: - | L15: 12.22 | N15: - | O15: 12.6
A16: 12 | B16: Heiner Fajardo | C16: Dulce Nombre | D16: E | E16: 230039 | F16: 373297 | G16: 177 | H16: - | I16: 0.45 | K16: 5.37 | L16: - | N16: 5.82 | O16: -
A17: 13 | B17: Flor Fajardo | C17: Dulce Nombre | D17: E | E17: 230068 | F17: 373331 | G17: 178 | H17: - | I17: 0.49 | K17: 5.98 | L17: - | N17: 6.47 | O17: -
A18: 14 | B18: Casa Abandonada | C18: Dulce Nombre | D18: E | E18: 228808 | F18: 372154 | G18: 172 | H18: - | I18: 0.78 | K18: 7.86 | L18: - | N18: 8.64 | O18: -
A19: 15 | B19: Gavina Campos Noguera | C19: Gamalotal | D19: E | E19: 228215 | F19: 371804 | G19: 175 | H19: - | I19: 0.53 | K19: 7.82 | L19: - | N19: 8.35 | O19: -
A20: 16 | B20: José Fernando Oriones Zúñiga | C20: Gamalotal | D20: E | E20: 226508 | F20: 370899 | G20: 153 | H20: - | I20: 0.6 | K20: 14.77 | L20: - | N20: 15.37 | O20: -
A21: 17 | B21: Hilda Rodríguez Villalobos | C21: Gamalotal | D21: P | E21: 226538 | F21: 370372 | G21: 163 | H21: 6 | I21: 0 | J21: 25 | K21: 11.78 | L21: - | N21: 11.78 | O21: -
A22: 18 | B22: ASADA Gamalotal | C22: Gamalotal | D22: P | E22: 227916 | F22: 371351 | G22: 184 | H22: 8 | I22: 0.31 | K22: 2.39 | L22: - | N22: 12.7 | O22: -
A23: 19 | B23: Paula Pérez Carrillo | C23: Caimitalito | D23: E | E23: 227137 | F23: 372659 | G23: 175 | H23: - | I23: 0.43 | K23: 6.73 | L23: - | N23: 7.16 | O23: -
A24: 20 | B24: ASADA Caimitalito | C24: Caimitalito | D24: P | E24: 227239 | F24: 372760 | G24: 178 | H24: - | I24: - | J24: 28 | K24: Sin linea de aire
A25: 21 | B25: José Mora López | C25: Caimital | D25: E | E25: 228001 | F25: 374482 | G25: 163 | H25: - | I25: 0.79 | K25: 3 | L25: - | N25: 3.79 | O25: -
A26: 22 | B26: ASADA Caimital | C26: Caimital | D26: P | E26: 227968 | F26: 374756 | G26: 178 | H26: 8 | I26: 0.95 | K26: - | L26: 6.18 | N26: - | O26: 7.13
A27: 23 | B27: Blas Villegas | C27: Dulce Nombre | D27: E | E27: 230129 | F27: 373872 | G27: 183 | H27: - | I27: 0.51 | K27: 9.54 | L27: - | N27: 9.54 | O27: -
A28: 24 | B28: Rafael Quiroz Perforado | C28: Caimitalito | D28: P | E28: 226896 | F28: 371931 | G28: 154 | H28: - | I28: 0 | J28: 32 | K28: 4.7 | L28: - | N28: 4.7 | O28: -
A29: 25 | B29: Rafael Quiroz Excavado | C29: Caimitalito | D29: E | E29: 226897 | F29: 371914 | G29: 153 | H29: - | I29: 0.51 | J29: 11 | K29: 7.14 | L29: - | N29: 7.65 | O29: -
A30: 26 | B30: MT-266 Asdrúbal Rojas Chávez | C30: Zompopa | D30: P | E30: 230865 | F30: 374057 | G30: 188 | H30: - | I30: 0.16 | J30: - | K30: 2.27 | L30: - | N30: 2.43 | O30: -
A31: 27 | B31: Walter Vásquez | C31: Curime | D31: E | E31: 233304 | F31: 377094 | G31: 152 | H31: - | I31: 0.47 | J31: 10 | K31: 5.87 | L31: - | N31: 6.34 | O31: -
A32: 28 | B32: MT-305 María de los Ángeles Pérez Rodríguez | C32: Curime | D32: P | E32: 233542 | F32: 376630 | G32: 165 | H32: - | I32: 0.27 | J32: 54 | K32: 15.13 | L32: - | N32: 15.4 | O32: -
A33: 29 | B33: Marielos (Francisco García) | C33: Hondores | D33: E | E33: 234045 | F33: 378793 | G33: 127 | H33: - | I33: 0.28 | J33: - | K33: 2.08 | L33: - | N33: 2.36 | O33: -
A34: 30 | B34: Juan López | C34: Hondores | D34: E | E34: 233269 | F34: 379859 | G34: 133 | H34: - | I34: 0.37 | J34: - | K34: 5.17 | L34: - | N34: 5.54 | O34: -
A35: 31 | B35: Arnoldo Fajardo | C35: Fca el Carmen | D35: E | E35: 231370 | F35: 376354 | G35: 152 | H35: - | I35: 0.6 | J35: - | K35: 4.72 | L35: - | N35: 5.32 | O35: -
A36: 32 | B36: MT-217 APAN | C36: Fca el Carmen | D36: P | E36: 230325 | F36: 376380 | G36: 173 | H36: 6 | I36: 0.24 | J36: - | K36: 10.98 | L36: - | N36: 11.22 | O36: -
A37: 33 | B37: MT-197 Luna y Sol 2004 S.A. | C37: Caimitalito | D37: P | E37: 227193 | F37: 373134 | G37: 167 | H37: - | J37: - | K37: 2.12 | L37: - | N37: 2.12 | O37: -
A38: 34 | B38: Antonio Vargas | C38: Caimital | D38: P | E38: 227196 | F38: 374931 | G38: 174 | H38: - | I38: 0.45 | J38: - | K38: 4.61 | L38: - | N38: 5.06 | O38: -
A39: 35 | B39: Costeña Proyecto 2 | C39: Caimital | D39: P | E39: 230121 | F39: 375557 | G39: 189 | H39: - | I39: 0.31 | J39: - | K39: Linea de aire obstruida | N39: Linea de aire obstruida
A40: 36 | B40: Costeña Proyecto 1 | C40: Caimital | D40: P | E40: 230506 | F40: 374383 | G40: 195 | H40: - | I40: 0.3 | J40: - | K40: 3.7 | L40: - | N40: 4 | O40: -
A41: 37 | B41: Casa Abandonada perforado | C41: Caimital | D41: P | H41: - | I41: 0 | J41: - | K41: 7.75 | L41: - | N41: 7.75 | O41: -

Sheet Diciembre 2014
A1: Plan de Monitoreo Acuífero Caimital
A2: Fecha: 9 de diciembre del 2014
N3: Datos de campo
A4: N˚ | B4: Nombre del POZO | C4: Lugar | D4: Tipo | E4: Latitud | F4: Longitud | G4: Altitud sobre nivel de Mar | H4: Diámetro armado (in) | I4: Brocal (m) | J4: Profundidad de pozo (m) | K4: Nivel estático (m) | L4: Nivel dinámico (m) | N4: Nivel estático (m) + Brocal | O4: Nivel dinámico (m) + Brocal
A5: 1 | B5: AyA Caimital 1 | C5: Caimital | D5: P | E5: 228433 | F5: 374731 | G5: 176 | H5: 8 | I5: 0.74 | K5: =N5-I5 -> 4.19 | L5: - | N5: 4.93 | O5: -
A6: 2 | B6: AyA Caimital 2 | C6: Caimital | D6: P | E6: 228410 | F6: 374618 | G6: 169 | H6: 10 | I6: 0.53 | K6: =N6-I6 -> 4.22 | L6: - | N6: 4.75 | O6: -
A7: 3 | B7: AyA Caimital 6 | C7: Caimital | D7: P | E7: 228332 | F7: 373697 | G7: 165 | H7: 8 | I7: 0.46 | K7: =N7-I7 -> 3.16 | L7: - | N7: 3.62 | O7: -
