Workbook

Sheet Setiembre 2012
A1: Plan de Monitoreo Acuífero Mantas y Agujas
A2: Fecha: 28 de Setiembre del 2012
N3: Datos de campo
A4: N˚ | B4: Nombre del POZO | C4: Lugar | D4: Tipo | E4: Latitud | F4: Longitud | G4: Altitud sobre nivel de Mar | H4: Diámetro armado (in) | I4: Brocal (m) | J4: Profundidad de pozo (m) | K4: Nivel estático (m) | L4: Nivel dinámico (m) | N4: Nivel estático (m) + Brocal | O4: Nivel dinámico (m) + Brocal
A5: 1 | B5: Punta Leona # 21 Capilla | C5: Punta Leona | D5: Perforado | E5: 187420 | F5: 464086 | G5: 22 | H5: 8 | I5: 0.38 | K5: =N5-I5 -> 4.22 | L5: - | N5: 4.6 | O5: -
A6: =1+A5 -> 2 | B6: Punta Leona # 28 Rotonda | C6: Punta Leona | D6: Perforado | E6: 187337 | F6: 464142 | G6: 24 | H6: 6 | I6: 0.35 | K6: =N6-I6 -> 4.61 | L6: - | N6: 4.96 | O6: -
A7: =1+A6 -> 3 | B7: Punta Leona # 8 Barlovento | C7: Punta Leona | D7: Perforado | E7: 187173 | F7: 464343 | G7: 32 | I7: - | K7: Sin línea de aire | N7: - | O7: -
A8: =1+A7 -> 4 | B8: Punta Leona # 38 Boulevard | C8: Punta Leona | D8: Perforado | E8: 188544 | F8: 466399 | G8: 36 | H8: 10 | I8: 0.34 | K8: - | L8: =O8-I8 -> 4.63 | N8: - | O8: 4.97
A9: =1+A8 -> 5 | B9: Punta Leona Boulevard 2 | C9: Punta Leona | D9: Perforado | E9: 188556 | F9: 466296 | G9: 35 | H9: 10 | I9: 0.57 | K9: =N9-I9 -> 3.11 | L9: - | N9: 3.68 | O9: -
A10: =1+A9 -> 6 | B10: ASADA Quebrada Ganado Castaña | C10: Quebrada Ganado | D10: Perforado | E10: 188977 | F10: 468685 | G10: 66 | H10: 3 | I10: 0.3 | K10: - | L10: =O10-I10 -> 7.62 | N10: - | O10: 7.92
A11: =1+A10 -> 7 | B11: Juan Ignacio Naranjo Chávez | C11: Quebrada Ganado | D11: Perforado | E11: 189542 | F11: 467732 | G11: 49 | I11: - | K11: Sin línea de aire | N11: - | O11: -
A12: =1+A11 -> 8 | B12: Carlos Solano | C12: Quebrada Ganado | D12: Perforado | E12: 189959 | F12: 467620 | G12: 47 | I12: - | K12: Sin línea de aire | N12: - | O12: -
A13: =1+A12 -> 9 | B13: Plantation Acres | C13: Agujas | D13: Perforado | E13: 188581 | F13: 466891 | G13: 59 | I13: 0 | K13: =N13-I13 -> 4.87 | L13: - | N13: 4.87 | O13: -
A14: =1+A13 -> 10 | B14: ASADA Quebrada Ganado Cacique | C14: Agujas | D14: Perforado | E14: 189077 | F14: 466777 | G14: 47 | H14: 4 | I14: 0.57 | J14: 23 | K14: - | L14: =O14-I14 -> 7.55 | N14: - | O14: 8.12
A15: =1+A14 -> 11 | B15: Residencial Santiago | C15: Agujas | D15: Perforado | E15: 189533 | F15: 465181 | G15: 27 | H15: 3 | I15: 0.55 | K15: =N15-I15 -> 0.04 | L15: - | N15: 0.59 | O15: -
A16: =1+A15 -> 12 | B16: Carlos Luis Monge | C16: Agujas | D16: Perforado | E16: 189923 | F16: 464947 | G16: 22 | I16: - | K16: Sin línea de aire | N16: - | O16: -
A17: =1+A16 -> 13 | B17: Samar de Santana | C17: Agujas | D17: Excavado | E17: 189801 | F17: 465079 | G17: 24 | I17: 0.4 | K17: =N17-I17 -> 1.2 | L17: - | N17: 1.6 | O17: -

Sheet Octubre 2012
A1: Plan de Monitoreo Acuífero Mantas y Agujas
A2: Fecha: 22 de Octubre del 2012
N3: Datos de campo
A4: N˚ | B4: Nombre del POZO | C4: Lugar | D4: Tipo | E4: Latitud | F4: Longitud | G4: Altitud sobre nivel de Mar | H4: Diámetro armado (in) | I4: Brocal (m) | J4: Profundidad de pozo (m) | K4: Nivel estático (m) | L4: Nivel dinámico (m) | N4: Nivel estático (m) + Brocal | O4: Nivel dinámico (m) + Brocal
A5: 1 | B5: Punta Leona # 21 Capilla | C5: Punta Leona | D5: Perforado | E5: 187420 | F5: 464086 | G5: 22 | H5: 8 | I5: 0.38 | K5: =N5-I5 -> 2.21 | L5: - | N5: 2.59 | O5: -
A6: =1+A5 -> 2 | B6: Punta Leona # 28 Rotonda | C6: Punta Leona | D6: Perforado | E6: 187337 | F6: 464142 | G6: 24 | H6: 6 | I6: 0.35 | K6: =N6-I6 -> 2.33 | L6: - | N6: 2.68 | O6: -
A7: =1+A6 -> 3 | B7: Punta Leona # 8 Barlovento | C7: Punta Leona | D7: Perforado | E7: 187173 | F7: 464343 | G7: 32 | I7: -0.42 | K7: =N7-I7 -> 3.35 | N7: 2.93 | O7: -
A8: =1+A7 -> 4 | B8: Punta Leona # 38 Boulevard | C8: Punta Leona | D8: Perforado | E8: 188544 | F8: 466399 | G8: 36 | H8: 10 | I8: 0.34 | K8: - | L8: =O8-I8 -> 4.44 | N8: - | O8: 4.78
A9: =1+A8 -> 5 | B9: Punta Leona Boulevard 2 | C9: Punta Leona | D9: Perforado | E9: 188556 | F9: 466296 | G9: 35 | H9: 10 | I9: 0.57 | K9: =N9-I9 -> 2.99 | L9: - | N9: 3.56 | O9: -
A10: =1+A9 -> 6 | B10: ASADA Quebrada Ganado Castaña | C10: Quebrada Ganado | D10: Perforado | E10: 188977 | F10: 468685 | G10: 66 | H10: 3 | I10: 0.3 | K10: =N10-I10 -> 5.17 | L10: - | N10: 5.47 | O10: -
A11: =1+A10 -> 7 | B11: Juan Ignacio Naranjo Chávez | C11: Quebrada Ganado | D11: Perforado | E11: 189542 | F11: 467732 | G11: 49 | I11: - | K11: Sin línea de aire | N11: - | O11: -
A12: =1+A11 -> 8 | B12: Carlos Solano | C12: Quebrada Ganado | D12: Perforado | E12: 189959 | F12: 467620 | G12: 47 | I12: - | K12: Sin línea de aire | N12: - | O12: -
A13: =1+A12 -> 9 | B13: Plantation Acres | C13: Agujas | D13: Perforado | E13: 188581 | F13: 466891 | G13: 59 | I13: 0 | K13: Sin Dato | L13: - | N13: Sin Dato | O13: -
A14: =1+A13 -> 10 | B14: ASADA Quebrada Ganado Cacique | C14: Agujas | D14: Perforado | E14: 189077 | F14: 466777 | G14: 47 | H14: 4 | I14: 0.57 | J14: 23 | K14: - | L14: =O14-I14 -> 7.69 | N14: - | O14: 8.26
A15: =1+A14 -> 11 | B15: Residencial Santiago | C15: Agujas | D15: Perforado | E15: 189533 | F15: 465181 | G15: 27 | H15: 3 | I15: 0.55 | K15: =N15-I15 -> 0.02 | L15: - | N15: 0.57 | O15: -
A16: =1+A15 -> 12 | B16: Carlos Luis Monge | C16: Agujas | D16: Perforado | E16: 189923 | F16: 464947 | G16: 22 | I16: - | K16: Sin línea de aire | N16: - | O16: -
A17: =1+A16 -> 13 | B17: Samar de Santana | C17: Agujas | D17: Excavado | E17: 189801 | F17: 465079 | G17: 24 | I17: 0.4 | K17: =N17-I17 -> 0.55 | L17: - | N17: 0.95 | O17: -
A19: El Pozo No. 9 Plantation Acres no fue posible medirlo porque se encontró bajo llave

Sheet Noviembre 2012
A1: Plan de Monitoreo Acuífero Mantas y Agujas
A2: Fecha: 19 de Noviembre del 2012
N3: Datos de campo
A4: N˚ | B4: Nombre del POZO | C4: Lugar | D4: Tipo | E4: Latitud | F4: Longitud | G4: Altitud sobre nivel de Mar | H4: Diámetro armado (in) | I4: Brocal (m) | J4: Profundidad de pozo (m) | K4: Nivel estático (m) | L4: Nivel dinámico (m) | N4: Nivel estático (m) + Brocal | O4: Nivel dinámico (m) + Brocal
A5: 1 | B5: Punta Leona # 21 Capilla | C5: Punta Leona | D5: Perforado | E5: 187420 | F5: 464086 | G5: 22 | H5: 8 | I5: 0.38 | K5: - | L5: =O5-I5 -> 4.88 | O5: 5.26
A6: =1+A5 -> 2 | B6: Punta Leona # 28 Rotonda | C6: Punta Leona | D6: Perforado | E6: 187337 | F6: 464142 | G6: 24 | H6: 6 | I6: 0.35 | K6: =N6-I6 -> 4.63 | L6: - | N6: 4.98
A7: =1+A6 -> 3 | B7: Punta Leona # 8 Barlovento | C7: Punta Leona | D7: Perforado | E7: 187173 | F7: 464343 | G7: 32 | I7: -0.42 | K7: =N7-I7 -> 7.59 | L7: - | N7: 7.17
A8: =1+A7 -> 4 | B8: Punta Leona # 38 Boulevard | C8: Punta Leona | D8: Perforado | E8: 188544 | F8: 466399 | G8: 36 | H8: 10 | I8: 0.34 | K8: - | L8: =O8-I8 -> 4.72 | O8: 5.06
A9: =1+A8 -> 5 | B9: Punta Leona Boulevard 2 | C9: Punta Leona | D9: Perforado | E9: 188556 | F9: 466296 | G9: 35 | H9: 10 | I9: 0.57 | K9: =N9-I9 -> 3.2 | L9: - | N9: 3.77
A10: =1+A9 -> 6 | B10: ASADA Quebrada Ganado Castaña | C10: Quebrada Ganado | D10: Perforado | E10: 188977 | F10: 468685 | G10: 66 | H10: 3 | I10: 0.3 | K10: =N10-I10 -> 5.4 | L10: - | N10: 5.7
A11: =1+A10 -> 7 | B11: Juan Ignacio Naranjo Chávez | C11: Quebrada Ganado | D11: Perforado | E11: 189542 | F11: 467732 | G11: 49 | I11: - | K11: Sin línea de aire | N11: Sin línea de aire
A12: =1+A11 -> 8 | B12: Carlos Solano | C12: Quebrada Ganado | D12: Perforado | E12: 189959 | F12: 467620 | G12: 47 | I12: - | K12: Sin línea de aire | N12: Sin línea de aire
A13: =1+A12 -> 9 | B13: Plantation Acres | C13: Agujas | D13: Perforado | E13: 188581 | F13: 466891 | G13: 59 | I13: 0 | K13: =N13-I13 -> 6.72 | L13: - | N13: 6.72
A14: =1+A13 -> 10 | B14: ASADA Quebrada Ganado Cacique | C14: Agujas | D14: Perforado | E14: 189077 | F14: 466777 | G14: 47 | H14: 4 | I14: 0.57 | J14: 23 | K14: - | L14: =O14-I14 -> 7.1 | O14: 7.67
A15: =1+A14 -> 11 | B15: Residencial Santiago | C15: Agujas | D15: Perforado | E15: 189533 | F15: 465181 | G15: 27 | H15: 3 | I15: 0.55 | K15: =N15-I15 -> 0.09 | L15: - | N15: 0.64
A16: =1+A15 -> 12 | B16: Carlos Luis Monge | C16: Agujas | D16: Perforado | E16: 189923 | F16: 464947 | G16: 22 | I16: - | K16: Sin línea de aire | N16: Sin línea de aire
A17: =1+A16 -> 13 | B17: Samar de Santana | C17: Agujas | D17: Excavado | E17: 189801 | F17: 465079 | G17: 24 | I17: 0.4 | K17: seco | N17: seco
B19: Contacto ASADA Quebrada Ganado: Magdaleno
B20: Contacto Punta Leona: Eliecer

Sheet Diciembre 2012
A1: Plan de Monitoreo Acuífero Mantas y Agujas
A2: Fecha: 17 de Diciembre del 2012
N3: Datos de campo
A4: N˚ | B4: Nombre del POZO | C4: Lugar | D4: Tipo | E4: Latitud | F4: Longitud | G4: Altitud sobre nivel de Mar | H4: Diámetro armado (in) | I4: Brocal (m) | J4: Profundidad de pozo (m) | K4: Nivel estático (m) | L4: Nivel dinámico (m) | N4: Nivel estático (m) + Brocal | O4: Nivel dinámico (m) + Brocal
A5: 1 | B5: Punta Leona # 21 Capilla | C5: Punta Leona | D5: Perforado | E5: 187420 | F5: 464086 | G5: 22 | H5: 8 | I5: 0.38 | K5: - | L5: =O5-I5 -> 5.05 | N5: - | O5: 5.43
A6: =1+A5 -> 2 | B6: Punta Leona # 28 Rotonda | C6: Punta Leona | D6: Perforado | E6: 187337 | F6: 464142 | G6: 24 | H6: 6 | I6: 0.35 | K6: - | L6: =O6-I6 -> 7.42 | N6: - | O6: 7.77
A7: =1+A6 -> 3 | B7: Punta Leona # 8 Barlovento | C7: Punta Leona | D7: Perforado | E7: 187173 | F7: 464343 | G7: 32 | I7: -0.42 | K7: =N7-I7 -> 7.44 | L7: - | N7: 7.02 | O7: -
A8: =1+A7 -> 4 | B8: Punta Leona # 38 Boulevard | C8: Punta Leona | D8: Perforado | E8: 188544 | F8: 466399 | G8: 36 | H8: 10 | I8: 0.34 | K8: =N8-I8 -> 3.9 | L8: - | N8: 4.24 | O8: -
A9: =1+A8 -> 5 | B9: Punta Leona Boulevard 2 | C9: Punta Leona | D9: Perforado | E9: 188556 | F9: 466296 | G9: 35 | H9: 10 | I9: 0.57 | K9: - | L9: =O9-I9 -> 4.97 | N9: - | O9: 5.54
A10: =1+A9 -> 6 | B10: ASADA Quebrada Ganado Castaña | C10: Quebrada Ganado | D10: Perforado | E10: 188977 | F10: 468685 | G10: 66 | H10: 3 | I10: 0.3 | K10: =N10-I10 -> 5.46 | L10: - | N10: 5.76 | O10: -
A11: =1+A10 -> 7 | B11: Juan Ignacio Naranjo Chávez | C11: Quebrada Ganado | D11: Perforado | E11: 189542 | F11: 467732 | G11: 49 | I11: - | K11: Sin línea de aire | N11: - | O11: -
A12: =1+A11 -> 8 | B12: Carlos Solano | C12: Quebrada Ganado | D12: Perforado | E12: 189959 | F12: 467620 | G12: 47 | I12: - | K12: Sin línea de aire | N12: - | O12: -
A13: =1+A12 -> 9 | B13: Plantation Acres | C13: Agujas | D13: Perforado | E13: 188581 | F13: 466891 | G13: 59 | I13: 0 | K13: =N13-I13 -> 5.29 | L13: - | N13: 5.29 | O13: -
A14: =1+A13 -> 10 | B14: ASADA Quebrada Ganado Cacique | C14: Agujas | D14: Perforado | E14: 189077 | F14: 466777 | G14: 47 | H14: 4 | I14: 0.57 | J14: 23 | K14: =N14-I14 -> 8.02 | L14: - | N14: 8.59 | O14: -
A15: =1+A14 -> 11 | B15: Residencial Santiago | C15: Agujas | D15: Perforado | E15: 189533 | F15: 465181 | G15: 27 | H15: 3 | I15: 0.55 | K15: =N15-I15 -> 0.11 | L15: - | N15: 0.66 | O15: -
A16: =1+A15 -> 12 | B16: Carlos Luis Monge | C16: Agujas | D16: Perforado | E16: 189923 | F16: 464947 | G16: 22 | I16: - | K16: Sin línea de aire | N16: - | O16: -
A17: =1+A16 -> 13 | B17: Samar de Santana | C17: Agujas | D17: Excavado | E17: 189801 | F17: 465079 | G17: 24 | I17: 0.4 | K17: =N17-I17 -> 1.56 | L17: - | N17: 1.96 | O17: -

Sheet Enero 2013
A1: Plan de Monitoreo Acuífero Mantas y Agujas
A2: Fecha: 28 de enero del 2013
N3: Datos de campo
A4: N˚ | B4: Nombre del POZO | C4: Lugar | D4: Tipo | E4: Latitud | F4: Longitud | G4: Altitud sobre nivel de Mar | H4: Diámetro armado (in) | I4: Brocal (m) | J4: Profundidad de pozo (m) | K4: Nivel estático (m) | L4: Nivel dinámico (m) | N4: Nivel estático (m) + Brocal | O4: Nivel dinámico (m) + Brocal
A5: 1 | B5: Punta Leona # 21 Capilla | C5: Punta Leona | D5: Perforado | E5: 187420 | F5: 464086 | G5: 22 | H5: 8 | I5: 0.38 | K5: =N5-I5 -> 6.29 | L5: - | N5: 6.67 | O5: -
A6: =1+A5 -> 2 | B6: Punta Leona # 28 Rotonda | C6: Punta Leona | D6: Perforado | E6: 187337 | F6: 464142 | G6: 24 | H6: 6 | I6: 0.35 | K6: - | L6: =O6-I6 -> 10.18 | N6: - | O6: 10.53
A7: =1+A6 -> 3 | B7: Punta Leona # 8 Barlovento | C7: Punta Leona | D7: Perforado | E7: 187173 | F7: 464343 | G7: 32 | I7: -0.42 | K7: - | L7: =O7-I7 -> 12.41 | N7: - | O7: 11.99
A8: =1+A7 -> 4 | B8: Punta Leona # 38 Boulevard | C8: Punta Leona | D8: Perforado | E8: 188544 | F8: 466399 | G8: 36 | H8: 10 | I8: 0.34 | K8: - | L8: =O8-I8 -> 5.9 | N8: - | O8: 6.24
A9: =1+A8 -> 5 | B9: Punta Leona Boulevard 2 | C9: Punta Leona | D9: Perforado | E9: 188556 | F9: 466296 | G9: 35 | H9: 10 | I9: 0.57 | K9: =N9-I9 -> 4.23 | L9: - | N9: 4.8 | O9: -
A10: =1+A9 -> 6 | B10: ASADA Quebrada Ganado Castaña | C10: Quebrada Ganado | D10: Perforado | E10: 188977 | F10: 468685 | G10: 66 | H10: 3 | I10: 0.3 | K10: - | L10: =O10-I10 -> 6.37 | N10: - | O10: 6.67
A11: =1+A10 -> 7 | B11: Juan Ignacio Naranjo Chávez | C11: Quebrada Ganado | D11: Perforado | E11: 189542 | F11: 467732 | G11: 49 | I11: - | K11: Sin línea de aire | N11: Sin línea de aire
A12: =1+A11 -> 8 | B12: Carlos Solano | C12: Quebrada Ganado | D12: Perforado | E12: 189959 | F12: 467620 | G12: 47 | I12: - | K12: Sin línea de aire | N12: Sin línea de aire
A13: =1+A12 -> 9 | B13: Plantation Acres | C13: Agujas | D13: Perforado | E13: 188581 | F13: 466891 | G13: 59 | I13: 0 | K13: =N13-I13 -> 7.96 | L13: - | N13: 7.96 | O13: -
A14: =1+A13 -> 10 | B14: ASADA Quebrada Ganado Cacique | C14: Agujas | D14: Perforado | E14: 189077 | F14: 466777 | G14: 47 | H14: 4 | I14: 0.57 | J14: 23 | K14: - | L14: =O14-I14 -> 8.88 | N14: - | O14: 9.45
A15: =1+A14 -> 11 | B15: Residencial Santiago | C15: Agujas | D15: Perforado | E15: 189533 | F15: 465181 | G15: 27 | H15: 3 | I15: 0.55 | K15: - | L15: =O15-I15 -> 1.56 | N15: - | O15: 2.11
A16: =1+A15 -> 12 | B16: Carlos Luis Monge | C16: Agujas | D16: Perforado | E16: 189923 | F16: 464947 | G16: 22 | I16: - | K16: Sin línea de aire | N16: Sin línea de aire
A17: =1+A16 -> 13 | B17: Samar de Santana | C17: Agujas | D17: Excavado | E17: 189801 | F17: 465079 | G17: 24 | I17: 0.4 | K17: Seco | L17: - | N17: seco | O17: -

Sheet Febrero 2013
A1: Plan de Monitoreo Acuífero Mantas y Agujas
A2: Fecha: 25 de febrero del 2013
N3: Datos de campo
A4: N˚ | B4: Nombre del POZO | C4: Lugar | D4: Tipo | E4: Latitud | F4: Longitud | G4: Altitud sobre nivel de Mar | H4: Diámetro armado (in) | I4: Brocal (m) | J4: Profundidad de pozo (m) | K4: Nivel estático (m) | L4: Nivel dinámico (m) | N4: Nivel estático (m) + Brocal | O4: Nivel dinámico (m) + Brocal
A5: 1 | B5: Punta Leona # 21 Capilla | C5: Punta Leona | D5: Perforado | E5: 187420 | F5: 464086 | G5: 22 | H5: 8 | I5: 0.38 | K5: - | L5: =O5-I5 -> 8.02 | N5: - | O5: 8.4
A6: =1+A5 -> 2 | B6: Punta Leona # 28 Rotonda | C6: Punta Leona | D6: Perforado | E6: 187337 | F6: 464142 | G6: 24 | H6: 6 | I6: 0.35 | K6: =N6-I6 -> 8.79 | L6: - | N6: 9.14 | O6: -
A7: =1+A6 -> 3 | B7: Punta Leona # 8 Barlovento | C7: Punta Leona | D7: Perforado | E7: 187173 | F7: 464343 | G7: 32 | I7: -0.42 | K7: =N7-I7 -> 13.6 | L7: - | N7: 13.18 | O7: -
A8: =1+A7 -> 4 | B8: Punta Leona # 38 Boulevard | C8: Punta Leona | D8: Perforado | E8: 188544 | F8: 466399 | G8: 36 | H8: 10 | I8: 0.34 | K8: - | L8: =O8-I8 -> 6.64 | N8: - | O8: 6.98
A9: =1+A8 -> 5 | B9: Punta Leona Boulevard 2 | C9: Punta Leona | D9: Perforado | E9: 188556 | F9: 466296 | G9: 35 | H9: 10 | I9: 0.57 | K9: =N9-I9 -> 4.85 | L9: - | N9: 5.42 | O9: -
A10: =1+A9 -> 6 | B10: ASADA Quebrada Ganado Castaña | C10: Quebrada Ganado | D10: Perforado | E10: 188977 | F10: 468685 | G10: 66 | H10: 3 | I10: 0.3 | K10: - | L10: =O10-I10 -> 5.58 | N10: - | O10: 5.88
A11: =1+A10 -> 7 | B11: Juan Ignacio Naranjo Chávez | C11: Quebrada Ganado | D11: Perforado | E11: 189542 | F11: 467732 | G11: 49 | I11: - | K11: Sin línea de aire | N11: Sin línea de aire
A12: =1+A11 -> 8 | B12: Carlos Solano | C12: Quebrada Ganado | D12: Perforado | E12: 189959 | F12: 467620 | G12: 47 | I12: - | K12: Sin línea de aire | N12: Sin línea de aire
A13: =1+A12 -> 9 | B13: Plantation Acres | C13: Agujas | D13: Perforado | E13: 188581 | F13: 466891 | G13: 59 | I13: 0 | K13: =N13-I13 -> 9.54 | L13: - | N13: 9.54 | O13: -
A14: =1+A13 -> 10 | B14: ASADA Quebrada Ganado Cacique | C14: Agujas | D14: Perforado | E14: 189077 | F14: 466777 | G14: 47 | H14: 4 | I14: 0.57 | J14: 23 | K14: - | L14: =O14-I14 -> 10.18 | N14: - | O14: 10.75
A15: =1+A14 -> 11 | B15: Residencial Santiago | C15: Agujas | D15: Perforado | E15: 189533 | F15: 465181 | G15: 27 | H15: 3 | I15: 0.55 | K15: =N15-I15 -> 0.25 | L15: - | N15: 0.8 | O15: -
A16: =1+A15 -> 12 | B16: Carlos Luis Monge | C16: Agujas | D16: Perforado | E16: 189923 | F16: 464947 | G16: 22 | I16: - | K16: Sin línea de aire | N16: Sin línea de aire
A17: =1+A16 -> 13 | B17: Samar de Santana | C17: Agujas | D17: Excavado | E17: 189801 | F17: 465079 | G17: 24 | I17: 0.4 | K17: Sin Llave | N17: - | O17: -

Sheet Marzo 2013
A1: Plan de Monitoreo Acuífero Mantas y Agujas
A2: Fecha: 13 de marzo del 2013
N3: Datos de campo
A4: N˚ | B4: Nombre del POZO | C4: Lugar | D4: Tipo | E4: Latitud | F4: Longitud | G4: Altitud sobre nivel de Mar | H4: Diámetro armado (in) | I4: Brocal (m) | J4: Profundidad de pozo (m) | K4: Nivel estático (m) | L4: Nivel dinámico (m) | N4: Nivel estático (m) + Brocal | O4: Nivel dinámico (m) + Brocal
A5: 1 | B5: Punta Leona # 21 Capilla | C5: Punta Leona | D5: Perforado | E5: 187420 | F5: 464086 | G5: 22 | H5: 8 | I5: 0.38 | K5: - | L5: =O5-I5 -> 8.5 | N5: - | O5: 8.88
A6: =1+A5 -> 2 | B6: Punta Leona # 28 Rotonda | C6: Punta Leona | D6: Perforado | E6: 187337 | F6: 464142 | G6: 24 | H6: 6 | I6: 0.35 | K6: =N6-I6 -> 9.31 | L6: - | N6: 9.66 | O6: -
A7: =1+A6 -> 3 | B7: Punta Leona # 8 Barlovento | C7: Punta Leona | D7: Perforado | E7: 187173 | F7: 464343 | G7: 32 | I7: -0.42 | K7: =N7-I7 -> 14.35 | L7: - | N7: 13.93 | O7: -
A8: =1+A7 -> 4 | B8: Punta Leona # 38 Boulevard | C8: Punta Leona | D8: Perforado | E8: 188544 | F8: 466399 | G8: 36 | H8: 10 | I8: 0.34 | K8: - | L8: =O8-I8 -> 7.25 | N8: - | O8: 7.59
A9: =1+A8 -> 5 | B9: Punta Leona Boulevard 2 | C9: Punta Leona | D9: Perforado | E9: 188556 | F9: 466296 | G9: 35 | H9: 10 | I9: 0.57 | K9: =N9-I9 -> 5.36 | L9: - | N9: 5.93 | O9: -
A10: =1+A9 -> 6 | B10: ASADA Quebrada Ganado Castaña | C10: Quebrada Ganado | D10: Perforado | E10: 188977 | F10: 468685 | G10: 66 | H10: 3 | I10: 0.3 | K10: - | L10: =O10-I10 -> 5.58 | N10: - | O10: 5.88
A11: =1+A10 -> 7 | B11: Juan Ignacio Naranjo Chávez | C11: Quebrada Ganado | D11: Perforado | E11: 189542 | F11: 467732 | G11: 49 | I11: - | K11: Sin línea de aire | N11: Sin línea de aire
A12: =1+A11 -> 8 | B12: Carlos Solano | C12: Quebrada Ganado | D12: Perforado | E12: 189959 | F12: 467620 | G12: 47 | I12: - | K12: Sin línea de aire | N12: Sin línea de aire
A13: =1+A12 -> 9 | B13: Plantation Acres | C13: Agujas | D13: Perforado | E13: 188581 | F13: 466891 | G13: 59 | I13: 0 | K13: =N13-I13 -> 9.83 | L13: - | N13: 9.83 | O13: -
A14: =1+A13 -> 10 | B14: ASADA Quebrada Ganado Cacique | C14: Agujas | D14: Perforado | E14: 189077 | F14: 466777 | G14: 47 | H14: 4 | I14: 0.57 | J14: 23 | K14: - | L14: =O14-I14 -> 10.69 | N14: - | O14: 11.26
A15: =1+A14 -> 11 | B15: Residencial Santiago | C15: Agujas | D15: Perforado | E15: 189533 | F15: 465181 | G15: 27 | H15: 3 | I15: 0.55 | K15: =N15-I15 -> 0.2 | L15: - | N15: 0.75 | O15: -
A16: =1+A15 -> 12 | B16: Carlos Luis Monge | C16: Agujas | D16: Perforado | E16: 189923 | F16: 464947 | G16: 22 | I16: - | K16: Sin línea de aire | N16: Sin línea de aire
A17: =1+A16 -> 13 | B17: Samar de Santana | C17: Agujas | D17: Excavado | E17: 189801 | F17: 465079 | G17: 24 | I17: 0.4 | K17: Cerrado con llave | N17: - | O17: -

Sheet Abril 2013
A1: Plan de Monitoreo Acuífero Mantas y Agujas
A2: Fecha: 22 de abril del 2013
N3: Datos de campo
A4: N˚ | B4: Nombre del POZO | C4: Lugar | D4: Tipo | E4: Latitud | F4: Longitud | G4: Altitud sobre nivel de Mar | H4: Diámetro armado (in) | I4: Brocal (m) | J4: Profundidad de pozo (m) | K4: Nivel estático (m) | L4: Nivel dinámico (m) | N4: Nivel estático (m) + Brocal | O4: Nivel dinámico (m) + Brocal
A5: 1 | B5: Punta Leona # 21 Capilla | C5: Punta Leona | D5: Perforado | E5: 187420 | F5: 464086 | G5: 22 | H5: 8 | I5: 0.38 | K5: - | L5: =O5-I5 -> 9.12 | N5: - | O5: 9.5
A6: =1+A5 -> 2 | B6: Punta Leona # 28 Rotonda | C6: Punta Leona | D6: Perforado | E6: 187337 | F6: 464142 | G6: 24 | H6: 6 | I6: 0.35 | K6: =N6-I6 -> 9.95 | L6: - | N6: 10.3 | O6: -
A7: =1+A6 -> 3 | B7: Punta Leona # 8 Barlovento | C7: Punta Leona | D7: Perforado | E7: 187173 | F7: 464343 | G7: 32 | I7: -0.42 | K7: =N7-I7 -> 15.12 | L7: - | N7: 14.7 | O7: -
A8: =1+A7 -> 4 | B8: Punta Leona # 38 Boulevard | C8: Punta Leona | D8: Perforado | E8: 188544 | F8: 466399 | G8: 36 | H8: 10 | I8: 0.34 | K8: - | L8: =O8-I8 -> 8.16 | N8: - | O8: 8.5
A9: =1+A8 -> 5 | B9: Punta Leona Boulevard 2 | C9: Punta Leona | D9: Perforado | E9: 188556 | F9: 466296 | G9: 35 | H9: 10 | I9: 0.57 | K9: =N9-I9 -> 6.06 | L9: - | N9: 6.63 | O9: -
A10: =1+A9 -> 6 | B10: ASADA Quebrada Ganado Castaña | C10: Quebrada Ganado | D10: Perforado | E10: 188977 | F10: 468685 | G10: 66 | H10: 3 | I10: 0.3 | K10: - | L10: =O10-I10 -> 5.75 | N10: - | O10: 6.05
A11: =1+A10 -> 7 | B11: Juan Ignacio Naranjo Chávez | C11: Quebrada Ganado | D11: Perforado | E11: 189542 | F11: 467732 | G11: 49 | I11: - | K11: Sin línea de aire | N11: Sin línea de aire
A12: =1+A11 -> 8 | B12: Carlos Solano | C12: Quebrada Ganado | D12: Perforado | E12: 189959 | F12: 467620 | G12: 47 | I12: - | K12: Sin línea de aire | N12: Sin línea de aire
A13: =1+A12 -> 9 | B13: Plantation Acres | C13: Agujas | D13: Perforado | E13: 188581 | F13: 466891 | G13: 59 | I13: 0 | K13: =N13-I13 -> 9.92 | L13: - | N13: 9.92 | O13: -
A14: =1+A13 -> 10 | B14: ASADA Quebrada Ganado Cacique | C14: Agujas | D14: Perforado | E14: 189077 | F14: 466777 | G14: 47 | H14: 4 | I14: 0.57 | J14: 23 | K14: - | L14: =O14-I14 -> 11.63 | N14: - | O14: 12.2
A15: =1+A14 -> 11 | B15: Residencial Santiago | C15: Agujas | D15: Perforado | E15: 189533 | F15: 465181 | G15: 27 | H15: 3 | I15: 0.55 | K15: =N15-I15 -> 0.25 | L15: - | N15: 0.8 | O15: -
A16: =1+A15 -> 12 | B16: Carlos Luis Monge | C16: Agujas | D16: Perforado | E16: 189923 | F16: 464947 | G16: 22 | I16: - | K16: Sin línea de aire | N16: Sin línea de aire
A17: =1+A16 -> 13 | B17: Samar de Santana | C17: Agujas | D17: Excavado | E17: 189801 | F17: 465079 | G17: 24 | I17: 0.4 | K17: Cerrado con llave | N17: - | O17: -

Sheet Mayo 2013
A1: Plan de Monitoreo Acuífero Mantas y Agujas
A2: Fecha: 27 de mayo del 2013
N3: Datos de campo
A4: N˚ | B4: Nombre del POZO | C4: Lugar | D4: Tipo | E4: Latitud | F4: Longitud | G4: Altitud sobre nivel de Mar | H4: Diámetro armado (in) | I4: Brocal (m) | J4: Profundidad de pozo (m) | K4: Nivel estático (m) | L4: Nivel dinámico (m) | N4: Nivel estático (m) + Brocal | O4: Nivel dinámico (m) + Brocal
A5: 1 | B5: Punta Leona # 21 Capilla | C5: Punta Leona | D5: Perforado | E5: 187420 | F5: 464086 | G5: 22 | H5: 8 | I5: 0.38 | K5: - | L5: =O5-I5 -> 7.35 | N5: - | O5: 7.73
A6: =1+A5 -> 2 | B6: Punta Leona # 28 Rotonda | C6: Punta Leona | D6: Perforado | E6: 187337 | F6: 464142 | G6: 24 | H6: 6 | I6: 0.35 | K6: =N6-I6 -> 7.86 | L6: - | N6: 8.21 | O6: -
A7: =1+A6 -> 3 | B7: Punta Leona # 8 Barlovento | C7: Punta Leona | D7: Perforado | E7: 187173 | F7: 464343 | G7: 32 | I7: -0.42 | K7: =N7-I7 -> 12.41 | L7: - | N7: 11.99 | O7: -
A8: =1+A7 -> 4 | B8: Punta Leona # 38 Boulevard | C8: Punta Leona | D8: Perforado | E8: 188544 | F8: 466399 | G8: 36 | H8: 10 | I8: 0.34 | K8: - | L8: =O8-I8 -> 8.08 | N8: - | O8: 8.42
A9: =1+A8 -> 5 | B9: Punta Leona Boulevard 2 | C9: Punta Leona | D9: Perforado | E9: 188556 | F9: 466296 | G9: 35 | H9: 10 | I9: 0.57 | K9: =N9-I9 -> 5.95 | L9: - | N9: 6.52 | O9: -
A10: =1+A9 -> 6 | B10: ASADA Quebrada Ganado Castaña | C10: Quebrada Ganado | D10: Perforado | E10: 188977 | F10: 468685 | G10: 66 | H10: 3 | I10: 0.3 | K10: - | L10: =O10-I10 -> 5.64 | N10: - | O10: 5.94
A11: =1+A10 -> 7 | B11: Juan Ignacio Naranjo Chávez | C11: Quebrada Ganado | D11: Perforado | E11: 189542 | F11: 467732 | G11: 49 | I11: - | K11: Sin línea de aire | N11: Sin línea de aire
A12: =1+A11 -> 8 | B12: Carlos Solano | C12: Quebrada Ganado | D12: Perforado | E12: 189959 | F12: 467620 | G12: 47 | I12: - | K12: Sin línea de aire | N12: Sin línea de aire
A13: =1+A12 -> 9 | B13: Plantation Acres | C13: Agujas | D13: Perforado | E13: 188581 | F13: 466891 | G13: 59 | I13: 0 | K13: =N13-I13 -> 8.54 | L13: - | N13: 8.54 | O13: -
A14: =1+A13 -> 10 | B14: ASADA Quebrada Ganado Cacique | C14: Agujas | D14: Perforado | E14: 189077 | F14: 466777 | G14: 47 | H14: 4 | I14: 0.57 | J14: 23 | K14: - | L14: =O14-I14 -> 11.73 | N14: - | O14: 12.3
A15: =1+A14 -> 11 | B15: Residencial Santiago | C15: Agujas | D15: Perforado | E15: 189533 | F15: 465181 | G15: 27 | H15: 3 | I15: 0.55 | K15: =N15-I15 -> 0.15 | L15: - | N15: 0.7 | O15: -
A16: =1+A15 -> 12 | B16: Carlos Luis Monge | C16: Agujas | D16: Perforado | E16: 189923 | F16: 464947 | G16: 22 | I16: - | K16: Sin línea de aire | N16: Sin línea de aire
A17: =1+A16 -> 13 | B17: Samar de Santana | C17: Agujas | D17: Excavado | E17: 189801 | F17: 465079 | G17: 24 | I17: 0.4 | K17: Cerrado con llave | N17: - | O17: -

Sheet Junio 2013
A1: Plan de Monitoreo Acuífero Mantas y Agujas
A2: Fecha: 17 de junio del 2013
N3: Datos de campo
A4: N˚ | B4: Nombre del POZO | C4: Lugar | D4: Tipo | E4: Latitud | F4: Longitud | G4: Altitud sobre nivel de Mar | H4: Diámetro armado (in) | I4: Brocal (m) | J4: Profundidad de pozo (m) | K4: Nivel estático (m) | L4: Nivel dinámico (m) | N4: Nivel estático (m) + Brocal | O4: Nivel dinámico (m) + Brocal
A5: 1 | B5: Punta Leona # 21 Capilla | C5: Punta Leona | D5: Perforado | E5: 187420 | F5: 464086 | G5: 22 | H5: 8 | I5: 0.38 | K5: =N5-I5 -> 5 | L5: - | N5: 5.38 | O5: -
A6: =1+A5 -> 2 | B6: Punta Leona # 28 Rotonda | C6: Punta Leona | D6: Perforado | E6: 187337 | F6: 464142 | G6: 24 | H6: 6 | I6: 0.35 | K6: - | L6: =O6-I6 -> 7.33 | N6: - | O6: 7.68
A7: =1+A6 -> 3 | B7: Punta Leona # 8 Barlovento | C7: Punta Leona | D7: Perforado | E7: 187173 | F7: 464343 | G7: 32 | I7: -0.42 | K7: =N7-I7 -> 7.29 | L7: - | N7: 6.87 | O7: -
A8: =1+A7 -> 4 | B8: Punta Leona # 38 Boulevard | C8: Punta Leona | D8: Perforado | E8: 188544 | F8: 466399 | G8: 36 | H8: 10 | I8: 0.34 | K8: - | L8: =O8-I8 -> 5.85 | N8: - | O8: 6.19
A9: =1+A8 -> 5 | B9: Punta Leona Boulevard 2 | C9: Punta Leona | D9: Perforado | E9: 188556 | F9: 466296 | G9: 35 | H9: 10 | I9: 0.57 | K9: =N9-I9 -> 4.25 | L9: - | N9: 4.82 | O9: -
A10: =1+A9 -> 6 | B10: ASADA Quebrada Ganado Castaña | C10: Quebrada Ganado | D10: Perforado | E10: 188977 | F10: 468685 | G10: 66 | H10: 3 | I10: 0.3 | K10: - | L10: =O10-I10 -> 5.48 | N10: - | O10: 5.78
A11: =1+A10 -> 7 | B11: Juan Ignacio Naranjo Chávez | C11: Quebrada Ganado | D11: Perforado | E11: 189542 | F11: 467732 | G11: 49 | I11: - | K11: Sin línea de aire | N11: Sin línea de aire
A12: =1+A11 -> 8 | B12: Carlos Solano | C12: Quebrada Ganado | D12: Perforado | E12: 189959 | F12: 467620 | G12: 47 | I12: - | K12: Sin línea de aire | N12: Sin línea de aire
A13: =1+A12 -> 9 | B13: Plantation Acres | C13: Agujas | D13: Perforado | E13: 188581 | F13: 466891 | G13: 59 | I13: 0 | K13: =N13-I13 -> 7.76 | L13: - | N13: 7.76 | O13: -
A14: =1+A13 -> 10 | B14: ASADA Quebrada Ganado Cacique | C14: Agujas | D14: Perforado | E14: 189077 | F14: 466777 | G14: 47 | H14: 4 | I14: 0.57 | J14: 23 | K14: - | L14: =O14-I14 -> 9.88 | N14: - | O14: 10.45
A15: =1+A14 -> 11 | B15: Residencial Santiago | C15: Agujas | D15: Perforado | E15: 189533 | F15: 465181 | G15: 27 | H15: 3 | I15: 0.55 | K15: =N15-I15 -> 0.14 | L15: - | N15: 0.69 | O15: -
A16: =1+A15 -> 12 | B16: Carlos Luis Monge | C16: Agujas | D16: Perforado | E16: 189923 | F16: 464947 | G16: 22 | I16: - | K16: Sin línea de aire | N16: Sin línea de aire
A17: =1+A16 -> 13 | B17: Samar de Santana | C17: Agujas | D17: Excavado | E17: 189801 | F17: 465079 | G17: 24 | I17: 0.4 | K17: Cerrado con llave | N17: - | O17: -

Sheet Julio 2013
A1: Plan de Monitoreo Acuífero Mantas y Agujas
A2: Fecha: 15 de Julio del 2013
N3: Datos de campo
A4: N˚ | B4: Nombre del POZO | C4: Lugar | D4: Tipo | E4: Latitud | F4: Longitud | G4: Altitud sobre nivel de Mar | H4: Diámetro armado (in) | I4: Brocal (m) | J4: Profundidad de pozo (m) | K4: Nivel estático (m) | L4: Nivel dinámico (m) | N4: Nivel estático (m) + Brocal | O4: Nivel dinámico (m) + Brocal
A5: 1 | B5: Punta Leona # 21 Capilla | C5: Punta Leona | D5: Perforado | E5: 187420 | F5: 464086 | G5: 22 | H5: 8 | I5: 0.38 | K5: - | L5: =O5-I5 -> 5.28 | N5: - | O5: 5.66
A6: =1+A5 -> 2 | B6: Punta Leona # 28 Rotonda | C6: Punta Leona | D6: Perforado | E6: 187337 | F6: 464142 | G6: 24 | H6: 6 | I6: 0.35 | K6: =N6-I6 -> 4.88 | L6: - | N6: 5.23 | O6: -
A7: =1+A6 -> 3 | B7: Punta Leona # 8 Barlovento | C7: Punta Leona | D7: Perforado | E7: 187173 | F7: 464343 | G7: 32 | I7: -0.42 | K7: =N7-I7 -> 7.04 | L7: - | N7: 6.62 | O7: -
A8: =1+A7 -> 4 | B8: Punta Leona # 38 Boulevard | C8: Punta Leona | D8: Perforado | E8: 188544 | F8: 466399 | G8: 36 | H8: 10 | I8: 0.34 | K8: - | L8: =O8-I8 -> 5.39 | N8: - | O8: 5.73
A9: =1+A8 -> 5 | B9: Punta Leona Boulevard 2 | C9: Punta Leona | D9: Perforado | E9: 188556 | F9: 466296 | G9: 35 | H9: 10 | I9: 0.57 | K9: =N9-I9 -> 5.36 | L9: - | N9: 5.93 | O9: -
A10: =1+A9 -> 6 | B10: ASADA Quebrada Ganado Castaña | C10: Quebrada Ganado | D10: Perforado | E10: 188977 | F10: 468685 | G10: 66 | H10: 3 | I10: 0.3 | K10: - | L10: =O10-I10 -> 5.47 | N10: - | O10: 5.77
A11: =1+A10 -> 7 | B11: Juan Ignacio Naranjo Chávez | C11: Quebrada Ganado | D11: Perforado | E11: 189542 | F11: 467732 | G11: 49 | I11: - | K11: Sin línea de aire | N11: Sin línea de aire
A12: =1+A11 -> 8 | B12: Carlos Solano | C12: Quebrada Ganado | D12: Perforado | E12: 189959 | F12: 467620 | G12: 47 | I12: - | K12: Sin línea de aire | N12: Sin línea de aire
A13: =1+A12 -> 9 | B13: Plantation Acres | C13: Agujas | D13: Perforado | E13: 188581 | F13: 466891 | G13: 59 | I13: 0 | K13: - | L13: =O13-I13 -> 14.03 | N13: - | O13: 14.03
A14: =1+A13 -> 10 | B14: ASADA Quebrada Ganado Cacique | C14: Agujas | D14: Perforado | E14: 189077 | F14: 466777 | G14: 47 | H14: 4 | I14: 0.57 | J14: 23 | K14: - | L14: =O14-I14 -> 8.98 | N14: - | O14: 9.55
A15: =1+A14 -> 11 | B15: Residencial Santiago | C15: Agujas | D15: Perforado | E15: 189533 | F15: 465181 | G15: 27 | H15: 3 | I15: 0.55 | K15: =N15-I15 -> 0.05 | L15: - | N15: 0.6 | O15: -
A16: =1+A15 -> 12 | B16: Carlos Luis Monge | C16: Agujas | D16: Perforado | E16: 189923 | F16: 464947 | G16: 22 | I16: - | K16: Sin línea de aire | N16: Sin línea de aire
A17: =1+A16 -> 13 | B17: Samar de Santana | C17: Agujas | D17: Excavado | E17: 189801 | F17: 465079 | G17: 24 | I17: 0.4 | K17: Cerrado con llave | N17: - | O17: -

Sheet Agosto 2013
A1: Plan de Monitoreo Acuífero Mantas y Agujas
A2: Fecha: 26 de Agosto del 2013
N3: Datos de campo
A4: N˚ | B4: Nombre del POZO | C4: Lugar | D4: Tipo | E4: Latitud | F4: Longitud | G4: Altitud sobre nivel de Mar | H4: Diámetro armado (in) | I4: Brocal (m) | J4: Profundidad de pozo (m) | K4: Nivel estático (m) | L4: Nivel dinámico (m) | N4: Nivel estático (m) + Brocal | O4: Nivel dinámico (m) + Brocal
A5: 1 | B5: Punta Leona # 21 Capilla | C5: Punta Leona | D5: Perforado | E5: 187420 | F5: 464086 | G5: 22 | H5: 8 | I5: 0.38 | K5: - | L5: =O5-I5 -> 4.87 | N5: - | O5: 5.25
A6: =1+A5 -> 2 | B6: Punta Leona # 28 Rotonda | C6: Punta Leona | D6: Perforado | E6: 187337 | F6: 464142 | G6: 24 | H6: 6 | I6: 0.35 | K6: =N6-I6 -> 4.63 | L6: - | N6: 4.98 | O6: -
A7: =1+A6 -> 3 | B7: Punta Leona # 8 Barlovento | C7: Punta Leona | D7: Perforado | E7: 187173 | F7: 464343 | G7: 32 | I7: -0.42 | K7: =N7-I7 -> 7.57 | L7: - | N7: 7.15 | O7: -
A8: =1+A7 -> 4 | B8: Punta Leona # 38 Boulevard | C8: Punta Leona | D8: Perforado | E8: 188544 | F8: 466399 | G8: 36 | H8: 10 | I8: 0.34 | K8: - | L8: =O8-I8 -> 5.6 | N8: - | O8: 5.94
A9: =1+A8 -> 5 | B9: Punta Leona Boulevard 2 | C9: Punta Leona | D9: Perforado | E9: 188556 | F9: 466296 | G9: 35 | H9: 10 | I9: 0.57 | K9: =N9-I9 -> 3.88 | L9: - | N9: 4.45 | O9: -
A10: =1+A9 -> 6 | B10: ASADA Quebrada Ganado Castaña | C10: Quebrada Ganado | D10: Perforado | E10: 188977 | F10: 468685 | G10: 66 | H10: 3 | I10: 0.3 | K10: - | L10: =O10-I10 -> 5.47 | N10: - | O10: 5.77
A11: =1+A10 -> 7 | B11: Juan Ignacio Naranjo Chávez | C11: Quebrada Ganado | D11: Perforado | E11: 189542 | F11: 467732 | G11: 49 | I11: - | K11: Sin línea de aire | N11: Sin línea de aire
A12: =1+A11 -> 8 | B12: Carlos Solano | C12: Quebrada Ganado | D12: Perforado | E12: 189959 | F12: 467620 | G12: 47 | I12: - | K12: Sin línea de aire | N12: Sin línea de aire
A13: =1+A12 -> 9 | B13: Plantation Acres | C13: Agujas | D13: Perforado | E13: 188581 | F13: 466891 | G13: 59 | I13: 0 | K13: =N13-I13 -> 5.9 | N13: 5.9
A14: =1+A13 -> 10 | B14: ASADA Quebrada Ganado Cacique | C14: Agujas | D14: Perforado | E14: 189077 | F14: 466777 | G14: 47 | H14: 4 | I14: 0.57 | J14: 23 | K14: - | L14: =O14-I14 -> 9.41 | N14: - | O14: 9.98
A15: =1+A14 -> 11 | B15: Residencial Santiago | C15: Agujas | D15: Perforado | E15: 189533 | F15: 465181 | G15: 27 | H15: 3 | I15: 0.55 | K15: =N15-I15 -> 0.05 | L15: - | N15: 0.6 | O15: -
A16: =1+A15 -> 12 | B16: Carlos Luis Monge | C16: Agujas | D16: Perforado | E16: 189923 | F16: 464947 | G16: 22 | I16: - | K16: Sin línea de aire | N16: Sin línea de aire
A17: =1+A16 -> 13 | B17: Samar de Santana | C17: Agujas | D17: Excavado | E17: 189801 | F17: 465079 | G17: 24 | I17: 0.4 | K17: Cerrado con llave | N17: - | O17: -

Sheet Setiembre 2013
A1: Mantas y Agujas
A2: 23 de setiembre de 2013
N3: Datos de campo
A4: N˚ | B4: Nombre del POZO | C4: Lugar | D4: Tipo | E4: Latitud | F4: Longitud | G4: Altitud sobre nivel de Mar | H4: Diámetro armado (in) | I4: Brocal (m) | J4: Profundidad de pozo (m) | K4: Nivel estático (m) | L4: Nivel dinámico (m) | N4: Nivel estático (m) + Brocal | O4: Nivel dinámico (m) + Brocal
A5: 1 | B5: Punta Leona # 21 Capilla | C5: Punta Leona | D5: Perforado | E5: 187420 | F5: 464086 | G5: 22 | H5: 8 | I5: 0.38 | K5: - | L5: =O5-I5 -> 3.27 | N5: - | O5: 3.65
A6: =1+A5 -> 2 | B6: Punta Leona # 28 Rotonda | C6: Punta Leona | D6: Perforado | E6: 187337 | F6: 464142 | G6: 24 | H6: 6 | I6: 0.35 | K6: - | L6: =O6-I6 -> 4.81 | O6: 5.16
A7: =1+A6 -> 3 | B7: Punta Leona # 8 Barlovento | C7: Punta Leona | D7: Perforado | E7: 187173 | F7: 464343 | G7: 32 | I7: -0.42 | K7: =N7-I7 -> 3.69 | L7: - | N7: 3.27 | O7: -
A8: =1+A7 -> 4 | B8: Punta Leona # 38 Boulevard | C8: Punta Leona | D8: Perforado | E8: 188544 | F8: 466399 | G8: 36 | H8: 10 | I8: 0.34 | K8: =N8-I8 -> 3.72 | L8: - | N8: 4.06 | O8: -
A9: =1+A8 -> 5 | B9: Punta Leona Boulevard 2 | C9: Punta Leona | D9: Perforado | E9: 188556 | F9: 466296 | G9: 35 | H9: 10 | I9: 0.57 | K9: =N9-I9 -> 2.71 | L9: - | N9: 3.28 | O9: -
A10: =1+A9 -> 6 | B10: ASADA Quebrada Ganado Castaña | C10: Quebrada Ganado | D10: Perforado | E10: 188977 | F10: 468685 | G10: 66 | H10: 3 | I10: 0.3 | K10: - | L10: =O10-I10 -> 5.72 | N10: - | O10: 6.02
A11: =1+A10 -> 7 | B11: Juan Ignacio Naranjo Chávez | C11: Quebrada Ganado | D11: Perforado | E11: 189542 | F11: 467732 | G11: 49 | I11: - | K11: Sin línea de aire | N11: Sin línea de aire
A12: =1+A11 -> 8 | B12: Carlos Solano | C12: Quebrada Ganado | D12: Perforado | E12: 189959 | F12: 467620 | G12: 47 | I12: - | K12: Sin línea de aire | N12: Sin línea de aire
A13: =1+A12 -> 9 | B13: Plantation Acres | C13: Agujas | D13: Perforado | E13: 188581 | F13: 466891 | G13: 59 | I13: 0 | K13: =N13-I13 -> 3.39 | L13: - | N13: 3.39
A14: =1+A13 -> 10 | B14: ASADA Quebrada Ganado Cacique | C14: Agujas | D14: Perforado | E14: 189077 | F14: 466777 | G14: 47 | H14: 4 | I14: 0.57 | J14: 23 | K14: =N14-I14 -> 7.14 | L14: - | N14: 7.71
A15: =1+A14 -> 11 | B15: Residencial Santiago | C15: Agujas | D15: Perforado | E15: 189533 | F15: 465181 | G15: 27 | H15: 3 | I15: 0.55 | K15: =N15-I15 -> 0.02 | L15: - | N15: 0.57 | O15: -
A16: =1+A15 -> 12 | B16: Carlos Luis Monge | C16: Agujas | D16: Perforado | E16: 189923 | F16: 464947 | G16: 22 | I16: - | K16: Sin línea de aire | N16: Sin línea de aire
A17: =1+A16 -> 13 | B17: Samar de Santana | C17: Agujas | D17: Excavado | E17: 189801 | F17: 465079 | G17: 24 | I17: 0.4 | K17: Cerrado con llave | N17: - | O17: -

Sheet Octubre 2013
A1: Mantas y Agujas
A2: 21 de octubre de 2013
N3: Datos de campo
A4: N˚ | B4: Nombre del POZO | C4: Lugar | D4: Tipo | E4: Latitud | F4: Longitud | G4: Altitud sobre nivel de Mar | H4: Diámetro armado (in) | I4: Brocal (m) | J4: Profundidad de pozo (m) | K4: Nivel estático (m) | L4: Nivel dinámico (m) | N4: Nivel estático (m) + Brocal | O4: Nivel dinámico (m) + Brocal
A5: 1 | B5: Punta Leona # 21 Capilla | C5: Punta Leona | D5: Perforado | E5: 187420 | F5: 464086 | G5: 22 | H5: 8 | I5: 0.38 | K5: - | L5: =O5-I5 -> 3.45 | N5: - | O5: 3.83
A6: =1+A5 -> 2 | B6: Punta Leona # 28 Rotonda | C6: Punta Leona | D6: Perforado | E6: 187337 | F6: 464142 | G6: 24 | H6: 6 | I6: 0.35 | K6: - | L6: =O6-I6 -> 6.35 | O6: 6.7
A7: =1+A6 -> 3 | B7: Punta Leona # 8 Barlovento | C7: Punta Leona | D7: Perforado | E7: 187173 | F7: 464343 | G7: 32 | I7: -0.42 | K7: =N7-I7 -> 3.76 | L7: - | N7: 3.34 | O7: -
A8: =1+A7 -> 4 | B8: Punta Leona # 38 Boulevard | C8: Punta Leona | D8: Perforado | E8: 188544 | F8: 466399 | G8: 36 | H8: 10 | I8: 0.34 | K8: =N8-I8 -> 3.91 | L8: - | N8: 4.25
A9: =1+A8 -> 5 | B9: Punta Leona Boulevard 2 | C9: Punta Leona | D9: Perforado | E9: 188556 | F9: 466296 | G9: 35 | H9: 10 | I9: 0.57 | K9: =N9-I9 -> 2.83 | L9: - | N9: 3.4 | O9: -
A10: =1+A9 -> 6 | B10: ASADA Quebrada Ganado Castaña | C10: Quebrada Ganado | D10: Perforado | E10: 188977 | F10: 468685 | G10: 66 | H10: 3 | I10: 0.3 | K10: =N10-I10 -> 5.4 | L10: - | N10: 5.7
A11: =1+A10 -> 7 | B11: Juan Ignacio Naranjo Chávez | C11: Quebrada Ganado | D11: Perforado | E11: 189542 | F11: 467732 | G11: 49 | I11: - | K11: Sin línea de aire | N11: Sin línea de aire
A12: =1+A11 -> 8 | B12: Carlos Solano | C12: Quebrada Ganado | D12: Perforado | E12: 189959 | F12: 467620 | G12: 47 | I12: - | K12: Sin línea de aire | N12: Sin línea de aire
A13: =1+A12 -> 9 | B13: Plantation Acres | C13: Agujas | D13: Perforado | E13: 188581 | F13: 466891 | G13: 59 | I13: 0 | K13: =N13-I13 -> 4.1 | L13: - | N13: 4.1
A14: =1+A13 -> 10 | B14: ASADA Quebrada Ganado Cacique | C14: Agujas | D14: Perforado | E14: 189077 | F14: 466777 | G14: 47 | H14: 4 | I14: 0.57 | J14: 23 | K14: - | L14: =O14-I14 -> 7.07 | N14: - | O14: 7.64
A15: =1+A14 -> 11 | B15: Residencial Santiago | C15: Agujas | D15: Perforado | E15: 189533 | F15: 465181 | G15: 27 | H15: 3 | I15: 0.55 | K15: =N15-I15 -> 0.03 | L15: - | N15: 0.58 | O15: -
A16: =1+A15 -> 12 | B16: Carlos Luis Monge | C16: Agujas | D16: Perforado | E16: 189923 | F16: 464947 | G16: 22 | I16: - | K16: Sin línea de aire | N16: Sin línea de aire
A17: =1+A16 -> 13 | B17: Samar de Santana | C17: Agujas | D17: Excavado | E17: 189801 | F17: 465079 | G17: 24 | I17: 0.4 | K17: Cerrado con llave | N17: - | O17: -

Sheet Noviembre 2013
A1: Mantas y Agujas
A2: 18 de noviembre de 2013
N3: Datos de campo
A4: N˚ | B4: Nombre del POZO | C4: Lugar | D4: Tipo | E4: Latitud | F4: Longitud | G4: Altitud sobre nivel de Mar | H4: Diámetro armado (in) | I4: Brocal (m) | J4: Profundidad de pozo (m) | K4: Nivel estático (m) | L4: Nivel dinámico (m) | N4: Nivel estático (m) + Brocal | O4: Nivel dinámico (m) + Brocal
A5: 1 | B5: Punta Leona # 21 Capilla | C5: Punta Leona | D5: Perforado | E5: 187420 | F5: 464086 | G5: 22 | H5: 8 | I5: 0.38 | K5: - | L5: =O5-I5 -> 4.57 | N5: nd | O5: 4.95
A6: =1+A5 -> 2 | B6: Punta Leona # 28 Rotonda | C6: Punta Leona | D6: Perforado | E6: 187337 | F6: 464142 | G6: 24 | H6: 6 | I6: 0.35 | K6: - | L6: =O6-I6 -> 8.02 | N6: nd | O6: 8.37
A7: =1+A6 -> 3 | B7: Punta Leona # 8 Barlovento | C7: Punta Leona | D7: Perforado | E7: 187173 | F7: 464343 | G7: 32 | I7: -0.42 | K7: =N7-I7 -> 7.63 | L7: - | N7: 7.21 | O7: nd
A8: =1+A7 -> 4 | B8: Punta Leona # 38 Boulevard | C8: Punta Leona | D8: Perforado | E8: 188544 | F8: 466399 | G8: 36 | H8: 10 | I8: 0.34 | K8: Cerrado con llave | N8: nd | O8: nd
A9: =1+A8 -> 5 | B9: Punta Leona Boulevard 2 | C9: Punta Leona | D9: Perforado | E9: 188556 | F9: 466296 | G9: 35 | H9: 10 | I9: 0.57 | K9: =N9-I9 -> 3.86 | L9: - | N9: 4.43 | O9: nd
A10: =1+A9 -> 6 | B10: ASADA Quebrada Ganado Castaña | C10: Quebrada Ganado | D10: Perforado | E10: 188977 | F10: 468685 | G10: 66 | H10: 3 | I10: 0.3 | K10: - | L10: =O10-I10 -> 6.34 | N10: nd | O10: 6.64
A11: =1+A10 -> 7 | B11: Juan Ignacio Naranjo Chávez | C11: Quebrada Ganado | D11: Perforado | E11: 189542 | F11: 467732 | G11: 49 | I11: - | K11: Sin línea de aire | N11: Sin línea de aire
A12: =1+A11 -> 8 | B12: Carlos Solano | C12: Quebrada Ganado | D12: Perforado | E12: 189959 | F12: 467620 | G12: 47 | I12: - | K12: Sin línea de aire | N12: Sin línea de aire
A13: =1+A12 -> 9 | B13: Plantation Acres | C13: Agujas | D13: Perforado | E13: 188581 | F13: 466891 | G13: 59 | I13: 0 | K13: =N13-I13 -> 5.1 | L13: - | N13: 5.1 | O13: nd
A14: =1+A13 -> 10 | B14: ASADA Quebrada Ganado Cacique | C14: Agujas | D14: Perforado | E14: 189077 | F14: 466777 | G14: 47 | H14: 4 | I14: 0.57 | J14: 23 | K14: - | L14: =O14-I14 -> 7.79 | N14: nd | O14: 8.36
A15: =1+A14 -> 11 | B15: Residencial Santiago | C15: Agujas | D15: Perforado | E15: 189533 | F15: 465181 | G15: 27 | H15: 3 | I15: 0.55 | K15: - | L15: =O15-I15 -> 0.03 | N15: nd | O15: 0.58
A16: =1+A15 -> 12 | B16: Carlos Luis Monge | C16: Agujas | D16: Perforado | E16: 189923 | F16: 464947 | G16: 22 | I16: - | K16: Sin línea de aire | N16: Sin línea de aire
A17: =1+A16 -> 13 | B17: Samar de Santana | C17: Agujas | D17: Excavado | E17: 189801 | F17: 465079 | G17: 24 | I17: 0.4 | K17: Cerrado con llave | N17: - | O17: -

Sheet Diciembre 2013
A1: Plan de Monitoreo Acuífero Mantas y Agujas
A2: Fecha: 16 de dicembre del 2013
N3: Datos de campo
A4: N˚ | B4: Nombre del POZO | C4: Lugar | D4: Tipo | E4: Latitud | F4: Longitud | G4: Altitud sobre nivel de Mar | H4: Diámetro armado (in) | I4: Brocal (m) | J4: Profundidad de pozo (m) | K4: Nivel estático (m) | L4: Nivel dinámico (m) | N4: Nivel estático (m) + Brocal | O4: Nivel dinámico (m) + Brocal
A5: 1 | B5: Punta Leona # 21 Capilla | C5: Punta Leona | D5: Perforado | E5: 187420 | F5: 464086 | G5: 22 | H5: 8 | I5: 0.38 | K5: - | L5: =O5-I5 -> 5.89 | N5: - | O5: 6.27
A6: =1+A5 -> 2 | B6: Punta Leona # 28 Rotonda | C6: Punta Leona | D6: Perforado | E6: 187337 | F6: 464142 | G6: 24 | H6: 6 | I6: 0.35 | K6: - | L6: =O6-I6 -> 9.35 | O6: 9.7
A7: =1+A6 -> 3 | B7: Punta Leona # 8 Barlovento | C7: Punta Leona | D7: Perforado | E7: 187173 | F7: 464343 | G7: 32 | I7: -0.42 | K7: =N7-I7 -> 9.63 | L7: - | N7: 9.21 | O7: -
A8: =1+A7 -> 4 | B8: Punta Leona # 38 Boulevard | C8: Punta Leona | D8: Perforado | E8: 188544 | F8: 466399 | G8: 36 | H8: 10 | I8: 0.34 | K8: =N8-I8 -> 5.17 | L8: - | N8: 5.51
A9: =1+A8 -> 5 | B9: Punta Leona Boulevard 2 | C9: Punta Leona | D9: Perforado | E9: 188556 | F9: 466296 | G9: 35 | H9: 10 | I9: 0.57 | K9: Cerrado con llave | N9: - | O9: -
A10: =1+A9 -> 6 | B10: ASADA Quebrada Ganado Castaña | C10: Quebrada Ganado | D10: Perforado | E10: 188977 | F10: 468685 | G10: 66 | H10: 3 | I10: 0.3 | K10: - | L10: =O10-I10 -> 6.85 | N10: - | O10: 7.15
A11: =1+A10 -> 7 | B11: Juan Ignacio Naranjo Chávez | C11: Quebrada Ganado | D11: Perforado | E11: 189542 | F11: 467732 | G11: 49 | I11: - | K11: Sin línea de aire | N11: Sin línea de aire
A12: =1+A11 -> 8 | B12: Carlos Solano | C12: Quebrada Ganado | D12: Perforado | E12: 189959 | F12: 467620 | G12: 47 | I12: - | K12: Sin línea de aire | N12: Sin línea de aire
A13: =1+A12 -> 9 | B13: Plantation Acres | C13: Agujas | D13: Perforado | E13: 188581 | F13: 466891 | G13: 59 | I13: 0 | K13: =N13-I13 -> 7.03 | L13: - | N13: 7.03
A14: =1+A13 -> 10 | B14: ASADA Quebrada Ganado Cacique | C14: Agujas | D14: Perforado | E14: 189077 | F14: 466777 | G14: 47 | H14: 4 | I14: 0.57 | J14: 23 | K14: - | L14: =O14-I14 -> 9.31 | N14: - | O14: 9.88
A15: =1+A14 -> 11 | B15: Residencial Santiago | C15: Agujas | D15: Perforado | E15: 189533 | F15: 465181 | G15: 27 | H15: 3 | I15: 0.55 | K15: =N15-I15 -> 0.16 | L15: - | N15: 0.71 | O15: -
A16: =1+A15 -> 12 | B16: Carlos Luis Monge | C16: Agujas | D16: Perforado | E16: 189923 | F16: 464947 | G16: 22 | I16: - | K16: Sin línea de aire | N16: Sin línea de aire
A17: =1+A16 -> 13 | B17: Samar de Santana | C17: Agujas | D17: Excavado | E17: 189801 | F17: 465079 | G17: 24 | I17: 0.4 | K17: Cerrado con llave | N17: - | O17: -

Sheet Enero 2014
A1: Plan de Monitoreo Acuífero Mantas y Agujas
A2: Fecha: 20 de enero del 2014
N3: Datos de campo
A4: N˚ | B4: Nombre del POZO | C4: Lugar | D4: Tipo | E4: Latitud | F4: Longitud | G4: Altitud sobre nivel de Mar | H4: Diámetro armado (in) | I4: Brocal (m) | J4: Profundidad de pozo (m) | K4: Nivel estático (m) | L4: Nivel dinámico (m) | N4: Nivel estático (m) + Brocal | O4: Nivel dinámico (m) + Brocal
A5: 1 | B5: Punta Leona # 21 Capilla | C5: Punta Leona | D5: Perforado | E5: 187420 | F5: 464086 | G5: 22 | H5: 8 | I5: 0.38 | K5: - | L5: =O5-I5 -> 7.05 | N5: - | O5: 7.43
A6: =1+A5 -> 2 | B6: Punta Leona # 28 Rotonda | C6: Punta Leona | D6: Perforado | E6: 187337 | F6: 464142 | G6: 24 | H6: 6 | I6: 0.35 | K6: =N6-I6 -> 5.53 | L6: - | N6: 5.88 | O6: -
A7: =1+A6 -> 3 | B7: Punta Leona # 8 Barlovento | C7: Punta Leona | D7: Perforado | E7: 187173 | F7: 464343 | G7: 32 | I7: -0.42 | K7: =N7-I7 -> 11.85 | L7: - | N7: 11.43 | O7: -
A8: =1+A7 -> 4 | B8: Punta Leona # 38 Boulevard | C8: Punta Leona | D8: Perforado | E8: 188544 | F8: 466399 | G8: 36 | H8: 10 | I8: 0.34 | K8: - | L8: =O8-I8 -> 6.26 | N8: - | O8: 6.6
A9: =1+A8 -> 5 | B9: Punta Leona Boulevard 2 | C9: Punta Leona | D9: Perforado | E9: 188556 | F9: 466296 | G9: 35 | H9: 10 | I9: 0.57 | K9: =N9-I9 -> 4.38 | L9: - | N9: 4.95 | O9: -
A10: =1+A9 -> 6 | B10: ASADA Quebrada Ganado Castaña | C10: Quebrada Ganado | D10: Perforado | E10: 188977 | F10: 468685 | G10: 66 | H10: 3 | I10: 0.3 | K10: - | L10: =O10-I10 -> 6.7 | N10: - | O10: 7
A11: =1+A10 -> 7 | B11: Juan Ignacio Naranjo Chávez | C11: Quebrada Ganado | D11: Perforado | E11: 189542 | F11: 467732 | G11: 49 | I11: - | K11: Sin línea de aire | N11: Sin línea de aire
A12: =1+A11 -> 8 | B12: Carlos Solano | C12: Quebrada Ganado | D12: Perforado | E12: 189959 | F12: 467620 | G12: 47 | I12: - | K12: Sin línea de aire | N12: Sin línea de aire
A13: =1+A12 -> 9 | B13: Plantation Acres | C13: Agujas | D13: Perforado | E13: 188581 | F13: 466891 | G13: 59 | I13: 0 | K13: =N13-I13 -> 12.45 | L13: - | N13: 12.45
A14: =1+A13 -> 10 | B14: ASADA Quebrada Ganado Cacique | C14: Agujas | D14: Perforado | E14: 189077 | F14: 466777 | G14: 47 | H14: 4 | I14: 0.57 | J14: 23 | K14: - | L14: =O14-I14 -> 10.01 | N14: - | O14: 10.58
A15: =1+A14 -> 11 | B15: Residencial Santiago | C15: Agujas | D15: Perforado | E15: 189533 | F15: 465181 | G15: 27 | H15: 3 | I15: 0.55 | K15: =N15-I15 -> 0.22 | L15: - | N15: 0.77 | O15: -
A16: =1+A15 -> 12 | B16: Carlos Luis Monge | C16: Agujas | D16: Perforado | E16: 189923 | F16: 464947 | G16: 22 | I16: - | K16: Sin línea de aire | N16: Sin línea de aire
A17: =1+A16 -> 13 | B17: Samar de Santana | C17: Agujas | D17: Excavado | E17: 189801 | F17: 465079 | G17: 24 | I17: 0.4 | K17: Cerrado con llave | N17: - | O17: -

Sheet febrero 2014 
A1: Plan de Monitoreo Acuífero Mantas y Agujas
A2: Fecha: 24 de febrero del 2014
N3: Datos de campo
A4: N˚ | B4: Nombre del POZO | C4: Lugar | D4: Tipo | E4: Latitud | F4: Longitud | G4: Altitud sobre nivel de Mar | H4: Diámetro armado (in) | I4: Brocal (m) | J4: Profundidad de pozo (m) | K4: Nivel estático (m) | L4: Nivel dinámico (m) | N4: Nivel estático (m) + Brocal | O4: Nivel dinámico (m) + Brocal
A5: 1 | B5: Punta Leona # 21 Capilla | C5: Punta Leona | D5: Perforado | E5: 187420 | F5: 464086 | G5: 22 | H5: 8 | I5: 0.38 | K5: - | L5: =O5-I5 -> 8.31 | N5: - | O5: 8.69
A6: =1+A5 -> 2 | B6: Punta Leona # 28 Rotonda | C6: Punta Leona | D6: Perforado | E6: 187337 | F6: 464142 | G6: 24 | H6: 6 | I6: 0.35 | K6: - | L6: =O6-I6 -> 12.19 | N6: - | O6: 12.54
A7: =1+A6 -> 3 | B7: Punta Leona # 8 Barlovento | C7: Punta Leona | D7: Perforado | E7: 187173 | F7: 464343 | G7: 32 | I7: -0.42 | K7: - | L7: =O7-I7 -> 14.71 | N7: - | O7: 14.29
A8: =1+A7 -> 4 | B8: Punta Leona # 38 Boulevard | C8: Punta Leona | D8: Perforado | E8: 188544 | F8: 466399 | G8: 36 | H8: 10 | I8: 0.34 | K8: - | L8: =O8-I8 -> 6.99 | N8: - | O8: 7.33
A9: =1+A8 -> 5 | B9: Punta Leona Boulevard 2 | C9: Punta Leona | D9: Perforado | E9: 188556 | F9: 466296 | G9: 35 | H9: 10 | I9: 0.57 | K9: =N9-I9 -> 5.01 | L9: - | N9: 5.58 | O9: -
A10: =1+A9 -> 6 | B10: ASADA Quebrada Ganado Castaña | C10: Quebrada Ganado | D10: Perforado | E10: 188977 | F10: 468685 | G10: 66 | H10: 3 | I10: 0.3 | K10: - | L10: =O10-I10 -> 6.57 | N10: - | O10: 6.87
A11: =1+A10 -> 7 | B11: Juan Ignacio Naranjo Chávez | C11: Quebrada Ganado | D11: Perforado | E11: 189542 | F11: 467732 | G11: 49 | I11: - | K11: Sin línea de aire | N11: Sin línea de aire
A12: =1+A11 -> 8 | B12: Carlos Solano | C12: Quebrada Ganado | D12: Perforado | E12: 189959 | F12: 467620 | G12: 47 | I12: - | K12: Sin línea de aire | N12: Sin línea de aire
A13: =1+A12 -> 9 | B13: Plantation Acres | C13: Agujas | D13: Perforado | E13: 188581 | F13: 466891 | G13: 59 | I13: 0 | K13: Cerrado con llave | N13: -
A14: =1+A13 -> 10 | B14: ASADA Quebrada Ganado Cacique | C14: Agujas | D14: Perforado | E14: 189077 | F14: 466777 | G14: 47 | H14: 4 | I14: 0.57 | J14: 23 | K14: - | L14: =O14-I14 -> 10.61 | N14: - | O14: 11.18
A15: =1+A14 -> 11 | B15: Residencial Santiago | C15: Agujas | D15: Perforado | E15: 189533 | F15: 465181 | G15: 27 | H15: 3 | I15: 0.55 | K15: =N15-I15 -> 0.19 | L15: - | N15: 0.74 | O15: -
A16: =1+A15 -> 12 | B16: Carlos Luis Monge | C16: Agujas | D16: Perforado | E16: 189923 | F16: 464947 | G16: 22 | I16: - | K16: Sin línea de aire | N16: Sin línea de aire
A17: =1+A16 -> 13 | B17: Samar de Santana | C17: Agujas | D17: Excavado | E17: 189801 | F17: 465079 | G17: 24 | I17: 0.4 | K17: Cerrado con llave | N17: - | O17: -

Sheet  marzo 2014
A1: Plan de Monitoreo Acuífero Mantas y Agujas
A2: Fecha: 24 de marzo del 2014
N3: Datos de campo
A4: N˚ | B4: Nombre del POZO | C4: Lugar | D4: Tipo | E4: Latitud | F4: Longitud | G4: Altitud sobre nivel de Mar | H4: Diámetro armado (in) | I4: Brocal (m) | J4: Profundidad de pozo (m) | K4: Nivel estático (m) | L4: Nivel dinámico (m) | N4: Nivel estático (m) + Brocal | O4: Nivel dinámico (m) + Brocal
A5: 1 | B5: Punta Leona # 21 Capilla | C5: Punta Leona | D5: Perforado | E5: 187420 | F5: 464086 | G5: 22 | H5: 8 | I5: 0.38 | K5: - | L5: =O5-I5 -> 8.71 | N5: - | O5: 9.09
A6: =1+A5 -> 2 | B6: Punta Leona # 28 Rotonda | C6: Punta Leona | D6: Perforado | E6: 187337 | F6: 464142 | G6: 24 | H6: 6 | I6: 0.35 | K6: - | L6: =O6-I6 -> 12.44 | N6: - | O6: 12.79
A7: =1+A6 -> 3 | B7: Punta Leona # 8 Barlovento | C7: Punta Leona | D7: Perforado | E7: 187173 | F7: 464343 | G7: 32 | I7: -0.42 | K7: =N7-I7 -> 14.48 | L7: - | N7: 14.06 | O7: -
A8: =1+A7 -> 4 | B8: Punta Leona # 38 Boulevard | C8: Punta Leona | D8: Perforado | E8: 188544 | F8: 466399 | G8: 36 | H8: 10 | I8: 0.34 | K8: - | L8: =O8-I8 -> 7.6 | N8: - | O8: 7.94
A9: =1+A8 -> 5 | B9: Punta Leona Boulevard 2 | C9: Punta Leona | D9: Perforado | E9: 188556 | F9: 466296 | G9: 35 | H9: 10 | I9: 0.57 | K9: =N9-I9 -> 5.5 | L9: - | N9: 6.07 | O9: -
A10: =1+A9 -> 6 | B10: ASADA Quebrada Ganado Castaña | C10: Quebrada Ganado | D10: Perforado | E10: 188977 | F10: 468685 | G10: 66 | H10: 3 | I10: 0.3 | K10: - | L10: =O10-I10 -> 6.6 | N10: - | O10: 6.9
A11: =1+A10 -> 7 | B11: Juan Ignacio Naranjo Chávez | C11: Quebrada Ganado | D11: Perforado | E11: 189542 | F11: 467732 | G11: 49 | I11: - | K11: Sin línea de aire | N11: Sin línea de aire
A12: =1+A11 -> 8 | B12: Carlos Solano | C12: Quebrada Ganado | D12: Perforado | E12: 189959 | F12: 467620 | G12: 47 | I12: - | K12: Sin línea de aire | N12: Sin línea de aire
A13: =1+A12 -> 9 | B13: Plantation Acres | C13: Agujas | D13: Perforado | E13: 188581 | F13: 466891 | G13: 59 | I13: 0 | K13: - | L13: =O13-I13 -> 12.39 | N13: - | O13: 12.39
A14: =1+A13 -> 10 | B14: ASADA Quebrada Ganado Cacique | C14: Agujas | D14: Perforado | E14: 189077 | F14: 466777 | G14: 47 | H14: 4 | I14: 0.57 | J14: 23 | K14: - | L14: =O14-I14 -> 11.14 | N14: - | O14: 11.71
A15: =1+A14 -> 11 | B15: Residencial Santiago | C15: Agujas | D15: Perforado | E15: 189533 | F15: 465181 | G15: 27 | H15: 3 | I15: 0.55 | K15: =N15-I15 -> 0.1 | L15: - | N15: 0.65 | O15: -
A16: =1+A15 -> 12 | B16: Carlos Luis Monge | C16: Agujas | D16: Perforado | E16: 189923 | F16: 464947 | G16: 22 | I16: - | K16: Sin línea de aire | N16: Sin línea de aire
A17: =1+A16 -> 13 | B17: Samar de Santana | C17: Agujas | D17: Excavado | E17: 189801 | F17: 465079 | G17: 24 | I17: 0.4 | K17: Cerrado con llave | N17: - | O17: -

Sheet abril 2014
A1: Plan de Monitoreo Acuífero Mantas y Agujas
A2: Fecha: 21 de abril del 2014
N3: Datos de campo
A4: N˚ | B4: Nombre del POZO | C4: Lugar | D4: Tipo | E4: Latitud | F4: Longitud | G4: Altitud sobre nivel de Mar | H4: Diámetro armado (in) | I4: Brocal (m) | J4: Profundidad de pozo (m) | K4: Nivel estático (m) | L4: Nivel dinámico (m) | N4: Nivel estático (m) + Brocal | O4: Nivel dinámico (m) + Brocal
A5: 1 | B5: Punta Leona # 21 Capilla | C5: Punta Leona | D5: Perforado | E5: 187420 | F5: 464086 | G5: 22 | H5: 8 | I5: 0.38 | K5: - | L5: =O5-I5 -> 9.99 | N5: nd | O5: 10.37
A6: =1+A5 -> 2 | B6: Punta Leona # 28 Rotonda | C6: Punta Leona | D6: Perforado | E6: 187337 | F6: 464142 | G6: 24 | H6: 6 | I6: 0.35 | K6: - | L6: =O6-I6 -> 13.7 | N6: nd | O6: 14.05
A7: =1+A6 -> 3 | B7: Punta Leona # 8 Barlovento | C7: Punta Leona | D7: Perforado | E7: 187173 | F7: 464343 | G7: 32 | I7: -0.42 | K7: - | L7: =O7-I7 -> 18 | N7: nd | O7: 17.58
A8: =1+A7 -> 4 | B8: Punta Leona # 38 Boulevard | C8: Punta Leona | D8: Perforado | E8: 188544 | F8: 466399 | G8: 36 | H8: 10 | I8: 0.34 | K8: - | L8: =O8-I8 -> 9.01 | N8: nd | O8: 9.35
A9: =1+A8 -> 5 | B9: Punta Leona Boulevard 2 | C9: Punta Leona | D9: Perforado | E9: 188556 | F9: 466296 | G9: 35 | H9: 10 | I9: 0.57 | K9: - | L9: =O9-I9 -> 6.86 | N9: nd | O9: 7.43
A10: =1+A9 -> 6 | B10: ASADA Quebrada Ganado Castaña | C10: Quebrada Ganado | D10: Perforado | E10: 188977 | F10: 468685 | G10: 66 | H10: 3 | I10: 0.3 | K10: - | L10: =O10-I10 -> 6.38 | N10: nd | O10: 6.68
A11: =1+A10 -> 7 | B11: Juan Ignacio Naranjo Chávez | C11: Quebrada Ganado | D11: Perforado | E11: 189542 | F11: 467732 | G11: 49 | I11: - | K11: Sin línea de aire | N11: Sin línea de aire
A12: =1+A11 -> 8 | B12: Carlos Solano | C12: Quebrada Ganado | D12: Perforado | E12: 189959 | F12: 467620 | G12: 47 | I12: - | K12: Sin línea de aire | N12: Sin línea de aire
A13: =1+A12 -> 9 | B13: Plantation Acres | C13: Agujas | D13: Perforado | E13: 188581 | F13: 466891 | G13: 59 | I13: 0 | K13: =N13-I13 -> 17.56 | L13: - | N13: 17.56 | O13: nd
A14: =1+A13 -> 10 | B14: ASADA Quebrada Ganado Cacique | C14: Agujas | D14: Perforado | E14: 189077 | F14: 466777 | G14: 47 | H14: 4 | I14: 0.57 | J14: 23 | K14: - | L14: =O14-I14 -> 12.18 | N14: nd | O14: 12.75
A15: =1+A14 -> 11 | B15: Residencial Santiago | C15: Agujas | D15: Perforado | E15: 189533 | F15: 465181 | G15: 27 | H15: 3 | I15: 0.55 | K15: 0,40+ | L15: - | N15: 0.15 | O15: nd
A16: =1+A15 -> 12 | B16: Carlos Luis Monge | C16: Agujas | D16: Perforado | E16: 189923 | F16: 464947 | G16: 22 | I16: - | K16: Sin línea de aire | N16: Sin línea de aire
A17: =1+A16 -> 13 | B17: Samar de Santana | C17: Agujas | D17: Excavado | E17: 189801 | F17: 465079 | G17: 24 | I17: 0.4 | K17: Cerrado con llave | N17: - | O17: -

Sheet Mayo 2014
A1: Plan de Monitoreo Acuífero Mantas y Agujas
A2: Fecha: 26 de mayo del 2014
N3: Datos de campo
A4: N˚ | B4: Nombre del POZO | C4: Lugar | D4: Tipo | E4: Latitud | F4: Longitud | G4: Altitud sobre nivel de Mar | H4: Diámetro armado (in) | I4: Brocal (m) | J4: Profundidad de pozo (m) | K4: Nivel estático (m) | L4: Nivel dinámico (m) | N4: Nivel estático (m) + Brocal | O4: Nivel dinámico (m) + Brocal
A5: 1 | B5: Punta Leona # 21 Capilla | C5: Punta Leona | D5: Perforado | E5: 187420 | F5: 464086 | G5: 22 | H5: 8 | I5: 0.38 | K5: - | L5: =O5-I5 -> 7.9 | N5: - | O5: 8.28
A6: =1+A5 -> 2 | B6: Punta Leona # 28 Rotonda | C6: Punta Leona | D6: Perforado | E6: 187337 | F6: 464142 | G6: 24 | H6: 6 | I6: 0.35 | K6: =N6-I6 -> 8.56 | L6: - | N6: 8.91 | O6: -
A7: =1+A6 -> 3 | B7: Punta Leona # 8 Barlovento | C7: Punta Leona | D7: Perforado | E7: 187173 | F7: 464343 | G7: 32 | I7: -0.42 | K7: =N7-I7 -> 13.35 | L7: - | N7: 12.93 | O7: -
A8: =1+A7 -> 4 | B8: Punta Leona # 38 Boulevard | C8: Punta Leona | D8: Perforado | E8: 188544 | F8: 466399 | G8: 36 | H8: 10 | I8: 0.34 | K8: - | L8: =O8-I8 -> 8.15 | N8: - | O8: 8.49
A9: =1+A8 -> 5 | B9: Punta Leona Boulevard 2 | C9: Punta Leona | D9: Perforado | E9: 188556 | F9: 466296 | G9: 35 | H9: 10 | I9: 0.57 | K9: - | L9: =O9-I9 -> 5.97 | N9: - | O9: 6.54
A10: =1+A9 -> 6 | B10: ASADA Quebrada Ganado Castaña | C10: Quebrada Ganado | D10: Perforado | E10: 188977 | F10: 468685 | G10: 66 | H10: 3 | I10: 0.3 | K10: =N10-I10 -> 5.85 | L10: - | N10: 6.15
A11: =1+A10 -> 7 | B11: Juan Ignacio Naranjo Chávez | C11: Quebrada Ganado | D11: Perforado | E11: 189542 | F11: 467732 | G11: 49 | I11: - | K11: Sin línea de aire | N11: Sin línea de aire
A12: =1+A11 -> 8 | B12: Carlos Solano | C12: Quebrada Ganado | D12: Perforado | E12: 189959 | F12: 467620 | G12: 47 | I12: - | K12: Sin línea de aire | N12: Sin línea de aire
A13: =1+A12 -> 9 | B13: Plantation Acres | C13: Agujas | D13: Perforado | E13: 188581 | F13: 466891 | G13: 59 | I13: 0 | K13: Cerrado con llave | N13: - | O13: -
A14: =1+A13 -> 10 | B14: ASADA Quebrada Ganado Cacique | C14: Agujas | D14: Perforado | E14: 189077 | F14: 466777 | G14: 47 | H14: 4 | I14: 0.57 | J14: 23 | K14: - | L14: =O14-I14 -> 11.58 | N14: - | O14: 12.15
A15: =1+A14 -> 11 | B15: Residencial Santiago | C15: Agujas | D15: Perforado | E15: 189533 | F15: 465181 | G15: 27 | H15: 3 | I15: 0.55 | K15: - | L15: =O15-I15 -> 1.12 | N15: - | O15: 1.67
A16: =1+A15 -> 12 | B16: Carlos Luis Monge | C16: Agujas | D16: Perforado | E16: 189923 | F16: 464947 | G16: 22 | I16: - | K16: Sin línea de aire | N16: Sin línea de aire
A17: =1+A16 -> 13 | B17: Samar de Santana | C17: Agujas | D17: Excavado | E17: 189801 | F17: 465079 | G17: 24 | I17: 0.4 | K17: Cerrado con llave | N17: - | O17: -
A18: =1+A17 -> 14 | B18: ASADA Quebrada Ganado Castaña Nuevo | C18: Quebrada Ganado | D18: Perforado | I18: 0.56 | K18: =N18-I18 -> 9.3 | L18: - | N18: 9.86 | O18: -

Sheet Junio 2014
A1: Plan de Monitoreo Acuífero Mantas y Agujas
A2: Fecha: 23 de junio del 2014
N3: Datos de campo
A4: N˚ | B4: Nombre del POZO | C4: Lugar | D4: Tipo | E4: Latitud | F4: Longitud | G4: Altitud sobre nivel de Mar | H4: Diámetro armado (in) | I4: Brocal (m) | J4: Profundidad de pozo (m) | K4: Nivel estático (m) | L4: Nivel dinámico (m) | N4: Nivel estático (m) + Brocal | O4: Nivel dinámico (m) + Brocal
A5: 1 | B5: Punta Leona # 21 Capilla | C5: Punta Leona | D5: Perforado | E5: 187420 | F5: 464086 | G5: 22 | H5: 8 | I5: 0.38 | K5: - | L5: =O5-I5 -> 6.94 | N5: - | O5: 7.32
A6: =1+A5 -> 2 | B6: Punta Leona # 28 Rotonda | C6: Punta Leona | D6: Perforado | E6: 187337 | F6: 464142 | G6: 24 | H6: 6 | I6: 0.35 | K6: =N6-I6 -> 7.4 | L6: - | N6: 7.75 | O6: -
A7: =1+A6 -> 3 | B7: Punta Leona # 8 Barlovento | C7: Punta Leona | D7: Perforado | E7: 187173 | F7: 464343 | G7: 32 | I7: -0.42 | K7: =N7-I7 -> 11.89 | L7: - | N7: 11.47 | O7: -
A8: =1+A7 -> 4 | B8: Punta Leona # 38 Boulevard | C8: Punta Leona | D8: Perforado | E8: 188544 | F8: 466399 | G8: 36 | H8: 10 | I8: 0.34 | K8: - | L8: =O8-I8 -> 7.06 | N8: - | O8: 7.4
