Workbook

Sheet Setiembre 2012
A1: Plan de Monitoreo Acuífero Mantas y Agujas
A2: Fecha: 28 de Setiembre del 2012
N3: Datos de campo
A4: N˚ | B4: Nombre del POZO | C4: Lugar | D4: Tipo | E4: Latitud | F4: Longitud | G4: Altitud sobre nivel de Mar | H4: Diámetro armado (in) | I4: Brocal (m) | J4: Profundidad de pozo (m) | K4: Nivel estático (m) | L4: Nivel dinámico (m) | N4: Nivel estático (m) + Brocal | O4: Nivel dinámico (m) + Brocal
A5: 1 | B5: Punta Leona # 21 Capilla | C5: Punta Leona | D5: Perforado | E5: 187420 | F5: 464086 | G5: 22 | H5: 8 | I5: 0.38 | K5: =N5-I5 -> 4.22 | L5: - | N5: 4.6 | O5: -
A6: =1+A5 -> 2 | B6: Punta Leona # 28 Rotonda | C6: Punta Leona | D6: Perforado | E6: 187337 | F6: 464142 | G6: 24 | H6: 6 | I6: 0.35 | K6: =N6-I6 -> 4.61 | L6: - | N6: 4.96 | O6: -
A7: =1+A6 -> 3 | B7: Punta Leona # 8 Barlovento | C7: Punta Leona | D7: Perforado | E7: 187173 | F7: 464343 | G7: 32 | I7: - | K7: Sin línea de aire | N7: - | O7: -
A8: =1+A7 -> 4 | B8: Punta Leona # 38 Boulevard | C8: Punta Leona | D8: Perforado | E8: 188544 | F8: 466399 | G8: 36 | H8: 10 | I8: 0.34 | K8: - | L8: =O8-I8 -> 4.63 | N8: - | O8: 4.97
A9: =1+A8 -> 5 | B9: Punta Leona Boulevard 2 | C9: Punta Leona | D9: Perforado | E9: 188556 | F9: 466296 | G9: 35 | H9: 10 | I9: 0.57 | K9: =N9-I9 -> 3.11 | L9: - | N9: 3.68 | O9: -
A10: =1+A9 -> 6 | B10: ASADA Quebrada Ganado Castaña | C10: Quebrada Ganado | D10: Perforado | E10: 188977 | F10: 468685 | G10: 66 | H10: 3 | I10: 0.3 | K10: - | L10: =O10-I10 -> 7.62 | N10: - | O10: 7.92
A11: =1+A10 -> 7 | B11: Juan Ignacio Naranjo Chávez | C11: Quebrada Ganado | D11: Perforado | E11: 189542 | F11: 467732 | G11: 49 | I11: - | K11: Sin línea de aire | N11: - | O11: -
A12: =1+A11 -> 8 | B12: Carlos Solano | C12: Quebrada Ganado | D12: Perforado | E12: 189959 | F12: 467620 | G12: 47 | I12: - | K12: Sin línea de aire | N12: - | O12: -
A13: =1+A12 -> 9 | B13: Plantation Acres | C13: Agujas | D13: Perforado | E13: 188581 | F13: 466891 | G13: 59 | I13: 0 | K13: =N13-I13 -> 4.87 | L13: - | N13: 4.87 | O13: -
A14: =1+A13 -> 10 | B14: ASADA Quebrada Ganado Cacique | C14: Agujas | D14: Perforado | E14: 189077 | F14: 466777 | G14: 47 | H14: 4 | I14: 0.57 | J14: 23 | K14: - | L14: =O14-I14 -> 7.55 | N14: - | O14: 8.12
A15: =1+A14 -> 11 | B15: Residencial Santiago | C15: Agujas | D15: Perforado | E15: 189533 | F15: 465181 | G15: 27 | H15: 3 | I15: 0.55 | K15: =N15-I15 -> 0.04 | L15: - | N15: 0.59 | O15: -
A16: =1+A15 -> 12 | B16: Carlos Luis Monge | C16: Agujas | D16: Perforado | E16: 189923 | F16: 464947 | G16: 22 | I16: - | K16: Sin línea de aire | N16: - | O16: -
A17: =1+A16 -> 13 | B17: Samar de Santana | C17: Agujas | D17: Excavado | E17: 189801 | F17: 465079 | G17: 24 | I17: 0.4 | K17: =N17-I17 -> 1.2 | L17: - | N17: 1.6 | O17: -

Sheet Octubre 2012
A1: Plan de Monitoreo Acuífero Mantas y Agujas
A2: Fecha: 22 de Octubre del 2012
N3: Datos de campo
A4: N˚ | B4: Nombre del POZO | C4: Lugar | D4: Tipo | E4: Latitud | F4: Longitud | G4: Altitud sobre nivel de Mar | H4: Diámetro armado (in) | I4: Brocal (m) | J4: Profundidad de pozo (m) | K4: Nivel estático (m) | L4: Nivel dinámico (m) | N4: Nivel estático (m) + Brocal | O4: Nivel dinámico (m) + Brocal
A5: 1 | B5: Punta Leona # 21 Capilla | C5: Punta Leona | D5: Perforado | E5: 187420 | F5: 464086 | G5: 22 | H5: 8 | I5: 0.38 | K5: =N5-I5 -> 2.21 | L5: - | N5: 2.59 | O5: -
A6: =1+A5 -> 2 | B6: Punta Leona # 28 Rotonda | C6: Punta Leona | D6: Perforado | E6: 187337 | F6: 464142 | G6: 24 | H6: 6 | I6: 0.35 | K6: =N6-I6 -> 2.33 | L6: - | N6: 2.68 | O6: -
A7: =1+A6 -> 3 | B7: Punta Leona # 8 Barlovento | C7: Punta Leona | D7: Perforado | E7: 187173 | F7: 464343 | G7: 32 | I7: -0.42 | K7: =N7-I7 -> 3.35 | N7: 2.93 | O7: -
A8: =1+A7 -> 4 | B8: Punta Leona # 38 Boulevard | C8: Punta Leona | D8: Perforado | E8: 188544 | F8: 466399 | G8: 36 | H8: 10 | I8: 0.34 | K8: - | L8: =O8-I8 -> 4.44 | N8: - | O8: 4.78
A9: =1+A8 -> 5 | B9: Punta Leona Boulevard 2 | C9: Punta Leona | D9: Perforado | E9: 188556 | F9: 466296 | G9: 35 | H9: 10 | I9: 0.57 | K9: =N9-I9 -> 2.99 | L9: - | N9: 3.56 | O9: -
A10: =1+A9 -> 6 | B10: ASADA Quebrada Ganado Castaña | C10: Quebrada Ganado | D10: Perforado | E10: 188977 | F10: 468685 | G10: 66 | H10: 3 | I10: 0.3 | K10: =N10-I10 -> 5.17 | L10: - | N10: 5.47 | O10: -
A11: =1+A10 -> 7 | B11: Juan Ignacio Naranjo Chávez | C11: Quebrada Ganado | D11: Perforado | E11: 189542 | F11: 467732 | G11: 49 | I11: - | K11: Sin línea de aire | N11: - | O11: -
A12: =1+A11 -> 8 | B12: Carlos Solano | C12: Quebrada Ganado | D12: Perforado | E12: 189959 | F12: 467620 | G12: 47 | I12: - | K12: Sin línea de aire | N12: - | O12: -
A13: =1+A12 -> 9 | B13: Plantation Acres | C13: Agujas | D13: Perforado | E13: 188581 | F13: 466891 | G13: 59 | I13: 0 | K13: Sin Dato | L13: - | N13: Sin Dato | O13: -
A14: =1+A13 -> 10 | B14: ASADA Quebrada Ganado Cacique | C14: Agujas | D14: Perforado | E14: 189077 | F14: 466777 | G14: 47 | H14: 4 | I14: 0.57 | J14: 23 | K14: - | L14: =O14-I14 -> 7.69 | N14: - | O14: 8.26
A15: =1+A14 -> 11 | B15: Residencial Santiago | C15: Agujas | D15: Perforado | E15: 189533 | F15: 465181 | G15: 27 | H15: 3 | I15: 0.55 | K15: =N15-I15 -> 0.02 | L15: - | N15: 0.57 | O15: -
A16: =1+A15 -> 12 | B16: Carlos Luis Monge | C16: Agujas | D16: Perforado | E16: 189923 | F16: 464947 | G16: 22 | I16: - | K16: Sin línea de aire | N16: - | O16: -
A17: =1+A16 -> 13 | B17: Samar de Santana | C17: Agujas | D17: Excavado | E17: 189801 | F17: 465079 | G17: 24 | I17: 0.4 | K17: =N17-I17 -> 0.55 | L17: - | N17: 0.95 | O17: -
A19: El Pozo No. 9 Plantation Acres no fue posible medirlo porque se encontró bajo llave

Sheet Noviembre 2012
A1: Plan de Monitoreo Acuífero Mantas y Agujas
A2: Fecha: 19 de Noviembre del 2012
N3: Datos de campo
A4: N˚ | B4: Nombre del POZO | C4: Lugar | D4: Tipo | E4: Latitud | F4: Longitud | G4: Altitud sobre nivel de Mar | H4: Diámetro armado (in) | I4: Brocal (m) | J4: Profundidad de pozo (m) | K4: Nivel estático (m) | L4: Nivel dinámico (m) | N4: Nivel estático (m) + Brocal | O4: Nivel dinámico (m) + Brocal
A5: 1 | B5: Punta Leona # 21 Capilla | C5: Punta Leona | D5: Perforado | E5: 187420 | F5: 464086 | G5: 22 | H5: 8 | I5: 0.38 | K5: - | L5: =O5-I5 -> 4.88 | O5: 5.26
A6: =1+A5 -> 2 | B6: Punta Leona # 28 Rotonda | C6: Punta Leona | D6: Perforado | E6: 187337 | F6: 464142 | G6: 24 | H6: 6 | I6: 0.35 | K6: =N6-I6 -> 4.63 | L6: - | N6: 4.98
A7: =1+A6 -> 3 | B7: Punta Leona # 8 Barlovento | C7: Punta Leona | D7: Perforado | E7: 187173 | F7: 464343 | G7: 32 | I7: -0.42 | K7: =N7-I7 -> 7.59 | L7: - | N7: 7.17
A8: =1+A7 -> 4 | B8: Punta Leona # 38 Boulevard | C8: Punta Leona | D8: Perforado | E8: 188544 | F8: 466399 | G8: 36 | H8: 10 | I8: 0.34 | K8: - | L8: =O8-I8 -> 4.72 | O8: 5.06
A9: =1+A8 -> 5 | B9: Punta Leona Boulevard 2 | C9: Punta Leona | D9: Perforado | E9: 188556 | F9: 466296 | G9: 35 | H9: 10 | I9: 0.57 | K9: =N9-I9 -> 3.2 | L9: - | N9: 3.77
A10: =1+A9 -> 6 | B10: ASADA Quebrada Ganado Castaña | C10: Quebrada Ganado | D10: Perforado | E10: 188977 | F10: 468685 | G10: 66 | H10: 3 | I10: 0.3 | K10: =N10-I10 -> 5.4 | L10: - | N10: 5.7
A11: =1+A10 -> 7 | B11: Juan Ignacio Naranjo Chávez | C11: Quebrada Ganado | D11: Perforado | E11: 189542 | F11: 467732 | G11: 49 | I11: - | K11: Sin línea de aire | N11: Sin línea de aire
A12: =1+A11 -> 8 | B12: Carlos Solano | C12: Quebrada Ganado | D12: Perforado | E12: 189959 | F12: 467620 | G12: 47 | I12: - | K12: Sin línea de aire | N12: Sin línea de aire
A13: =1+A12 -> 9 | B13: Plantation Acres | C13: Agujas | D13: Perforado | E13: 188581 | F13: 466891 | G13: 59 | I13: 0 | K13: =N13-I13 -> 6.72 | L13: - | N13: 6.72
A14: =1+A13 -> 10 | B14: ASADA Quebrada Ganado Cacique | C14: Agujas | D14: Perforado | E14: 189077 | F14: 466777 | G14: 47 | H14: 4 | I14: 0.57 | J14: 23 | K14: - | L14: =O14-I14 -> 7.1 | O14: 7.67
A15: =1+A14 -> 11 | B15: Residencial Santiago | C15: Agujas | D15: Perforado | E15: 189533 | F15: 465181 | G15: 27 | H15: 3 | I15: 0.55 | K15: =N15-I15 -> 0.09 | L15: - | N15: 0.64
A16: =1+A15 -> 12 | B16: Carlos Luis Monge | C16: Agujas | D16: Perforado | E16: 189923 | F16: 464947 | G16: 22 | I16: - | K16: Sin línea de aire | N16: Sin línea de aire
A17: =1+A16 -> 13 | B17: Samar de Santana | C17: Agujas | D17: Excavado | E17: 189801 | F17: 465079 | G17: 24 | I17: 0.4 | K17: seco | N17: seco
B19: Contacto ASADA Quebrada Ganado: Magdaleno
B20: Contacto Punta Leona: Eliecer

Sheet Diciembre 2012
A1: Plan de Monitoreo Acuífero Mantas y Agujas
A2: Fecha: 17 de Diciembre del 2012
N3: Datos de campo
A4: N˚ | B4: Nombre del POZO | C4: Lugar | D4: Tipo | E4: Latitud | F4: Longitud | G4: Altitud sobre nivel de Mar | H4: Diámetro armado (in) | I4: Brocal (m) | J4: Profundidad de pozo (m) | K4: Nivel estático (m) | L4: Nivel dinámico (m) | N4: Nivel estático (m) + Brocal | O4: Nivel dinámico (m) + Brocal
A5: 1 | B5: Punta Leona # 21 Capilla | C5: Punta Leona | D5: Perforado | E5: 187420 | F5: 464086 | G5: 22 | H5: 8 | I5: 0.38 | K5: - | L5: =O5-I5 -> 5.05 | N5: - | O5: 5.43
A6: =1+A5 -> 2 | B6: Punta Leona # 28 Rotonda | C6: Punta Leona | D6: Perforado | E6: 187337 | F6: 464142 | G6: 24 | H6: 6 | I6: 0.35 | K6: - | L6: =O6-I6 -> 7.42 | N6: - | O6: 7.77
A7: =1+A6 -> 3 | B7: Punta Leona # 8 Barlovento | C7: Punta Leona | D7: Perforado | E7: 187173 | F7: 464343 | G7: 32 | I7: -0.42 | K7: =N7-I7 -> 7.44 | L7: - | N7: 7.02 | O7: -
A8: =1+A7 -> 4 | B8: Punta Leona # 38 Boulevard | C8: Punta Leona | D8: Perforado | E8: 188544 | F8: 466399 | G8: 36 | H8: 10 | I8: 0.34 | K8: =N8-I8 -> 3.9 | L8: - | N8: 4.24 | O8: -
A9: =1+A8 -> 5 | B9: Punta Leona Boulevard 2 | C9: Punta Leona | D9: Perforado | E9: 188556 | F9: 466296 | G9: 35 | H9: 10 | I9: 0.57 | K9: - | L9: =O9-I9 -> 4.97 | N9: - | O9: 5.54
A10: =1+A9 -> 6 | B10: ASADA Quebrada Ganado Castaña | C10: Quebrada Ganado | D10: Perforado | E10: 188977 | F10: 468685 | G10: 66 | H10: 3 | I10: 0.3 | K10: =N10-I10 -> 5.46 | L10: - | N10: 5.76 | O10: -
A11: =1+A10 -> 7 | B11: Juan Ignacio Naranjo Chávez | C11: Quebrada Ganado | D11: Perforado | E11: 189542 | F11: 467732 | G11: 49 | I11: - | K11: Sin línea de aire | N11: - | O11: -
A12: =1+A11 -> 8 | B12: Carlos Solano | C12: Quebrada Ganado | D12: Perforado | E12: 189959 | F12: 467620 | G12: 47 | I12: - | K12: Sin línea de aire | N12: - | O12: -
A13: =1+A12 -> 9 | B13: Plantation Acres | C13: Agujas | D13: Perforado | E13: 188581 | F13: 466891 | G13: 59 | I13: 0 | K13: =N13-I13 -> 5.29 | L13: - | N13: 5.29 | O13: -
A14: =1+A13 -> 10 | B14: ASADA Quebrada Ganado Cacique | C14: Agujas | D14: Perforado | E14: 189077 | F14: 466777 | G14: 47 | H14: 4 | I14: 0.57 | J14: 23 | K14: =N14-I14 -> 8.02 | L14: - | N14: 8.59 | O14: -
A15: =1+A14 -> 11 | B15: Residencial Santiago | C15: Agujas | D15: Perforado | E15: 189533 | F15: 465181 | G15: 27 | H15: 3 | I15: 0.55 | K15: =N15-I15 -> 0.11 | L15: - | N15: 0.66 | O15: -
A16: =1+A15 -> 12 | B16: Carlos Luis Monge | C16: Agujas | D16: Perforado | E16: 189923 | F16: 464947 | G16: 22 | I16: - | K16: Sin línea de aire | N16: - | O16: -
A17: =1+A16 -> 13 | B17: Samar de Santana | C17: Agujas | D17: Excavado | E17: 189801 | F17: 465079 | G17: 24 | I17: 0.4 | K17: =N17-I17 -> 1.56 | L17: - | N17: 1.96 | O17: -

Sheet Enero 2013
A1: Plan de Monitoreo Acuífero Mantas y Agujas
A2: Fecha: 28 de enero del 2013
N3: Datos de campo
A4: N˚ | B4: Nombre del POZO | C4: Lugar | D4: Tipo | E4: Latitud | F4: Longitud | G4: Altitud sobre nivel de Mar | H4: Diámetro armado (in) | I4: Brocal (m) | J4: Profundidad de pozo (m) | K4: Nivel estático (m) | L4: Nivel dinámico (m) | N4: Nivel estático (m) + Brocal | O4: Nivel dinámico (m) + Brocal
A5: 1 | B5: Punta Leona # 21 Capilla | C5: Punta Leona | D5: Perforado | E5: 187420 | F5: 464086 | G5: 22 | H5: 8 | I5: 0.38 | K5: =N5-I5 -> 6.29 | L5: - | N5: 6.67 | O5: -
A6: =1+A5 -> 2 | B6: Punta Leona # 28 Rotonda | C6: Punta Leona | D6: Perforado | E6: 187337 | F6: 464142 | G6: 24 | H6: 6 | I6: 0.35 | K6: - | L6: =O6-I6 -> 10.18 | N6: - | O6: 10.53
A7: =1+A6 -> 3 | B7: Punta Leona # 8 Barlovento | C7: Punta Leona | D7: Perforado | E7: 187173 | F7: 464343 | G7: 32 | I7: -0.42 | K7: - | L7: =O7-I7 -> 12.41 | N7: - | O7: 11.99
A8: =1+A7 -> 4 | B8: Punta Leona # 38 Boulevard | C8: Punta Leona | D8: Perforado | E8: 188544 | F8: 466399 | G8: 36 | H8: 10 | I8: 0.34 | K8: - | L8: =O8-I8 -> 5.9 | N8: - | O8: 6.24
A9: =1+A8 -> 5 | B9: Punta Leona Boulevard 2 | C9: Punta Leona | D9: Perforado | E9: 188556 | F9: 466296 | G9: 35 | H9: 10 | I9: 0.57 | K9: =N9-I9 -> 4.23 | L9: - | N9: 4.8 | O9: -
A10: =1+A9 -> 6 | B10: ASADA Quebrada Ganado Castaña | C10: Quebrada Ganado | D10: Perforado | E10: 188977 | F10: 468685 | G10: 66 | H10: 3 | I10: 0.3 | K10: - | L10: =O10-I10 -> 6.37 | N10: - | O10: 6.67
A11: =1+A10 -> 7 | B11: Juan Ignacio Naranjo Chávez | C11: Quebrada Ganado | D11: Perforado | E11: 189542 | F11: 467732 | G11: 49 | I11: - | K11: Sin línea de aire | N11: Sin línea de aire
A12: =1+A11 -> 8 | B12: Carlos Solano | C12: Quebrada Ganado | D12: Perforado | E12: 189959 | F12: 467620 | G12: 47 | I12: - | K12: Sin línea de aire | N12: Sin línea de aire
A13: =1+A12 -> 9 | B13: Plantation Acres | C13: Agujas | D13: Perforado | E13: 188581 | F13: 466891 | G13: 59 | I13: 0 | K13: =N13-I13 -> 7.96 | L13: - | N13: 7.96 | O13: -
A14: =1+A13 -> 10 | B14: ASADA Quebrada Ganado Cacique | C14: Agujas | D14: Perforado | E14: 189077 | F14: 466777 | G14: 47 | H14: 4 | I14: 0.57 | J14: 23 | K14: - | L14: =O14-I14 -> 8.88 | N14: - | O14: 9.45
A15: =1+A14 -> 11 | B15: Residencial Santiago | C15: Agujas | D15: Perforado | E15: 189533 | F15: 465181 | G15: 27 | H15: 3 | I15: 0.55 | K15: - | L15: =O15-I15 -> 1.56 | N15: - | O15: 2.11
A16: =1+A15 -> 12 | B16: Carlos Luis Monge | C16: Agujas | D16: Perforado | E16: 189923 | F16: 464947 | G16: 22 | I16: - | K16: Sin línea de aire | N16: Sin línea de aire
A17: =1+A16 -> 13 | B17: Samar de Santana | C17: Agujas | D17: Excavado | E17: 189801 | F17: 465079 | G17: 24 | I17: 0.4 | K17: Seco | L17: - | N17: seco | O17: -

Sheet Febrero 2013
A1: Plan de Monitoreo Acuífero Mantas y Agujas
A2: Fecha: 25 de febrero del 2013
N3: Datos de campo
A4: N˚ | B4: Nombre del POZO | C4: Lugar | D4: Tipo | E4: Latitud | F4: Longitud | G4: Altitud sobre nivel de Mar | H4: Diámetro armado (in) | I4: Brocal (m) | J4: Profundidad de pozo (m) | K4: Nivel estático (m) | L4: Nivel dinámico (m) | N4: Nivel estático (m) + Brocal | O4: Nivel dinámico (m) + Brocal
A5: 1 | B5: Punta Leona # 21 Capilla | C5: Punta Leona | D5: Perforado | E5: 187420 | F5: 464086 | G5: 22 | H5: 8 | I5: 0.38 | K5: - | L5: =O5-I5 -> 8.02 | N5: - | O5: 8.4
A6: =1+A5 -> 2 | B6: Punta Leona # 28 Rotonda | C6: Punta Leona | D6: Perforado | E6: 187337 | F6: 464142 | G6: 24 | H6: 6 | I6: 0.35 | K6: =N6-I6 -> 8.79 | L6: - | N6: 9.14 | O6: -
A7: =1+A6 -> 3 | B7: Punta Leona # 8 Barlovento | C7: Punta Leona | D7: Perforado | E7: 187173 | F7: 464343 | G7: 32 | I7: -0.42 | K7: =N7-I7 -> 13.6 | L7: - | N7: 13.18 | O7: -
A8: =1+A7 -> 4 | B8: Punta Leona # 38 Boulevard | C8: Punta Leona | D8: Perforado | E8: 188544 | F8: 466399 | G8: 36 | H8: 10 | I8: 0.34 | K8: - | L8: =O8-I8 -> 6.64 | N8: - | O8: 6.98
A9: =1+A8 -> 5 | B9: Punta Leona Boulevard 2 | C9: Punta Leona | D9: Perforado | E9: 188556 | F9: 466296 | G9: 35 | H9: 10 | I9: 0.57 | K9: =N9-I9 -> 4.85 | L9: - | N9: 5.42 | O9: -
A10: =1+A9 -> 6 | B10: ASADA Quebrada Ganado Castaña | C10: Quebrada Ganado | D10: Perforado | E10: 188977 | F10: 468685 | G10: 66 | H10: 3 | I10: 0.3 | K10: - | L10: =O10-I10 -> 5.58 | N10: - | O10: 5.88
A11: =1+A10 -> 7 | B11: Juan Ignacio Naranjo Chávez | C11: Quebrada Ganado | D11: Perforado | E11: 189542 | F11: 467732 | G11: 49 | I11: - | K11: Sin línea de aire | N11: Sin línea de aire
A12: =1+A11 -> 8 | B12: Carlos Solano | C12: Quebrada Ganado | D12: Perforado | E12: 189959 | F12: 467620 | G12: 47 | I12: - | K12: Sin línea de aire | N12: Sin línea de aire
A13: =1+A12 -> 9 | B13: Plantation Acres | C13: Agujas | D13: Perforado | E13: 188581 | F13: 466891 | G13: 59 | I13: 0 | K13: =N13-I13 -> 9.54 | L13: - | N13: 9.54 | O13: -
A14: =1+A13 -> 10 | B14: ASADA Quebrada Ganado Cacique | C14: Agujas | D14: Perforado | E14: 189077 | F14: 466777 | G14: 47 | H14: 4 | I14: 0.57 | J14: 23 | K14: - | L14: =O14-I14 -> 10.18 | N14: - | O14: 10.75
A15: =1+A14 -> 11 | B15: Residencial Santiago | C15: Agujas | D15: Perforado | E15: 189533 | F15: 465181 | G15: 27 | H15: 3 | I15: 0.55 | K15: =N15-I15 -> 0.25 | L15: - | N15: 0.8 | O15: -
A16: =1+A15 -> 12 | B16: Carlos Luis Monge | C16: Agujas | D16: Perforado | E16: 189923 | F16: 464947 | G16: 22 | I16: - | K16: Sin línea de aire | N16: Sin línea de aire
A17: =1+A16 -> 13 | B17: Samar de Santana | C17: Agujas | D17: Excavado | E17: 189801 | F17: 465079 | G17: 24 | I17: 0.4 | K17: Sin Llave | N17: - | O17: -

Sheet Marzo 2013
A1: Plan de Monitoreo Acuífero Mantas y Agujas
A2: Fecha: 13 de marzo del 2013
N3: Datos de campo
A4: N˚ | B4: Nombre del POZO | C4: Lugar | D4: Tipo | E4: Latitud | F4: Longitud | G4: Altitud sobre nivel de Mar | H4: Diámetro armado (in) | I4: Brocal (m) | J4: Profundidad de pozo (m) | K4: Nivel estático (m) | L4: Nivel dinámico (m) | N4: Nivel estático (m) + Brocal | O4: Nivel dinámico (m) + Brocal
A5: 1 | B5: Punta Leona # 21 Capilla | C5: Punta Leona | D5: Perforado | E5: 187420 | F5: 464086 | G5: 22 | H5: 8 | I5: 0.38 | K5: - | L5: =O5-I5 -> 8.5 | N5: - | O5: 8.88
A6: =1+A5 -> 2 | B6: Punta Leona # 28 Rotonda | C6: Punta Leona | D6: Perforado | E6: 187337 | F6: 464142 | G6: 24 | H6: 6 | I6: 0.35 | K6: =N6-I6 -> 9.31 | L6: - | N6: 9.66 | O6: -
A7: =1+A6 -> 3 | B7: Punta Leona # 8 Barlovento | C7: Punta Leona | D7: Perforado | E7: 187173 | F7: 464343 | G7: 32 | I7: -0.42 | K7: =N7-I7 -> 14.35 | L7: - | N7: 13.93 | O7: -
A8: =1+A7 -> 4 | B8: Punta Leona # 38 Boulevard | C8: Punta Leona | D8: Perforado | E8: 188544 | F8: 466399 | G8: 36 | H8: 10 | I8: 0.34 | K8: - | L8: =O8-I8 -> 7.25 | N8: - | O8: 7.59
A9: =1+A8 -> 5 | B9: Punta Leona Boulevard 2 | C9: Punta Leona | D9: Perforado | E9: 188556 | F9: 466296 | G9: 35 | H9: 10 | I9: 0.57 | K9: =N9-I9 -> 5.36 | L9: - | N9: 5.93 | O9: -
A10: =1+A9 -> 6 | B10: ASADA Quebrada Ganado Castaña | C10: Quebrada Ganado | D10: Perforado | E10: 188977 | F10: 468685 | G10: 66 | H10: 3 | I10: 0.3 | K10: - | L10: =O10-I10 -> 5.58 | N10: - | O10: 5.88
A11: =1+A10 -> 7 | B11: Juan Ignacio Naranjo Chávez | C11: Quebrada Ganado | D11: Perforado | E11: 189542 | F11: 467732 | G11: 49 | I11: - | K11: Sin línea de aire | N11: Sin línea de aire
A12: =1+A11 -> 8 | B12: Carlos Solano | C12: Quebrada Ganado | D12: Perforado | E12: 189959 | F12: 467620 | G12: 47 | I12: - | K12: Sin línea de aire | N12: Sin línea de aire
A13: =1+A12 -> 9 | B13: Plantation Acres | C13: Agujas | D13: Perforado | E13: 188581 | F13: 466891 | G13: 59 | I13: 0 | K13: =N13-I13 -> 9.83 | L13: - | N13: 9.83 | O13: -
A14: =1+A13 -> 10 | B14: ASADA Quebrada Ganado Cacique | C14: Agujas | D14: Perforado | E14: 189077 | F14: 466777 | G14: 47 | H14: 4 | I14: 0.57 | J14: 23 | K14: - | L14: =O14-I14 -> 10.69 | N14: - | O14: 11.26
A15: =1+A14 -> 11 | B15: Residencial Santiago | C15: Agujas | D15: Perforado | E15: 189533 | F15: 465181 | G15: 27 | H15: 3 | I15: 0.55 | K15: =N15-I15 -> 0.2 | L15: - | N15: 0.75 | O15: -
A16: =1+A15 -> 12 | B16: Carlos Luis Monge | C16: Agujas | D16: Perforado | E16: 189923 | F16: 464947 | G16: 22 | I16: - | K16: Sin línea de aire | N16: Sin línea de aire
A17: =1+A16 -> 13 | B17: Samar de Santana | C17: Agujas | D17: Excavado | E17: 189801 | F17: 465079 | G17: 24 | I17: 0.4 | K17: Cerrado con llave | N17: - | O17: -

Sheet Abril 2013
A1: Plan de Monitoreo Acuífero Mantas y Agujas
A2: Fecha: 22 de abril del 2013
N3: Datos de campo
A4: N˚ | B4: Nombre del POZO | C4: Lugar | D4: Tipo | E4: Latitud | F4: Longitud | G4: Altitud sobre nivel de Mar | H4: Diámetro armado (in) | I4: Brocal (m) | J4: Profundidad de pozo (m) | K4: Nivel estático (m) | L4: Nivel dinámico (m) | N4: Nivel estático (m) + Brocal | O4: Nivel dinámico (m) + Brocal
A5: 1 | B5: Punta Leona # 21 Capilla | C5: Punta Leona | D5: Perforado | E5: 187420 | F5: 464086 | G5: 22 | H5: 8 | I5: 0.38 | K5: - | L5: =O5-I5 -> 9.12 | N5: - | O5: 9.5
A6: =1+A5 -> 2 | B6: Punta Leona # 28 Rotonda | C6: Punta Leona | D6: Perforado | E6: 187337 | F6: 464142 | G6: 24 | H6: 6 | I6: 0.35 | K6: =N6-I6 -> 9.95 | L6: - | N6: 10.3 | O6: -
A7: =1+A6 -> 3 | B7: Punta Leona # 8 Barlovento | C7: Punta Leona | D7: Perforado | E7: 187173 | F7: 464343 | G7: 32 | I7: -0.42 | K7: =N7-I7 -> 15.12 | L7: - | N7: 14.7 | O7: -
A8: =1+A7 -> 4 | B8: Punta Leona # 38 Boulevard | C8: Punta Leona | D8: Perforado | E8: 188544 | F8: 466399 | G8: 36 | H8: 10 | I8: 0.34 | K8: - | L8: =O8-I8 -> 8.16 | N8: - | O8: 8.5
A9: =1+A8 -> 5 | B9: Punta Leona Boulevard 2 | C9: Punta Leona | D9: Perforado | E9: 188556 | F9: 466296 | G9: 35 | H9: 10 | I9: 0.57 | K9: =N9-I9 -> 6.06 | L9: - | N9: 6.63 | O9: -
A10: =1+A9 -> 6 | B10: ASADA Quebrada Ganado Castaña | C10: Quebrada Ganado | D10: Perforado | E10: 188977 | F10: 468685 | G10: 66 | H10: 3 | I10: 0.3 | K10: - | L10: =O10-I10 -> 5.75 | N10: - | O10: 6.05
A11: =1+A10 -> 7 | B11: Juan Ignacio Naranjo Chávez | C11: Quebrada Ganado | D11: Perforado | E11: 189542 | F11: 467732 | G11: 49 | I11: - | K11: Sin línea de aire | N11: Sin línea de aire
A12: =1+A11 -> 8 | B12: Carlos Solano | C12: Quebrada Ganado | D12: Perforado | E12: 189959 | F12: 467620 | G12: 47 | I12: - | K12: Sin línea de aire | N12: Sin línea de aire
A13: =1+A12 -> 9 | B13: Plantation Acres | C13: Agujas | D13: Perforado | E13: 188581 | F13: 466891 | G13: 59 | I13: 0 | K13: =N13-I13 -> 9.92 | L13: - | N13: 9.92 | O13: -
A14: =1+A13 -> 10 | B14: ASADA Quebrada Ganado Cacique | C14: Agujas | D14: Perforado | E14: 189077 | F14: 466777 | G14: 47 | H14: 4 | I14: 0.57 | J14: 23 | K14: - | L14: =O14-I14 -> 11.63 | N14: - | O14: 12.2
A15: =1+A14 -> 11 | B15: Residencial Santiago | C15: Agujas | D15: Perforado | E15: 189533 | F15: 465181 | G15: 27 | H15: 3 | I15: 0.55 | K15: =N15-I15 -> 0.25 | L15: - | N15: 0.8 | O15: -
A16: =1+A15 -> 12 | B16: Carlos Luis Monge | C16: Agujas | D16: Perforado | E16: 189923 | F16: 464947 | G16: 22 | I16: - | K16: Sin línea de aire | N16: Sin línea de aire
A17: =1+A16 -> 13 | B17: Samar de Santana | C17: Agujas | D17: Excavado | E17: 189801 | F17: 465079 | G17: 24 | I17: 0.4 | K17: Cerrado con llave | N17: - | O17: -

Sheet Mayo 2013
A1: Plan de Monitoreo Acuífero Mantas y Agujas
A2: Fecha: 27 de mayo del 2013
N3: Datos de campo
A4: N˚ | B4: Nombre del POZO | C4: Lugar | D4: Tipo | E4: Latitud | F4: Longitud | G4: Altitud sobre nivel de Mar | H4: Diámetro armado (in) | I4: Brocal (m) | J4: Profundidad de pozo (m) | K4: Nivel estático (m) | L4: Nivel dinámico (m) | N4: Nivel estático (m) + Brocal | O4: Nivel dinámico (m) + Brocal
A5: 1 | B5: Punta Leona # 21 Capilla | C5: Punta Leona | D5: Perforado | E5: 187420 | F5: 464086 | G5: 22 | H5: 8 | I5: 0.38 | K5: - | L5: =O5-I5 -> 7.35 | N5: - | O5: 7.73
A6: =1+A5 -> 2 | B6: Punta Leona # 28 Rotonda | C6: Punta Leona | D6: Perforado | E6: 187337 | F6: 464142 | G6: 24 | H6: 6 | I6: 0.35 | K6: =N6-I6 -> 7.86 | L6: - | N6: 8.21 | O6: -
A7: =1+A6 -> 3 | B7: Punta Leona # 8 Barlovento | C7: Punta Leona | D7: Perforado | E7: 187173 | F7: 464343 | G7: 32 | I7: -0.42 | K7: =N7-I7 -> 12.41 | L7: - | N7: 11.99 | O7: -
A8: =1+A7 -> 4 | B8: Punta Leona # 38 Boulevard | C8: Punta Leona | D8: Perforado | E8: 188544 | F8: 466399 | G8: 36 | H8: 10 | I8: 0.34 | K8: - | L8: =O8-I8 -> 8.08 | N8: - | O8: 8.42
A9: =1+A8 -> 5 | B9: Punta Leona Boulevard 2 | C9: Punta Leona | D9: Perforado | E9: 188556 | F9: 466296 | G9: 35 | H9: 10 | I9: 0.57 | K9: =N9-I9 -> 5.95 | L9: - | N9: 6.52 | O9: -
A10: =1+A9 -> 6 | B10: ASADA Quebrada Ganado Castaña | C10: Quebrada Ganado | D10: Perforado | E10: 188977 | F10: 468685 | G10: 66 | H10: 3 | I10: 0.3 | K10: - | L10: =O10-I10 -> 5.64 | N10: - | O10: 5.94
A11: =1+A10 -> 7 | B11: Juan Ignacio Naranjo Chávez | C11: Quebrada Ganado | D11: Perforado | E11: 189542 | F11: 467732 | G11: 49 | I11: - | K11: Sin línea de aire | N11: Sin línea de aire
A12: =1+A11 -> 8 | B12: Carlos Solano | C12: Quebrada Ganado | D12: Perforado | E12: 189959 | F12: 467620 | G12: 47 | I12: - | K12: Sin línea de aire | N12: Sin línea de aire
A13: =1+A12 -> 9 | B13: Plantation Acres | C13: Agujas | D13: Perforado | E13: 188581 | F13: 466891 | G13: 59 | I13: 0 | K13: =N13-I13 -> 8.54 | L13: - | N13: 8.54 | O13: -
A14: =1+A13 -> 10 | B14: ASADA Quebrada Ganado Cacique | C14: Agujas | D14: Perforado | E14: 189077 | F14: 466777 | G14: 47 | H14: 4 | I14: 0.57 | J14: 23 | K14: - | L14: =O14-I14 -> 11.73 | N14: - | O14: 12.3
A15: =1+A14 -> 11 | B15: Residencial Santiago | C15: Agujas | D15: Perforado | E15: 189533 | F15: 465181 | G15: 27 | H15: 3 | I15: 0.55 | K15: =N15-I15 -> 0.15 | L15: - | N15: 0.7 | O15: -
A16: =1+A15 -> 12 | B16: Carlos Luis Monge | C16: Agujas | D16: Perforado | E16: 189923 | F16: 464947 | G16: 22 | I16: - | K16: Sin línea de aire | N16: Sin línea de aire
A17: =1+A16 -> 13 | B17: Samar de Santana | C17: Agujas | D17: Excavado | E17: 189801 | F17: 465079 | G17: 24 | I17: 0.4 | K17: Cerrado con llave | N17: - | O17: -

Sheet Junio 2013
A1: Plan de Monitoreo Acuífero Mantas y Agujas
A2: Fecha: 17 de junio del 2013
N3: Datos de campo
A4: N˚ | B4: Nombre del POZO | C4: Lugar | D4: Tipo | E4: Latitud | F4: Longitud | G4: Altitud sobre nivel de Mar | H4: Diámetro armado (in) | I4: Brocal (m) | J4: Profundidad de pozo (m) | K4: Nivel estático (m) | L4: Nivel dinámico (m) | N4: Nivel estático (m) + Brocal | O4: Nivel dinámico (m) + Brocal
A5: 1 | B5: Punta Leona # 21 Capilla | C5: Punta Leona | D5: Perforado | E5: 187420 | F5: 464086 | G5: 22 | H5: 8 | I5: 0.38 | K5: =N5-I5 -> 5 | L5: - | N5: 5.38 | O5: -
A6: =1+A5 -> 2 | B6: Punta Leona # 28 Rotonda | C6: Punta Leona | D6: Perforado | E6: 187337 | F6: 464142 | G6: 24 | H6: 6 | I6: 0.35 | K6: - | L6: =O6-I6 -> 7.33 | N6: - | O6: 7.68
A7: =1+A6 -> 3 | B7: Punta Leona # 8 Barlovento | C7: Punta Leona | D7: Perforado | E7: 187173 | F7: 464343 | G7: 32 | I7: -0.42 | K7: =N7-I7 -> 7.29 | L7: - | N7: 6.87 | O7: -
A8: =1+A7 -> 4 | B8: Punta Leona # 38 Boulevard | C8: Punta Leona | D8: Perforado | E8: 188544 | F8: 466399 | G8: 36 | H8: 10 | I8: 0.34 | K8: - | L8: =O8-I8 -> 5.85 | N8: - | O8: 6.19
A9: =1+A8 -> 5 | B9: Punta Leona Boulevard 2 | C9: Punta Leona | D9: Perforado | E9: 188556 | F9: 466296 | G9: 35 | H9: 10 | I9: 0.57 | K9: =N9-I9 -> 4.25 | L9: - | N9: 4.82 | O9: -
A10: =1+A9 -> 6 | B10: ASADA Quebrada Ganado Castaña | C10: Quebrada Ganado | D10: Perforado | E10: 188977 | F10: 468685 | G10: 66 | H10: 3 | I10: 0.3 | K10: - | L10: =O10-I10 -> 5.48 | N10: - | O10: 5.78
A11: =1+A10 -> 7 | B11: Juan Ignacio Naranjo Chávez | C11: Quebrada Ganado | D11: Perforado | E11: 189542 | F11: 467732 | G11: 49 | I11: - | K11: Sin línea de aire | N11: Sin línea de aire
A12: =1+A11 -> 8 | B12: Carlos Solano | C12: Quebrada Ganado | D12: Perforado | E12: 189959 | F12: 467620 | G12: 47 | I12: - | K12: Sin línea de aire | N12: Sin línea de aire
A13: =1+A12 -> 9 | B13: Plantation Acres | C13: Agujas | D13: Perforado | E13: 188581 | F13: 466891 | G13: 59 | I13: 0 | K13: =N13-I13 -> 7.76 | L13: - | N13: 7.76 | O13: -
A14: =1+A13 -> 10 | B14: ASADA Quebrada Ganado Cacique | C14: Agujas | D14: Perforado | E14: 189077 | F14: 466777 | G14: 47 | H14: 4 | I14: 0.57 | J14: 23 | K14: - | L14: =O14-I14 -> 9.88 | N14: - | O14: 10.45
A15: =1+A14 -> 11 | B15: Residencial Santiago | C15: Agujas | D15: Perforado | E15: 189533 | F15: 465181 | G15: 27 | H15: 3 | I15: 0.55 | K15: =N15-I15 -> 0.14 | L15: - | N15: 0.69 | O15: -
A16: =1+A15 -> 12 | B16: Carlos Luis Monge | C16: Agujas | D16: Perforado | E16: 189923 | F16: 464947 | G16: 22 | I16: - | K16: Sin línea de aire | N16: Sin línea de aire
A17: =1+A16 -> 13 | B17: Samar de Santana | C17: Agujas | D17: Excavado | E17: 189801 | F17: 465079 | G17: 24 | I17: 0.4 | K17: Cerrado con llave | N17: - | O17: -

Sheet Julio 2013
A1: Plan de Monitoreo Acuífero Mantas y Agujas
A2: Fecha: 15 de Julio del 2013
N3: Datos de campo
A4: N˚ | B4: Nombre del POZO | C4: Lugar | D4: Tipo | E4: Latitud | F4: Longitud | G4: Altitud sobre nivel de Mar | H4: Diámetro armado (in) | I4: Brocal (m) | J4: Profundidad de pozo (m) | K4: Nivel estático (m) | L4: Nivel dinámico (m) | N4: Nivel estático (m) + Brocal | O4: Nivel dinámico (m) + Brocal
A5: 1 | B5: Punta Leona # 21 Capilla | C5: Punta Leona | D5: Perforado | E5: 187420 | F5: 464086 | G5: 22 | H5: 8 | I5: 0.38 | K5: - | L5: =O5-I5 -> 5.28 | N5: - | O5: 5.66
A6: =1+A5 -> 2 | B6: Punta Leona # 28 Rotonda | C6: Punta Leona | D6: Perforado | E6: 187337 | F6: 464142 | G6: 24 | H6: 6 | I6: 0.35 | K6: =N6-I6 -> 4.88 | L6: - | N6: 5.23 | O6: -
A7: =1+A6 -> 3 | B7: Punta Leona # 8 Barlovento | C7: Punta Leona | D7: Perforado | E7: 187173 | F7: 464343 | G7: 32 | I7: -0.42 | K7: =N7-I7 -> 7.04 | L7: - | N7: 6.62 | O7: -
A8: =1+A7 -> 4 | B8: Punta Leona # 38 Boulevard | C8: Punta Leona | D8: Perforado | E8: 188544 | F8: 466399 | G8: 36 | H8: 10 | I8: 0.34 | K8: - | L8: =O8-I8 -> 5.39 | N8: - | O8: 5.73
A9: =1+A8 -> 5 | B9: Punta Leona Boulevard 2 | C9: Punta Leona | D9: Perforado | E9: 188556 | F9: 466296 | G9: 35 | H9: 10 | I9: 0.57 | K9: =N9-I9 -> 5.36 | L9: - | N9: 5.93 | O9: -
A10: =1+A9 -> 6 | B10: ASADA Quebrada Ganado Castaña | C10: Quebrada Ganado | D10: Perforado | E10: 188977 | F10: 468685 | G10: 66 | H10: 3 | I10: 0.3 | K10: - | L10: =O10-I10 -> 5.47 | N10: - | O10: 5.77
A11: =1+A10 -> 7 | B11: Juan Ignacio Naranjo Chávez | C11: Quebrada Ganado | D11: Perforado | E11: 189542 | F11: 467732 | G11: 49 | I11: - | K11: Sin línea de aire | N11: Sin línea de aire
A12: =1+A11 -> 8 | B12: Carlos Solano | C12: Quebrada Ganado | D12: Perforado | E12: 189959 | F12: 467620 | G12: 47 | I12: - | K12: Sin línea de aire | N12: Sin línea de aire
A13: =1+A12 -> 9 | B13: Plantation Acres | C13: Agujas | D13: Perforado | E13: 188581 | F13: 466891 | G13: 59 | I13: 0 | K13: - | L13: =O13-I13 -> 14.03 | N13: - | O13: 14.03
A14: =1+A13 -> 10 | B14: ASADA Quebrada Ganado Cacique | C14: Agujas | D14: Perforado | E14: 189077 | F14: 466777 | G14: 47 | H14: 4 | I14: 0.57 | J14: 23 | K14: - | L14: =O14-I14 -> 8.98 | N14: - | O14: 9.55
A15: =1+A14 -> 11 | B15: Residencial Santiago | C15: Agujas | D15: Perforado | E15: 189533 | F15: 465181 | G15: 27 | H15: 3 | I15: 0.55 | K15: =N15-I15 -> 0.05 | L15: - | N15: 0.6 | O15: -
A16: =1+A15 -> 12 | B16: Carlos Luis Monge | C16: Agujas | D16: Perforado | E16: 189923 | F16: 464947 | G16: 22 | I16: - | K16: Sin línea de aire | N16: Sin línea de aire
A17: =1+A16 -> 13 | B17: Samar de Santana | C17: Agujas | D17: Excavado | E17: 189801 | F17: 465079 | G17: 24 | I17: 0.4 | K17: Cerrado con llave | N17: - | O17: -

Sheet Agosto 2013
A1: Plan de Monitoreo Acuífero Mantas y Agujas
A2: Fecha: 26 de Agosto del 2013
N3: Datos de campo
A4: N˚ | B4: Nombre del POZO | C4: Lugar | D4: Tipo | E4: Latitud | F4: Longitud | G4: Altitud sobre nivel de Mar | H4: Diámetro armado (in) | I4: Brocal (m) | J4: Profundidad de pozo (m) | K4: Nivel estático (m) | L4: Nivel dinámico (m) | N4: Nivel estático (m) + Brocal | O4: Nivel dinámico (m) + Brocal
A5: 1 | B5: Punta Leona # 21 Capilla | C5: Punta Leona | D5: Perforado | E5: 187420 | F5: 464086 | G5: 22 | H5: 8 | I5: 0.38 | K5: - | L5: =O5-I5 -> 4.87 | N5: - | O5: 5.25
A6: =1+A5 -> 2 | B6: Punta Leona # 28 Rotonda | C6: Punta Leona | D6: Perforado | E6: 187337 | F6: 464142 | G6: 24 | H6: 6 | I6: 0.35 | K6: =N6-I6 -> 4.63 | L6: - | N6: 4.98 | O6: -
A7: =1+A6 -> 3 | B7: Punta Leona # 8 Barlovento | C7: Punta Leona | D7: Perforado | E7: 187173 | F7: 464343 | G7: 32 | I7: -0.42 | K7: =N7-I7 -> 7.57 | L7: - | N7: 7.15 | O7: -
A8: =1+A7 -> 4 | B8: Punta Leona # 38 Boulevard | C8: Punta Leona | D8: Perforado | E8: 188544 | F8: 466399 | G8: 36 | H8: 10 | I8: 0.34 | K8: - | L8: =O8-I8 -> 5.6 | N8: - | O8: 5.94
A9: =1+A8 -> 5 | B9: Punta Leona Boulevard 2 | C9: Punta Leona | D9: Perforado | E9: 188556 | F9: 466296 | G9: 35 | H9: 10 | I9: 0.57 | K9: =N9-I9 -> 3.88 | L9: - | N9: 4.45 | O9: -
A10: =1+A9 -> 6 | B10: ASADA Quebrada Ganado Castaña | C10: Quebrada Ganado | D10: Perforado | E10: 188977 | F10: 468685 | G10: 66 | H10: 3 | I10: 0.3 | K10: - | L10: =O10-I10 -> 5.47 | N10: - | O10: 5.77
A11: =1+A10 -> 7 | B11: Juan Ignacio Naranjo Chávez | C11: Quebrada Ganado | D11: Perforado | E11: 189542 | F11: 467732 | G11: 49 | I11: - | K11: Sin línea de aire | N11: Sin línea de aire
A12: =1+A11 -> 8 | B12: Carlos Solano | C12: Quebrada Ganado | D12: Perforado | E12: 189959 | F12: 467620 | G12: 47 | I12: - | K12: Sin línea de aire | N12: Sin línea de aire
A13: =1+A12 -> 9 | B13: Plantation Acres | C13: Agujas | D13: Perforado | E13: 188581 | F13: 466891 | G13: 59 | I13: 0 | K13: =N13-I13 -> 5.9 | N13: 5.9
A14: =1+A13 -> 10 | B14: ASADA Quebrada Ganado Cacique | C14: Agujas | D14: Perforado | E14: 189077 | F14: 466777 | G14: 47 | H14: 4 | I14: 0.57 | J14: 23 | K14: - | L14: =O14-I14 -> 9.41 | N14: - | O14: 9.98
A15: =1+A14 -> 11 | B15: Residencial Santiago | C15: Agujas | D15: Perforado | E15: 189533 | F15: 465181 | G15: 27 | H15: 3 | I15: 0.55 | K15: =N15-I15 -> 0.05 | L15: - | N15: 0.6 | O15: -
A16: =1+A15 -> 12 | B16: Carlos Luis Monge | C16: Agujas | D16: Perforado | E16: 189923 | F16: 464947 | G16: 22 | I16: - | K16: Sin línea de aire | N16: Sin línea de aire
A17: =1+A16 -> 13 | B17: Samar de Santana | C17: Agujas | D17: Excavado | E17: 189801 | F17: 465079 | G17: 24 | I17: 0.4 | K17: Cerrado con llave | N17: - | O17: -

Sheet Setiembre 2013
A1: Mantas y Agujas
A2: 23 de setiembre de 2013
N3: Datos de campo
A4: N˚ | B4: Nombre del POZO | C4: Lugar | D4: Tipo | E4: Latitud | F4: Longitud | G4: Altitud sobre nivel de Mar | H4: Diámetro armado (in) | I4: Brocal (m) | J4: Profundidad de pozo (m) | K4: Nivel estático (m) | L4: Nivel dinámico (m) | N4: Nivel estático (m) + Brocal | O4: Nivel dinámico (m) + Brocal
A5: 1 | B5: Punta Leona # 21 Capilla | C5: Punta Leona | D5: Perforado | E5: 187420 | F5: 464086 | G5: 22 | H5: 8 | I5: 0.38 | K5: - | L5: =O5-I5 -> 3.27 | N5: - | O5: 3.65
A6: =1+A5 -> 2 | B6: Punta Leona # 28 Rotonda | C6: Punta Leona | D6: Perforado | E6: 187337 | F6: 464142 | G6: 24 | H6: 6 | I6: 0.35 | K6: - | L6: =O6-I6 -> 4.81 | O6: 5.16
A7: =1+A6 -> 3 | B7: Punta Leona # 8 Barlovento | C7: Punta Leona | D7: Perforado | E7: 187173 | F7: 464343 | G7: 32 | I7: -0.42 | K7: =N7-I7 -> 3.69 | L7: - | N7: 3.27 | O7: -
A8: =1+A7 -> 4 | B8: Punta Leona # 38 Boulevard | C8: Punta Leona | D8: Perforado | E8: 188544 | F8: 466399 | G8: 36 | H8: 10 | I8: 0.34 | K8: =N8-I8 -> 3.72 | L8: - | N8: 4.06 | O8: -
A9: =1+A8 -> 5 | B9: Punta Leona Boulevard 2 | C9: Punta Leona | D9: Perforado | E9: 188556 | F9: 466296 | G9: 35 | H9: 10 | I9: 0.57 | K9: =N9-I9 -> 2.71 | L9: - | N9: 3.28 | O9: -
A10: =1+A9 -> 6 | B10: ASADA Quebrada Ganado Castaña | C10: Quebrada Ganado | D10: Perforado | E10: 188977 | F10: 468685 | G10: 66 | H10: 3 | I10: 0.3 | K10: - | L10: =O10-I10 -> 5.72 | N10: - | O10: 6.02
A11: =1+A10 -> 7 | B11: Juan Ignacio Naranjo Chávez | C11: Quebrada Ganado | D11: Perforado | E11: 189542 | F11: 467732 | G11: 49 | I11: - | K11: Sin línea de aire | N11: Sin línea de aire
A12: =1+A11 -> 8 | B12: Carlos Solano | C12: Quebrada Ganado | D12: Perforado | E12: 189959 | F12: 467620 | G12: 47 | I12: - | K12: Sin línea de aire | N12: Sin línea de aire
A13: =1+A12 -> 9 | B13: Plantation Acres | C13: Agujas | D13: Perforado | E13: 188581 | F13: 466891 | G13: 59 | I13: 0 | K13: =N13-I13 -> 3.39 | L13: - | N13: 3.39
A14: =1+A13 -> 10 | B14: ASADA Quebrada Ganado Cacique | C14: Agujas | D14: Perforado | E14: 189077 | F14: 466777 | G14: 47 | H14: 4 | I14: 0.57 | J14: 23 | K14: =N14-I14 -> 7.14 | L14: - | N14: 7.71
A15: =1+A14 -> 11 | B15: Residencial Santiago | C15: Agujas | D15: Perforado | E15: 189533 | F15: 465181 | G15: 27 | H15: 3 | I15: 0.55 | K15: =N15-I15 -> 0.02 | L15: - | N15: 0.57 | O15: -
A16: =1+A15 -> 12 | B16: Carlos Luis Monge | C16: Agujas | D16: Perforado | E16: 189923 | F16: 464947 | G16: 22 | I16: - | K16: Sin línea de aire | N16: Sin línea de aire
A17: =1+A16 -> 13 | B17: Samar de Santana | C17: Agujas | D17: Excavado | E17: 189801 | F17: 465079 | G17: 24 | I17: 0.4 | K17: Cerrado con llave | N17: - | O17: -

Sheet Octubre 2013
A1: Mantas y Agujas
A2: 21 de octubre de 2013
N3: Datos de campo
A4: N˚ | B4: Nombre del POZO | C4: Lugar | D4: Tipo | E4: Latitud | F4: Longitud | G4: Altitud sobre nivel de Mar | H4: Diámetro armado (in) | I4: Brocal (m) | J4: Profundidad de pozo (m) | K4: Nivel estático (m) | L4: Nivel dinámico (m) | N4: Nivel estático (m) + Brocal | O4: Nivel dinámico (m) + Brocal
A5: 1 | B5: Punta Leona # 21 Capilla | C5: Punta Leona | D5: Perforado | E5: 187420 | F5: 464086 | G5: 22 | H5: 8 | I5: 0.38 | K5: - | L5: =O5-I5 -> 3.45 | N5: - | O5: 3.83
A6: =1+A5 -> 2 | B6: Punta Leona # 28 Rotonda | C6: Punta Leona | D6: Perforado | E6: 187337 | F6: 464142 | G6: 24 | H6: 6 | I6: 0.35 | K6: - | L6: =O6-I6 -> 6.35 | O6: 6.7
A7: =1+A6 -> 3 | B7: Punta Leona # 8 Barlovento | C7: Punta Leona | D7: Perforado | E7: 187173 | F7: 464343 | G7: 32 | I7: -0.42 | K7: =N7-I7 -> 3.76 | L7: - | N7: 3.34 | O7: -
A8: =1+A7 -> 4 | B8: Punta Leona # 38 Boulevard | C8: Punta Leona | D8: Perforado | E8: 188544 | F8: 466399 | G8: 36 | H8: 10 | I8: 0.34 | K8: =N8-I8 -> 3.91 | L8: - | N8: 4.25
A9: =1+A8 -> 5 | B9: Punta Leona Boulevard 2 | C9: Punta Leona | D9: Perforado | E9: 188556 | F9: 466296 | G9: 35 | H9: 10 | I9: 0.57 | K9: =N9-I9 -> 2.83 | L9: - | N9: 3.4 | O9: -
A10: =1+A9 -> 6 | B10: ASADA Quebrada Ganado Castaña | C10: Quebrada Ganado | D10: Perforado | E10: 188977 | F10: 468685 | G10: 66 | H10: 3 | I10: 0.3 | K10: =N10-I10 -> 5.4 | L10: - | N10: 5.7
A11: =1+A10 -> 7 | B11: Juan Ignacio Naranjo Chávez | C11: Quebrada Ganado | D11: Perforado | E11: 189542 | F11: 467732 | G11: 49 | I11: - | K11: Sin línea de aire | N11: Sin línea de aire
A12: =1+A11 -> 8 | B12: Carlos Solano | C12: Quebrada Ganado | D12: Perforado | E12: 189959 | F12: 467620 | G12: 47 | I12: - | K12: Sin línea de aire | N12: Sin línea de aire
A13: =1+A12 -> 9 | B13: Plantation Acres | C13: Agujas | D13: Perforado | E13: 188581 | F13: 466891 | G13: 59 | I13: 0 | K13: =N13-I13 -> 4.1 | L13: - | N13: 4.1
A14: =1+A13 -> 10 | B14: ASADA Quebrada Ganado Cacique | C14: Agujas | D14: Perforado | E14: 189077 | F14: 466777 | G14: 47 | H14: 4 | I14: 0.57 | J14: 23 | K14: - | L14: =O14-I14 -> 7.07 | N14: - | O14: 7.64
A15: =1+A14 -> 11 | B15: Residencial Santiago | C15: Agujas | D15: Perforado | E15: 189533 | F15: 465181 | G15: 27 | H15: 3 | I15: 0.55 | K15: =N15-I15 -> 0.03 | L15: - | N15: 0.58 | O15: -
A16: =1+A15 -> 12 | B16: Carlos Luis Monge | C16: Agujas | D16: Perforado | E16: 189923 | F16: 464947 | G16: 22 | I16: - | K16: Sin línea de aire | N16: Sin línea de aire
A17: =1+A16 -> 13 | B17: Samar de Santana | C17: Agujas | D17: Excavado | E17: 189801 | F17: 465079 | G17: 24 | I17: 0.4 | K17: Cerrado con llave | N17: - | O17: -

Sheet Noviembre 2013
A1: Mantas y Agujas
A2: 18 de noviembre de 2013
N3: Datos de campo
A4: N˚ | B4: Nombre del POZO | C4: Lugar | D4: Tipo | E4: Latitud | F4: Longitud | G4: Altitud sobre nivel de Mar | H4: Diámetro armado (in) | I4: Brocal (m) | J4: Profundidad de pozo (m) | K4: Nivel estático (m) | L4: Nivel dinámico (m) | N4: Nivel estático (m) + Brocal | O4: Nivel dinámico (m) + Brocal
A5: 1 | B5: Punta Leona # 21 Capilla | C5: Punta Leona | D5: Perforado | E5: 187420 | F5: 464086 | G5: 22 | H5: 8 | I5: 0.38 | K5: - | L5: =O5-I5 -> 4.57 | N5: nd | O5: 4.95
A6: =1+A5 -> 2 | B6: Punta Leona # 28 Rotonda | C6: Punta Leona | D6: Perforado | E6: 187337 | F6: 464142 | G6: 24 | H6: 6 | I6: 0.35 | K6: - | L6: =O6-I6 -> 8.02 | N6: nd | O6: 8.37
A7: =1+A6 -> 3 | B7: Punta Leona # 8 Barlovento | C7: Punta Leona | D7: Perforado | E7: 187173 | F7: 464343 | G7: 32 | I7: -0.42 | K7: =N7-I7 -> 7.63 | L7: - | N7: 7.21 | O7: nd
A8: =1+A7 -> 4 | B8: Punta Leona # 38 Boulevard | C8: Punta Leona | D8: Perforado | E8: 188544 | F8: 466399 | G8: 36 | H8: 10 | I8: 0.34 | K8: Cerrado con llave | N8: nd | O8: nd
A9: =1+A8 -> 5 | B9: Punta Leona Boulevard 2 | C9: Punta Leona | D9: Perforado | E9: 188556 | F9: 466296 | G9: 35 | H9: 10 | I9: 0.57 | K9: =N9-I9 -> 3.86 | L9: - | N9: 4.43 | O9: nd
A10: =1+A9 -> 6 | B10: ASADA Quebrada Ganado Castaña | C10: Quebrada Ganado | D10: Perforado | E10: 188977 | F10: 468685 | G10: 66 | H10: 3 | I10: 0.3 | K10: - | L10: =O10-I10 -> 6.34 | N10: nd | O10: 6.64
A11: =1+A10 -> 7 | B11: Juan Ignacio Naranjo Chávez | C11: Quebrada Ganado | D11: Perforado | E11: 189542 | F11: 467732 | G11: 49 | I11: - | K11: Sin línea de aire | N11: Sin línea de aire
A12: =1+A11 -> 8 | B12: Carlos Solano | C12: Quebrada Ganado | D12: Perforado | E12: 189959 | F12: 467620 | G12: 47 | I12: - | K12: Sin línea de aire | N12: Sin línea de aire
A13: =1+A12 -> 9 | B13: Plantation Acres | C13: Agujas | D13: Perforado | E13: 188581 | F13: 466891 | G13: 59 | I13: 0 | K13: =N13-I13 -> 5.1 | L13: - | N13: 5.1 | O13: nd
A14: =1+A13 -> 10 | B14: ASADA Quebrada Ganado Cacique | C14: Agujas | D14: Perforado | E14: 189077 | F14: 466777 | G14: 47 | H14: 4 | I14: 0.57 | J14: 23 | K14: - | L14: =O14-I14 -> 7.79 | N14: nd | O14: 8.36
A15: =1+A14 -> 11 | B15: Residencial Santiago | C15: Agujas | D15: Perforado | E15: 189533 | F15: 465181 | G15: 27 | H15: 3 | I15: 0.55 | K15: - | L15: =O15-I15 -> 0.03 | N15: nd | O15: 0.58
A16: =1+A15 -> 12 | B16: Carlos Luis Monge | C16: Agujas | D16: Perforado | E16: 189923 | F16: 464947 | G16: 22 | I16: - | K16: Sin línea de aire | N16: Sin línea de aire
A17: =1+A16 -> 13 | B17: Samar de Santana | C17: Agujas | D17: Excavado | E17: 189801 | F17: 465079 | G17: 24 | I17: 0.4 | K17: Cerrado con llave | N17: - | O17: -

Sheet Diciembre 2013
A1: Plan de Monitoreo Acuífero Mantas y Agujas
A2: Fecha: 16 de dicembre del 2013
N3: Datos de campo
A4: N˚ | B4: Nombre del POZO | C4: Lugar | D4: Tipo | E4: Latitud | F4: Longitud | G4: Altitud sobre nivel de Mar | H4: Diámetro armado (in) | I4: Brocal (m) | J4: Profundidad de pozo (m) | K4: Nivel estático (m) | L4: Nivel dinámico (m) | N4: Nivel estático (m) + Brocal | O4: Nivel dinámico (m) + Brocal
A5: 1 | B5: Punta Leona # 21 Capilla | C5: Punta Leona | D5: Perforado | E5: 187420 | F5: 464086 | G5: 22 | H5: 8 | I5: 0.38 | K5: - | L5: =O5-I5 -> 5.89 | N5: - | O5: 6.27
A6: =1+A5 -> 2 | B6: Punta Leona # 28 Rotonda | C6: Punta Leona | D6: Perforado | E6: 187337 | F6: 464142 | G6: 24 | H6: 6 | I6: 0.35 | K6: - | L6: =O6-I6 -> 9.35 | O6: 9.7
A7: =1+A6 -> 3 | B7: Punta Leona # 8 Barlovento | C7: Punta Leona | D7: Perforado | E7: 187173 | F7: 464343 | G7: 32 | I7: -0.42 | K7: =N7-I7 -> 9.63 | L7: - | N7: 9.21 | O7: -
A8: =1+A7 -> 4 | B8: Punta Leona # 38 Boulevard | C8: Punta Leona | D8: Perforado | E8: 188544 | F8: 466399 | G8: 36 | H8: 10 | I8: 0.34 | K8: =N8-I8 -> 5.17 | L8: - | N8: 5.51
A9: =1+A8 -> 5 | B9: Punta Leona Boulevard 2 | C9: Punta Leona | D9: Perforado | E9: 188556 | F9: 466296 | G9: 35 | H9: 10 | I9: 0.57 | K9: Cerrado con llave | N9: - | O9: -
A10: =1+A9 -> 6 | B10: ASADA Quebrada Ganado Castaña | C10: Quebrada Ganado | D10: Perforado | E10: 188977 | F10: 468685 | G10: 66 | H10: 3 | I10: 0.3 | K10: - | L10: =O10-I10 -> 6.85 | N10: - | O10: 7.15
A11: =1+A10 -> 7 | B11: Juan Ignacio Naranjo Chávez | C11: Quebrada Ganado | D11: Perforado | E11: 189542 | F11: 467732 | G11: 49 | I11: - | K11: Sin línea de aire | N11: Sin línea de aire
A12: =1+A11 -> 8 | B12: Carlos Solano | C12: Quebrada Ganado | D12: Perforado | E12: 189959 | F12: 467620 | G12: 47 | I12: - | K12: Sin línea de aire | N12: Sin línea de aire
A13: =1+A12 -> 9 | B13: Plantation Acres | C13: Agujas | D13: Perforado | E13: 188581 | F13: 466891 | G13: 59 | I13: 0 | K13: =N13-I13 -> 7.03 | L13: - | N13: 7.03
A14: =1+A13 -> 10 | B14: ASADA Quebrada Ganado Cacique | C14: Agujas | D14: Perforado | E14: 189077 | F14: 466777 | G14: 47 | H14: 4 | I14: 0.57 | J14: 23 | K14: - | L14: =O14-I14 -> 9.31 | N14: - | O14: 9.88
A15: =1+A14 -> 11 | B15: Residencial Santiago | C15: Agujas | D15: Perforado | E15: 189533 | F15: 465181 | G15: 27 | H15: 3 | I15: 0.55 | K15: =N15-I15 -> 0.16 | L15: - | N15: 0.71 | O15: -
A16: =1+A15 -> 12 | B16: Carlos Luis Monge | C16: Agujas | D16: Perforado | E16: 189923 | F16: 464947 | G16: 22 | I16: - | K16: Sin línea de aire | N16: Sin línea de aire
A17: =1+A16 -> 13 | B17: Samar de Santana | C17: Agujas | D17: Excavado | E17: 189801 | F17: 465079 | G17: 24 | I17: 0.4 | K17: Cerrado con llave | N17: - | O17: -

Sheet Enero 2014
A1: Plan de Monitoreo Acuífero Mantas y Agujas
A2: Fecha: 20 de enero del 2014
N3: Datos de campo
A4: N˚ | B4: Nombre del POZO | C4: Lugar | D4: Tipo | E4: Latitud | F4: Longitud | G4: Altitud sobre nivel de Mar | H4: Diámetro armado (in) | I4: Brocal (m) | J4: Profundidad de pozo (m) | K4: Nivel estático (m) | L4: Nivel dinámico (m) | N4: Nivel estático (m) + Brocal | O4: Nivel dinámico (m) + Brocal
A5: 1 | B5: Punta Leona # 21 Capilla | C5: Punta Leona | D5: Perforado | E5: 187420 | F5: 464086 | G5: 22 | H5: 8 | I5: 0.38 | K5: - | L5: =O5-I5 -> 7.05 | N5: - | O5: 7.43
A6: =1+A5 -> 2 | B6: Punta Leona # 28 Rotonda | C6: Punta Leona | D6: Perforado | E6: 187337 | F6: 464142 | G6: 24 | H6: 6 | I6: 0.35 | K6: =N6-I6 -> 5.53 | L6: - | N6: 5.88 | O6: -
A7: =1+A6 -> 3 | B7: Punta Leona # 8 Barlovento | C7: Punta Leona | D7: Perforado | E7: 187173 | F7: 464343 | G7: 32 | I7: -0.42 | K7: =N7-I7 -> 11.85 | L7: - | N7: 11.43 | O7: -
A8: =1+A7 -> 4 | B8: Punta Leona # 38 Boulevard | C8: Punta Leona | D8: Perforado | E8: 188544 | F8: 466399 | G8: 36 | H8: 10 | I8: 0.34 | K8: - | L8: =O8-I8 -> 6.26 | N8: - | O8: 6.6
A9: =1+A8 -> 5 | B9: Punta Leona Boulevard 2 | C9: Punta Leona | D9: Perforado | E9: 188556 | F9: 466296 | G9: 35 | H9: 10 | I9: 0.57 | K9: =N9-I9 -> 4.38 | L9: - | N9: 4.95 | O9: -
A10: =1+A9 -> 6 | B10: ASADA Quebrada Ganado Castaña | C10: Quebrada Ganado | D10: Perforado | E10: 188977 | F10: 468685 | G10: 66 | H10: 3 | I10: 0.3 | K10: - | L10: =O10-I10 -> 6.7 | N10: - | O10: 7
A11: =1+A10 -> 7 | B11: Juan Ignacio Naranjo Chávez | C11: Quebrada Ganado | D11: Perforado | E11: 189542 | F11: 467732 | G11: 49 | I11: - | K11: Sin línea de aire | N11: Sin línea de aire
A12: =1+A11 -> 8 | B12: Carlos Solano | C12: Quebrada Ganado | D12: Perforado | E12: 189959 | F12: 467620 | G12: 47 | I12: - | K12: Sin línea de aire | N12: Sin línea de aire
A13: =1+A12 -> 9 | B13: Plantation Acres | C13: Agujas | D13: Perforado | E13: 188581 | F13: 466891 | G13: 59 | I13: 0 | K13: =N13-I13 -> 12.45 | L13: - | N13: 12.45
A14: =1+A13 -> 10 | B14: ASADA Quebrada Ganado Cacique | C14: Agujas | D14: Perforado | E14: 189077 | F14: 466777 | G14: 47 | H14: 4 | I14: 0.57 | J14: 23 | K14: - | L14: =O14-I14 -> 10.01 | N14: - | O14: 10.58
A15: =1+A14 -> 11 | B15: Residencial Santiago | C15: Agujas | D15: Perforado | E15: 189533 | F15: 465181 | G15: 27 | H15: 3 | I15: 0.55 | K15: =N15-I15 -> 0.22 | L15: - | N15: 0.77 | O15: -
A16: =1+A15 -> 12 | B16: Carlos Luis Monge | C16: Agujas | D16: Perforado | E16: 189923 | F16: 464947 | G16: 22 | I16: - | K16: Sin línea de aire | N16: Sin línea de aire
A17: =1+A16 -> 13 | B17: Samar de Santana | C17: Agujas | D17: Excavado | E17: 189801 | F17: 465079 | G17: 24 | I17: 0.4 | K17: Cerrado con llave | N17: - | O17: -

Sheet febrero 2014 
A1: Plan de Monitoreo Acuífero Mantas y Agujas
A2: Fecha: 24 de febrero del 2014
N3: Datos de campo
A4: N˚ | B4: Nombre del POZO | C4: Lugar | D4: Tipo | E4: Latitud | F4: Longitud | G4: Altitud sobre nivel de Mar | H4: Diámetro armado (in) | I4: Brocal (m) | J4: Profundidad de pozo (m) | K4: Nivel estático (m) | L4: Nivel dinámico (m) | N4: Nivel estático (m) + Brocal | O4: Nivel dinámico (m) + Brocal
A5: 1 | B5: Punta Leona # 21 Capilla | C5: Punta Leona | D5: Perforado | E5: 187420 | F5: 464086 | G5: 22 | H5: 8 | I5: 0.38 | K5: - | L5: =O5-I5 -> 8.31 | N5: - | O5: 8.69
A6: =1+A5 -> 2 | B6: Punta Leona # 28 Rotonda | C6: Punta Leona | D6: Perforado | E6: 187337 | F6: 464142 | G6: 24 | H6: 6 | I6: 0.35 | K6: - | L6: =O6-I6 -> 12.19 | N6: - | O6: 12.54
A7: =1+A6 -> 3 | B7: Punta Leona # 8 Barlovento | C7: Punta Leona | D7: Perforado | E7: 187173 | F7: 464343 | G7: 32 | I7: -0.42 | K7: - | L7: =O7-I7 -> 14.71 | N7: - | O7: 14.29
A8: =1+A7 -> 4 | B8: Punta Leona # 38 Boulevard | C8: Punta Leona | D8: Perforado | E8: 188544 | F8: 466399 | G8: 36 | H8: 10 | I8: 0.34 | K8: - | L8: =O8-I8 -> 6.99 | N8: - | O8: 7.33
A9: =1+A8 -> 5 | B9: Punta Leona Boulevard 2 | C9: Punta Leona | D9: Perforado | E9: 188556 | F9: 466296 | G9: 35 | H9: 10 | I9: 0.57 | K9: =N9-I9 -> 5.01 | L9: - | N9: 5.58 | O9: -
A10: =1+A9 -> 6 | B10: ASADA Quebrada Ganado Castaña | C10: Quebrada Ganado | D10: Perforado | E10: 188977 | F10: 468685 | G10: 66 | H10: 3 | I10: 0.3 | K10: - | L10: =O10-I10 -> 6.57 | N10: - | O10: 6.87
A11: =1+A10 -> 7 | B11: Juan Ignacio Naranjo Chávez | C11: Quebrada Ganado | D11: Perforado | E11: 189542 | F11: 467732 | G11: 49 | I11: - | K11: Sin línea de aire | N11: Sin línea de aire
A12: =1+A11 -> 8 | B12: Carlos Solano | C12: Quebrada Ganado | D12: Perforado | E12: 189959 | F12: 467620 | G12: 47 | I12: - | K12: Sin línea de aire | N12: Sin línea de aire
A13: =1+A12 -> 9 | B13: Plantation Acres | C13: Agujas | D13: Perforado | E13: 188581 | F13: 466891 | G13: 59 | I13: 0 | K13: Cerrado con llave | N13: -
A14: =1+A13 -> 10 | B14: ASADA Quebrada Ganado Cacique | C14: Agujas | D14: Perforado | E14: 189077 | F14: 466777 | G14: 47 | H14: 4 | I14: 0.57 | J14: 23 | K14: - | L14: =O14-I14 -> 10.61 | N14: - | O14: 11.18
A15: =1+A14 -> 11 | B15: Residencial Santiago | C15: Agujas | D15: Perforado | E15: 189533 | F15: 465181 | G15: 27 | H15: 3 | I15: 0.55 | K15: =N15-I15 -> 0.19 | L15: - | N15: 0.74 | O15: -
A16: =1+A15 -> 12 | B16: Carlos Luis Monge | C16: Agujas | D16: Perforado | E16: 189923 | F16: 464947 | G16: 22 | I16: - | K16: Sin línea de aire | N16: Sin línea de aire
A17: =1+A16 -> 13 | B17: Samar de Santana | C17: Agujas | D17: Excavado | E17: 189801 | F17: 465079 | G17: 24 | I17: 0.4 | K17: Cerrado con llave | N17: - | O17: -

Sheet  marzo 2014
A1: Plan de Monitoreo Acuífero Mantas y Agujas
A2: Fecha: 24 de marzo del 2014
N3: Datos de campo
A4: N˚ | B4: Nombre del POZO | C4: Lugar | D4: Tipo | E4: Latitud | F4: Longitud | G4: Altitud sobre nivel de Mar | H4: Diámetro armado (in) | I4: Brocal (m) | J4: Profundidad de pozo (m) | K4: Nivel estático (m) | L4: Nivel dinámico (m) | N4: Nivel estático (m) + Brocal | O4: Nivel dinámico (m) + Brocal
A5: 1 | B5: Punta Leona # 21 Capilla | C5: Punta Leona | D5: Perforado | E5: 187420 | F5: 464086 | G5: 22 | H5: 8 | I5: 0.38 | K5: - | L5: =O5-I5 -> 8.71 | N5: - | O5: 9.09
A6: =1+A5 -> 2 | B6: Punta Leona # 28 Rotonda | C6: Punta Leona | D6: Perforado | E6: 187337 | F6: 464142 | G6: 24 | H6: 6 | I6: 0.35 | K6: - | L6: =O6-I6 -> 12.44 | N6: - | O6: 12.79
A7: =1+A6 -> 3 | B7: Punta Leona # 8 Barlovento | C7: Punta Leona | D7: Perforado | E7: 187173 | F7: 464343 | G7: 32 | I7: -0.42 | K7: =N7-I7 -> 14.48 | L7: - | N7: 14.06 | O7: -
A8: =1+A7 -> 4 | B8: Punta Leona # 38 Boulevard | C8: Punta Leona | D8: Perforado | E8: 188544 | F8: 466399 | G8: 36 | H8: 10 | I8: 0.34 | K8: - | L8: =O8-I8 -> 7.6 | N8: - | O8: 7.94
A9: =1+A8 -> 5 | B9: Punta Leona Boulevard 2 | C9: Punta Leona | D9: Perforado | E9: 188556 | F9: 466296 | G9: 35 | H9: 10 | I9: 0.57 | K9: =N9-I9 -> 5.5 | L9: - | N9: 6.07 | O9: -
A10: =1+A9 -> 6 | B10: ASADA Quebrada Ganado Castaña | C10: Quebrada Ganado | D10: Perforado | E10: 188977 | F10: 468685 | G10: 66 | H10: 3 | I10: 0.3 | K10: - | L10: =O10-I10 -> 6.6 | N10: - | O10: 6.9
A11: =1+A10 -> 7 | B11: Juan Ignacio Naranjo Chávez | C11: Quebrada Ganado | D11: Perforado | E11: 189542 | F11: 467732 | G11: 49 | I11: - | K11: Sin línea de aire | N11: Sin línea de aire
A12: =1+A11 -> 8 | B12: Carlos Solano | C12: Quebrada Ganado | D12: Perforado | E12: 189959 | F12: 467620 | G12: 47 | I12: - | K12: Sin línea de aire | N12: Sin línea de aire
A13: =1+A12 -> 9 | B13: Plantation Acres | C13: Agujas | D13: Perforado | E13: 188581 | F13: 466891 | G13: 59 | I13: 0 | K13: - | L13: =O13-I13 -> 12.39 | N13: - | O13: 12.39
A14: =1+A13 -> 10 | B14: ASADA Quebrada Ganado Cacique | C14: Agujas | D14: Perforado | E14: 189077 | F14: 466777 | G14: 47 | H14: 4 | I14: 0.57 | J14: 23 | K14: - | L14: =O14-I14 -> 11.14 | N14: - | O14: 11.71
A15: =1+A14 -> 11 | B15: Residencial Santiago | C15: Agujas | D15: Perforado | E15: 189533 | F15: 465181 | G15: 27 | H15: 3 | I15: 0.55 | K15: =N15-I15 -> 0.1 | L15: - | N15: 0.65 | O15: -
A16: =1+A15 -> 12 | B16: Carlos Luis Monge | C16: Agujas | D16: Perforado | E16: 189923 | F16: 464947 | G16: 22 | I16: - | K16: Sin línea de aire | N16: Sin línea de aire
A17: =1+A16 -> 13 | B17: Samar de Santana | C17: Agujas | D17: Excavado | E17: 189801 | F17: 465079 | G17: 24 | I17: 0.4 | K17: Cerrado con llave | N17: - | O17: -

Sheet abril 2014
A1: Plan de Monitoreo Acuífero Mantas y Agujas
A2: Fecha: 21 de abril del 2014
N3: Datos de campo
A4: N˚ | B4: Nombre del POZO | C4: Lugar | D4: Tipo | E4: Latitud | F4: Longitud | G4: Altitud sobre nivel de Mar | H4: Diámetro armado (in) | I4: Brocal (m) | J4: Profundidad de pozo (m) | K4: Nivel estático (m) | L4: Nivel dinámico (m) | N4: Nivel estático (m) + Brocal | O4: Nivel dinámico (m) + Brocal
A5: 1 | B5: Punta Leona # 21 Capilla | C5: Punta Leona | D5: Perforado | E5: 187420 | F5: 464086 | G5: 22 | H5: 8 | I5: 0.38 | K5: - | L5: =O5-I5 -> 9.99 | N5: nd | O5: 10.37
A6: =1+A5 -> 2 | B6: Punta Leona # 28 Rotonda | C6: Punta Leona | D6: Perforado | E6: 187337 | F6: 464142 | G6: 24 | H6: 6 | I6: 0.35 | K6: - | L6: =O6-I6 -> 13.7 | N6: nd | O6: 14.05
A7: =1+A6 -> 3 | B7: Punta Leona # 8 Barlovento | C7: Punta Leona | D7: Perforado | E7: 187173 | F7: 464343 | G7: 32 | I7: -0.42 | K7: - | L7: =O7-I7 -> 18 | N7: nd | O7: 17.58
A8: =1+A7 -> 4 | B8: Punta Leona # 38 Boulevard | C8: Punta Leona | D8: Perforado | E8: 188544 | F8: 466399 | G8: 36 | H8: 10 | I8: 0.34 | K8: - | L8: =O8-I8 -> 9.01 | N8: nd | O8: 9.35
A9: =1+A8 -> 5 | B9: Punta Leona Boulevard 2 | C9: Punta Leona | D9: Perforado | E9: 188556 | F9: 466296 | G9: 35 | H9: 10 | I9: 0.57 | K9: - | L9: =O9-I9 -> 6.86 | N9: nd | O9: 7.43
A10: =1+A9 -> 6 | B10: ASADA Quebrada Ganado Castaña | C10: Quebrada Ganado | D10: Perforado | E10: 188977 | F10: 468685 | G10: 66 | H10: 3 | I10: 0.3 | K10: - | L10: =O10-I10 -> 6.38 | N10: nd | O10: 6.68
A11: =1+A10 -> 7 | B11: Juan Ignacio Naranjo Chávez | C11: Quebrada Ganado | D11: Perforado | E11: 189542 | F11: 467732 | G11: 49 | I11: - | K11: Sin línea de aire | N11: Sin línea de aire
A12: =1+A11 -> 8 | B12: Carlos Solano | C12: Quebrada Ganado | D12: Perforado | E12: 189959 | F12: 467620 | G12: 47 | I12: - | K12: Sin línea de aire | N12: Sin línea de aire
A13: =1+A12 -> 9 | B13: Plantation Acres | C13: Agujas | D13: Perforado | E13: 188581 | F13: 466891 | G13: 59 | I13: 0 | K13: =N13-I13 -> 17.56 | L13: - | N13: 17.56 | O13: nd
A14: =1+A13 -> 10 | B14: ASADA Quebrada Ganado Cacique | C14: Agujas | D14: Perforado | E14: 189077 | F14: 466777 | G14: 47 | H14: 4 | I14: 0.57 | J14: 23 | K14: - | L14: =O14-I14 -> 12.18 | N14: nd | O14: 12.75
A15: =1+A14 -> 11 | B15: Residencial Santiago | C15: Agujas | D15: Perforado | E15: 189533 | F15: 465181 | G15: 27 | H15: 3 | I15: 0.55 | K15: 0,40+ | L15: - | N15: 0.15 | O15: nd
A16: =1+A15 -> 12 | B16: Carlos Luis Monge | C16: Agujas | D16: Perforado | E16: 189923 | F16: 464947 | G16: 22 | I16: - | K16: Sin línea de aire | N16: Sin línea de aire
A17: =1+A16 -> 13 | B17: Samar de Santana | C17: Agujas | D17: Excavado | E17: 189801 | F17: 465079 | G17: 24 | I17: 0.4 | K17: Cerrado con llave | N17: - | O17: -

Sheet Mayo 2014
A1: Plan de Monitoreo Acuífero Mantas y Agujas
A2: Fecha: 26 de mayo del 2014
N3: Datos de campo
A4: N˚ | B4: Nombre del POZO | C4: Lugar | D4: Tipo | E4: Latitud | F4: Longitud | G4: Altitud sobre nivel de Mar | H4: Diámetro armado (in) | I4: Brocal (m) | J4: Profundidad de pozo (m) | K4: Nivel estático (m) | L4: Nivel dinámico (m) | N4: Nivel estático (m) + Brocal | O4: Nivel dinámico (m) + Brocal
A5: 1 | B5: Punta Leona # 21 Capilla | C5: Punta Leona | D5: Perforado | E5: 187420 | F5: 464086 | G5: 22 | H5: 8 | I5: 0.38 | K5: - | L5: =O5-I5 -> 7.9 | N5: - | O5: 8.28
A6: =1+A5 -> 2 | B6: Punta Leona # 28 Rotonda | C6: Punta Leona | D6: Perforado | E6: 187337 | F6: 464142 | G6: 24 | H6: 6 | I6: 0.35 | K6: =N6-I6 -> 8.56 | L6: - | N6: 8.91 | O6: -
A7: =1+A6 -> 3 | B7: Punta Leona # 8 Barlovento | C7: Punta Leona | D7: Perforado | E7: 187173 | F7: 464343 | G7: 32 | I7: -0.42 | K7: =N7-I7 -> 13.35 | L7: - | N7: 12.93 | O7: -
A8: =1+A7 -> 4 | B8: Punta Leona # 38 Boulevard | C8: Punta Leona | D8: Perforado | E8: 188544 | F8: 466399 | G8: 36 | H8: 10 | I8: 0.34 | K8: - | L8: =O8-I8 -> 8.15 | N8: - | O8: 8.49
A9: =1+A8 -> 5 | B9: Punta Leona Boulevard 2 | C9: Punta Leona | D9: Perforado | E9: 188556 | F9: 466296 | G9: 35 | H9: 10 | I9: 0.57 | K9: - | L9: =O9-I9 -> 5.97 | N9: - | O9: 6.54
A10: =1+A9 -> 6 | B10: ASADA Quebrada Ganado Castaña | C10: Quebrada Ganado | D10: Perforado | E10: 188977 | F10: 468685 | G10: 66 | H10: 3 | I10: 0.3 | K10: =N10-I10 -> 5.85 | L10: - | N10: 6.15
A11: =1+A10 -> 7 | B11: Juan Ignacio Naranjo Chávez | C11: Quebrada Ganado | D11: Perforado | E11: 189542 | F11: 467732 | G11: 49 | I11: - | K11: Sin línea de aire | N11: Sin línea de aire
A12: =1+A11 -> 8 | B12: Carlos Solano | C12: Quebrada Ganado | D12: Perforado | E12: 189959 | F12: 467620 | G12: 47 | I12: - | K12: Sin línea de aire | N12: Sin línea de aire
A13: =1+A12 -> 9 | B13: Plantation Acres | C13: Agujas | D13: Perforado | E13: 188581 | F13: 466891 | G13: 59 | I13: 0 | K13: Cerrado con llave | N13: - | O13: -
A14: =1+A13 -> 10 | B14: ASADA Quebrada Ganado Cacique | C14: Agujas | D14: Perforado | E14: 189077 | F14: 466777 | G14: 47 | H14: 4 | I14: 0.57 | J14: 23 | K14: - | L14: =O14-I14 -> 11.58 | N14: - | O14: 12.15
A15: =1+A14 -> 11 | B15: Residencial Santiago | C15: Agujas | D15: Perforado | E15: 189533 | F15: 465181 | G15: 27 | H15: 3 | I15: 0.55 | K15: - | L15: =O15-I15 -> 1.12 | N15: - | O15: 1.67
A16: =1+A15 -> 12 | B16: Carlos Luis Monge | C16: Agujas | D16: Perforado | E16: 189923 | F16: 464947 | G16: 22 | I16: - | K16: Sin línea de aire | N16: Sin línea de aire
A17: =1+A16 -> 13 | B17: Samar de Santana | C17: Agujas | D17: Excavado | E17: 189801 | F17: 465079 | G17: 24 | I17: 0.4 | K17: Cerrado con llave | N17: - | O17: -
A18: =1+A17 -> 14 | B18: ASADA Quebrada Ganado Castaña Nuevo | C18: Quebrada Ganado | D18: Perforado | I18: 0.56 | K18: =N18-I18 -> 9.3 | L18: - | N18: 9.86 | O18: -

Sheet Junio 2014
A1: Plan de Monitoreo Acuífero Mantas y Agujas
A2: Fecha: 23 de junio del 2014
N3: Datos de campo
A4: N˚ | B4: Nombre del POZO | C4: Lugar | D4: Tipo | E4: Latitud | F4: Longitud | G4: Altitud sobre nivel de Mar | H4: Diámetro armado (in) | I4: Brocal (m) | J4: Profundidad de pozo (m) | K4: Nivel estático (m) | L4: Nivel dinámico (m) | N4: Nivel estático (m) + Brocal | O4: Nivel dinámico (m) + Brocal
A5: 1 | B5: Punta Leona # 21 Capilla | C5: Punta Leona | D5: Perforado | E5: 187420 | F5: 464086 | G5: 22 | H5: 8 | I5: 0.38 | K5: - | L5: =O5-I5 -> 6.94 | N5: - | O5: 7.32
A6: =1+A5 -> 2 | B6: Punta Leona # 28 Rotonda | C6: Punta Leona | D6: Perforado | E6: 187337 | F6: 464142 | G6: 24 | H6: 6 | I6: 0.35 | K6: =N6-I6 -> 7.4 | L6: - | N6: 7.75 | O6: -
A7: =1+A6 -> 3 | B7: Punta Leona # 8 Barlovento | C7: Punta Leona | D7: Perforado | E7: 187173 | F7: 464343 | G7: 32 | I7: -0.42 | K7: =N7-I7 -> 11.89 | L7: - | N7: 11.47 | O7: -
A8: =1+A7 -> 4 | B8: Punta Leona # 38 Boulevard | C8: Punta Leona | D8: Perforado | E8: 188544 | F8: 466399 | G8: 36 | H8: 10 | I8: 0.34 | K8: - | L8: =O8-I8 -> 7.06 | N8: - | O8: 7.4
A9: =1+A8 -> 5 | B9: Punta Leona Boulevard 2 | C9: Punta Leona | D9: Perforado | E9: 188556 | F9: 466296 | G9: 35 | H9: 10 | I9: 0.57 | K9: =N9-I9 -> 4.88 | L9: - | N9: 5.45 | O9: -
A10: =1+A9 -> 6 | B10: ASADA Quebrada Ganado Castaña | C10: Quebrada Ganado | D10: Perforado | E10: 188977 | F10: 468685 | G10: 66 | H10: 3 | I10: 0.3 | K10: =N10-I10 -> 5.78 | L10: - | N10: 6.08 | O10: -
A11: =1+A10 -> 7 | B11: Juan Ignacio Naranjo Chávez | C11: Quebrada Ganado | D11: Perforado | E11: 189542 | F11: 467732 | G11: 49 | I11: - | K11: Sin línea de aire | N11: Sin línea de aire
A12: =1+A11 -> 8 | B12: Carlos Solano | C12: Quebrada Ganado | D12: Perforado | E12: 189959 | F12: 467620 | G12: 47 | I12: - | K12: Sin línea de aire | N12: Sin línea de aire
A13: =1+A12 -> 9 | B13: Plantation Acres | C13: Agujas | D13: Perforado | E13: 188581 | F13: 466891 | G13: 59 | I13: 0 | K13: Cerrado con llave | N13: - | O13: -
A14: =1+A13 -> 10 | B14: ASADA Quebrada Ganado Cacique | C14: Agujas | D14: Perforado | E14: 189077 | F14: 466777 | G14: 47 | H14: 4 | I14: 0.57 | J14: 23 | K14: - | L14: =O14-I14 -> 10.63 | N14: - | O14: 11.2
A15: =1+A14 -> 11 | B15: Residencial Santiago | C15: Agujas | D15: Perforado | E15: 189533 | F15: 465181 | G15: 27 | H15: 3 | I15: 0.55 | K15: =N15-I15 -> 0.02 | L15: - | N15: 0.57 | O15: -
A16: =1+A15 -> 12 | B16: Carlos Luis Monge | C16: Agujas | D16: Perforado | E16: 189923 | F16: 464947 | G16: 22 | I16: - | K16: Sin línea de aire | N16: Sin línea de aire
A17: =1+A16 -> 13 | B17: Samar de Santana | C17: Agujas | D17: Excavado | E17: 189801 | F17: 465079 | G17: 24 | I17: 0.4 | K17: Cerrado con llave | N17: - | O17: -
A18: =1+A17 -> 14 | B18: ASADA Quebrada Ganado Castaña Nuevo | C18: Quebrada Ganado | D18: Perforado | I18: 0.56 | K18: - | L18: =O18-I18 -> 8.74 | N18: - | O18: 9.3

Sheet Julio 2014
A1: Plan de Monitoreo Acuífero Mantas y Agujas
A2: Fecha: 14 de julio del 2014
N3: Datos de campo
A4: N˚ | B4: Nombre del POZO | C4: Lugar | D4: Tipo | E4: Latitud | F4: Longitud | G4: Altitud sobre nivel de Mar | H4: Diámetro armado (in) | I4: Brocal (m) | J4: Profundidad de pozo (m) | K4: Nivel estático (m) | L4: Nivel dinámico (m) | N4: Nivel estático (m) + Brocal | O4: Nivel dinámico (m) + Brocal
A5: 1 | B5: Punta Leona # 21 Capilla | C5: Punta Leona | D5: Perforado | E5: 187420 | F5: 464086 | G5: 22 | H5: 8 | I5: 0.38 | K5: - | L5: =O5-I5 -> 7.06 | N5: - | O5: 7.44
A6: =1+A5 -> 2 | B6: Punta Leona # 28 Rotonda | C6: Punta Leona | D6: Perforado | E6: 187337 | F6: 464142 | G6: 24 | H6: 6 | I6: 0.35 | K6: =N6-I6 -> 7.53 | L6: - | N6: 7.88 | O6: -
A7: =1+A6 -> 3 | B7: Punta Leona # 8 Barlovento | C7: Punta Leona | D7: Perforado | E7: 187173 | F7: 464343 | G7: 32 | I7: -0.42 | K7: =N7-I7 -> 11.85 | L7: - | N7: 11.43 | O7: -
A8: =1+A7 -> 4 | B8: Punta Leona # 38 Boulevard | C8: Punta Leona | D8: Perforado | E8: 188544 | F8: 466399 | G8: 36 | H8: 10 | I8: 0.34 | K8: - | L8: =O8-I8 -> 7.17 | N8: - | O8: 7.51
A9: =1+A8 -> 5 | B9: Punta Leona Boulevard 2 | C9: Punta Leona | D9: Perforado | E9: 188556 | F9: 466296 | G9: 35 | H9: 10 | I9: 0.57 | K9: =N9-I9 -> 4.95 | L9: - | N9: 5.52 | O9: -
A10: =1+A9 -> 6 | B10: ASADA Quebrada Ganado Castaña | C10: Quebrada Ganado | D10: Perforado | E10: 188977 | F10: 468685 | G10: 66 | H10: 3 | I10: 0.3 | K10: =N10-I10 -> 5.8 | L10: - | N10: 6.1 | O10: -
A11: =1+A10 -> 7 | B11: Juan Ignacio Naranjo Chávez | C11: Quebrada Ganado | D11: Perforado | E11: 189542 | F11: 467732 | G11: 49 | I11: - | K11: Sin línea de aire | N11: Sin línea de aire
A12: =1+A11 -> 8 | B12: Carlos Solano | C12: Quebrada Ganado | D12: Perforado | E12: 189959 | F12: 467620 | G12: 47 | I12: - | K12: Sin línea de aire | N12: Sin línea de aire
A13: =1+A12 -> 9 | B13: Plantation Acres | C13: Agujas | D13: Perforado | E13: 188581 | F13: 466891 | G13: 59 | I13: 0 | K13: Cerrado con llave | N13: - | O13: -
A14: =1+A13 -> 10 | B14: ASADA Quebrada Ganado Cacique | C14: Agujas | D14: Perforado | E14: 189077 | F14: 466777 | G14: 47 | H14: 4 | I14: 0.57 | J14: 23 | K14: - | L14: =O14-I14 -> 10.61 | N14: - | O14: 11.18
A15: =1+A14 -> 11 | B15: Residencial Santiago | C15: Agujas | D15: Perforado | E15: 189533 | F15: 465181 | G15: 27 | H15: 3 | I15: 0.55 | K15: =N15-I15 -> 0.39 | L15: - | N15: 0.94 | O15: -
A16: =1+A15 -> 12 | B16: Carlos Luis Monge | C16: Agujas | D16: Perforado | E16: 189923 | F16: 464947 | G16: 22 | I16: - | K16: Sin línea de aire | N16: Sin línea de aire
A17: =1+A16 -> 13 | B17: Samar de Santana | C17: Agujas | D17: Excavado | E17: 189801 | F17: 465079 | G17: 24 | I17: 0.4 | K17: Cerrado con llave | N17: - | O17: -
A18: =1+A17 -> 14 | B18: ASADA Quebrada Ganado Castaña Nuevo | C18: Quebrada Ganado | D18: Perforado | I18: 0.56 | K18: =N18-I18 -> 6.3 | L18: - | N18: 6.86

Sheet Agosto 2014
A1: Plan de Monitoreo Acuífero Mantas y Agujas
A2: Fecha: 25 de agosto del 2014
N3: Datos de campo
A4: N˚ | B4: Nombre del POZO | C4: Lugar | D4: Tipo | E4: Latitud | F4: Longitud | G4: Altitud sobre nivel de Mar | H4: Diámetro armado (in) | I4: Brocal (m) | J4: Profundidad de pozo (m) | K4: Nivel estático (m) | L4: Nivel dinámico (m) | N4: Nivel estático (m) + Brocal | O4: Nivel dinámico (m) + Brocal
A5: 1 | B5: Punta Leona # 21 Capilla | C5: Punta Leona | D5: Perforado | E5: 187420 | F5: 464086 | G5: 22 | H5: 8 | I5: 0.38 | K5: - | L5: =O5-I5 -> 5.85 | N5: - | O5: 6.23
A6: =1+A5 -> 2 | B6: Punta Leona # 28 Rotonda | C6: Punta Leona | D6: Perforado | E6: 187337 | F6: 464142 | G6: 24 | H6: 6 | I6: 0.35 | K6: =N6-I6 -> 5.57 | L6: - | N6: 5.92 | O6: -
A7: =1+A6 -> 3 | B7: Punta Leona # 8 Barlovento | C7: Punta Leona | D7: Perforado | E7: 187173 | F7: 464343 | G7: 32 | I7: -0.42 | K7: =N7-I7 -> 8.76 | L7: - | N7: 8.34 | O7: -
A8: =1+A7 -> 4 | B8: Punta Leona # 38 Boulevard | C8: Punta Leona | D8: Perforado | E8: 188544 | F8: 466399 | G8: 36 | H8: 10 | I8: 0.34 | K8: - | L8: =O8-I8 -> 6.58 | N8: - | O8: 6.92
A9: =1+A8 -> 5 | B9: Punta Leona Boulevard 2 | C9: Punta Leona | D9: Perforado | E9: 188556 | F9: 466296 | G9: 35 | H9: 10 | I9: 0.57 | K9: - | L9: =O9-I9 -> 4.76 | O9: 5.33
A10: =1+A9 -> 6 | B10: ASADA Quebrada Ganado Castaña | C10: Quebrada Ganado | D10: Perforado | E10: 188977 | F10: 468685 | G10: 66 | H10: 3 | I10: 0.3 | K10: =N10-I10 -> 6.73 | L10: - | N10: 7.03 | O10: -
A11: =1+A10 -> 7 | B11: Juan Ignacio Naranjo Chávez | C11: Quebrada Ganado | D11: Perforado | E11: 189542 | F11: 467732 | G11: 49 | I11: - | K11: Sin línea de aire | N11: Sin línea de aire
A12: =1+A11 -> 8 | B12: Carlos Solano | C12: Quebrada Ganado | D12: Perforado | E12: 189959 | F12: 467620 | G12: 47 | I12: - | K12: Sin línea de aire | N12: Sin línea de aire
A13: =1+A12 -> 9 | B13: Plantation Acres | C13: Agujas | D13: Perforado | E13: 188581 | F13: 466891 | G13: 59 | I13: 0 | K13: Cerrado con llave | N13: Sin línea de aire
A14: =1+A13 -> 10 | B14: ASADA Quebrada Ganado Cacique | C14: Agujas | D14: Perforado | E14: 189077 | F14: 466777 | G14: 47 | H14: 4 | I14: 0.57 | J14: 23 | K14: - | L14: =O14-I14 -> 10.18 | N14: - | O14: 10.75
A15: =1+A14 -> 11 | B15: Residencial Santiago | C15: Agujas | D15: Perforado | E15: 189533 | F15: 465181 | G15: 27 | H15: 3 | I15: 0.55 | K15: =N15-I15 -> 0.04 | L15: - | N15: 0.59 | O15: -
A16: =1+A15 -> 12 | B16: Carlos Luis Monge | C16: Agujas | D16: Perforado | E16: 189923 | F16: 464947 | G16: 22 | I16: - | K16: Sin línea de aire | N16: Sin línea de aire
A17: =1+A16 -> 13 | B17: Samar de Santana | C17: Agujas | D17: Excavado | E17: 189801 | F17: 465079 | G17: 24 | I17: 0.4 | K17: Cerrado con llave | N17: - | O17: -
A18: =1+A17 -> 14 | B18: ASADA Quebrada Ganado Castaña Nuevo | C18: Quebrada Ganado | D18: Perforado | I18: 0.56 | K18: - | L18: =O18-I18 -> 9.3 | N18: - | O18: 9.86

Sheet Setiembre 2014
A1: Plan de Monitoreo Acuífero Mantas y Agujas
A2: Fecha: 29 de setiembre del 2014
N3: Datos de campo
A4: N˚ | B4: Nombre del POZO | C4: Lugar | D4: Tipo | E4: Latitud | F4: Longitud | G4: Altitud sobre nivel de Mar | H4: Diámetro armado (in) | I4: Brocal (m) | J4: Profundidad de pozo (m) | K4: Nivel estático (m) | L4: Nivel dinámico (m) | N4: Nivel estático (m) + Brocal | O4: Nivel dinámico (m) + Brocal
A5: 1 | B5: Punta Leona # 21 Capilla | C5: Punta Leona | D5: Perforado | E5: 187420 | F5: 464086 | G5: 22 | H5: 8 | I5: 0.38 | K5: - | L5: =O5-I5 -> 3.65 | N5: - | O5: 4.03
A6: =1+A5 -> 2 | B6: Punta Leona # 28 Rotonda | C6: Punta Leona | D6: Perforado | E6: 187337 | F6: 464142 | G6: 24 | H6: 6 | I6: 0.35 | K6: - | L6: =O6-I6 -> 6.26 | N6: - | O6: 6.61
A7: =1+A6 -> 3 | B7: Punta Leona # 8 Barlovento | C7: Punta Leona | D7: Perforado | E7: 187173 | F7: 464343 | G7: 32 | I7: -0.42 | K7: =N7-I7 -> 6.07 | L7: - | N7: 5.65 | O7: -
A8: =1+A7 -> 4 | B8: Punta Leona # 38 Boulevard | C8: Punta Leona | D8: Perforado | E8: 188544 | F8: 466399 | G8: 36 | H8: 10 | I8: 0.34 | K8: - | L8: =O8-I8 -> 4.13 | N8: - | O8: 4.47
A9: =1+A8 -> 5 | B9: Punta Leona Boulevard 2 | C9: Punta Leona | D9: Perforado | E9: 188556 | F9: 466296 | G9: 35 | H9: 10 | I9: 0.57 | K9: =N9-I9 -> 2.27 | L9: - | N9: 2.84 | O9: -
A10: =1+A9 -> 6 | B10: ASADA Quebrada Ganado Castaña | C10: Quebrada Ganado | D10: Perforado | E10: 188977 | F10: 468685 | G10: 66 | H10: 3 | I10: 0.3 | K10: =N10-I10 -> 5.81 | L10: - | N10: 6.11 | O10: -
A11: =1+A10 -> 7 | B11: Juan Ignacio Naranjo Chávez | C11: Quebrada Ganado | D11: Perforado | E11: 189542 | F11: 467732 | G11: 49 | I11: - | K11: Sin línea de aire | N11: Sin línea de aire
A12: =1+A11 -> 8 | B12: Carlos Solano | C12: Quebrada Ganado | D12: Perforado | E12: 189959 | F12: 467620 | G12: 47 | I12: - | K12: Sin línea de aire | N12: Sin línea de aire
A13: =1+A12 -> 9 | B13: Plantation Acres | C13: Agujas | D13: Perforado | E13: 188581 | F13: 466891 | G13: 59 | I13: 0 | K13: Cerrado con llave | N13: Sin línea de aire
A14: =1+A13 -> 10 | B14: ASADA Quebrada Ganado Cacique | C14: Agujas | D14: Perforado | E14: 189077 | F14: 466777 | G14: 47 | H14: 4 | I14: 0.57 | J14: 23 | K14: =N14-I14 -> 8.17 | L14: - | N14: 8.74 | O14: -
A15: =1+A14 -> 11 | B15: Residencial Santiago | C15: Agujas | D15: Perforado | E15: 189533 | F15: 465181 | G15: 27 | H15: 3 | I15: 0.55 | K15: =N15-I15 -> 0.1 | L15: - | N15: 0.65 | O15: -
A16: =1+A15 -> 12 | B16: Carlos Luis Monge | C16: Agujas | D16: Perforado | E16: 189923 | F16: 464947 | G16: 22 | I16: - | K16: Sin línea de aire | N16: Sin línea de aire
A17: =1+A16 -> 13 | B17: Samar de Santana | C17: Agujas | D17: Excavado | E17: 189801 | F17: 465079 | G17: 24 | I17: 0.4 | K17: Cerrado con llave | N17: - | O17: -
A18: =1+A17 -> 14 | B18: ASADA Quebrada Ganado Castaña Nuevo | C18: Quebrada Ganado | D18: Perforado | E18: 188953 | F18: 468719 | I18: 0.56 | K18: - | L18: =O18-I18 -> 8.95 | N18: - | O18: 9.51

Sheet Octubre 2014
A1: Plan de Monitoreo Acuífero Mantas y Agujas
A2: Fecha: 20 de octubre del 2014
N3: Datos de campo
A4: N˚ | B4: Nombre del POZO | C4: Lugar | D4: Tipo | E4: Latitud | F4: Longitud | G4: Altitud sobre nivel de Mar | H4: Diámetro armado (in) | I4: Brocal (m) | J4: Profundidad de pozo (m) | K4: Nivel estático (m) | L4: Nivel dinámico (m) | N4: Nivel estático (m) + Brocal | O4: Nivel dinámico (m) + Brocal
A5: 1 | B5: Punta Leona # 21 Capilla | C5: Punta Leona | D5: Perforado | E5: 187420 | F5: 464086 | G5: 22 | H5: 8 | I5: 0.38 | K5: - | L5: =O5-I5 -> 3.32 | N5: - | O5: 3.7
A6: =1+A5 -> 2 | B6: Punta Leona # 28 Rotonda | C6: Punta Leona | D6: Perforado | E6: 187337 | F6: 464142 | G6: 24 | H6: 6 | I6: 0.35 | K6: =N6-I6 -> 2.72 | L6: - | N6: 3.07 | O6: -
A7: =1+A6 -> 3 | B7: Punta Leona # 8 Barlovento | C7: Punta Leona | D7: Perforado | E7: 187173 | F7: 464343 | G7: 32 | I7: -0.42 | K7: =N7-I7 -> 4.02 | L7: - | N7: 3.6 | O7: -
A8: =1+A7 -> 4 | B8: Punta Leona # 38 Boulevard | C8: Punta Leona | D8: Perforado | E8: 188544 | F8: 466399 | G8: 36 | H8: 10 | I8: 0.34 | K8: - | L8: =O8-I8 -> 4.92 | N8: - | O8: 5.26
A9: =1+A8 -> 5 | B9: Punta Leona Boulevard 2 | C9: Punta Leona | D9: Perforado | E9: 188556 | F9: 466296 | G9: 35 | H9: 10 | I9: 0.57 | K9: =N9-I9 -> 3.13 | L9: - | N9: 3.7 | O9: -
A10: =1+A9 -> 6 | B10: ASADA Quebrada Ganado Castaña | C10: Quebrada Ganado | D10: Perforado | E10: 188977 | F10: 468685 | G10: 66 | H10: 3 | I10: 0.3 | K10: =N10-I10 -> 6.66 | L10: - | N10: 6.96 | O10: -
A11: =1+A10 -> 7 | B11: Juan Ignacio Naranjo Chávez | C11: Quebrada Ganado | D11: Perforado | E11: 189542 | F11: 467732 | G11: 49 | I11: - | K11: Sin línea de aire | N11: Sin línea de aire
A12: =1+A11 -> 8 | B12: Carlos Solano | C12: Quebrada Ganado | D12: Perforado | E12: 189959 | F12: 467620 | G12: 47 | I12: - | K12: Sin línea de aire | N12: Sin línea de aire
A13: =1+A12 -> 9 | B13: Plantation Acres | C13: Agujas | D13: Perforado | E13: 188581 | F13: 466891 | G13: 59 | I13: 0 | K13: Cerrado con llave | N13: Sin línea de aire
A14: =1+A13 -> 10 | B14: ASADA Quebrada Ganado Cacique | C14: Agujas | D14: Perforado | E14: 189077 | F14: 466777 | G14: 47 | H14: 4 | I14: 0.57 | J14: 23 | K14: =N14-I14 -> 7.84 | L14: - | N14: 8.41 | O14: -
A15: =1+A14 -> 11 | B15: Residencial Santiago | C15: Agujas | D15: Perforado | E15: 189533 | F15: 465181 | G15: 27 | H15: 3 | I15: 0.55 | K15: =N15-I15 -> -0.03 | L15: - | N15: 0.52 | O15: -
A16: =1+A15 -> 12 | B16: Carlos Luis Monge | C16: Agujas | D16: Perforado | E16: 189923 | F16: 464947 | G16: 22 | I16: - | K16: Sin línea de aire | N16: Sin línea de aire
A17: =1+A16 -> 13 | B17: Samar de Santana | C17: Agujas | D17: Excavado | E17: 189801 | F17: 465079 | G17: 24 | I17: 0.4 | K17: Cerrado con llave | N17: - | O17: -
A18: =1+A17 -> 14 | B18: ASADA Quebrada Ganado Castaña Nuevo | C18: Quebrada Ganado | D18: Perforado | E18: 188953 | F18: 468719 | I18: 0.56 | K18: =N18-I18 -> 6.27 | L18: - | N18: 6.83 | O18: -

Sheet Noviembre 2014
A1: Plan de Monitoreo Acuífero Mantas y Agujas
A2: Fecha: 17 de noviembre del 2014
N3: Datos de campo
A4: N˚ | B4: Nombre del POZO | C4: Lugar | D4: Tipo | E4: Latitud | F4: Longitud | G4: Altitud sobre nivel de Mar | H4: Diámetro armado (in) | I4: Brocal (m) | J4: Profundidad de pozo (m) | K4: Nivel estático (m) | L4: Nivel dinámico (m) | N4: Nivel estático (m) + Brocal | O4: Nivel dinámico (m) + Brocal
A5: 1 | B5: Punta Leona # 21 Capilla | C5: Punta Leona | D5: Perforado | E5: 187420 | F5: 464086 | G5: 22 | H5: 8 | I5: 0.38 | K5: - | L5: =O5-I5 -> 4.24 | N5: - | O5: 4.62
A6: =1+A5 -> 2 | B6: Punta Leona # 28 Rotonda | C6: Punta Leona | D6: Perforado | E6: 187337 | F6: 464142 | G6: 24 | H6: 6 | I6: 0.35 | K6: =N6-I6 -> 3.75 | L6: - | N6: 4.1 | O6: -
A7: =1+A6 -> 3 | B7: Punta Leona # 8 Barlovento | C7: Punta Leona | D7: Perforado | E7: 187173 | F7: 464343 | G7: 32 | I7: -0.42 | K7: =N7-I7 -> 6.39 | L7: - | N7: 5.97 | O7: -
A8: =1+A7 -> 4 | B8: Punta Leona # 38 Boulevard | C8: Punta Leona | D8: Perforado | E8: 188544 | F8: 466399 | G8: 36 | H8: 10 | I8: 0.34 | K8: =N8-I8 -> 4.96 | L8: - | N8: 5.3 | O8: -
A9: =1+A8 -> 5 | B9: Punta Leona Boulevard 2 | C9: Punta Leona | D9: Perforado | E9: 188556 | F9: 466296 | G9: 35 | H9: 10 | I9: 0.57 | K9: =N9-I9 -> 3.18 | L9: - | N9: 3.75 | O9: -
A10: =1+A9 -> 6 | B10: ASADA Quebrada Ganado Castaña | C10: Quebrada Ganado | D10: Perforado | E10: 188977 | F10: 468685 | G10: 66 | H10: 3 | I10: 0.3 | K10: =N10-I10 -> 5.62 | L10: - | N10: 5.92 | O10: -
A11: =1+A10 -> 7 | B11: Juan Ignacio Naranjo Chávez | C11: Quebrada Ganado | D11: Perforado | E11: 189542 | F11: 467732 | G11: 49 | I11: - | K11: Sin línea de aire | N11: Sin línea de aire
A12: =1+A11 -> 8 | B12: Carlos Solano | C12: Quebrada Ganado | D12: Perforado | E12: 189959 | F12: 467620 | G12: 47 | I12: - | K12: Sin línea de aire | N12: Sin línea de aire
A13: =1+A12 -> 9 | B13: Plantation Acres | C13: Agujas | D13: Perforado | E13: 188581 | F13: 466891 | G13: 59 | I13: 0 | K13: Cerrado con llave | N13: Sin línea de aire
A14: =1+A13 -> 10 | B14: ASADA Quebrada Ganado Cacique | C14: Agujas | D14: Perforado | E14: 189077 | F14: 466777 | G14: 47 | H14: 4 | I14: 0.57 | J14: 23 | K14: - | L14: =O14-I14 -> 8.72 | N14: - | O14: 9.29
A15: =1+A14 -> 11 | B15: Residencial Santiago | C15: Agujas | D15: Perforado | E15: 189533 | F15: 465181 | G15: 27 | H15: 3 | I15: 0.55 | K15: 0,02 + | L15: - | N15: 0.53 | O15: -
A16: =1+A15 -> 12 | B16: Carlos Luis Monge | C16: Agujas | D16: Perforado | E16: 189923 | F16: 464947 | G16: 22 | I16: - | K16: Sin línea de aire | N16: Sin línea de aire
A17: =1+A16 -> 13 | B17: Samar de Santana | C17: Agujas | D17: Excavado | E17: 189801 | F17: 465079 | G17: 24 | I17: 0.4 | K17: Cerrado con llave | N17: - | O17: -
A18: =1+A17 -> 14 | B18: ASADA Quebrada Ganado Castaña Nuevo | C18: Quebrada Ganado | D18: Perforado | E18: 188953 | F18: 468719 | I18: 0.56 | K18: =N18-I18 -> 8.13 | L18: - | N18: 8.69 | O18: -

Sheet Diciembre 2014
A1: Plan de Monitoreo Acuífero Mantas y Agujas
A2: Fecha: Diciembre del 2014
N3: Datos de campo
A4: N˚ | B4: Nombre del POZO | C4: Lugar | D4: Tipo | E4: Latitud | F4: Longitud | G4: Altitud sobre nivel de Mar | H4: Diámetro armado (in) | I4: Brocal (m) | J4: Profundidad de pozo (m) | K4: Nivel estático (m) | L4: Nivel dinámico (m) | N4: Nivel estático (m) + Brocal | O4: Nivel dinámico (m) + Brocal
A5: 1 | B5: Punta Leona # 21 Capilla | C5: Punta Leona | D5: Perforado | E5: 187420 | F5: 464086 | G5: 22 | H5: 8 | I5: 0.38 | K5: - | L5: =O5-I5 -> 4.97 | N5: - | O5: 5.35
A6: =1+A5 -> 2 | B6: Punta Leona # 28 Rotonda | C6: Punta Leona | D6: Perforado | E6: 187337 | F6: 464142 | G6: 24 | H6: 6 | I6: 0.35 | K6: =N6-I6 -> 4.71 | L6: - | N6: 5.06 | O6: -
A7: =1+A6 -> 3 | B7: Punta Leona # 8 Barlovento | C7: Punta Leona | D7: Perforado | E7: 187173 | F7: 464343 | G7: 32 | I7: -0.42 | K7: - | L7: =O7-I7 -> 8.2 | N7: - | O7: 7.78
A8: =1+A7 -> 4 | B8: Punta Leona # 38 Boulevard | C8: Punta Leona | D8: Perforado | E8: 188544 | F8: 466399 | G8: 36 | H8: 10 | I8: 0.34 | K8: - | L8: =O8-I8 -> 5.32 | N8: - | O8: 5.66
A9: =1+A8 -> 5 | B9: Punta Leona Boulevard 2 | C9: Punta Leona | D9: Perforado | E9: 188556 | F9: 466296 | G9: 35 | H9: 10 | I9: 0.57 | K9: =N9-I9 -> 3.48 | L9: - | N9: 4.05 | O9: -
A10: =1+A9 -> 6 | B10: ASADA Quebrada Ganado Castaña | C10: Quebrada Ganado | D10: Perforado | E10: 188977 | F10: 468685 | G10: 66 | H10: 3 | I10: 0.3 | K10: =N10-I10 -> 5.72 | L10: - | N10: 6.02 | O10: -
A11: =1+A10 -> 7 | B11: Juan Ignacio Naranjo Chávez | C11: Quebrada Ganado | D11: Perforado | E11: 189542 | F11: 467732 | G11: 49 | I11: - | K11: Sin línea de aire | N11: Sin línea de aire
A12: =1+A11 -> 8 | B12: Carlos Solano | C12: Quebrada Ganado | D12: Perforado | E12: 189959 | F12: 467620 | G12: 47 | I12: - | K12: Sin línea de aire | N12: Sin línea de aire
A13: =1+A12 -> 9 | B13: Plantation Acres | C13: Agujas | D13: Perforado | E13: 188581 | F13: 466891 | G13: 59 | I13: 0 | K13: Cerrado con llave | N13: Sin línea de aire
A14: =1+A13 -> 10 | B14: ASADA Quebrada Ganado Cacique | C14: Agujas | D14: Perforado | E14: 189077 | F14: 466777 | G14: 47 | H14: 4 | I14: 0.57 | J14: 23 | K14: =N14-H14 -> 5.26 | L14: - | N14: 9.26 | O14: -
A15: =1+A14 -> 11 | B15: Residencial Santiago | C15: Agujas | D15: Perforado | E15: 189533 | F15: 465181 | G15: 27 | H15: 3 | I15: 0.55 | K15: - | L15: 0,03+ | O15: 0.52
A16: =1+A15 -> 12 | B16: Carlos Luis Monge | C16: Agujas | D16: Perforado | E16: 189923 | F16: 464947 | G16: 22 | I16: - | K16: Sin línea de aire | N16: Sin línea de aire
A17: =1+A16 -> 13 | B17: Samar de Santana | C17: Agujas | D17: Excavado | E17: 189801 | F17: 465079 | G17: 24 | I17: 0.4 | K17: Cerrado con llave | N17: - | O17: -
A18: =1+A17 -> 14 | B18: ASADA Quebrada Ganado Castaña Nuevo | C18: Quebrada Ganado | D18: Perforado | E18: 188953 | F18: 468719 | I18: 0.56 | K18: =N18-I18 -> 6.36 | L18: - | N18: 6.92 | O18: -

Sheet Enero 2015
A1: Plan de Monitoreo Acuífero Mantas y Agujas
A2: Fecha: 26 de enero del 2015
N3: Datos de campo
A4: N˚ | B4: Nombre del POZO | C4: Lugar | D4: Tipo | E4: Latitud | F4: Longitud | G4: Altitud sobre nivel de Mar | H4: Diámetro armado (in) | I4: Brocal (m) | J4: Profundidad de pozo (m) | K4: Nivel estático (m) | L4: Nivel dinámico (m) | N4: Nivel estático (m) + Brocal | O4: Nivel dinámico (m) + Brocal
A5: 1 | B5: Punta Leona # 21 Capilla | C5: Punta Leona | D5: Perforado | E5: 187420 | F5: 464086 | G5: 22 | H5: 8 | I5: 0.38 | K5: - | L5: =O5-I5 -> 7.01 | N5: - | O5: 7.39
A6: =1+A5 -> 2 | B6: Punta Leona # 28 Rotonda | C6: Punta Leona | D6: Perforado | E6: 187337 | F6: 464142 | G6: 24 | H6: 6 | I6: 0.35 | K6: - | L6: =O6-I6 -> 9.94 | N6: - | O6: 10.29
A7: =1+A6 -> 3 | B7: Punta Leona # 8 Barlovento | C7: Punta Leona | D7: Perforado | E7: 187173 | F7: 464343 | G7: 32 | I7: -0.42 | K7: - | L7: =O7-I7 -> 12.08 | N7: - | O7: 11.66
A8: =1+A7 -> 4 | B8: Punta Leona # 38 Boulevard | C8: Punta Leona | D8: Perforado | E8: 188544 | F8: 466399 | G8: 36 | H8: 10 | I8: 0.34 | K8: =N8-I8 -> 5.92 | L8: - | N8: 6.26 | O8: -
A9: =1+A8 -> 5 | B9: Punta Leona Boulevard 2 | C9: Punta Leona | D9: Perforado | E9: 188556 | F9: 466296 | G9: 35 | H9: 10 | I9: 0.57 | K9: =N9-I9 -> 4.39 | L9: - | N9: 4.96 | O9: -
A10: =1+A9 -> 6 | B10: ASADA Quebrada Ganado Castaña | C10: Quebrada Ganado | D10: Perforado | E10: 188977 | F10: 468685 | G10: 66 | H10: 3 | I10: 0.3 | K10: =N10-I10 -> 5.7 | L10: - | N10: 6 | O10: -
A11: =1+A10 -> 7 | B11: Juan Ignacio Naranjo Chávez | C11: Quebrada Ganado | D11: Perforado | E11: 189542 | F11: 467732 | G11: 49 | I11: - | K11: Sin línea de aire | N11: Sin línea de aire
A12: =1+A11 -> 8 | B12: Carlos Solano | C12: Quebrada Ganado | D12: Perforado | E12: 189959 | F12: 467620 | G12: 47 | I12: - | K12: Sin línea de aire | N12: Sin línea de aire
A13: =1+A12 -> 9 | B13: Plantation Acres | C13: Agujas | D13: Perforado | E13: 188581 | F13: 466891 | G13: 59 | I13: 0 | K13: Cerrado con llave | N13: Sin línea de aire
A14: =1+A13 -> 10 | B14: ASADA Quebrada Ganado Cacique | C14: Agujas | D14: Perforado | E14: 189077 | F14: 466777 | G14: 47 | H14: 4 | I14: 0.57 | J14: 23 | K14: - | L14: =O14-I14 -> 10.6 | N14: - | O14: 11.17
A15: =1+A14 -> 11 | B15: Residencial Santiago | C15: Agujas | D15: Perforado | E15: 189533 | F15: 465181 | G15: 27 | H15: 3 | I15: 0.55 | K15: - | L15: =O15-I15 -> 1.27 | N15: - | O15: 1.82
A16: =1+A15 -> 12 | B16: Carlos Luis Monge | C16: Agujas | D16: Perforado | E16: 189923 | F16: 464947 | G16: 22 | I16: - | K16: Sin línea de aire | N16: Sin línea de aire
A17: =1+A16 -> 13 | B17: Samar de Santana | C17: Agujas | D17: Excavado | E17: 189801 | F17: 465079 | G17: 24 | I17: 0.4 | K17: Cerrado con llave | N17: - | O17: -
A18: =1+A17 -> 14 | B18: ASADA Quebrada Ganado Castaña Nuevo | C18: Quebrada Ganado | D18: Perforado | E18: 188953 | F18: 468719 | I18: 0.56 | K18: - | L18: =O18-I18 -> 6.7 | N18: - | O18: 7.26

Sheet Febrero 2015
A1: Plan de Monitoreo Acuífero Mantas y Agujas
A2: Fecha: 23 de febrero del 2015
N3: Datos de campo
A4: N˚ | B4: Nombre del POZO | C4: Lugar | D4: Tipo | E4: Latitud | F4: Longitud | G4: Altitud sobre nivel de Mar | H4: Diámetro armado (in) | I4: Brocal (m) | J4: Profundidad de pozo (m) | K4: Nivel estático (m) | L4: Nivel dinámico (m) | N4: Nivel estático (m) + Brocal | O4: Nivel dinámico (m) + Brocal
A5: 1 | B5: Punta Leona # 21 Capilla | C5: Punta Leona | D5: Perforado | E5: 187420 | F5: 464086 | G5: 22 | H5: 8 | I5: 0.38 | K5: - | L5: =O5-I5 -> 7.85 | N5: - | O5: 8.23
A6: =1+A5 -> 2 | B6: Punta Leona # 28 Rotonda | C6: Punta Leona | D6: Perforado | E6: 187337 | F6: 464142 | G6: 24 | H6: 6 | I6: 0.35 | K6: - | L6: =O6-I6 -> 12.49 | N6: - | O6: 12.84
A7: =1+A6 -> 3 | B7: Punta Leona # 8 Barlovento | C7: Punta Leona | D7: Perforado | E7: 187173 | F7: 464343 | G7: 32 | I7: -0.42 | K7: - | L7: =O7-I7 -> 13.82 | N7: - | O7: 13.4
A8: =1+A7 -> 4 | B8: Punta Leona # 38 Boulevard | C8: Punta Leona | D8: Perforado | E8: 188544 | F8: 466399 | G8: 36 | H8: 10 | I8: 0.34 | K8: =N8-I8 -> 6.52 | L8: - | N8: 6.86 | O8: -
A9: =1+A8 -> 5 | B9: Punta Leona Boulevard 2 | C9: Punta Leona | D9: Perforado | E9: 188556 | F9: 466296 | G9: 35 | H9: 10 | I9: 0.57 | K9: - | L9: =O9-I9 -> 5.12 | N9: - | O9: 5.69
A10: =1+A9 -> 6 | B10: ASADA Quebrada Ganado Castaña | C10: Quebrada Ganado | D10: Perforado | E10: 188977 | F10: 468685 | G10: 66 | H10: 3 | I10: 0.3 | K10: =N10-I10 -> 5.82 | L10: - | N10: 6.12 | O10: -
A11: =1+A10 -> 7 | B11: Juan Ignacio Naranjo Chávez | C11: Quebrada Ganado | D11: Perforado | E11: 189542 | F11: 467732 | G11: 49 | I11: - | K11: Sin línea de aire | N11: Sin línea de aire
A12: =1+A11 -> 8 | B12: Carlos Solano | C12: Quebrada Ganado | D12: Perforado | E12: 189959 | F12: 467620 | G12: 47 | I12: - | K12: Sin línea de aire | N12: Sin línea de aire
A13: =1+A12 -> 9 | B13: Plantation Acres | C13: Agujas | D13: Perforado | E13: 188581 | F13: 466891 | G13: 59 | I13: 0 | K13: Cerrado con llave | N13: Sin línea de aire
A14: =1+A13 -> 10 | B14: ASADA Quebrada Ganado Cacique | C14: Agujas | D14: Perforado | E14: 189077 | F14: 466777 | G14: 47 | H14: 4 | I14: 0.57 | J14: 23 | K14: - | L14: =O14-I14 -> 11.15 | N14: - | O14: 11.72
A15: =1+A14 -> 11 | B15: Residencial Santiago | C15: Agujas | D15: Perforado | E15: 189533 | F15: 465181 | G15: 27 | H15: 3 | I15: 0.55 | K15: =N15-I15 -> 0.04 | L15: - | N15: 0.59 | O15: -
A16: =1+A15 -> 12 | B16: Carlos Luis Monge | C16: Agujas | D16: Perforado | E16: 189923 | F16: 464947 | G16: 22 | I16: - | K16: Sin línea de aire | N16: Sin línea de aire
A17: =1+A16 -> 13 | B17: Samar de Santana | C17: Agujas | D17: Excavado | E17: 189801 | F17: 465079 | G17: 24 | I17: 0.4 | K17: Cerrado con llave | N17: - | O17: -
A18: =1+A17 -> 14 | B18: ASADA Quebrada Ganado Castaña Nuevo | C18: Quebrada Ganado | D18: Perforado | E18: 188953 | F18: 468719 | I18: 0.56 | K18: - | L18: =O18-I18 -> 7.66 | N18: - | O18: 8.22

Sheet Marzo 2015
A1: Plan de Monitoreo Acuífero Mantas y Agujas
A2: Fecha: 16 de Marzo del 2015
N3: Datos de campo
A4: N˚ | B4: Nombre del POZO | C4: Lugar | D4: Tipo | E4: Latitud | F4: Longitud | G4: Altitud sobre nivel de Mar | H4: Diámetro armado (in) | I4: Brocal (m) | J4: Profundidad de pozo (m) | K4: Nivel estático (m) | L4: Nivel dinámico (m) | N4: Nivel estático (m) + Brocal | O4: Nivel dinámico (m) + Brocal
A5: 1 | B5: Punta Leona # 21 Capilla | C5: Punta Leona | D5: Perforado | E5: 187420 | F5: 464086 | G5: 22 | H5: 8 | I5: 0.38 | K5: - | L5: =O5-I5 -> 8.58 | N5: - | O5: 8.96
A6: 2 | B6: Punta Leona # 28 Rotonda | C6: Punta Leona | D6: Perforado | E6: 187337 | F6: 464142 | G6: 24 | H6: 6 | I6: 0.35 | K6: =N6-I6 -> 9.45 | L6: - | N6: 9.8 | O6: -
A7: 3 | B7: Punta Leona # 8 Barlovento | C7: Punta Leona | D7: Perforado | E7: 187173 | F7: 464343 | G7: 32 | I7: -0.42 | K7: - | L7: =O7-I7 -> 15.52 | N7: - | O7: 15.1
A8: 4 | B8: Punta Leona # 38 Boulevard | C8: Punta Leona | D8: Perforado | E8: 188544 | F8: 466399 | G8: 36 | H8: 10 | I8: 0.34 | K8: =N8-I8 -> 6.97 | L8: - | N8: 7.31 | O8: -
A9: 5 | B9: Punta Leona Boulevard 2 | C9: Punta Leona | D9: Perforado | E9: 188556 | F9: 466296 | G9: 35 | H9: 10 | I9: 0.57 | K9: =N9-I9 -> 5.38 | L9: - | N9: 5.95 | O9: -
A10: 6 | B10: ASADA Quebrada Ganado Castaña | C10: Quebrada Ganado | D10: Perforado | E10: 188977 | F10: 468685 | G10: 66 | H10: 3 | I10: 0.3 | K10: =N10-I10 -> 5.84 | L10: - | N10: 6.14 | O10: -
A11: 7 | B11: Juan Ignacio Naranjo Chávez | C11: Quebrada Ganado | D11: Perforado | E11: 189542 | F11: 467732 | G11: 49 | I11: - | K11: Sin línea de aire | N11: Sin línea de aire
A12: 8 | B12: Carlos Solano | C12: Quebrada Ganado | D12: Perforado | E12: 189959 | F12: 467620 | G12: 47 | I12: - | K12: Sin línea de aire | N12: Sin línea de aire
A13: 9 | B13: Plantation Acres | C13: Agujas | D13: Perforado | E13: 188581 | F13: 466891 | G13: 59 | I13: 0 | K13: Cerrado con llave | N13: Sin línea de aire
A14: 10 | B14: ASADA Quebrada Ganado Cacique | C14: Agujas | D14: Perforado | E14: 189077 | F14: 466777 | G14: 47 | H14: 4 | I14: 0.57 | J14: 23 | K14: =N14-I14 -> 8.15 | L14: - | N14: 8.72 | O14: -
A15: 11 | B15: Residencial Santiago | C15: Agujas | D15: Perforado | E15: 189533 | F15: 465181 | G15: 27 | H15: 3 | I15: 0.55 | K15: =N15-I15 -> 0.07 | L15: - | N15: 0.62 | O15: -
A16: 12 | B16: Carlos Luis Monge | C16: Agujas | D16: Perforado | E16: 189923 | F16: 464947 | G16: 22 | I16: - | K16: Sin línea de aire | N16: Sin línea de aire
A17: 13 | B17: Samar de Santana | C17: Agujas | D17: Excavado | E17: 189801 | F17: 465079 | G17: 24 | I17: 0.4 | K17: Cerrado con llave | N17: Sin línea de aire
A18: 14 | B18: ASADA Quebrada Ganado Castaña Nuevo | C18: Quebrada Ganado | D18: Perforado | E18: 188953 | F18: 468719 | I18: 0.56 | K18: - | L18: =O18-I18 -> 9.68 | N18: - | O18: 10.24

Sheet Abril 2015
A1: Plan de Monitoreo Acuífero Mantas y Agujas
A2: Fecha: abril del 2015
N3: Datos de campo
A4: N˚ | B4: Nombre del POZO | C4: Lugar | D4: Tipo | E4: Latitud | F4: Longitud | G4: Altitud sobre nivel de Mar | H4: Diámetro armado (in) | I4: Brocal (m) | J4: Profundidad de pozo (m) | K4: Nivel estático (m) | L4: Nivel dinámico (m) | N4: Nivel estático (m) + Brocal | O4: Nivel dinámico (m) + Brocal
A5: 1 | B5: Punta Leona # 21 Capilla | C5: Punta Leona | D5: Perforado | E5: 187420 | F5: 464086 | G5: 22 | H5: 8 | I5: 0.38 | K5: - | L5: =O5-I5 -> 9.16 | N5: - | O5: 9.54
A6: 2 | B6: Punta Leona # 28 Rotonda | C6: Punta Leona | D6: Perforado | E6: 187337 | F6: 464142 | G6: 24 | H6: 6 | I6: 0.35 | K6: =N6-I6 -> 10.03 | L6: - | N6: 10.38 | O6: -
A7: 3 | B7: Punta Leona # 8 Barlovento | C7: Punta Leona | D7: Perforado | E7: 187173 | F7: 464343 | G7: 32 | I7: -0.42 | K7: =N7-I7 -> 17.27 | L7: - | N7: 16.85 | O7: -
A8: 4 | B8: Punta Leona # 38 Boulevard | C8: Punta Leona | D8: Perforado | E8: 188544 | F8: 466399 | G8: 36 | H8: 10 | I8: 0.34 | K8: =N8-I8 -> 7.54 | L8: - | N8: 7.88 | O8: -
A9: 5 | B9: Punta Leona Boulevard 2 | C9: Punta Leona | D9: Perforado | E9: 188556 | F9: 466296 | G9: 35 | H9: 10 | I9: 0.57 | K9: - | L9: =O9-I9 -> 6.2 | N9: - | O9: 6.77
A10: 6 | B10: ASADA Quebrada Ganado Castaña | C10: Quebrada Ganado | D10: Perforado | E10: 188977 | F10: 468685 | G10: 66 | H10: 3 | I10: 0.3 | K10: Sin Dato | N10: - | O10: -
A11: 7 | B11: Juan Ignacio Naranjo Chávez | C11: Quebrada Ganado | D11: Perforado | E11: 189542 | F11: 467732 | G11: 49 | I11: - | K11: Sin línea de aire | N11: Sin línea de aire
A12: 8 | B12: Carlos Solano | C12: Quebrada Ganado | D12: Perforado | E12: 189959 | F12: 467620 | G12: 47 | I12: - | K12: Sin línea de aire | N12: Sin línea de aire
A13: 9 | B13: Plantation Acres | C13: Agujas | D13: Perforado | E13: 188581 | F13: 466891 | G13: 59 | I13: 0 | K13: Cerrado con llave | N13: Sin línea de aire
A14: 10 | B14: ASADA Quebrada Ganado Cacique | C14: Agujas | D14: Perforado | E14: 189077 | F14: 466777 | G14: 47 | H14: 4 | I14: 0.57 | J14: 23 | K14: - | L14: =O14-I14 -> 12.03 | N14: - | O14: 12.6
A15: 11 | B15: Residencial Santiago | C15: Agujas | D15: Perforado | E15: 189533 | F15: 465181 | G15: 27 | H15: 3 | I15: 0.55 | K15: =N15-I15 -> 0.03 | L15: - | N15: 0.58 | O15: -
A16: 12 | B16: Carlos Luis Monge | C16: Agujas | D16: Perforado | E16: 189923 | F16: 464947 | G16: 22 | I16: - | K16: Sin línea de aire | N16: Sin línea de aire
A17: 13 | B17: Samar de Santana | C17: Agujas | D17: Excavado | E17: 189801 | F17: 465079 | G17: 24 | I17: 0.4 | K17: Cerrado con llave | N17: Sin línea de aire
A18: 14 | B18: ASADA Quebrada Ganado Castaña Nuevo | C18: Quebrada Ganado | D18: Perforado | E18: 188953 | F18: 468719 | I18: 0.56 | K18: - | L18: =O18-I18 -> 6.86 | N18: - | O18: 7.42

Sheet Mayo 2015
A1: Plan de Monitoreo Acuífero Mantas y Agujas
A2: Fecha: 25 de Mayo del 2015
A4: N˚ | B4: Nombre del POZO | C4: Lugar | D4: Tipo | E4: Latitud | F4: Longitud | G4: Altitud sobre nivel de Mar | H4: Diámetro armado (in) | I4: Brocal (m) | J4: Profundidad de pozo (m) | K4: Nivel estático (m) | L4: Nivel dinámico (m)
A5: 1 | B5: Punta Leona # 21 Capilla | C5: Punta Leona | D5: Perforado | E5: 187420 | F5: 464086 | G5: 22 | H5: 8 | I5: 0.38 | K5: - | L5: 9.81
A6: 2 | B6: Punta Leona # 28 Rotonda | C6: Punta Leona | D6: Perforado | E6: 187337 | F6: 464142 | G6: 24 | H6: 6 | I6: 0.35 | K6: 9.53 | L6: -
A7: 3 | B7: Punta Leona # 8 Barlovento | C7: Punta Leona | D7: Perforado | E7: 187173 | F7: 464343 | G7: 32 | I7: -0.42 | K7: - | L7: 15.9
A8: 4 | B8: Punta Leona # 38 Boulevard | C8: Punta Leona | D8: Perforado | E8: 188544 | F8: 466399 | G8: 36 | H8: 10 | I8: 0.34 | K8: 9.11 | L8: -
A9: 5 | B9: Punta Leona Boulevard 2 | C9: Punta Leona | D9: Perforado | E9: 188556 | F9: 466296 | G9: 35 | H9: 10 | I9: 0.57 | K9: 7.75 | L9: -
A10: 6 | B10: ASADA Quebrada Ganado Castaña | C10: Quebrada Ganado | D10: Perforado | E10: 188977 | F10: 468685 | G10: 66 | H10: 3 | I10: 0.3 | K10: 7.29 | L10: -
A11: 7 | B11: Juan Ignacio Naranjo Chávez | C11: Quebrada Ganado | D11: Perforado | E11: 189542 | F11: 467732 | G11: 49 | I11: - | K11: Sin línea de aire
A12: 8 | B12: Carlos Solano | C12: Quebrada Ganado | D12: Perforado | E12: 189959 | F12: 467620 | G12: 47 | I12: - | K12: Sin línea de aire
A13: 9 | B13: Plantation Acres | C13: Agujas | D13: Perforado | E13: 188581 | F13: 466891 | G13: 59 | I13: 0 | K13: Cerrado con llave
A14: 10 | B14: ASADA Quebrada Ganado Cacique | C14: Agujas | D14: Perforado | E14: 189077 | F14: 466777 | G14: 47 | H14: 4 | I14: 0.57 | J14: 23 | K14: 13.57 | L14: -
A15: 11 | B15: Residencial Santiago | C15: Agujas | D15: Perforado | E15: 189533 | F15: 465181 | G15: 27 | H15: 3 | I15: 0.55 | K15: 0.58 | L15: -
A16: 12 | B16: Carlos Luis Monge | C16: Agujas | D16: Perforado | E16: 189923 | F16: 464947 | G16: 22 | I16: - | K16: Sin línea de aire
A17: 13 | B17: Samar de Santana | C17: Agujas | D17: Excavado | E17: 189801 | F17: 465079 | G17: 24 | I17: 0.4 | K17: Cerrado con llave
A18: 14 | B18: ASADA Quebrada Ganado Castaña Nuevo | C18: Quebrada Ganado | D18: Perforado | E18: 188953 | F18: 468719 | I18: 0.56 | K18: - | L18: 11.84

Sheet Junio 2015
A1: Plan de Monitoreo Acuífero Mantas y Agujas
A2: Fecha: 22 de junio del 2015
N3: Datos de campo
A4: N˚ | B4: Nombre del POZO | C4: Lugar | D4: Tipo | E4: Latitud | F4: Longitud | G4: Altitud sobre nivel de Mar | H4: Diámetro armado (in) | I4: Brocal (m) | J4: Profundidad de pozo (m) | K4: Nivel estático (m) | L4: Nivel dinámico (m) | N4: Nivel estático (m) + Brocal | O4: Nivel dinámico (m) + Brocal
A5: 1 | B5: Punta Leona # 21 Capilla | C5: Punta Leona | D5: Perforado | E5: 187420 | F5: 464086 | G5: 22 | H5: 8 | I5: 0.38 | K5: - | L5: =O5-I5 -> 7.12 | N5: - | O5: 7.5
A6: 2 | B6: Punta Leona # 28 Rotonda | C6: Punta Leona | D6: Perforado | E6: 187337 | F6: 464142 | G6: 24 | H6: 6 | I6: 0.35 | K6: =N6-I6 -> 7.63 | L6: - | N6: 7.98 | O6: -
A7: 3 | B7: Punta Leona # 8 Barlovento | C7: Punta Leona | D7: Perforado | E7: 187173 | F7: 464343 | G7: 32 | I7: -0.42 | K7: - | L7: - | N7: 11.73 | O7: -
A8: 4 | B8: Punta Leona # 38 Boulevard | C8: Punta Leona | D8: Perforado | E8: 188544 | F8: 466399 | G8: 36 | H8: 10 | I8: 0.34 | K8: =N8-I8 -> 7.4 | L8: - | N8: 7.74 | O8: -
A9: 5 | B9: Punta Leona Boulevard 2 | C9: Punta Leona | D9: Perforado | E9: 188556 | F9: 466296 | G9: 35 | H9: 10 | I9: 0.57 | K9: =N9-I9 -> 5.76 | L9: - | N9: 6.33 | O9: -
A10: 6 | B10: ASADA Quebrada Ganado Castaña | C10: Quebrada Ganado | D10: Perforado | E10: 188977 | F10: 468685 | G10: 66 | H10: 3 | I10: 0.3 | K10: =N10-I10 -> 5.98 | L10: - | N10: 6.28 | O10: -
A11: 7 | B11: Juan Ignacio Naranjo Chávez | C11: Quebrada Ganado | D11: Perforado | E11: 189542 | F11: 467732 | G11: 49 | I11: - | K11: Sin línea de aire | N11: Sin línea de aire
A12: 8 | B12: Carlos Solano | C12: Quebrada Ganado | D12: Perforado | E12: 189959 | F12: 467620 | G12: 47 | I12: - | K12: Sin línea de aire | N12: Sin línea de aire
A13: 9 | B13: Plantation Acres | C13: Agujas | D13: Perforado | E13: 188581 | F13: 466891 | G13: 59 | I13: 0 | K13: Cerrado con llave | N13: Sin línea de aire
A14: 10 | B14: ASADA Quebrada Ganado Cacique | C14: Agujas | D14: Perforado | E14: 189077 | F14: 466777 | G14: 47 | H14: 4 | I14: 0.57 | J14: 23 | K14: - | L14: =O14-I14 -> 12.03 | N14: - | O14: 12.6
A15: 11 | B15: Residencial Santiago | C15: Agujas | D15: Perforado | E15: 189533 | F15: 465181 | G15: 27 | H15: 3 | I15: 0.55 | K15: - | L15: =O15-I15 -> 0.93 | N15: - | O15: 1.48
A16: 12 | B16: Carlos Luis Monge | C16: Agujas | D16: Perforado | E16: 189923 | F16: 464947 | G16: 22 | I16: - | K16: Sin línea de aire | N16: Sin línea de aire
A17: 13 | B17: Samar de Santana | C17: Agujas | D17: Excavado | E17: 189801 | F17: 465079 | G17: 24 | I17: 0.4 | K17: Cerrado con llave | N17: Sin línea de aire
A18: 14 | B18: ASADA Quebrada Ganado Castaña Nuevo | C18: Quebrada Ganado | D18: Perforado | E18: 188953 | F18: 468719 | I18: 0.56 | K18: - | L18: =O18-I18 -> 8.74 | N18: - | O18: 9.3

Sheet Julio 2015
A1: Plan de Monitoreo Acuífero Mantas y Agujas
A2: Fecha: 27 de julio del 2015
N3: Datos de campo
A4: N˚ | B4: Nombre del POZO | C4: Lugar | D4: Tipo | E4: Latitud | F4: Longitud | G4: Altitud sobre nivel de Mar | H4: Diámetro armado (in) | I4: Brocal (m) | J4: Profundidad de pozo (m) | K4: Nivel estático (m) | L4: Nivel dinámico (m) | N4: Nivel estático (m) + Brocal | O4: Nivel dinámico (m) + Brocal
A5: 1 | B5: Punta Leona # 21 Capilla | C5: Punta Leona | D5: Perforado | E5: 187420 | F5: 464086 | G5: 22 | H5: 8 | I5: 0.38 | K5: - | L5: =O5-I5 -> 6.49 | N5: - | O5: 6.87
A6: 2 | B6: Punta Leona # 28 Rotonda | C6: Punta Leona | D6: Perforado | E6: 187337 | F6: 464142 | G6: 24 | H6: 6 | I6: 0.35 | K6: =N6-I6 -> 7.61 | L6: - | N6: 7.96 | O6: -
A7: 3 | B7: Punta Leona # 8 Barlovento | C7: Punta Leona | D7: Perforado | E7: 187173 | F7: 464343 | G7: 32 | I7: -0.42 | K7: - | L7: =O7-I7 -> 20.33 | N7: - | O7: 19.91
A8: 4 | B8: Punta Leona # 38 Boulevard | C8: Punta Leona | D8: Perforado | E8: 188544 | F8: 466399 | G8: 36 | H8: 10 | I8: 0.34 | K8: - | L8: =O8-I8 -> 7.63 | N8: - | O8: 7.97
A9: 5 | B9: Punta Leona Boulevard 2 | C9: Punta Leona | D9: Perforado | E9: 188556 | F9: 466296 | G9: 35 | H9: 10 | I9: 0.57 | K9: =N9-I9 -> 5.43 | L9: - | N9: 6 | O9: -
A10: 6 | B10: ASADA Quebrada Ganado Castaña | C10: Quebrada Ganado | D10: Perforado | E10: 188977 | F10: 468685 | G10: 66 | H10: 3 | I10: 0.3 | K10: =N10-I10 -> 6.01 | L10: - | N10: 6.31 | O10: -
A11: 7 | B11: Juan Ignacio Naranjo Chávez | C11: Quebrada Ganado | D11: Perforado | E11: 189542 | F11: 467732 | G11: 49 | I11: - | K11: Sin línea de aire | N11: Sin línea de aire
A12: 8 | B12: Carlos Solano | C12: Quebrada Ganado | D12: Perforado | E12: 189959 | F12: 467620 | G12: 47 | I12: - | K12: Sin línea de aire | N12: Sin línea de aire
A13: 9 | B13: Plantation Acres | C13: Agujas | D13: Perforado | E13: 188581 | F13: 466891 | G13: 59 | I13: 0 | K13: Cerrado con llave | N13: Sin línea de aire
A14: 10 | B14: ASADA Quebrada Ganado Cacique | C14: Agujas | D14: Perforado | E14: 189077 | F14: 466777 | G14: 47 | H14: 4 | I14: 0.57 | J14: 23 | K14: - | L14: =O14-I14 -> 11.83 | N14: - | O14: 12.4
A15: 11 | B15: Residencial Santiago | C15: Agujas | D15: Perforado | E15: 189533 | F15: 465181 | G15: 27 | H15: 3 | I15: 0.55 | K15: =N15-I15 -> 0 | L15: - | N15: 0.55 | O15: -
A16: 12 | B16: Carlos Luis Monge | C16: Agujas | D16: Perforado | E16: 189923 | F16: 464947 | G16: 22 | I16: - | K16: Sin línea de aire | N16: Sin línea de aire
A17: 13 | B17: Samar de Santana | C17: Agujas | D17: Excavado | E17: 189801 | F17: 465079 | G17: 24 | I17: 0.4 | K17: Cerrado con llave | N17: Sin línea de aire
A18: 14 | B18: ASADA Quebrada Ganado Castaña Nuevo | C18: Quebrada Ganado | D18: Perforado | E18: 188953 | F18: 468719 | I18: 0.56 | K18: - | L18: =O18-I18 -> 10.59 | N18: - | O18: 11.15

Sheet Agosto 2015
A1: Plan de Monitoreo Acuífero Mantas y Agujas
A2: Fecha: 24 de Agosto del 2015
N3: Datos de campo
A4: N˚ | B4: Nombre del POZO | C4: Lugar | D4: Tipo | E4: Latitud | F4: Longitud | G4: Altitud sobre nivel de Mar | H4: Diámetro armado (in) | I4: Brocal (m) | J4: Profundidad de pozo (m) | K4: Nivel estático (m) | L4: Nivel dinámico (m) | N4: Nivel estático (m) + Brocal | O4: Nivel dinámico (m) + Brocal
A5: 1 | B5: Punta Leona # 21 Capilla | C5: Punta Leona | D5: Perforado | E5: 187420 | F5: 464086 | G5: 22 | H5: 8 | I5: 0.38 | K5: - | L5: =O5-I5 -> 7.09 | N5: - | O5: 7.47
A6: 2 | B6: Punta Leona # 28 Rotonda | C6: Punta Leona | D6: Perforado | E6: 187337 | F6: 464142 | G6: 24 | H6: 6 | I6: 0.35 | K6: - | L6: =O6-I6 -> 10.39 | N6: - | O6: 10.74
A7: 3 | B7: Punta Leona # 8 Barlovento | C7: Punta Leona | D7: Perforado | E7: 187173 | F7: 464343 | G7: 32 | I7: -0.42 | K7: - | L7: =O7-I7 -> 12.62 | N7: - | O7: 12.2
A8: 4 | B8: Punta Leona # 38 Boulevard | C8: Punta Leona | D8: Perforado | E8: 188544 | F8: 466399 | G8: 36 | H8: 10 | I8: 0.34 | K8: - | L8: =O8-I8 -> 7.82 | N8: - | O8: 8.16
A9: 5 | B9: Punta Leona Boulevard 2 | C9: Punta Leona | D9: Perforado | E9: 188556 | F9: 466296 | G9: 35 | H9: 10 | I9: 0.57 | K9: =N9-I9 -> 5.6 | L9: - | N9: 6.17 | O9: -
A10: 6 | B10: ASADA Quebrada Ganado Castaña | C10: Quebrada Ganado | D10: Perforado | E10: 188977 | F10: 468685 | G10: 66 | H10: 3 | I10: 0.3 | K10: =N10-I10 -> 5.92 | L10: - | N10: 6.22 | O10: -
A11: 7 | B11: Juan Ignacio Naranjo Chávez | C11: Quebrada Ganado | D11: Perforado | E11: 189542 | F11: 467732 | G11: 49 | I11: - | K11: Sin línea de aire | N11: Sin línea de aire
A12: 8 | B12: Carlos Solano | C12: Quebrada Ganado | D12: Perforado | E12: 189959 | F12: 467620 | G12: 47 | I12: - | K12: Sin línea de aire | N12: Sin línea de aire
A13: 9 | B13: Plantation Acres | C13: Agujas | D13: Perforado | E13: 188581 | F13: 466891 | G13: 59 | I13: 0 | K13: Cerrado con llave | N13: Sin línea de aire
A14: 10 | B14: ASADA Quebrada Ganado Cacique | C14: Agujas | D14: Perforado | E14: 189077 | F14: 466777 | G14: 47 | H14: 4 | I14: 0.57 | J14: 23 | K14: - | L14: =O14-I14 -> 11.76 | N14: - | O14: 12.33
A15: 11 | B15: Residencial Santiago | C15: Agujas | D15: Perforado | E15: 189533 | F15: 465181 | G15: 27 | H15: 3 | I15: 0.55 | K15: 0,22+ | L15: - | N15: 0.33 | O15: -
A16: 12 | B16: Carlos Luis Monge | C16: Agujas | D16: Perforado | E16: 189923 | F16: 464947 | G16: 22 | I16: - | K16: Sin línea de aire | N16: Sin línea de aire
A17: 13 | B17: Samar de Santana | C17: Agujas | D17: Excavado | E17: 189801 | F17: 465079 | G17: 24 | I17: 0.4 | K17: Cerrado con llave | N17: Sin línea de aire
A18: 14 | B18: ASADA Quebrada Ganado Castaña Nuevo | C18: Quebrada Ganado | D18: Perforado | E18: 188953 | F18: 468719 | I18: 0.56 | K18: - | L18: =O18-I18 -> 8.38 | N18: - | O18: 8.94

Sheet Setiembre 2015
A1: Plan de Monitoreo Acuífero Mantas y Agujas
A2: Fecha: 21 de setiembre del 2015
N3: Datos de campo
A4: N˚ | B4: Nombre del POZO | C4: Lugar | D4: Tipo | E4: Latitud | F4: Longitud | G4: Altitud sobre nivel de Mar | H4: Diámetro armado (in) | I4: Brocal (m) | J4: Profundidad de pozo (m) | K4: Nivel estático (m) | L4: Nivel dinámico (m) | N4: Nivel estático (m) + Brocal | O4: Nivel dinámico (m) + Brocal
A5: 1 | B5: Punta Leona # 21 Capilla | C5: Punta Leona | D5: Perforado | E5: 187420 | F5: 464086 | G5: 22 | H5: 8 | I5: 0.38 | K5: - | L5: =O5-I5 -> 6.51 | N5: - | O5: 6.89
A6: 2 | B6: Punta Leona # 28 Rotonda | C6: Punta Leona | D6: Perforado | E6: 187337 | F6: 464142 | G6: 24 | H6: 6 | I6: 0.35 | K6: =N6-I6 -> 6.71 | L6: - | N6: 7.06 | O6: -
A7: 3 | B7: Punta Leona # 8 Barlovento | C7: Punta Leona | D7: Perforado | E7: 187173 | F7: 464343 | G7: 32 | I7: -0.42 | K7: - | L7: =O7-I7 -> 12.29 | N7: - | O7: 11.87
A8: 4 | B8: Punta Leona # 38 Boulevard | C8: Punta Leona | D8: Perforado | E8: 188544 | F8: 466399 | G8: 36 | H8: 10 | I8: 0.34 | K8: - | L8: =O8-I8 -> 7.78 | N8: - | O8: 8.12
A9: 5 | B9: Punta Leona Boulevard 2 | C9: Punta Leona | D9: Perforado | E9: 188556 | F9: 466296 | G9: 35 | H9: 10 | I9: 0.57 | K9: - | L9: =O9-I9 -> 5.8 | N9: - | O9: 6.37
A10: 6 | B10: ASADA Quebrada Ganado Castaña | C10: Quebrada Ganado | D10: Perforado | E10: 188977 | F10: 468685 | G10: 66 | H10: 3 | I10: 0.3 | K10: =N10-I10 -> 6 | L10: - | N10: 6.3 | O10: -
A11: 7 | B11: Juan Ignacio Naranjo Chávez | C11: Quebrada Ganado | D11: Perforado | E11: 189542 | F11: 467732 | G11: 49 | I11: - | K11: Sin línea de aire | N11: Sin línea de aire
A12: 8 | B12: Carlos Solano | C12: Quebrada Ganado | D12: Perforado | E12: 189959 | F12: 467620 | G12: 47 | I12: - | K12: Sin línea de aire | N12: Sin línea de aire
A13: 9 | B13: Plantation Acres | C13: Agujas | D13: Perforado | E13: 188581 | F13: 466891 | G13: 59 | I13: 0 | K13: Cerrado con llave | N13: Sin línea de aire
A14: 10 | B14: ASADA Quebrada Ganado Cacique | C14: Agujas | D14: Perforado | E14: 189077 | F14: 466777 | G14: 47 | H14: 4 | I14: 0.57 | J14: 23 | K14: - | L14: =O14-I14 -> 11.63 | N14: - | O14: 12.2
A15: 11 | B15: Residencial Santiago | C15: Agujas | D15: Perforado | E15: 189533 | F15: 465181 | G15: 27 | H15: 3 | I15: 0.55 | K15: 0,07+ | L15: - | N15: 0.48 | O15: -
A16: 12 | B16: Carlos Luis Monge | C16: Agujas | D16: Perforado | E16: 189923 | F16: 464947 | G16: 22 | I16: - | K16: Sin línea de aire | N16: Sin línea de aire
A17: 13 | B17: Samar de Santana | C17: Agujas | D17: Excavado | E17: 189801 | F17: 465079 | G17: 24 | I17: 0.4 | K17: Cerrado con llave | N17: Sin línea de aire
A18: 14 | B18: ASADA Quebrada Ganado Castaña Nuevo | C18: Quebrada Ganado | D18: Perforado | E18: 188953 | F18: 468719 | I18: 0.56 | K18: - | L18: =O18-I18 -> 7.59 | N18: - | O18: 8.15

Sheet Octubre 2015
A1: Plan de Monitoreo Acuífero Mantas y Agujas
A2: Fecha: 19 de Octubre del 2015
A4: N˚ | B4: Nombre del POZO | C4: Lugar | D4: Tipo | E4: Latitud | F4: Longitud | G4: Altitud sobre nivel de Mar | H4: Diámetro armado (in) | I4: Brocal (m) | J4: Profundidad de pozo (m) | K4: Nivel estático (m) | L4: Nivel dinámico (m)
A5: 1 | B5: Punta Leona # 21 Capilla | C5: Punta Leona | D5: Perforado | E5: 187420 | F5: 464086 | G5: 22 | H5: 8 | I5: 0.38 | L5: 3.4
A6: 2 | B6: Punta Leona # 28 Rotonda | C6: Punta Leona | D6: Perforado | E6: 187337 | F6: 464142 | G6: 24 | H6: 6 | I6: 0.35 | K6: 2.81
A7: 3 | B7: Punta Leona # 8 Barlovento | C7: Punta Leona | D7: Perforado | E7: 187173 | F7: 464343 | G7: 32 | I7: -0.42 | L7: 3.67
A8: 4 | B8: Punta Leona # 38 Boulevard | C8: Punta Leona | D8: Perforado | E8: 188544 | F8: 466399 | G8: 36 | H8: 10 | I8: 0.34 | L8: 6.08
A9: 5 | B9: Punta Leona Boulevard 2 | C9: Punta Leona | D9: Perforado | E9: 188556 | F9: 466296 | G9: 35 | H9: 10 | I9: 0.57 | L9: 4.55
A10: 6 | B10: ASADA Quebrada Ganado Castaña | C10: Quebrada Ganado | D10: Perforado | E10: 188977 | F10: 468685 | G10: 66 | H10: 3 | I10: 0.3 | K10: 5.83
A11: 7 | B11: Juan Ignacio Naranjo Chávez | C11: Quebrada Ganado | D11: Perforado | E11: 189542 | F11: 467732 | G11: 49 | I11: - | K11: Sin línea de aire
A12: 8 | B12: Carlos Solano | C12: Quebrada Ganado | D12: Perforado | E12: 189959 | F12: 467620 | G12: 47 | I12: - | K12: Sin línea de aire
A13: 9 | B13: Plantation Acres | C13: Agujas | D13: Perforado | E13: 188581 | F13: 466891 | G13: 59 | I13: 0 | K13: Cerrado con llave
A14: 10 | B14: ASADA Quebrada Ganado Cacique | C14: Agujas | D14: Perforado | E14: 189077 | F14: 466777 | G14: 47 | H14: 4 | I14: 0.57 | J14: 23 | L14: 10.02
A15: 11 | B15: Residencial Santiago | C15: Agujas | D15: Perforado | E15: 189533 | F15: 465181 | G15: 27 | H15: 3 | I15: 0.55 | K15: 0.26
A16: 12 | B16: Carlos Luis Monge | C16: Agujas | D16: Perforado | E16: 189923 | F16: 464947 | G16: 22 | I16: - | K16: Sin línea de aire
A17: 13 | B17: Samar de Santana | C17: Agujas | D17: Excavado | E17: 189801 | F17: 465079 | G17: 24 | I17: 0.4 | K17: Cerrado con llave
A18: 14 | B18: ASADA Quebrada Ganado Castaña Nuevo | C18: Quebrada Ganado | D18: Perforado | E18: 188953 | F18: 468719 | I18: 0.56 | L18: 8.55

Sheet Noviembre 2015
A1: Plan de Monitoreo Acuífero Mantas y Agujas
A2: Fecha: 16 de Noviembre del 2015
A4: N˚ | B4: Nombre del POZO | C4: Lugar | D4: Tipo | E4: Latitud | F4: Longitud | G4: Altitud sobre nivel de Mar | H4: Diámetro armado (in) | I4: Brocal (m) | J4: Profundidad de pozo (m) | K4: Nivel estático (m) | L4: Nivel dinámico (m)
A5: 1 | B5: Punta Leona # 21 Capilla | C5: Punta Leona | D5: Perforado | E5: 187420 | F5: 464086 | G5: 22 | H5: 8 | I5: 0.38 | L5: 5.38
A6: 2 | B6: Punta Leona # 28 Rotonda | C6: Punta Leona | D6: Perforado | E6: 187337 | F6: 464142 | G6: 24 | H6: 6 | I6: 0.35 | K6: 5.22
A7: 3 | B7: Punta Leona # 8 Barlovento | C7: Punta Leona | D7: Perforado | E7: 187173 | F7: 464343 | G7: 32 | I7: -0.42 | L7: 8.24
A8: 4 | B8: Punta Leona # 38 Boulevard | C8: Punta Leona | D8: Perforado | E8: 188544 | F8: 466399 | G8: 36 | H8: 10 | I8: 0.34 | L8: 6.01
A9: 5 | B9: Punta Leona Boulevard 2 | C9: Punta Leona | D9: Perforado | E9: 188556 | F9: 466296 | G9: 35 | H9: 10 | I9: 0.57 | K9: 4.32
A10: 6 | B10: ASADA Quebrada Ganado Castaña | C10: Quebrada Ganado | D10: Perforado | E10: 188977 | F10: 468685 | G10: 66 | H10: 3 | I10: 0.3 | K10: 5.63
A11: 7 | B11: Juan Ignacio Naranjo Chávez | C11: Quebrada Ganado | D11: Perforado | E11: 189542 | F11: 467732 | G11: 49 | I11: - | K11: Sin línea de aire
A12: 8 | B12: Carlos Solano | C12: Quebrada Ganado | D12: Perforado | E12: 189959 | F12: 467620 | G12: 47 | I12: - | K12: Sin línea de aire
A13: 9 | B13: Plantation Acres | C13: Agujas | D13: Perforado | E13: 188581 | F13: 466891 | G13: 59 | I13: 0 | K13: Cerrado con llave
A14: 10 | B14: ASADA Quebrada Ganado Cacique | C14: Agujas | D14: Perforado | E14: 189077 | F14: 466777 | G14: 47 | H14: 4 | I14: 0.57 | J14: 23 | L14: 10.21
A15: 11 | B15: Residencial Santiago | C15: Agujas | D15: Perforado | E15: 189533 | F15: 465181 | G15: 27 | H15: 3 | I15: 0.55 | K15: 0.25
A16: 12 | B16: Carlos Luis Monge | C16: Agujas | D16: Perforado | E16: 189923 | F16: 464947 | G16: 22 | I16: - | K16: Sin línea de aire
A17: 13 | B17: Samar de Santana | C17: Agujas | D17: Excavado | E17: 189801 | F17: 465079 | G17: 24 | I17: 0.4 | K17: Cerrado con llave
A18: 14 | B18: ASADA Quebrada Ganado Castaña Nuevo | C18: Quebrada Ganado | D18: Perforado | E18: 188953 | F18: 468719 | I18: 0.56 | K18: 9.64

Sheet Diciembre 2015
A1: Plan de Monitoreo Acuífero Mantas y Agujas
A2: Fecha: 10 de diciembre del 2015
A4: N˚ | B4: Nombre del POZO | C4: Lugar | D4: Tipo | E4: Latitud | F4: Longitud | G4: Altitud sobre nivel de Mar | H4: Diámetro armado (in) | I4: Brocal (m) | J4: Profundidad de pozo (m) | K4: Nivel estático (m) | L4: Nivel dinámico (m)
A5: 1 | B5: Punta Leona # 21 Capilla | C5: Punta Leona | D5: Perforado | E5: 187420 | F5: 464086 | G5: 22 | H5: 8 | I5: 0.38 | K5: 4.45
A6: 2 | B6: Punta Leona # 28 Rotonda | C6: Punta Leona | D6: Perforado | E6: 187337 | F6: 464142 | G6: 24 | H6: 6 | I6: 0.35 | K6: 5.01
A7: 3 | B7: Punta Leona # 8 Barlovento | C7: Punta Leona | D7: Perforado | E7: 187173 | F7: 464343 | G7: 32 | I7: -0.42 | K7: 7.5
A8: 4 | B8: Punta Leona # 38 Boulevard | C8: Punta Leona | D8: Perforado | E8: 188544 | F8: 466399 | G8: 36 | H8: 10 | I8: 0.34 | K8: 5.51
A9: 5 | B9: Punta Leona Boulevard 2 | C9: Punta Leona | D9: Perforado | E9: 188556 | F9: 466296 | G9: 35 | H9: 10 | I9: 0.57 | K9: 4.01
A10: 6 | B10: ASADA Quebrada Ganado Castaña | C10: Quebrada Ganado | D10: Perforado | E10: 188977 | F10: 468685 | G10: 66 | H10: 3 | I10: 0.3 | K10: 6
A11: 7 | B11: Juan Ignacio Naranjo Chávez | C11: Quebrada Ganado | D11: Perforado | E11: 189542 | F11: 467732 | G11: 49 | I11: - | K11: Sin línea de aire
A12: 8 | B12: Carlos Solano | C12: Quebrada Ganado | D12: Perforado | E12: 189959 | F12: 467620 | G12: 47 | I12: - | K12: Sin línea de aire
A13: 9 | B13: Plantation Acres | C13: Agujas | D13: Perforado | E13: 188581 | F13: 466891 | G13: 59 | I13: 0 | K13: Cerrado con llave
A14: 10 | B14: ASADA Quebrada Ganado Cacique | C14: Agujas | D14: Perforado | E14: 189077 | F14: 466777 | G14: 47 | H14: 4 | I14: 0.57 | J14: 23 | K14: 8.85
A15: 11 | B15: Residencial Santiago | C15: Agujas | D15: Perforado | E15: 189533 | F15: 465181 | G15: 27 | H15: 3 | I15: 0.55 | K15: 0.35
A16: 12 | B16: Carlos Luis Monge | C16: Agujas | D16: Perforado | E16: 189923 | F16: 464947 | G16: 22 | I16: - | K16: Sin línea de aire
A17: 13 | B17: Samar de Santana | C17: Agujas | D17: Excavado | E17: 189801 | F17: 465079 | G17: 24 | I17: 0.4 | K17: Cerrado con llave
A18: 14 | B18: ASADA Quebrada Ganado Castaña Nuevo | C18: Quebrada Ganado | D18: Perforado | E18: 188953 | F18: 468719 | I18: 0.56 | K18: 6.84

Sheet Enero 2016
A1: Plan de Monitoreo Acuífero Mantas y Agujas
A2: Fecha: 25 de enero del 2016
A4: N˚ | B4: Nombre del POZO | C4: Lugar | D4: Tipo | E4: Latitud | F4: Longitud | G4: Altitud sobre nivel de Mar | H4: Diámetro armado (in) | I4: Brocal (m) | J4: Profundidad de pozo (m) | K4: Nivel estático (m) | L4: Nivel dinámico (m) | N4: Nivel estático (m) + Brocal | O4: Nivel dinámico (m) + Brocal
A5: 1 | B5: Punta Leona # 21 Capilla | C5: Punta Leona | D5: Perforado | E5: 187420 | F5: 464086 | G5: 22 | H5: 8 | I5: 0.38 | K5: - | L5: =O5-I5 -> 7.61 | N5: - | O5: 7.99
A6: 2 | B6: Punta Leona # 28 Rotonda | C6: Punta Leona | D6: Perforado | E6: 187337 | F6: 464142 | G6: 24 | H6: 6 | I6: 0.35 | K6: - | L6: =O6-I6 -> 10.32 | N6: - | O6: 10.67
A7: 3 | B7: Punta Leona # 8 Barlovento | C7: Punta Leona | D7: Perforado | E7: 187173 | F7: 464343 | G7: 32 | I7: -0.42 | K7: - | L7: =O7-I7 -> 13.67 | N7: - | O7: 13.25
A8: 4 | B8: Punta Leona # 38 Boulevard | C8: Punta Leona | D8: Perforado | E8: 188544 | F8: 466399 | G8: 36 | H8: 10 | I8: 0.34 | K8: - | L8: =O8-I8 -> 6.27 | N8: - | O8: 6.61
A9: 5 | B9: Punta Leona Boulevard 2 | C9: Punta Leona | D9: Perforado | E9: 188556 | F9: 466296 | G9: 35 | H9: 10 | I9: 0.57 | K9: - | L9: =O9-I9 -> 4.5 | N9: - | O9: 5.07
A10: 6 | B10: ASADA Quebrada Ganado Castaña | C10: Quebrada Ganado | D10: Perforado | E10: 188977 | F10: 468685 | G10: 66 | H10: 3 | I10: 0.3 | K10: =N10-I10 -> 5.78 | L10: - | N10: 6.08 | O10: -
A11: 7 | B11: Juan Ignacio Naranjo Chávez | C11: Quebrada Ganado | D11: Perforado | E11: 189542 | F11: 467732 | G11: 49 | I11: - | K11: Sin línea de aire | N11: Sin línea de aire
A12: 8 | B12: Carlos Solano | C12: Quebrada Ganado | D12: Perforado | E12: 189959 | F12: 467620 | G12: 47 | I12: - | K12: Sin línea de aire | N12: Sin línea de aire
A13: 9 | B13: Plantation Acres | C13: Agujas | D13: Perforado | E13: 188581 | F13: 466891 | G13: 59 | I13: 0 | K13: Cerrado con llave | N13: Sin línea de aire
A14: 10 | B14: ASADA Quebrada Ganado Cacique | C14: Agujas | D14: Perforado | E14: 189077 | F14: 466777 | G14: 47 | H14: 4 | I14: 0.57 | J14: 23 | K14: - | L14: =O14-I14 -> 9.61 | N14: - | O14: 10.18
A15: 11 | B15: Residencial Santiago | C15: Agujas | D15: Perforado | E15: 189533 | F15: 465181 | G15: 27 | H15: 3 | I15: 0.55 | K15: =N15-I15 -> 0.08 | L15: - | N15: 0.63 | O15: -
A16: 12 | B16: Carlos Luis Monge | C16: Agujas | D16: Perforado | E16: 189923 | F16: 464947 | G16: 22 | I16: - | K16: Sin línea de aire | N16: Sin línea de aire
A17: 13 | B17: Samar de Santana | C17: Agujas | D17: Excavado | E17: 189801 | F17: 465079 | G17: 24 | I17: 0.4 | K17: Cerrado con llave | N17: Sin línea de aire
A18: 14 | B18: ASADA Quebrada Ganado Castaña Nuevo | C18: Quebrada Ganado | D18: Perforado | E18: 188953 | F18: 468719 | I18: 0.56 | K18: - | L18: =O18-I18 -> 8.43 | N18: - | O18: 8.99

Sheet Febrero 2016
A1: Plan de Monitoreo Acuífero Mantas y Agujas
A2: Fecha: 22 de febrero del 2016
A4: N˚ | B4: Nombre del POZO | C4: Lugar | D4: Tipo | E4: Latitud | F4: Longitud | G4: Altitud sobre nivel de Mar | H4: Diámetro armado (in) | I4: Brocal (m) | J4: Profundidad de pozo (m) | K4: Nivel estático (m) | L4: Nivel dinámico (m) | N4: Nivel estático (m) + Brocal | O4: Nivel dinámico (m) + Brocal
A5: 1 | B5: Punta Leona # 21 Capilla | C5: Punta Leona | D5: Perforado | E5: 187420 | F5: 464086 | G5: 22 | H5: 8 | I5: 0.38 | K5: - | L5: =O5-I5 -> 8.4 | N5: - | O5: 8.78
A6: 2 | B6: Punta Leona # 28 Rotonda | C6: Punta Leona | D6: Perforado | E6: 187337 | F6: 464142 | G6: 24 | H6: 6 | I6: 0.35 | K6: =N6-I6 -> 6.23 | L6: - | N6: 6.58 | O6: -
A7: 3 | B7: Punta Leona # 8 Barlovento | C7: Punta Leona | D7: Perforado | E7: 187173 | F7: 464343 | G7: 32 | I7: -0.42 | K7: - | L7: =O7-I7 -> 15.15 | N7: - | O7: 14.73
A8: 4 | B8: Punta Leona # 38 Boulevard | C8: Punta Leona | D8: Perforado | E8: 188544 | F8: 466399 | G8: 36 | H8: 10 | I8: 0.34 | K8: - | L8: =O8-I8 -> 7.27 | N8: - | O8: 7.61
A9: 5 | B9: Punta Leona Boulevard 2 | C9: Punta Leona | D9: Perforado | E9: 188556 | F9: 466296 | G9: 35 | H9: 10 | I9: 0.57 | K9: =N9-I9 -> 5.2 | L9: - | N9: 5.77 | O9: -
A10: 6 | B10: ASADA Quebrada Ganado Castaña | C10: Quebrada Ganado | D10: Perforado | E10: 188977 | F10: 468685 | G10: 66 | H10: 3 | I10: 0.3 | K10: =N10-I10 -> 5.83 | L10: - | N10: 6.13 | O10: -
A11: 7 | B11: Juan Ignacio Naranjo Chávez | C11: Quebrada Ganado | D11: Perforado | E11: 189542 | F11: 467732 | G11: 49 | I11: - | K11: Sin línea de aire | N11: Sin línea de aire
A12: 8 | B12: Carlos Solano | C12: Quebrada Ganado | D12: Perforado | E12: 189959 | F12: 467620 | G12: 47 | I12: - | K12: Sin línea de aire | N12: Sin línea de aire
A13: 9 | B13: Plantation Acres | C13: Agujas | D13: Perforado | E13: 188581 | F13: 466891 | G13: 59 | I13: 0 | K13: Cerrado con llave | N13: Sin línea de aire
A14: 10 | B14: ASADA Quebrada Ganado Cacique | C14: Agujas | D14: Perforado | E14: 189077 | F14: 466777 | G14: 47 | H14: 4 | I14: 0.57 | J14: 23 | K14: - | L14: =O14-I14 -> 10.43 | N14: - | O14: 11
A15: 11 | B15: Residencial Santiago | C15: Agujas | D15: Perforado | E15: 189533 | F15: 465181 | G15: 27 | H15: 3 | I15: 0.55 | K15: =N15-I15 -> -0.06 | L15: - | N15: 0.49 | O15: -
A16: 12 | B16: Carlos Luis Monge | C16: Agujas | D16: Perforado | E16: 189923 | F16: 464947 | G16: 22 | I16: - | K16: Sin línea de aire | N16: Sin línea de aire
A17: 13 | B17: Samar de Santana | C17: Agujas | D17: Excavado | E17: 189801 | F17: 465079 | G17: 24 | I17: 0.4 | K17: Cerrado con llave | N17: Sin línea de aire
A18: 14 | B18: ASADA Quebrada Ganado Castaña Nuevo | C18: Quebrada Ganado | D18: Perforado | E18: 188953 | F18: 468719 | I18: 0.56 | K18: - | L18: =O18-I18 -> 9.2 | N18: - | O18: 9.76

Sheet Marzo 2016
A1: Plan de Monitoreo Acuífero Mantas y Agujas
A2: Fecha: 1 de abril del 2016
A4: N˚ | B4: Nombre del POZO | C4: Lugar | D4: Tipo | E4: Latitud | F4: Longitud | G4: Altitud sobre nivel de Mar | H4: Diámetro armado (in) | I4: Brocal (m) | J4: Profundidad de pozo (m) | K4: Nivel estático (m) | L4: Nivel dinámico (m) | N4: Nivel estático (m) + Brocal | O4: Nivel dinámico (m) + Brocal
A5: 1 | B5: Punta Leona # 21 Capilla | C5: Punta Leona | D5: Perforado | E5: 187420 | F5: 464086 | G5: 22 | H5: 8 | I5: 0.38 | K5: - | L5: =O5-I5 -> 9.37 | O5: 9.75
A6: 2 | B6: Punta Leona # 28 Rotonda | C6: Punta Leona | D6: Perforado | E6: 187337 | F6: 464142 | G6: 24 | H6: 6 | I6: 0.35 | K6: - | L6: =O6-I6 -> 12.4 | O6: 12.75
A7: 3 | B7: Punta Leona # 8 Barlovento | C7: Punta Leona | D7: Perforado | E7: 187173 | F7: 464343 | G7: 32 | I7: -0.42 | K7: - | L7: =O7-I7 -> 17.97 | O7: 17.55
A8: 4 | B8: Punta Leona # 38 Boulevard | C8: Punta Leona | D8: Perforado | E8: 188544 | F8: 466399 | G8: 36 | H8: 10 | I8: 0.34 | K8: - | L8: =O8-I8 -> 8.81 | O8: 9.15
A9: 5 | B9: Punta Leona Boulevard 2 | C9: Punta Leona | D9: Perforado | E9: 188556 | F9: 466296 | G9: 35 | H9: 10 | I9: 0.57 | K9: - | L9: =O9-I9 -> 6.83 | O9: 7.4
A10: 6 | B10: ASADA Quebrada Ganado Castaña | C10: Quebrada Ganado | D10: Perforado | E10: 188977 | F10: 468685 | G10: 66 | H10: 3 | I10: 0.3 | K10: =N10-I10 -> 6.06 | L10: - | N10: 6.36
A11: 7 | B11: Juan Ignacio Naranjo Chávez | C11: Quebrada Ganado | D11: Perforado | E11: 189542 | F11: 467732 | G11: 49 | I11: - | K11: Sin línea de aire | N11: Sin línea de aire
A12: 8 | B12: Carlos Solano | C12: Quebrada Ganado | D12: Perforado | E12: 189959 | F12: 467620 | G12: 47 | I12: - | K12: Sin línea de aire | N12: Sin línea de aire
A13: 9 | B13: Plantation Acres | C13: Agujas | D13: Perforado | E13: 188581 | F13: 466891 | G13: 59 | I13: 0 | K13: Cerrado con llave | N13: Sin línea de aire
A14: 10 | B14: ASADA Quebrada Ganado Cacique | C14: Agujas | D14: Perforado | E14: 189077 | F14: 466777 | G14: 47 | H14: 4 | I14: 0.57 | J14: 23 | K14: - | L14: =O14-I14 -> 12.27 | O14: 12.84
A15: 11 | B15: Residencial Santiago | C15: Agujas | D15: Perforado | E15: 189533 | F15: 465181 | G15: 27 | H15: 3 | I15: 0.55 | K15: =N15-I15 -> 0.23 | L15: - | N15: 0.78
A16: 12 | B16: Carlos Luis Monge | C16: Agujas | D16: Perforado | E16: 189923 | F16: 464947 | G16: 22 | I16: - | K16: Sin línea de aire | N16: Sin línea de aire
A17: 13 | B17: Samar de Santana | C17: Agujas | D17: Excavado | E17: 189801 | F17: 465079 | G17: 24 | I17: 0.4 | K17: Cerrado con llave | N17: Sin línea de aire
A18: 14 | B18: ASADA Quebrada Ganado Castaña Nuevo | C18: Quebrada Ganado | D18: Perforado | E18: 188953 | F18: 468719 | I18: 0.56 | K18: - | L18: =O18-I18 -> 9.51 | O18: 10.07

Sheet Abril 2016
A1: Plan de Monitoreo Acuífero Mantas y Agujas
A2: Fecha: 25 de abril del 2016
A4: N˚ | B4: Nombre del POZO | C4: Lugar | D4: Tipo | E4: Latitud | F4: Longitud | G4: Altitud sobre nivel de Mar | H4: Diámetro armado (in) | I4: Brocal (m) | J4: Profundidad de pozo (m) | K4: Nivel estático (m) | L4: Nivel dinámico (m) | N4: Nivel estático (m) + Brocal | O4: Nivel dinámico (m) + Brocal
A5: 1 | B5: Punta Leona # 21 Capilla | C5: Punta Leona | D5: Perforado | E5: 187420 | F5: 464086 | G5: 22 | H5: 8 | I5: 0.38 | K5: - | L5: =O5-I5 -> 9.62 | O5: 10
A6: 2 | B6: Punta Leona # 28 Rotonda | C6: Punta Leona | D6: Perforado | E6: 187337 | F6: 464142 | G6: 24 | H6: 6 | I6: 0.35 | K6: =N6-I6 -> 10.51 | L6: - | N6: 10.86 | O6: -
A7: 3 | B7: Punta Leona # 8 Barlovento | C7: Punta Leona | D7: Perforado | E7: 187173 | F7: 464343 | G7: 32 | I7: -0.42 | K7: - | L7: =O7-I7 -> 18.8 | O7: 18.38
A8: 4 | B8: Punta Leona # 38 Boulevard | C8: Punta Leona | D8: Perforado | E8: 188544 | F8: 466399 | G8: 36 | H8: 10 | I8: 0.34 | K8: - | L8: =O8-I8 -> 9.45 | O8: 9.79
A9: 5 | B9: Punta Leona Boulevard 2 | C9: Punta Leona | D9: Perforado | E9: 188556 | F9: 466296 | G9: 35 | H9: 10 | I9: 0.57 | K9: - | L9: =O9-I9 -> 6.92 | O9: 7.49
A10: 6 | B10: ASADA Quebrada Ganado Castaña | C10: Quebrada Ganado | D10: Perforado | E10: 188977 | F10: 468685 | G10: 66 | H10: 3 | I10: 0.3 | K10: =N10-I10 -> 5.88 | L10: - | N10: 6.18
A11: 7 | B11: Juan Ignacio Naranjo Chávez | C11: Quebrada Ganado | D11: Perforado | E11: 189542 | F11: 467732 | G11: 49 | I11: - | K11: Sin línea de aire | N11: Sin línea de aire
A12: 8 | B12: Carlos Solano | C12: Quebrada Ganado | D12: Perforado | E12: 189959 | F12: 467620 | G12: 47 | I12: - | K12: Sin línea de aire | N12: Sin línea de aire
A13: 9 | B13: Plantation Acres | C13: Agujas | D13: Perforado | E13: 188581 | F13: 466891 | G13: 59 | I13: 0 | K13: Cerrado con llave | N13: Sin línea de aire
A14: 10 | B14: ASADA Quebrada Ganado Cacique | C14: Agujas | D14: Perforado | E14: 189077 | F14: 466777 | G14: 47 | H14: 4 | I14: 0.57 | J14: 23 | K14: - | L14: =O14-I14 -> 12.81 | O14: 13.38
A15: 11 | B15: Residencial Santiago | C15: Agujas | D15: Perforado | E15: 189533 | F15: 465181 | G15: 27 | H15: 3 | I15: 0.55 | K15: =N15-I15 -> 0.15 | L15: - | N15: 0.7
A16: 12 | B16: Carlos Luis Monge | C16: Agujas | D16: Perforado | E16: 189923 | F16: 464947 | G16: 22 | I16: - | K16: Sin línea de aire | N16: Sin línea de aire
A17: 13 | B17: Samar de Santana | C17: Agujas | D17: Excavado | E17: 189801 | F17: 465079 | G17: 24 | I17: 0.4 | K17: Cerrado con llave | N17: Sin línea de aire
A18: 14 | B18: ASADA Quebrada Ganado Castaña Nuevo | C18: Quebrada Ganado | D18: Perforado | E18: 188953 | F18: 468719 | I18: 0.56 | K18: =N18-I18 -> 6.48 | L18: - | N18: 7.04 | O18: -

Sheet Mayo 2016
A1: Plan de Monitoreo Acuífero Mantas y Agujas
A2: Fecha: 23 de Mayo del 2016
A4: N˚ | B4: Nombre del POZO | C4: Lugar | D4: Tipo | E4: Latitud | F4: Longitud | G4: Altitud sobre nivel de Mar | H4: Diámetro armado (in) | I4: Brocal (m) | J4: Profundidad de pozo (m) | K4: Nivel estático (m) | L4: Nivel dinámico (m) | N4: Nivel estático (m) + Brocal | O4: Nivel dinámico (m) + Brocal
A5: 1 | B5: Punta Leona # 21 Capilla | C5: Punta Leona | D5: Perforado | E5: 187420 | F5: 464086 | G5: 22 | H5: 8 | I5: 0.38 | K5: - | L5: =O5-I5 -> 8.6 | O5: 8.98
A6: 2 | B6: Punta Leona # 28 Rotonda | C6: Punta Leona | D6: Perforado | E6: 187337 | F6: 464142 | G6: 24 | H6: 6 | I6: 0.35 | K6: - | L6: =O6-I6 -> 11.25 | O6: 11.6
A7: 3 | B7: Punta Leona # 8 Barlovento | C7: Punta Leona | D7: Perforado | E7: 187173 | F7: 464343 | G7: 32 | I7: -0.42 | K7: - | L7: =O7-I7 -> 15.55 | O7: 15.13
A8: 4 | B8: Punta Leona # 38 Boulevard | C8: Punta Leona | D8: Perforado | E8: 188544 | F8: 466399 | G8: 36 | H8: 10 | I8: 0.34 | K8: - | L8: =O8-I8 -> 9.39 | O8: 9.73
A9: 5 | B9: Punta Leona Boulevard 2 | C9: Punta Leona | D9: Perforado | E9: 188556 | F9: 466296 | G9: 35 | H9: 10 | I9: 0.57 | K9: - | L9: =O9-I9 -> 6.86 | O9: 7.43
A10: 6 | B10: ASADA Quebrada Ganado Castaña | C10: Quebrada Ganado | D10: Perforado | E10: 188977 | F10: 468685 | G10: 66 | H10: 3 | I10: 0.3 | K10: =N10-I10 -> 5.93 | L10: - | N10: 6.23
A11: 7 | B11: Juan Ignacio Naranjo Chávez | C11: Quebrada Ganado | D11: Perforado | E11: 189542 | F11: 467732 | G11: 49 | I11: - | K11: Sin línea de aire | N11: Sin línea de aire
A12: 8 | B12: Carlos Solano | C12: Quebrada Ganado | D12: Perforado | E12: 189959 | F12: 467620 | G12: 47 | I12: - | K12: Sin línea de aire | N12: Sin línea de aire
A13: 9 | B13: Plantation Acres | C13: Agujas | D13: Perforado | E13: 188581 | F13: 466891 | G13: 59 | I13: 0 | K13: Cerrado con llave | N13: Sin línea de aire
A14: 10 | B14: ASADA Quebrada Ganado Cacique | C14: Agujas | D14: Perforado | E14: 189077 | F14: 466777 | G14: 47 | H14: 4 | I14: 0.57 | J14: 23 | K14: - | L14: =O14-I14 -> 12.52 | O14: 13.09
A15: 11 | B15: Residencial Santiago | C15: Agujas | D15: Perforado | E15: 189533 | F15: 465181 | G15: 27 | H15: 3 | I15: 0.55 | K15: =N15-I15 -> 0.12 | L15: - | N15: 0.67
A16: 12 | B16: Carlos Luis Monge | C16: Agujas | D16: Perforado | E16: 189923 | F16: 464947 | G16: 22 | I16: - | K16: Sin línea de aire | N16: Sin línea de aire
A17: 13 | B17: Samar de Santana | C17: Agujas | D17: Excavado | E17: 189801 | F17: 465079 | G17: 24 | I17: 0.4 | K17: Cerrado con llave | N17: Sin línea de aire
A18: 14 | B18: ASADA Quebrada Ganado Castaña Nuevo | C18: Quebrada Ganado | D18: Perforado | E18: 188953 | F18: 468719 | I18: 0.56 | K18: =N18-I18 -> 6.57 | L18: - | N18: 7.13

Sheet Junio 2016
A1: Plan de Monitoreo Acuífero Mantas y Agujas
A2: Fecha: 20 de junio del 2016
A4: N˚ | B4: Nombre del POZO | C4: Lugar | D4: Tipo | E4: Latitud | F4: Longitud | G4: Altitud sobre nivel de Mar | H4: Diámetro armado (in) | I4: Brocal (m) | J4: Profundidad de pozo (m) | K4: Nivel estático (m) | L4: Nivel dinámico (m) | N4: Nivel estático (m) + Brocal | O4: Nivel dinámico (m) + Brocal
A5: 1 | B5: Punta Leona # 21 Capilla | C5: Punta Leona | D5: Perforado | E5: 187420 | F5: 464086 | G5: 22 | H5: 8 | I5: 0.38 | K5: - | L5: =O5-I5 -> 7.05 | O5: 7.43
A6: 2 | B6: Punta Leona # 28 Rotonda | C6: Punta Leona | D6: Perforado | E6: 187337 | F6: 464142 | G6: 24 | H6: 6 | I6: 0.35 | K6: - | L6: =O6-I6 -> 9.47 | O6: 9.82
A7: 3 | B7: Punta Leona # 8 Barlovento | C7: Punta Leona | D7: Perforado | E7: 187173 | F7: 464343 | G7: 32 | I7: -0.42 | K7: - | L7: =O7-I7 -> 12.65 | O7: 12.23
A8: 4 | B8: Punta Leona # 38 Boulevard | C8: Punta Leona | D8: Perforado | E8: 188544 | F8: 466399 | G8: 36 | H8: 10 | I8: 0.34 | K8: - | L8: =O8-I8 -> 8.49 | O8: 8.83
A9: 5 | B9: Punta Leona Boulevard 2 | C9: Punta Leona | D9: Perforado | E9: 188556 | F9: 466296 | G9: 35 | H9: 10 | I9: 0.57 | K9: =N9-I9 -> 5.99 | L9: - | N9: 6.56
A10: 6 | B10: ASADA Quebrada Ganado Castaña | C10: Quebrada Ganado | D10: Perforado | E10: 188977 | F10: 468685 | G10: 66 | H10: 3 | I10: 0.3 | K10: =N10-I10 -> 5.9 | L10: - | N10: 6.2
A11: 7 | B11: Juan Ignacio Naranjo Chávez | C11: Quebrada Ganado | D11: Perforado | E11: 189542 | F11: 467732 | G11: 49 | I11: - | K11: Sin línea de aire | N11: Sin línea de aire
A12: 8 | B12: Carlos Solano | C12: Quebrada Ganado | D12: Perforado | E12: 189959 | F12: 467620 | G12: 47 | I12: - | K12: Sin línea de aire | N12: Sin línea de aire
A13: 9 | B13: Plantation Acres | C13: Agujas | D13: Perforado | E13: 188581 | F13: 466891 | G13: 59 | I13: 0 | K13: Cerrado con llave | N13: Sin línea de aire
A14: 10 | B14: ASADA Quebrada Ganado Cacique | C14: Agujas | D14: Perforado | E14: 189077 | F14: 466777 | G14: 47 | H14: 4 | I14: 0.57 | J14: 23 | K14: - | L14: =O14-I14 -> 11.37 | N14: 11.94 | O14: 11.94
A15: 11 | B15: Residencial Santiago | C15: Agujas | D15: Perforado | E15: 189533 | F15: 465181 | G15: 27 | H15: 3 | I15: 0.55 | K15: =N15-I15 -> 1.43 | L15: - | N15: 1.98 | O15: 1.98
A16: 12 | B16: Carlos Luis Monge | C16: Agujas | D16: Perforado | E16: 189923 | F16: 464947 | G16: 22 | I16: - | K16: Sin línea de aire | N16: Sin línea de aire
A17: 13 | B17: Samar de Santana | C17: Agujas | D17: Excavado | E17: 189801 | F17: 465079 | G17: 24 | I17: 0.4 | K17: Cerrado con llave | N17: Sin línea de aire
A18: 14 | B18: ASADA Quebrada Ganado Castaña Nuevo | C18: Quebrada Ganado | D18: Perforado | E18: 188953 | F18: 468719 | I18: 0.56 | K18: - | L18: =O18-I18 -> 9.78 | O18: 10.34

Sheet Julio 2016
A1: Plan de Monitoreo Acuífero Mantas y Agujas
A2: Fecha: 26 de julio del 2016
A4: N˚ | B4: Nombre del POZO | C4: Lugar | D4: Tipo | E4: Latitud | F4: Longitud | G4: Altitud sobre nivel de Mar | H4: Diámetro armado (in) | I4: Brocal (m) | J4: Profundidad de pozo (m) | K4: Nivel estático (m) | L4: Nivel dinámico (m) | N4: Nivel estático (m) + Brocal | O4: Nivel dinámico (m) + Brocal
A5: 1 | B5: Punta Leona # 21 Capilla | C5: Punta Leona | D5: Perforado | E5: 187420 | F5: 464086 | G5: 22 | H5: 8 | I5: 0.38 | K5: - | L5: =O5-I5 -> 7.59 | O5: 7.97
A6: 2 | B6: Punta Leona # 28 Rotonda | C6: Punta Leona | D6: Perforado | E6: 187337 | F6: 464142 | G6: 24 | H6: 6 | I6: 0.35 | K6: - | L6: =O6-I6 -> 10.14 | O6: 10.49
A7: 3 | B7: Punta Leona # 8 Barlovento | C7: Punta Leona | D7: Perforado | E7: 187173 | F7: 464343 | G7: 32 | I7: -0.42 | K7: - | L7: =O7-I7 -> 13.56 | O7: 13.14
A8: 4 | B8: Punta Leona # 38 Boulevard | C8: Punta Leona | D8: Perforado | E8: 188544 | F8: 466399 | G8: 36 | H8: 10 | I8: 0.34 | K8: - | L8: =O8-I8 -> 8.21 | O8: 8.55
A9: 5 | B9: Punta Leona Boulevard 2 | C9: Punta Leona | D9: Perforado | E9: 188556 | F9: 466296 | G9: 35 | H9: 10 | I9: 0.57 | K9: =N9-I9 -> 5.84 | L9: - | N9: 6.41
A10: 6 | B10: ASADA Quebrada Ganado Castaña | C10: Quebrada Ganado | D10: Perforado | E10: 188977 | F10: 468685 | G10: 66 | H10: 3 | I10: 0.3 | K10: =N10-I10 -> 6 | L10: - | N10: 6.3
A11: 7 | B11: Juan Ignacio Naranjo Chávez | C11: Quebrada Ganado | D11: Perforado | E11: 189542 | F11: 467732 | G11: 49 | I11: - | K11: Sin línea de aire | N11: Sin línea de aire
A12: 8 | B12: Carlos Solano | C12: Quebrada Ganado | D12: Perforado | E12: 189959 | F12: 467620 | G12: 47 | I12: - | K12: Sin línea de aire | N12: Sin línea de aire
A13: 9 | B13: Plantation Acres | C13: Agujas | D13: Perforado | E13: 188581 | F13: 466891 | G13: 59 | I13: 0 | K13: Cerrado con llave | N13: Sin línea de aire
A14: 10 | B14: ASADA Quebrada Ganado Cacique | C14: Agujas | D14: Perforado | E14: 189077 | F14: 466777 | G14: 47 | H14: 4 | I14: 0.57 | J14: 23 | K14: =N14-I14 -> 11.56 | L14: - | N14: 12.13 | O14: -
A15: 11 | B15: Residencial Santiago | C15: Agujas | D15: Perforado | E15: 189533 | F15: 465181 | G15: 27 | H15: 3 | I15: 0.55 | K15: =N15-I15 -> 0.03 | L15: - | N15: 0.58 | O15: -
A16: 12 | B16: Carlos Luis Monge | C16: Agujas | D16: Perforado | E16: 189923 | F16: 464947 | G16: 22 | I16: - | K16: Sin línea de aire | N16: Sin línea de aire
A17: 13 | B17: Samar de Santana | C17: Agujas | D17: Excavado | E17: 189801 | F17: 465079 | G17: 24 | I17: 0.4 | K17: Cerrado con llave | N17: Sin línea de aire
A18: 14 | B18: ASADA Quebrada Ganado Castaña Nuevo | C18: Quebrada Ganado | D18: Perforado | E18: 188953 | F18: 468719 | I18: 0.56 | K18: =N18-I18 -> 6.63 | L18: - | N18: 7.19 | O18: -

Sheet Agosto 2016
A1: Plan de Monitoreo Acuífero Mantas y Agujas
A2: Fecha: 22 de agosto del 2016
A4: N˚ | B4: Nombre del POZO | C4: Lugar | D4: Tipo | E4: Latitud | F4: Longitud | G4: Altitud sobre nivel de Mar | H4: Diámetro armado (in) | I4: Brocal (m) | J4: Profundidad de pozo (m) | K4: Nivel estático (m) | L4: Nivel dinámico (m) | N4: Nivel estático (m) + Brocal | O4: Nivel dinámico (m) + Brocal
A5: 1 | B5: Punta Leona # 21 Capilla | C5: Punta Leona | D5: Perforado | E5: 187420 | F5: 464086 | G5: 22 | H5: 8 | I5: 0.38 | K5: - | L5: =O5-I5 -> 4.58 | O5: 4.96
A6: 2 | B6: Punta Leona # 28 Rotonda | C6: Punta Leona | D6: Perforado | E6: 187337 | F6: 464142 | G6: 24 | H6: 6 | I6: 0.35 | K6: =N6-I6 -> 4.27 | L6: - | N6: 4.62
A7: 3 | B7: Punta Leona # 8 Barlovento | C7: Punta Leona | D7: Perforado | E7: 187173 | F7: 464343 | G7: 32 | I7: -0.42 | K7: =N7-I7 -> 7.58 | L7: - | N7: 7.16
A8: 4 | B8: Punta Leona # 38 Boulevard | C8: Punta Leona | D8: Perforado | E8: 188544 | F8: 466399 | G8: 36 | H8: 10 | I8: 0.34 | K8: =N8-I8 -> 6.22 | L8: - | N8: 6.56
A9: 5 | B9: Punta Leona Boulevard 2 | C9: Punta Leona | D9: Perforado | E9: 188556 | F9: 466296 | G9: 35 | H9: 10 | I9: 0.57 | K9: =N9-I9 -> 4.64 | L9: - | N9: 5.21
A10: 6 | B10: ASADA Quebrada Ganado Castaña | C10: Quebrada Ganado | D10: Perforado | E10: 188977 | F10: 468685 | G10: 66 | H10: 3 | I10: 0.3 | K10: =N10-I10 -> 5.76 | L10: - | N10: 6.06
A11: 7 | B11: Juan Ignacio Naranjo Chávez | C11: Quebrada Ganado | D11: Perforado | E11: 189542 | F11: 467732 | G11: 49 | I11: - | K11: Sin línea de aire | N11: Sin línea de aire
A12: 8 | B12: Carlos Solano | C12: Quebrada Ganado | D12: Perforado | E12: 189959 | F12: 467620 | G12: 47 | I12: - | K12: Sin línea de aire | N12: Sin línea de aire
A13: 9 | B13: Plantation Acres | C13: Agujas | D13: Perforado | E13: 188581 | F13: 466891 | G13: 59 | I13: 0 | K13: Cerrado con llave | N13: Sin línea de aire
A14: 10 | B14: ASADA Quebrada Ganado Cacique | C14: Agujas | D14: Perforado | E14: 189077 | F14: 466777 | G14: 47 | H14: 4 | I14: 0.57 | J14: 23 | K14: =N14-I14 -> 10.4 | L14: - | N14: 10.97
A15: 11 | B15: Residencial Santiago | C15: Agujas | D15: Perforado | E15: 189533 | F15: 465181 | G15: 27 | H15: 3 | I15: 0.55 | K15: =N15-I15 -> -0.18 | L15: - | N15: 0.37
A16: 12 | B16: Carlos Luis Monge | C16: Agujas | D16: Perforado | E16: 189923 | F16: 464947 | G16: 22 | I16: - | K16: Sin línea de aire | N16: Sin línea de aire
A17: 13 | B17: Samar de Santana | C17: Agujas | D17: Excavado | E17: 189801 | F17: 465079 | G17: 24 | I17: 0.4 | K17: Cerrado con llave | N17: Sin línea de aire
A18: 14 | B18: ASADA Quebrada Ganado Castaña Nuevo | C18: Quebrada Ganado | D18: Perforado | E18: 188953 | F18: 468719 | I18: 0.56 | K18: =N18-I18 -> 6.48 | L18: - | N18: 7.04

Sheet Setiembre 2016
A1: Plan de Monitoreo Acuífero Mantas y Agujas
A2: Fecha: 26 de setiembre del 2016
A4: N˚ | B4: Nombre del POZO | C4: Lugar | D4: Tipo | E4: Latitud | F4: Longitud | G4: Altitud sobre nivel de Mar | H4: Diámetro armado (in) | I4: Brocal (m) | J4: Profundidad de pozo (m) | K4: Nivel estático (m) | L4: Nivel dinámico (m) | N4: Nivel estático (m) + Brocal | O4: Nivel dinámico (m) + Brocal
A5: 1 | B5: Punta Leona # 21 Capilla | C5: Punta Leona | D5: Perforado | E5: 187420 | F5: 464086 | G5: 22 | H5: 8 | I5: 0.38 | K5: - | L5: =O5-I5 -> 3.77 | N5: - | O5: 4.15
A6: 2 | B6: Punta Leona # 28 Rotonda | C6: Punta Leona | D6: Perforado | E6: 187337 | F6: 464142 | G6: 24 | H6: 6 | I6: 0.35 | K6: =N6-I6 -> 3.21 | L6: - | N6: 3.56 | O6: -
A7: 3 | B7: Punta Leona # 8 Barlovento | C7: Punta Leona | D7: Perforado | E7: 187173 | F7: 464343 | G7: 32 | I7: -0.42 | K7: - | L7: =O7-I7 -> 5.64 | N7: - | O7: 5.22
A8: 4 | B8: Punta Leona # 38 Boulevard | C8: Punta Leona | D8: Perforado | E8: 188544 | F8: 466399 | G8: 36 | H8: 10 | I8: 0.34 | K8: =N8-I8 -> 4.66 | L8: - | N8: 5 | O8: -
A9: 5 | B9: Punta Leona Boulevard 2 | C9: Punta Leona | D9: Perforado | E9: 188556 | F9: 466296 | G9: 35 | H9: 10 | I9: 0.57 | K9: =N9-I9 -> 2.81 | L9: - | N9: 3.38 | O9: -
A10: 6 | B10: ASADA Quebrada Ganado Castaña | C10: Quebrada Ganado | D10: Perforado | E10: 188977 | F10: 468685 | G10: 66 | H10: 3 | I10: 0.3 | K10: =N10-I10 -> 5.69 | L10: - | N10: 5.99 | O10: -
A11: 7 | B11: Juan Ignacio Naranjo Chávez | C11: Quebrada Ganado | D11: Perforado | E11: 189542 | F11: 467732 | G11: 49 | I11: - | K11: Sin línea de aire | N11: Sin línea de aire
A12: 8 | B12: Carlos Solano | C12: Quebrada Ganado | D12: Perforado | E12: 189959 | F12: 467620 | G12: 47 | I12: - | K12: Sin línea de aire | N12: Sin línea de aire
A13: 9 | B13: Plantation Acres | C13: Agujas | D13: Perforado | E13: 188581 | F13: 466891 | G13: 59 | I13: 0 | K13: Cerrado con llave | N13: Sin línea de aire
A14: 10 | B14: ASADA Quebrada Ganado Cacique | C14: Agujas | D14: Perforado | E14: 189077 | F14: 466777 | G14: 47 | H14: 4 | I14: 0.57 | J14: 23 | K14: - | L14: =O14-I14 -> 8.7 | O14: 9.27
A15: 11 | B15: Residencial Santiago | C15: Agujas | D15: Perforado | E15: 189533 | F15: 465181 | G15: 27 | H15: 3 | I15: 0.55 | K15: =N15-I15 -> -0.17 | L15: - | N15: 0.38
A16: 12 | B16: Carlos Luis Monge | C16: Agujas | D16: Perforado | E16: 189923 | F16: 464947 | G16: 22 | I16: - | K16: Sin línea de aire | N16: Sin línea de aire
A17: 13 | B17: Samar de Santana | C17: Agujas | D17: Excavado | E17: 189801 | F17: 465079 | G17: 24 | I17: 0.4 | K17: Cerrado con llave | N17: Sin línea de aire
A18: 14 | B18: ASADA Quebrada Ganado Castaña Nuevo | C18: Quebrada Ganado | D18: Perforado | E18: 188953 | F18: 468719 | I18: 0.56 | K18: - | L18: =O18-I18 -> 8.72 | N18: - | O18: 9.28

Sheet Octubre 2016
A1: Plan de Monitoreo Acuífero Mantas y Agujas
A2: Fecha: 24 de octubre del 2016
A4: N˚ | B4: Nombre del POZO | C4: Lugar | D4: Tipo | E4: Latitud | F4: Longitud | G4: Altitud sobre nivel de Mar | H4: Diámetro armado (in) | I4: Brocal (m) | J4: Profundidad de pozo (m) | K4: Nivel estático (m) | L4: Nivel dinámico (m) | N4: Nivel estático (m) + Brocal | O4: Nivel dinámico (m) + Brocal
A5: 1 | B5: Punta Leona # 21 Capilla | C5: Punta Leona | D5: Perforado | E5: 187420 | F5: 464086 | G5: 22 | H5: 8 | I5: 0.38 | K5: =N5-I5 -> -0.38 | L5: =O5-I5 -> 2.83 | O5: 3.21
A6: 2 | B6: Punta Leona # 28 Rotonda | C6: Punta Leona | D6: Perforado | E6: 187337 | F6: 464142 | G6: 24 | H6: 6 | I6: 0.35 | K6: =N6-I6 -> -0.35 | L6: =O6-I6 -> 4.44 | O6: 4.79
A7: 3 | B7: Punta Leona # 8 Barlovento | C7: Punta Leona | D7: Perforado | E7: 187173 | F7: 464343 | G7: 32 | I7: -0.42 | K7: =N7-I7 -> 0.42 | L7: =O7-I7 -> 9.23 | O7: 8.81
A8: 4 | B8: Punta Leona # 38 Boulevard | C8: Punta Leona | D8: Perforado | E8: 188544 | F8: 466399 | G8: 36 | H8: 10 | I8: 0.34 | K8: =N8-I8 -> 4.23 | L8: =O8-I8 -> -0.34 | N8: 4.57
A9: 5 | B9: Punta Leona Boulevard 2 | C9: Punta Leona | D9: Perforado | E9: 188556 | F9: 466296 | G9: 35 | H9: 10 | I9: 0.57 | K9: =N9-I9 -> -0.57 | L9: =O9-I9 -> 3.12 | O9: 3.69
A10: 6 | B10: ASADA Quebrada Ganado Castaña | C10: Quebrada Ganado | D10: Perforado | E10: 188977 | F10: 468685 | G10: 66 | H10: 3 | I10: 0.3 | K10: =N10-I10 -> 5.56 | L10: =O10-I10 -> -0.3 | N10: 5.86
A11: 7 | B11: Juan Ignacio Naranjo Chávez | C11: Quebrada Ganado | D11: Perforado | E11: 189542 | F11: 467732 | G11: 49 | I11: - | K11: =N11-I11 -> #VALUE! | L11: =O11-I11 -> #VALUE!
A12: 8 | B12: Carlos Solano | C12: Quebrada Ganado | D12: Perforado | E12: 189959 | F12: 467620 | G12: 47 | I12: - | K12: =N12-I12 -> #VALUE! | L12: =O12-I12 -> #VALUE!
A13: 9 | B13: Plantation Acres | C13: Agujas | D13: Perforado | E13: 188581 | F13: 466891 | G13: 59 | I13: 0 | K13: =N13-I13 -> 0 | L13: =O13-I13 -> 0
A14: 10 | B14: ASADA Quebrada Ganado Cacique | C14: Agujas | D14: Perforado | E14: 189077 | F14: 466777 | G14: 47 | H14: 4 | I14: 0.57 | J14: 23 | K14: =N14-I14 -> 6.84 | L14: =O14-I14 -> -0.57 | N14: 7.41
A15: 11 | B15: Residencial Santiago | C15: Agujas | D15: Perforado | E15: 189533 | F15: 465181 | G15: 27 | H15: 3 | I15: 0.55 | K15: =N15-I15 -> -0.55 | L15: =O15-I15 -> 1.29 | O15: 1.84
A16: 12 | B16: Carlos Luis Monge | C16: Agujas | D16: Perforado | E16: 189923 | F16: 464947 | G16: 22 | I16: - | K16: =N16-I16 -> #VALUE! | L16: =O16-I16 -> #VALUE!
A17: 13 | B17: Samar de Santana | C17: Agujas | D17: Excavado | E17: 189801 | F17: 465079 | G17: 24 | I17: 0.4 | K17: =N17-I17 -> -0.4 | L17: =O17-I17 -> -0.4
A18: 14 | B18: ASADA Quebrada Ganado Castaña Nuevo | C18: Quebrada Ganado | D18: Perforado | E18: 188953 | F18: 468719 | I18: 0.56 | K18: =N18-I18 -> 6.22 | L18: =O18-I18 -> -0.56 | N18: 6.78

Sheet Noviembre 2016
A1: Plan de Monitoreo Acuífero Mantas y Agujas
A2: Fecha: 21 de noviembre del 2016
A4: N˚ | B4: Nombre del POZO | C4: Lugar | D4: Tipo | E4: Latitud | F4: Longitud | G4: Altitud sobre nivel de Mar | H4: Diámetro armado (in) | I4: Brocal (m) | J4: Profundidad de pozo (m) | K4: Nivel estático (m) | L4: Nivel dinámico (m) | N4: Nivel estático (m) + Brocal | O4: Nivel dinámico (m) + Brocal
A5: 1 | B5: Punta Leona # 21 Capilla | C5: Punta Leona | D5: Perforado | E5: 187420 | F5: 464086 | G5: 22 | H5: 8 | I5: 0.38 | K5: =N5-I5 -> -0.38 | L5: =O5-I5 -> 4.52 | O5: 4.9
A6: 2 | B6: Punta Leona # 28 Rotonda | C6: Punta Leona | D6: Perforado | E6: 187337 | F6: 464142 | G6: 24 | H6: 6 | I6: 0.35 | K6: =N6-I6 -> -0.35 | L6: =O6-I6 -> 6.59 | O6: 6.94
A7: 3 | B7: Punta Leona # 8 Barlovento | C7: Punta Leona | D7: Perforado | E7: 187173 | F7: 464343 | G7: 32 | I7: -0.42 | K7: =N7-I7 -> 0.42 | L7: =O7-I7 -> 7.62 | O7: 7.2
A8: 4 | B8: Punta Leona # 38 Boulevard | C8: Punta Leona | D8: Perforado | E8: 188544 | F8: 466399 | G8: 36 | H8: 10 | I8: 0.34 | K8: =N8-I8 -> 4.74 | L8: =O8-I8 -> -0.34 | N8: 5.08
A9: 5 | B9: Punta Leona Boulevard 2 | C9: Punta Leona | D9: Perforado | E9: 188556 | F9: 466296 | G9: 35 | H9: 10 | I9: 0.57 | K9: =N9-I9 -> 3.37 | L9: =O9-I9 -> -0.57 | N9: 3.94
A10: 6 | B10: ASADA Quebrada Ganado Castaña | C10: Quebrada Ganado | D10: Perforado | E10: 188977 | F10: 468685 | G10: 66 | H10: 3 | I10: 0.3 | K10: =N10-I10 -> -0.3 | L10: =O10-I10 -> -0.3
A11: 7 | B11: Juan Ignacio Naranjo Chávez | C11: Quebrada Ganado | D11: Perforado | E11: 189542 | F11: 467732 | G11: 49 | I11: - | K11: =N11-I11 -> #VALUE! | L11: =O11-I11 -> #VALUE!
A12: 8 | B12: Carlos Solano | C12: Quebrada Ganado | D12: Perforado | E12: 189959 | F12: 467620 | G12: 47 | I12: - | K12: =N12-I12 -> #VALUE! | L12: =O12-I12 -> #VALUE!
A13: 9 | B13: Plantation Acres | C13: Agujas | D13: Perforado | E13: 188581 | F13: 466891 | G13: 59 | I13: 0 | K13: =N13-I13 -> 0 | L13: =O13-I13 -> 0
A14: 10 | B14: ASADA Quebrada Ganado Cacique | C14: Agujas | D14: Perforado | E14: 189077 | F14: 466777 | G14: 47 | H14: 4 | I14: 0.57 | J14: 23 | K14: =N14-I14 -> -0.57 | L14: =O14-I14 -> 8.57 | O14: 9.14
A15: 11 | B15: Residencial Santiago | C15: Agujas | D15: Perforado | E15: 189533 | F15: 465181 | G15: 27 | H15: 3 | I15: 0.55 | K15: =N15-I15 -> -0.15 | L15: =O15-I15 -> -0.55 | N15: 0.4
A16: 12 | B16: Carlos Luis Monge | C16: Agujas | D16: Perforado | E16: 189923 | F16: 464947 | G16: 22 | I16: - | K16: =N16-I16 -> #VALUE! | L16: =O16-I16 -> #VALUE!
A17: 13 | B17: Samar de Santana | C17: Agujas | D17: Excavado | E17: 189801 | F17: 465079 | G17: 24 | I17: 0.4 | K17: =N17-I17 -> -0.4 | L17: =O17-I17 -> -0.4
A18: 14 | B18: ASADA Quebrada Ganado Castaña Nuevo | C18: Quebrada Ganado | D18: Perforado | E18: 188953 | F18: 468719 | I18: 0.56 | K18: =N18-I18 -> -0.56 | L18: =O18-I18 -> 8.73 | O18: 9.29

Sheet Diciembre 2016
A1: Plan de Monitoreo Acuífero Mantas y Agujas
A2: Fecha: 12 de diciembre del 2016
A4: N˚ | B4: Nombre del POZO | C4: Lugar | D4: Tipo | E4: Latitud | F4: Longitud | G4: Altitud sobre nivel de Mar | H4: Diámetro armado (in) | I4: Brocal (m) | J4: Profundidad de pozo (m) | K4: Nivel estático (m) | L4: Nivel dinámico (m) | N4: Nivel estático (m) + Brocal | O4: Nivel dinámico (m) + Brocal
A5: 1 | B5: Punta Leona # 21 Capilla | C5: Punta Leona | D5: Perforado | E5: 187420 | F5: 464086 | G5: 22 | H5: 8 | I5: 0.38 | K5: =N5-I5 -> -0.38 | L5: =O5-I5 -> 2.73 | O5: 3.11
A6: 2 | B6: Punta Leona # 28 Rotonda | C6: Punta Leona | D6: Perforado | E6: 187337 | F6: 464142 | G6: 24 | H6: 6 | I6: 0.35 | K6: =N6-I6 -> -0.35 | L6: =O6-I6 -> 4.79 | O6: 5.14
A7: 3 | B7: Punta Leona # 8 Barlovento | C7: Punta Leona | D7: Perforado | E7: 187173 | F7: 464343 | G7: 32 | I7: -0.42 | K7: =N7-I7 -> 0.42 | L7: =O7-I7 -> 3.96 | O7: 3.54
A8: 4 | B8: Punta Leona # 38 Boulevard | C8: Punta Leona | D8: Perforado | E8: 188544 | F8: 466399 | G8: 36 | H8: 10 | I8: 0.34 | K8: =N8-I8 -> 4.26 | L8: =O8-I8 -> -0.34 | N8: 4.6
A9: 5 | B9: Punta Leona Boulevard 2 | C9: Punta Leona | D9: Perforado | E9: 188556 | F9: 466296 | G9: 35 | H9: 10 | I9: 0.57 | K9: =N9-I9 -> 2.98 | L9: =O9-I9 -> -0.57 | N9: 3.55
A10: 6 | B10: ASADA Quebrada Ganado Castaña | C10: Quebrada Ganado | D10: Perforado | E10: 188977 | F10: 468685 | G10: 66 | H10: 3 | I10: 0.3 | K10: =N10-I10 -> -0.3 | L10: =O10-I10 -> -0.3
A11: 7 | B11: Juan Ignacio Naranjo Chávez | C11: Quebrada Ganado | D11: Perforado | E11: 189542 | F11: 467732 | G11: 49 | I11: - | K11: =N11-I11 -> #VALUE! | L11: =O11-I11 -> #VALUE!
A12: 8 | B12: Carlos Solano | C12: Quebrada Ganado | D12: Perforado | E12: 189959 | F12: 467620 | G12: 47 | I12: - | K12: =N12-I12 -> #VALUE! | L12: =O12-I12 -> #VALUE!
A13: 9 | B13: Plantation Acres | C13: Agujas | D13: Perforado | E13: 188581 | F13: 466891 | G13: 59 | I13: 0 | K13: =N13-I13 -> 0 | L13: =O13-I13 -> 0
A14: 10 | B14: ASADA Quebrada Ganado Cacique | C14: Agujas | D14: Perforado | E14: 189077 | F14: 466777 | G14: 47 | H14: 4 | I14: 0.57 | J14: 23 | K14: =N14-I14 -> -0.57 | L14: =O14-I14 -> 7.67 | O14: 8.24
A15: 11 | B15: Residencial Santiago | C15: Agujas | D15: Perforado | E15: 189533 | F15: 465181 | G15: 27 | H15: 3 | I15: 0.55 | K15: =N15-I15 -> -0.32 | L15: =O15-I15 -> -0.55 | N15: 0.23
A16: 12 | B16: Carlos Luis Monge | C16: Agujas | D16: Perforado | E16: 189923 | F16: 464947 | G16: 22 | I16: - | K16: =N16-I16 -> #VALUE! | L16: =O16-I16 -> #VALUE!
A17: 13 | B17: Samar de Santana | C17: Agujas | D17: Excavado | E17: 189801 | F17: 465079 | G17: 24 | I17: 0.4 | K17: =N17-I17 -> -0.4 | L17: =O17-I17 -> -0.4
A18: 14 | B18: ASADA Quebrada Ganado Castaña Nuevo | C18: Quebrada Ganado | D18: Perforado | E18: 188953 | F18: 468719 | I18: 0.56 | K18: =N18-I18 -> -0.56 | L18: =O18-I18 -> 7.13 | O18: 7.69

Sheet Enero 2017
A1: sin datos

Sheet Febrero 2017
A1: Plan de Monitoreo Acuífero Mantas y Agujas
A2: Fecha: 20 de Febrero del 2017
A4: N˚ | B4: Nombre del POZO | C4: Lugar | D4: Tipo | E4: Latitud | F4: Longitud | G4: Altitud sobre nivel de Mar | H4: Diámetro armado (in) | I4: Brocal (m) | J4: Profundidad de pozo (m) | K4: Nivel estático (m) | L4: Nivel dinámico (m) | N4: Nivel estático (m) + Brocal | O4: Nivel dinámico (m) + Brocal
A5: 1 | B5: Punta Leona # 21 Capilla | C5: Punta Leona | D5: Perforado | E5: 187420 | F5: 464086 | G5: 22 | H5: 8 | I5: 0.38 | K5: =N5-I5 -> -0.38 | L5: =O5-I5 -> 7.48 | O5: 7.86
A6: 2 | B6: Punta Leona # 28 Rotonda | C6: Punta Leona | D6: Perforado | E6: 187337 | F6: 464142 | G6: 24 | H6: 6 | I6: 0.35 | K6: =N6-I6 -> -0.35 | L6: =O6-I6 -> 9.98 | O6: 10.33
A7: 3 | B7: Punta Leona # 8 Barlovento | C7: Punta Leona | D7: Perforado | E7: 187173 | F7: 464343 | G7: 32 | I7: -0.42 | K7: =N7-I7 -> 0.42 | L7: =O7-I7 -> 13.35 | O7: 12.93
A8: 4 | B8: Punta Leona # 38 Boulevard | C8: Punta Leona | D8: Perforado | E8: 188544 | F8: 466399 | G8: 36 | H8: 10 | I8: 0.34 | K8: =N8-I8 -> -0.34 | L8: =O8-I8 -> 6.44 | O8: 6.78
A9: 5 | B9: Punta Leona Boulevard 2 | C9: Punta Leona | D9: Perforado | E9: 188556 | F9: 466296 | G9: 35 | H9: 10 | I9: 0.57 | K9: =N9-I9 -> 4.52 | L9: =O9-I9 -> -0.57 | N9: 5.09
A10: 6 | B10: ASADA Quebrada Ganado Castaña | C10: Quebrada Ganado | D10: Perforado | E10: 188977 | F10: 468685 | G10: 66 | H10: 3 | I10: 0.3 | K10: =N10-I10 -> 5.8 | L10: =O10-I10 -> -0.3 | N10: 6.1
A11: 7 | B11: Juan Ignacio Naranjo Chávez | C11: Quebrada Ganado | D11: Perforado | E11: 189542 | F11: 467732 | G11: 49 | I11: - | K11: =N11-I11 -> #VALUE! | L11: =O11-I11 -> #VALUE!
A12: 8 | B12: Carlos Solano | C12: Quebrada Ganado | D12: Perforado | E12: 189959 | F12: 467620 | G12: 47 | I12: - | K12: =N12-I12 -> #VALUE! | L12: =O12-I12 -> #VALUE!
A13: 9 | B13: Plantation Acres | C13: Agujas | D13: Perforado | E13: 188581 | F13: 466891 | G13: 59 | I13: 0 | K13: =N13-I13 -> 0 | L13: =O13-I13 -> 0
A14: 10 | B14: ASADA Quebrada Ganado Cacique | C14: Agujas | D14: Perforado | E14: 189077 | F14: 466777 | G14: 47 | H14: 4 | I14: 0.57 | J14: 23 | K14: =N14-I14 -> -0.57 | L14: =O14-I14 -> 10.14 | O14: 10.71
A15: 11 | B15: Residencial Santiago | C15: Agujas | D15: Perforado | E15: 189533 | F15: 465181 | G15: 27 | H15: 3 | I15: 0.55 | K15: =N15-I15 -> -0.04 | L15: =O15-I15 -> -0.55 | N15: 0.51
A16: 12 | B16: Carlos Luis Monge | C16: Agujas | D16: Perforado | E16: 189923 | F16: 464947 | G16: 22 | I16: - | K16: =N16-I16 -> #VALUE! | L16: =O16-I16 -> #VALUE!
A17: 13 | B17: Samar de Santana | C17: Agujas | D17: Excavado | E17: 189801 | F17: 465079 | G17: 24 | I17: 0.4 | K17: =N17-I17 -> -0.4 | L17: =O17-I17 -> -0.4
A18: 14 | B18: ASADA Quebrada Ganado Castaña Nuevo | C18: Quebrada Ganado | D18: Perforado | E18: 188953 | F18: 468719 | I18: 0.56 | K18: =N18-I18 -> 6.44 | L18: =O18-I18 -> -0.56 | N18: 7

Sheet Marzo 2017
A1: Plan de Monitoreo Acuífero Mantas y Agujas
A2: Fecha: 27 de Marzo del 2017
A4: N˚ | B4: Nombre del POZO | C4: Lugar | D4: Tipo | E4: Latitud | F4: Longitud | G4: Altitud sobre nivel de Mar | H4: Diámetro armado (in) | I4: Brocal (m) | J4: Profundidad de pozo (m) | K4: Nivel estático (m) | L4: Nivel dinámico (m) | N4: Nivel estático (m) + Brocal | O4: Nivel dinámico (m) + Brocal
A5: 1 | B5: Punta Leona # 21 Capilla | C5: Punta Leona | D5: Perforado | E5: 187420 | F5: 464086 | G5: 22 | H5: 8 | I5: 0.38 | K5: =N5-I5 -> -0.38 | L5: =O5-I5 -> 8.165 | O5: 8.545
A6: 2 | B6: Punta Leona # 28 Rotonda | C6: Punta Leona | D6: Perforado | E6: 187337 | F6: 464142 | G6: 24 | H6: 6 | I6: 0.35 | K6: =N6-I6 -> 8.92 | L6: =O6-I6 -> 12.8 | N6: 9.27 | O6: 13.15
A7: 3 | B7: Punta Leona # 8 Barlovento | C7: Punta Leona | D7: Perforado | E7: 187173 | F7: 464343 | G7: 32 | I7: 0 | K7: =N7-I7 -> 0 | L7: =O7-I7 -> 14.25 | O7: 14.25
A8: 4 | B8: Punta Leona # 38 Boulevard | C8: Punta Leona | D8: Perforado | E8: 188544 | F8: 466399 | G8: 36 | H8: 10 | I8: 0.34 | K8: =N8-I8 -> 6.68 | L8: =O8-I8 -> -0.34 | N8: 7.02
A9: 5 | B9: Punta Leona Boulevard 2 | C9: Punta Leona | D9: Perforado | E9: 188556 | F9: 466296 | G9: 35 | H9: 10 | I9: 0.57 | K9: =N9-I9 -> -0.57 | L9: =O9-I9 -> 5.31 | O9: 5.88
A10: 6 | B10: ASADA Quebrada Ganado Castaña | C10: Quebrada Ganado | D10: Perforado | E10: 188977 | F10: 468685 | G10: 66 | H10: 3 | I10: 0.3 | K10: =N10-I10 -> 5.84 | L10: =O10-I10 -> -0.3 | N10: 6.14
A11: 7 | B11: Juan Ignacio Naranjo Chávez | C11: Quebrada Ganado | D11: Perforado | E11: 189542 | F11: 467732 | G11: 49 | I11: - | K11: =N11-I11 -> #VALUE! | L11: =O11-I11 -> #VALUE!
A12: 8 | B12: Carlos Solano | C12: Quebrada Ganado | D12: Perforado | E12: 189959 | F12: 467620 | G12: 47 | I12: - | K12: =N12-I12 -> #VALUE! | L12: =O12-I12 -> #VALUE!
A13: 9 | B13: Plantation Acres | C13: Agujas | D13: Perforado | E13: 188581 | F13: 466891 | G13: 59 | I13: 0 | K13: =N13-I13 -> 0 | L13: =O13-I13 -> 0
A14: 10 | B14: ASADA Quebrada Ganado Cacique | C14: Agujas | D14: Perforado | E14: 189077 | F14: 466777 | G14: 47 | H14: 4 | I14: 0.57 | J14: 23 | K14: =N14-I14 -> -0.57 | L14: =O14-I14 -> 10.84 | O14: 11.41
A15: 11 | B15: Residencial Santiago | C15: Agujas | D15: Perforado | E15: 189533 | F15: 465181 | G15: 27 | H15: 3 | I15: 0.55 | K15: =N15-I15 -> -0.335 | L15: =O15-I15 -> -0.55 | N15: 0.215
A16: 12 | B16: Carlos Luis Monge | C16: Agujas | D16: Perforado | E16: 189923 | F16: 464947 | G16: 22 | I16: - | K16: =N16-I16 -> #VALUE! | L16: =O16-I16 -> #VALUE!
A17: 13 | B17: Samar de Santana | C17: Agujas | D17: Excavado | E17: 189801 | F17: 465079 | G17: 24 | I17: 0.4 | K17: =N17-I17 -> -0.4 | L17: =O17-I17 -> -0.4
A18: 14 | B18: ASADA Quebrada Ganado Castaña Nuevo | C18: Quebrada Ganado | D18: Perforado | E18: 188953 | F18: 468719 | I18: 0.56 | K18: =N18-I18 -> -0.56 | L18: =O18-I18 -> 9.32 | O18: 9.88
A19: 15 | B19: Pozo_ TS-88_Pta_Leona | C19: Punta Leona | D19: Perforado | E19: 188839 | F19: 465987 | I19: 0.32 | K19: =N19-I19 -> -0.32 | L19: =O19-I19 -> 5.1 | O19: 5.42

Sheet Abril 2017
A1: Plan de Monitoreo Acuífero Mantas y Agujas
A2: Fecha: 25 de Abril del 2017
A4: N˚ | B4: Nombre del POZO | C4: Lugar | D4: Tipo | E4: Latitud | F4: Longitud | G4: Altitud sobre nivel de Mar | H4: Diámetro armado (in) | I4: Brocal (m) | J4: Profundidad de pozo (m) | K4: Nivel estático (m) | L4: Nivel dinámico (m) | N4: Nivel estático (m) + Brocal | O4: Nivel dinámico (m) + Brocal
A5: 1 | B5: Punta Leona # 21 Capilla | C5: Punta Leona | D5: Perforado | E5: 187420 | F5: 464086 | G5: 22 | H5: 8 | I5: 0.38 | K5: =N5-I5 -> -0.38 | L5: =O5-I5 -> 8.59 | O5: 8.97
A6: 2 | B6: Punta Leona # 28 Rotonda | C6: Punta Leona | D6: Perforado | E6: 187337 | F6: 464142 | G6: 24 | H6: 6 | I6: 0.35 | K6: =N6-I6 -> 9.52 | L6: =O6-I6 -> -0.35 | N6: 9.87
A7: 3 | B7: Punta Leona # 8 Barlovento | C7: Punta Leona | D7: Perforado | E7: 187173 | F7: 464343 | G7: 32 | I7: 0 | K7: =N7-I7 -> 14.66 | L7: =O7-I7 -> 0 | N7: 14.66
A8: 4 | B8: Punta Leona # 38 Boulevard | C8: Punta Leona | D8: Perforado | E8: 188544 | F8: 466399 | G8: 36 | H8: 10 | I8: 0.34 | K8: =N8-I8 -> -0.34 | L8: =O8-I8 -> 11.06 | O8: 11.4
A9: 5 | B9: Punta Leona Boulevard 2 | C9: Punta Leona | D9: Perforado | E9: 188556 | F9: 466296 | G9: 35 | H9: 10 | I9: 0.57 | K9: =N9-I9 -> 5.94 | L9: =O9-I9 -> -0.57 | N9: 6.51
A10: 6 | B10: ASADA Quebrada Ganado Castaña | C10: Quebrada Ganado | D10: Perforado | E10: 188977 | F10: 468685 | G10: 66 | H10: 3 | I10: 0.3 | K10: =N10-I10 -> 5.95 | L10: =O10-I10 -> -0.3 | N10: 6.25
A11: 7 | B11: Juan Ignacio Naranjo Chávez | C11: Quebrada Ganado | D11: Perforado | E11: 189542 | F11: 467732 | G11: 49 | I11: - | K11: =N11-I11 -> #VALUE! | L11: =O11-I11 -> #VALUE!
A12: 8 | B12: Carlos Solano | C12: Quebrada Ganado | D12: Perforado | E12: 189959 | F12: 467620 | G12: 47 | I12: - | K12: =N12-I12 -> #VALUE! | L12: =O12-I12 -> #VALUE!
A13: 9 | B13: Plantation Acres | C13: Agujas | D13: Perforado | E13: 188581 | F13: 466891 | G13: 59 | I13: 0 | K13: =N13-I13 -> 0 | L13: =O13-I13 -> 0
A14: 10 | B14: ASADA Quebrada Ganado Cacique | C14: Agujas | D14: Perforado | E14: 189077 | F14: 466777 | G14: 47 | H14: 4 | I14: 0.57 | J14: 23 | K14: =N14-I14 -> 11.38 | L14: =O14-I14 -> -0.57 | N14: 11.95
A15: 11 | B15: Residencial Santiago | C15: Agujas | D15: Perforado | E15: 189533 | F15: 465181 | G15: 27 | H15: 3 | I15: 0.55 | K15: =N15-I15 -> -0.27 | L15: =O15-I15 -> -0.55 | N15: 0.28
A16: 12 | B16: Carlos Luis Monge | C16: Agujas | D16: Perforado | E16: 189923 | F16: 464947 | G16: 22 | I16: - | K16: =N16-I16 -> #VALUE! | L16: =O16-I16 -> #VALUE!
A17: 13 | B17: Samar de Santana | C17: Agujas | D17: Excavado | E17: 189801 | F17: 465079 | G17: 24 | I17: 0.4 | K17: =N17-I17 -> -0.4 | L17: =O17-I17 -> -0.4
A18: 14 | B18: ASADA Quebrada Ganado Castaña Nuevo | C18: Quebrada Ganado | D18: Perforado | E18: 188953 | F18: 468719 | I18: 0.56 | K18: =N18-I18 -> -0.56 | L18: =O18-I18 -> 11.56 | O18: 12.12
A19: 15 | B19: Pozo_ TS-88_Pta_Leona | C19: Punta Leona | D19: Perforado | E19: 188839 | F19: 465987 | I19: 0.32 | K19: =N19-I19 -> -0.32 | L19: =O19-I19 -> -0.32

Sheet Mayo 2017
A1: Plan de Monitoreo Acuífero Mantas y Agujas
A2: Fecha: 23 de Mayo del 2017
A4: N˚ | B4: Nombre del POZO | C4: Lugar | D4: Tipo | E4: Latitud | F4: Longitud | G4: Altitud sobre nivel de Mar | H4: Diámetro armado (in) | I4: Brocal (m) | J4: Profundidad de pozo (m) | K4: Nivel estático (m) | L4: Nivel dinámico (m) | N4: Nivel estático (m) + Brocal | O4: Nivel dinámico (m) + Brocal
A5: 1 | B5: Punta Leona # 21 Capilla | C5: Punta Leona | D5: Perforado | E5: 187420 | F5: 464086 | G5: 22 | H5: 8 | I5: 0.38 | K5: =N5-I5 -> -0.38 | L5: =O5-I5 -> 6.71 | O5: 7.09
A6: 2 | B6: Punta Leona # 28 Rotonda | C6: Punta Leona | D6: Perforado | E6: 187337 | F6: 464142 | G6: 24 | H6: 6 | I6: 0.35 | K6: =N6-I6 -> 7.03 | L6: =O6-I6 -> -0.35 | N6: 7.38
A7: 3 | B7: Punta Leona # 8 Barlovento | C7: Punta Leona | D7: Perforado | E7: 187173 | F7: 464343 | G7: 32 | I7: 0 | K7: =N7-I7 -> 0 | L7: =O7-I7 -> 11.29 | O7: 11.29
A8: 4 | B8: Punta Leona # 38 Boulevard | C8: Punta Leona | D8: Perforado | E8: 188544 | F8: 466399 | G8: 36 | H8: 10 | I8: 0.34 | K8: =N8-I8 -> -0.34 | L8: =O8-I8 -> 7.87 | O8: 8.21
A9: 5 | B9: Punta Leona Boulevard 2 | C9: Punta Leona | D9: Perforado | E9: 188556 | F9: 466296 | G9: 35 | H9: 10 | I9: 0.57 | K9: =N9-I9 -> -0.57 | L9: =O9-I9 -> 5.77 | O9: 6.34
A10: 6 | B10: ASADA Quebrada Ganado Castaña | C10: Quebrada Ganado | D10: Perforado | E10: 188977 | F10: 468685 | G10: 66 | H10: 3 | I10: 0.3 | K10: =N10-I10 -> 5.9 | L10: =O10-I10 -> -0.3 | N10: 6.2
A11: 7 | B11: Juan Ignacio Naranjo Chávez | C11: Quebrada Ganado | D11: Perforado | E11: 189542 | F11: 467732 | G11: 49 | I11: - | K11: =N11-I11 -> #VALUE! | L11: =O11-I11 -> #VALUE!
A12: 8 | B12: Carlos Solano | C12: Quebrada Ganado | D12: Perforado | E12: 189959 | F12: 467620 | G12: 47 | I12: - | K12: =N12-I12 -> #VALUE! | L12: =O12-I12 -> #VALUE!
A13: 9 | B13: Plantation Acres | C13: Agujas | D13: Perforado | E13: 188581 | F13: 466891 | G13: 59 | I13: 0 | K13: =N13-I13 -> 0 | L13: =O13-I13 -> 0
A14: 10 | B14: ASADA Quebrada Ganado Cacique | C14: Agujas | D14: Perforado | E14: 189077 | F14: 466777 | G14: 47 | H14: 4 | I14: 0.57 | J14: 23 | K14: =N14-I14 -> 11.34 | L14: =O14-I14 -> -0.57 | N14: 11.91
A15: 11 | B15: Residencial Santiago | C15: Agujas | D15: Perforado | E15: 189533 | F15: 465181 | G15: 27 | H15: 3 | I15: 0.55 | K15: =N15-I15 -> -0.39 | L15: =O15-I15 -> -0.55 | N15: 0.16
A16: 12 | B16: Carlos Luis Monge | C16: Agujas | D16: Perforado | E16: 189923 | F16: 464947 | G16: 22 | I16: - | K16: =N16-I16 -> #VALUE! | L16: =O16-I16 -> #VALUE!
A17: 13 | B17: Samar de Santana | C17: Agujas | D17: Excavado | E17: 189801 | F17: 465079 | G17: 24 | I17: 0.4 | K17: =N17-I17 -> -0.4 | L17: =O17-I17 -> -0.4
A18: 14 | B18: ASADA Quebrada Ganado Castaña Nuevo | C18: Quebrada Ganado | D18: Perforado | E18: 188953 | F18: 468719 | I18: 0.56 | K18: =N18-I18 -> -0.56 | L18: =O18-I18 -> 9.78 | O18: 10.34
A19: 15 | B19: Pozo_ TS-88_Pta_Leona | C19: Punta Leona | D19: Perforado | E19: 188839 | F19: 465987 | I19: 0.32 | K19: =N19-I19 -> 2.44 | L19: =O19-I19 -> -0.32 | N19: 2.76

Sheet Junio 2017
A1: Plan de Monitoreo Acuífero Mantas y Agujas
A2: Fecha: 20 de Junio del 2017
A4: N˚ | B4: Nombre del POZO | C4: Lugar | D4: Tipo | E4: Latitud | F4: Longitud | G4: Altitud sobre nivel de Mar | H4: Diámetro armado (in) | I4: Brocal (m) | J4: Profundidad de pozo (m) | K4: Nivel estático (m) | L4: Nivel dinámico (m) | N4: Nivel estático (m) + Brocal | O4: Nivel dinámico (m) + Brocal
A5: 1 | B5: Punta Leona # 21 Capilla | C5: Punta Leona | D5: Perforado | E5: 187420 | F5: 464086 | G5: 22 | H5: 8 | I5: 0.38 | K5: =N5-I5 -> -0.38 | L5: =O5-I5 -> 3.1 | O5: 3.48
A6: 2 | B6: Punta Leona # 28 Rotonda | C6: Punta Leona | D6: Perforado | E6: 187337 | F6: 464142 | G6: 24 | H6: 6 | I6: 0.35 | K6: =N6-I6 -> 2.48 | L6: =O6-I6 -> -0.35 | N6: 2.83
A7: 3 | B7: Punta Leona # 8 Barlovento | C7: Punta Leona | D7: Perforado | E7: 187173 | F7: 464343 | G7: 32 | I7: 0 | K7: =N7-I7 -> 0 | L7: =O7-I7 -> 3.7 | O7: 3.7
A8: 4 | B8: Punta Leona # 38 Boulevard | C8: Punta Leona | D8: Perforado | E8: 188544 | F8: 466399 | G8: 36 | H8: 10 | I8: 0.34 | K8: =N8-I8 -> -0.34 | L8: =O8-I8 -> 4.9 | O8: 5.24
A9: 5 | B9: Punta Leona Boulevard 2 | C9: Punta Leona | D9: Perforado | E9: 188556 | F9: 466296 | G9: 35 | H9: 10 | I9: 0.57 | K9: =N9-I9 -> -0.57 | L9: =O9-I9 -> 3.25 | O9: 3.82
A10: 6 | B10: ASADA Quebrada Ganado Castaña | C10: Quebrada Ganado | D10: Perforado | E10: 188977 | F10: 468685 | G10: 66 | H10: 3 | I10: 0.3 | K10: =N10-I10 -> 9.05 | L10: =O10-I10 -> -0.3 | N10: 9.35
A11: 7 | B11: Juan Ignacio Naranjo Chávez | C11: Quebrada Ganado | D11: Perforado | E11: 189542 | F11: 467732 | G11: 49 | I11: - | K11: =N11-I11 -> #VALUE! | L11: =O11-I11 -> #VALUE!
A12: 8 | B12: Carlos Solano | C12: Quebrada Ganado | D12: Perforado | E12: 189959 | F12: 467620 | G12: 47 | I12: - | K12: =N12-I12 -> #VALUE! | L12: =O12-I12 -> #VALUE!
A13: 9 | B13: Plantation Acres | C13: Agujas | D13: Perforado | E13: 188581 | F13: 466891 | G13: 59 | I13: 0 | K13: =N13-I13 -> 0 | L13: =O13-I13 -> 0
A14: 10 | B14: ASADA Quebrada Ganado Cacique | C14: Agujas | D14: Perforado | E14: 189077 | F14: 466777 | G14: 47 | H14: 4 | I14: 0.57 | J14: 23 | K14: =N14-I14 -> -0.57 | L14: =O14-I14 -> 12.36 | O14: 12.93
A15: 11 | B15: Residencial Santiago | C15: Agujas | D15: Perforado | E15: 189533 | F15: 465181 | G15: 27 | H15: 3 | I15: 0.55 | K15: =N15-I15 -> -0.55 | L15: =O15-I15 -> 0.22 | O15: 0.77
A16: 12 | B16: Carlos Luis Monge | C16: Agujas | D16: Perforado | E16: 189923 | F16: 464947 | G16: 22 | I16: - | K16: =N16-I16 -> #VALUE! | L16: =O16-I16 -> #VALUE!
A17: 13 | B17: Samar de Santana | C17: Agujas | D17: Excavado | E17: 189801 | F17: 465079 | G17: 24 | I17: 0.4 | K17: =N17-I17 -> -0.4 | L17: =O17-I17 -> -0.4
A18: 14 | B18: ASADA Quebrada Ganado Castaña Nuevo | C18: Quebrada Ganado | D18: Perforado | E18: 188953 | F18: 468719 | I18: 0.56 | K18: =N18-I18 -> -0.56 | L18: =O18-I18 -> 11.59 | O18: 12.15
A19: 15 | B19: Pozo_ TS-88_Pta_Leona | C19: Punta Leona | D19: Perforado | E19: 188839 | F19: 465987 | I19: 0.32 | K19: =N19-I19 -> 1.28 | L19: =O19-I19 -> -0.32 | N19: 1.6

Sheet Julio 2017
A1: Plan de Monitoreo Acuífero Mantas y Agujas
A2: Fecha: 18 de Julio del 2017
A4: N˚ | B4: Nombre del POZO | C4: Lugar | D4: Tipo | E4: Latitud | F4: Longitud | G4: Altitud sobre nivel de Mar | H4: Diámetro armado (in) | I4: Brocal (m) | J4: Profundidad de pozo (m) | K4: Nivel estático (m) | L4: Nivel dinámico (m) | N4: Nivel estático (m) + Brocal | O4: Nivel dinámico (m) + Brocal
A5: 1 | B5: Punta Leona # 21 Capilla | C5: Punta Leona | D5: Perforado | E5: 187420 | F5: 464086 | G5: 22 | H5: 8 | I5: 0.38 | K5: =N5-I5 -> -0.38 | L5: =O5-I5 -> 4.48 | O5: 4.86
A6: 2 | B6: Punta Leona # 28 Rotonda | C6: Punta Leona | D6: Perforado | E6: 187337 | F6: 464142 | G6: 24 | H6: 6 | I6: 0.35 | K6: =N6-I6 -> 4.37 | L6: =O6-I6 -> -0.35 | N6: 4.72
A7: 3 | B7: Punta Leona # 8 Barlovento | C7: Punta Leona | D7: Perforado | E7: 187173 | F7: 464343 | G7: 32 | I7: 0 | K7: =N7-I7 -> 0 | L7: =O7-I7 -> 7.15 | O7: 7.15
A8: 4 | B8: Punta Leona # 38 Boulevard | C8: Punta Leona | D8: Perforado | E8: 188544 | F8: 466399 | G8: 36 | H8: 10 | I8: 0.34 | K8: =N8-I8 -> -0.34 | L8: =O8-I8 -> 5.42 | O8: 5.76
A9: 5 | B9: Punta Leona Boulevard 2 | C9: Punta Leona | D9: Perforado | E9: 188556 | F9: 466296 | G9: 35 | H9: 10 | I9: 0.57 | K9: =N9-I9 -> -0.57 | L9: =O9-I9 -> 3.84 | O9: 4.41
A10: 6 | B10: ASADA Quebrada Ganado Castaña | C10: Quebrada Ganado | D10: Perforado | E10: 188977 | F10: 468685 | G10: 66 | H10: 3 | I10: 0.3 | K10: =N10-I10 -> 5.64 | L10: =O10-I10 -> -0.3 | N10: 5.94
A11: 7 | B11: Juan Ignacio Naranjo Chávez | C11: Quebrada Ganado | D11: Perforado | E11: 189542 | F11: 467732 | G11: 49 | I11: - | K11: =N11-I11 -> #VALUE! | L11: =O11-I11 -> #VALUE!
A12: 8 | B12: Carlos Solano | C12: Quebrada Ganado | D12: Perforado | E12: 189959 | F12: 467620 | G12: 47 | I12: - | K12: =N12-I12 -> #VALUE! | L12: =O12-I12 -> #VALUE!
A13: 9 | B13: Plantation Acres | C13: Agujas | D13: Perforado | E13: 188581 | F13: 466891 | G13: 59 | I13: 0 | K13: =N13-I13 -> 0 | L13: =O13-I13 -> 0
A14: 10 | B14: ASADA Quebrada Ganado Cacique | C14: Agujas | D14: Perforado | E14: 189077 | F14: 466777 | G14: 47 | H14: 4 | I14: 0.57 | J14: 23 | K14: =N14-I14 -> -0.57 | L14: =O14-I14 -> 9.53 | O14: 10.1
A15: 11 | B15: Residencial Santiago | C15: Agujas | D15: Perforado | E15: 189533 | F15: 465181 | G15: 27 | H15: 3 | I15: 0.55 | K15: =N15-I15 -> -0.55 | L15: =O15-I15 -> 0.47 | O15: 1.02
A16: 12 | B16: Carlos Luis Monge | C16: Agujas | D16: Perforado | E16: 189923 | F16: 464947 | G16: 22 | I16: - | K16: =N16-I16 -> #VALUE! | L16: =O16-I16 -> #VALUE!
A17: 13 | B17: Samar de Santana | C17: Agujas | D17: Excavado | E17: 189801 | F17: 465079 | G17: 24 | I17: 0.4 | K17: =N17-I17 -> -0.4 | L17: =O17-I17 -> -0.4
A18: 14 | B18: ASADA Quebrada Ganado Castaña Nuevo | C18: Quebrada Ganado | D18: Perforado | E18: 188953 | F18: 468719 | I18: 0.56 | K18: =N18-I18 -> -0.56 | L18: =O18-I18 -> 8.59 | O18: 9.15
A19: 15 | B19: Pozo_ TS-88_Pta_Leona | C19: Punta Leona | D19: Perforado | E19: 188839 | F19: 465987 | I19: 0.32 | K19: =N19-I19 -> 1.36 | L19: =O19-I19 -> -0.32 | N19: 1.68

Sheet Agosto 2017
A1: Plan de Monitoreo Acuífero Mantas y Agujas
A2: Fecha: 22 de Agosto del 2017
A4: N˚ | B4: Nombre del POZO | C4: Lugar | D4: Tipo | E4: Latitud | F4: Longitud | G4: Altitud sobre nivel de Mar | H4: Diámetro armado (in) | I4: Brocal (m) | J4: Profundidad de pozo (m) | K4: Nivel estático (m) | L4: Nivel dinámico (m) | N4: Nivel estático (m) + Brocal | O4: Nivel dinámico (m) + Brocal
A5: 1 | B5: Punta Leona # 21 Capilla | C5: Punta Leona | D5: Perforado | E5: 187420 | F5: 464086 | G5: 22 | H5: 8 | I5: 0.38 | K5: =N5-I5 -> -0.38 | L5: =O5-I5 -> 2.83 | O5: 3.21
A6: 2 | B6: Punta Leona # 28 Rotonda | C6: Punta Leona | D6: Perforado | E6: 187337 | F6: 464142 | G6: 24 | H6: 6 | I6: 0.35 | K6: =N6-I6 -> 2.17 | L6: =O6-I6 -> -0.35 | N6: 2.52
A7: 3 | B7: Punta Leona # 8 Barlovento | C7: Punta Leona | D7: Perforado | E7: 187173 | F7: 464343 | G7: 32 | I7: 0 | K7: =N7-I7 -> 3.2 | L7: =O7-I7 -> 0 | N7: 3.2
A8: 4 | B8: Punta Leona # 38 Boulevard | C8: Punta Leona | D8: Perforado | E8: 188544 | F8: 466399 | G8: 36 | H8: 10 | I8: 0.34 | K8: =N8-I8 -> 3.79 | L8: =O8-I8 -> -0.34 | N8: 4.13
A9: 5 | B9: Punta Leona Boulevard 2 | C9: Punta Leona | D9: Perforado | E9: 188556 | F9: 466296 | G9: 35 | H9: 10 | I9: 0.57 | K9: =N9-I9 -> -0.57 | L9: =O9-I9 -> 5.1 | O9: 5.67
A10: 6 | B10: ASADA Quebrada Ganado Castaña | C10: Quebrada Ganado | D10: Perforado | E10: 188977 | F10: 468685 | G10: 66 | H10: 3 | I10: 0.3 | K10: =N10-I10 -> 5.66 | L10: =O10-I10 -> -0.3 | N10: 5.96
A11: 7 | B11: Juan Ignacio Naranjo Chávez | C11: Quebrada Ganado | D11: Perforado | E11: 189542 | F11: 467732 | G11: 49 | I11: - | K11: =N11-I11 -> #VALUE! | L11: =O11-I11 -> #VALUE!
A12: 8 | B12: Carlos Solano | C12: Quebrada Ganado | D12: Perforado | E12: 189959 | F12: 467620 | G12: 47 | I12: - | K12: =N12-I12 -> #VALUE! | L12: =O12-I12 -> #VALUE!
A13: 9 | B13: Plantation Acres | C13: Agujas | D13: Perforado | E13: 188581 | F13: 466891 | G13: 59 | I13: 0 | K13: =N13-I13 -> 0 | L13: =O13-I13 -> 0
A14: 10 | B14: ASADA Quebrada Ganado Cacique | C14: Agujas | D14: Perforado | E14: 189077 | F14: 466777 | G14: 47 | H14: 4 | I14: 0.57 | J14: 23 | K14: =N14-I14 -> -0.57 | L14: =O14-I14 -> 9.26 | O14: 9.83
A15: 11 | B15: Residencial Santiago | C15: Agujas | D15: Perforado | E15: 189533 | F15: 465181 | G15: 27 | H15: 3 | I15: 0.55 | K15: =N15-I15 -> -0.55 | L15: =O15-I15 -> -0.55 | N15: 0
A16: 12 | B16: Carlos Luis Monge | C16: Agujas | D16: Perforado | E16: 189923 | F16: 464947 | G16: 22 | I16: - | K16: =N16-I16 -> #VALUE! | L16: =O16-I16 -> #VALUE!
A17: 13 | B17: Samar de Santana | C17: Agujas | D17: Excavado | E17: 189801 | F17: 465079 | G17: 24 | I17: 0.4 | K17: =N17-I17 -> -0.4 | L17: =O17-I17 -> -0.4
A18: 14 | B18: ASADA Quebrada Ganado Castaña Nuevo | C18: Quebrada Ganado | D18: Perforado | E18: 188953 | F18: 468719 | I18: 0.56 | K18: =N18-I18 -> -0.56 | L18: =O18-I18 -> 8.7 | O18: 9.26
A19: 15 | B19: Pozo_ TS-88_Pta_Leona | C19: Punta Leona | D19: Perforado | E19: 188839 | F19: 465987 | I19: 0.32 | K19: =N19-I19 -> 1.4 | L19: =O19-I19 -> -0.32 | N19: 1.72

Sheet Setiembre 2017
A1: Plan de Monitoreo Acuífero Mantas y Agujas
A2: Fecha: 26 de Setiembre del 2017
A4: N˚ | B4: Nombre del POZO | C4: Lugar | D4: Tipo | E4: Latitud | F4: Longitud | G4: Altitud sobre nivel de Mar | H4: Diámetro armado (in) | I4: Brocal (m) | J4: Profundidad de pozo (m) | K4: Nivel estático (m) | L4: Nivel dinámico (m) | N4: Nivel estático (m) + Brocal | O4: Nivel dinámico (m) + Brocal
A5: 1 | B5: Punta Leona # 21 Capilla | C5: Punta Leona | D5: Perforado | E5: 187420 | F5: 464086 | G5: 22 | H5: 8 | I5: 0.38 | K5: =N5-I5 -> -0.38 | L5: =O5-I5 -> 3.7 | O5: 4.08
A6: 2 | B6: Punta Leona # 28 Rotonda | C6: Punta Leona | D6: Perforado | E6: 187337 | F6: 464142 | G6: 24 | H6: 6 | I6: 0.35 | K6: =N6-I6 -> 3.34 | L6: =O6-I6 -> -0.35 | N6: 3.69
A7: 3 | B7: Punta Leona # 8 Barlovento | C7: Punta Leona | D7: Perforado | E7: 187173 | F7: 464343 | G7: 32 | I7: 0 | K7: =N7-I7 -> 0 | L7: =O7-I7 -> 5.82 | O7: 5.82
A8: 4 | B8: Punta Leona # 38 Boulevard | C8: Punta Leona | D8: Perforado | E8: 188544 | F8: 466399 | G8: 36 | H8: 10 | I8: 0.34 | K8: =N8-I8 -> -0.34 | L8: =O8-I8 -> 5.41 | O8: 5.75
A9: 5 | B9: Punta Leona Boulevard 2 | C9: Punta Leona | D9: Perforado | E9: 188556 | F9: 466296 | G9: 35 | H9: 10 | I9: 0.57 | K9: =N9-I9 -> -0.57 | L9: =O9-I9 -> 3.68 | O9: 4.25
A10: 6 | B10: ASADA Quebrada Ganado Castaña | C10: Quebrada Ganado | D10: Perforado | E10: 188977 | F10: 468685 | G10: 66 | H10: 3 | I10: 0.3 | K10: =N10-I10 -> 5.6 | L10: =O10-I10 -> -0.3 | N10: 5.9
A11: 7 | B11: Juan Ignacio Naranjo Chávez | C11: Quebrada Ganado | D11: Perforado | E11: 189542 | F11: 467732 | G11: 49 | I11: - | K11: =N11-I11 -> #VALUE! | L11: =O11-I11 -> #VALUE!
A12: 8 | B12: Carlos Solano | C12: Quebrada Ganado | D12: Perforado | E12: 189959 | F12: 467620 | G12: 47 | I12: - | K12: =N12-I12 -> #VALUE! | L12: =O12-I12 -> #VALUE!
A13: 9 | B13: Plantation Acres | C13: Agujas | D13: Perforado | E13: 188581 | F13: 466891 | G13: 59 | I13: 0 | K13: =N13-I13 -> 0 | L13: =O13-I13 -> 0
A14: 10 | B14: ASADA Quebrada Ganado Cacique | C14: Agujas | D14: Perforado | E14: 189077 | F14: 466777 | G14: 47 | H14: 4 | I14: 0.57 | J14: 23 | K14: =N14-I14 -> 9.3 | L14: =O14-I14 -> -0.57 | N14: 9.87
A15: 11 | B15: Residencial Santiago | C15: Agujas | D15: Perforado | E15: 189533 | F15: 465181 | G15: 27 | H15: 3 | I15: 0.55 | K15: =N15-I15 -> 0 | L15: =O15-I15 -> -0.55 | N15: 0.55
A16: 12 | B16: Carlos Luis Monge | C16: Agujas | D16: Perforado | E16: 189923 | F16: 464947 | G16: 22 | I16: - | K16: =N16-I16 -> #VALUE! | L16: =O16-I16 -> #VALUE!
A17: 13 | B17: Samar de Santana | C17: Agujas | D17: Excavado | E17: 189801 | F17: 465079 | G17: 24 | I17: 0.4 | K17: =N17-I17 -> -0.4 | L17: =O17-I17 -> -0.4
A18: 14 | B18: ASADA Quebrada Ganado Castaña Nuevo | C18: Quebrada Ganado | D18: Perforado | E18: 188953 | F18: 468719 | I18: 0.56 | K18: =N18-I18 -> -0.56 | L18: =O18-I18 -> 8.54 | O18: 9.1
A19: 15 | B19: Pozo_ TS-88_Pta_Leona | C19: Punta Leona | D19: Perforado | E19: 188839 | F19: 465987 | I19: 0.32 | K19: =N19-I19 -> 1.41 | L19: =O19-I19 -> -0.32 | N19: 1.73

Sheet Octubre 2017
A1: Plan de Monitoreo Acuífero Mantas y Agujas
A2: Fecha: 24 de Octubre del 2017
A4: N˚ | B4: Nombre del POZO | C4: Lugar | D4: Tipo | E4: Latitud | F4: Longitud | G4: Altitud sobre nivel de Mar | H4: Diámetro armado (in) | I4: Brocal (m) | J4: Profundidad de pozo (m) | K4: Nivel estático (m) | L4: Nivel dinámico (m) | N4: Nivel estático (m) + Brocal | O4: Nivel dinámico (m) + Brocal
A5: 1 | B5: Punta Leona # 21 Capilla | C5: Punta Leona | D5: Perforado | E5: 187420 | F5: 464086 | G5: 22 | H5: 8 | I5: 0.38 | K5: =N5-I5 -> -0.38 | L5: =O5-I5 -> 4.43 | O5: 4.81
A6: 2 | B6: Punta Leona # 28 Rotonda | C6: Punta Leona | D6: Perforado | E6: 187337 | F6: 464142 | G6: 24 | H6: 6 | I6: 0.35 | K6: =N6-I6 -> -0.35 | L6: =O6-I6 -> 5.88 | O6: 6.23
A7: 3 | B7: Punta Leona # 8 Barlovento | C7: Punta Leona | D7: Perforado | E7: 187173 | F7: 464343 | G7: 32 | I7: 0 | K7: =N7-I7 -> 0 | L7: =O7-I7 -> 6.46 | O7: 6.46
A8: 4 | B8: Punta Leona # 38 Boulevard | C8: Punta Leona | D8: Perforado | E8: 188544 | F8: 466399 | G8: 36 | H8: 10 | I8: 0.34 | K8: =N8-I8 -> -0.34 | L8: =O8-I8 -> 5.96 | O8: 6.3
A9: 5 | B9: Punta Leona Boulevard 2 | C9: Punta Leona | D9: Perforado | E9: 188556 | F9: 466296 | G9: 35 | H9: 10 | I9: 0.57 | K9: =N9-I9 -> 3.25 | L9: =O9-I9 -> -0.57 | N9: 3.82
A10: 6 | B10: ASADA Quebrada Ganado Castaña | C10: Quebrada Ganado | D10: Perforado | E10: 188977 | F10: 468685 | G10: 66 | H10: 3 | I10: 0.3 | K10: =N10-I10 -> 5.75 | L10: =O10-I10 -> -0.3 | N10: 6.05
A11: 7 | B11: Juan Ignacio Naranjo Chávez | C11: Quebrada Ganado | D11: Perforado | E11: 189542 | F11: 467732 | G11: 49 | I11: - | K11: =N11-I11 -> #VALUE! | L11: =O11-I11 -> #VALUE!
A12: 8 | B12: Carlos Solano | C12: Quebrada Ganado | D12: Perforado | E12: 189959 | F12: 467620 | G12: 47 | I12: - | K12: =N12-I12 -> #VALUE! | L12: =O12-I12 -> #VALUE!
A13: 9 | B13: Plantation Acres | C13: Agujas | D13: Perforado | E13: 188581 | F13: 466891 | G13: 59 | I13: 0 | K13: =N13-I13 -> 0 | L13: =O13-I13 -> 0
A14: 10 | B14: ASADA Quebrada Ganado Cacique | C14: Agujas | D14: Perforado | E14: 189077 | F14: 466777 | G14: 47 | H14: 4 | I14: 0.57 | J14: 23 | K14: =N14-I14 -> 7.31 | L14: =O14-I14 -> -0.57 | N14: 7.88
A15: 11 | B15: Residencial Santiago | C15: Agujas | D15: Perforado | E15: 189533 | F15: 465181 | G15: 27 | H15: 3 | I15: 0.55 | K15: =N15-I15 -> -0.41 | L15: =O15-I15 -> -0.55 | N15: 0.14
A16: 12 | B16: Carlos Luis Monge | C16: Agujas | D16: Perforado | E16: 189923 | F16: 464947 | G16: 22 | I16: - | K16: =N16-I16 -> #VALUE! | L16: =O16-I16 -> #VALUE!
A17: 13 | B17: Samar de Santana | C17: Agujas | D17: Excavado | E17: 189801 | F17: 465079 | G17: 24 | I17: 0.4 | K17: =N17-I17 -> -0.4 | L17: =O17-I17 -> -0.4
A18: 14 | B18: ASADA Quebrada Ganado Castaña Nuevo | C18: Quebrada Ganado | D18: Perforado | E18: 188953 | F18: 468719 | I18: 0.56 | K18: =N18-I18 -> 3.37 | L18: =O18-I18 -> -0.56 | N18: 3.93
A19: 15 | B19: Pozo_ TS-88_Pta_Leona | C19: Punta Leona | D19: Perforado | E19: 188839 | F19: 465987 | I19: 0.32 | K19: =N19-I19 -> 1.47 | L19: =O19-I19 -> -0.32 | N19: 1.79

Sheet Noviembre 2017
A1: Plan de Monitoreo Acuífero Mantas y Agujas
A2: Fecha: 21 de Noviembre del 2017
A4: N˚ | B4: Nombre del POZO | C4: Lugar | D4: Tipo | E4: Latitud | F4: Longitud | G4: Altitud sobre nivel de Mar | H4: Diámetro armado (in) | I4: Brocal (m) | J4: Profundidad de pozo (m) | K4: Nivel estático (m) | L4: Nivel dinámico (m) | N4: Nivel estático (m) + Brocal | O4: Nivel dinámico (m) + Brocal
A5: 1 | B5: Punta Leona # 21 Capilla | C5: Punta Leona | D5: Perforado | E5: 187420 | F5: 464086 | G5: 22 | H5: 8 | I5: 0.38 | K5: =N5-I5 -> -0.38 | L5: =O5-I5 -> 4.42 | O5: 4.8
A6: 2 | B6: Punta Leona # 28 Rotonda | C6: Punta Leona | D6: Perforado | E6: 187337 | F6: 464142 | G6: 24 | H6: 6 | I6: 0.35 | K6: =N6-I6 -> 4.04 | L6: =O6-I6 -> -0.35 | N6: 4.39
A7: 3 | B7: Punta Leona # 8 Barlovento | C7: Punta Leona | D7: Perforado | E7: 187173 | F7: 464343 | G7: 32 | I7: 0 | K7: =N7-I7 -> 0 | L7: =O7-I7 -> 6.76 | O7: 6.76
A8: 4 | B8: Punta Leona # 38 Boulevard | C8: Punta Leona | D8: Perforado | E8: 188544 | F8: 466399 | G8: 36 | H8: 10 | I8: 0.34 | K8: =N8-I8 -> -0.34 | L8: =O8-I8 -> 5.26 | O8: 5.6
A9: 5 | B9: Punta Leona Boulevard 2 | C9: Punta Leona | D9: Perforado | E9: 188556 | F9: 466296 | G9: 35 | H9: 10 | I9: 0.57 | K9: =N9-I9 -> -0.57 | L9: =O9-I9 -> 3.74 | O9: 4.31
A10: 6 | B10: ASADA Quebrada Ganado Castaña | C10: Quebrada Ganado | D10: Perforado | E10: 188977 | F10: 468685 | G10: 66 | H10: 3 | I10: 0.3 | K10: =N10-I10 -> 5.17 | L10: =O10-I10 -> -0.3 | N10: 5.47
A11: 7 | B11: Juan Ignacio Naranjo Chávez | C11: Quebrada Ganado | D11: Perforado | E11: 189542 | F11: 467732 | G11: 49 | I11: - | K11: =N11-I11 -> #VALUE! | L11: =O11-I11 -> #VALUE!
A12: 8 | B12: Carlos Solano | C12: Quebrada Ganado | D12: Perforado | E12: 189959 | F12: 467620 | G12: 47 | I12: - | K12: =N12-I12 -> #VALUE! | L12: =O12-I12 -> #VALUE!
A13: 9 | B13: Plantation Acres | C13: Agujas | D13: Perforado | E13: 188581 | F13: 466891 | G13: 59 | I13: 0 | K13: =N13-I13 -> 0 | L13: =O13-I13 -> 0
A14: 10 | B14: ASADA Quebrada Ganado Cacique | C14: Agujas | D14: Perforado | E14: 189077 | F14: 466777 | G14: 47 | H14: 4 | I14: 0.57 | J14: 23 | K14: =N14-I14 -> -0.57 | L14: =O14-I14 -> 8.59 | O14: 9.16
A15: 11 | B15: Residencial Santiago | C15: Agujas | D15: Perforado | E15: 189533 | F15: 465181 | G15: 27 | H15: 3 | I15: 0.55 | K15: =N15-I15 -> -0.39 | L15: =O15-I15 -> -0.55 | N15: 0.16
A16: 12 | B16: Carlos Luis Monge | C16: Agujas | D16: Perforado | E16: 189923 | F16: 464947 | G16: 22 | I16: - | K16: =N16-I16 -> #VALUE! | L16: =O16-I16 -> #VALUE!
A17: 13 | B17: Samar de Santana | C17: Agujas | D17: Excavado | E17: 189801 | F17: 465079 | G17: 24 | I17: 0.4 | K17: =N17-I17 -> -0.4 | L17: =O17-I17 -> -0.4
A18: 14 | B18: ASADA Quebrada Ganado Castaña Nuevo | C18: Quebrada Ganado | D18: Perforado | E18: 188953 | F18: 468719 | I18: 0.56 | K18: =N18-I18 -> 5.83 | L18: =O18-I18 -> -0.56 | N18: 6.39
A19: 15 | B19: Pozo_ TS-88_Pta_Leona | C19: Punta Leona | D19: Perforado | E19: 188839 | F19: 465987 | I19: 0.32 | K19: =N19-I19 -> 1.4 | L19: =O19-I19 -> -0.32 | N19: 1.72

Sheet Diciembre 2017
A1: Plan de Monitoreo Acuífero Mantas y Agujas
A2: Fecha: 11 de Diciembre del 2017
A4: N˚ | B4: Nombre del POZO | C4: Lugar | D4: Tipo | E4: Latitud | F4: Longitud | G4: Altitud sobre nivel de Mar | H4: Diámetro armado (in) | I4: Brocal (m) | J4: Profundidad de pozo (m) | K4: Nivel estático (m) | L4: Nivel dinámico (m) | N4: Nivel estático (m) + Brocal | O4: Nivel dinámico (m) + Brocal
A5: 1 | B5: Punta Leona # 21 Capilla | C5: Punta Leona | D5: Perforado | E5: 187420 | F5: 464086 | G5: 22 | H5: 8 | I5: 0.38 | K5: =N5-I5 -> -0.38 | L5: =O5-I5 -> 4.57 | O5: 4.95
A6: 2 | B6: Punta Leona # 28 Rotonda | C6: Punta Leona | D6: Perforado | E6: 187337 | F6: 464142 | G6: 24 | H6: 6 | I6: 0.35 | K6: =N6-I6 -> -0.35 | L6: =O6-I6 -> 6.24 | O6: 6.59
A7: 3 | B7: Punta Leona # 8 Barlovento | C7: Punta Leona | D7: Perforado | E7: 187173 | F7: 464343 | G7: 32 | I7: 0 | K7: =N7-I7 -> 0 | L7: =O7-I7 -> 7.4 | O7: 7.4
A8: 4 | B8: Punta Leona # 38 Boulevard | C8: Punta Leona | D8: Perforado | E8: 188544 | F8: 466399 | G8: 36 | H8: 10 | I8: 0.34 | K8: =N8-I8 -> -0.34 | L8: =O8-I8 -> 5.2 | O8: 5.54
A9: 5 | B9: Punta Leona Boulevard 2 | C9: Punta Leona | D9: Perforado | E9: 188556 | F9: 466296 | G9: 35 | H9: 10 | I9: 0.57 | K9: =N9-I9 -> 3.47 | L9: =O9-I9 -> -0.57 | N9: 4.04
A10: 6 | B10: ASADA Quebrada Ganado Castaña | C10: Quebrada Ganado | D10: Perforado | E10: 188977 | F10: 468685 | G10: 66 | H10: 3 | I10: 0.3 | K10: =N10-I10 -> 5.23 | L10: =O10-I10 -> -0.3 | N10: 5.53
A11: 7 | B11: Juan Ignacio Naranjo Chávez | C11: Quebrada Ganado | D11: Perforado | E11: 189542 | F11: 467732 | G11: 49 | I11: - | K11: =N11-I11 -> #VALUE! | L11: =O11-I11 -> #VALUE!
A12: 8 | B12: Carlos Solano | C12: Quebrada Ganado | D12: Perforado | E12: 189959 | F12: 467620 | G12: 47 | I12: - | K12: =N12-I12 -> #VALUE! | L12: =O12-I12 -> #VALUE!
A13: 9 | B13: Plantation Acres | C13: Agujas | D13: Perforado | E13: 188581 | F13: 466891 | G13: 59 | I13: 0 | K13: =N13-I13 -> 0 | L13: =O13-I13 -> 0
A14: 10 | B14: ASADA Quebrada Ganado Cacique | C14: Agujas | D14: Perforado | E14: 189077 | F14: 466777 | G14: 47 | H14: 4 | I14: 0.57 | J14: 23 | K14: =N14-I14 -> -0.57 | L14: =O14-I14 -> 8.32 | O14: 8.89
A15: 11 | B15: Residencial Santiago | C15: Agujas | D15: Perforado | E15: 189533 | F15: 465181 | G15: 27 | H15: 3 | I15: 0.55 | K15: =N15-I15 -> -0.45 | L15: =O15-I15 -> -0.55 | N15: 0.1
A16: 12 | B16: Carlos Luis Monge | C16: Agujas | D16: Perforado | E16: 189923 | F16: 464947 | G16: 22 | I16: - | K16: =N16-I16 -> #VALUE! | L16: =O16-I16 -> #VALUE!
A17: 13 | B17: Samar de Santana | C17: Agujas | D17: Excavado | E17: 189801 | F17: 465079 | G17: 24 | I17: 0.4 | K17: =N17-I17 -> -0.4 | L17: =O17-I17 -> -0.4
A18: 14 | B18: ASADA Quebrada Ganado Castaña Nuevo | C18: Quebrada Ganado | D18: Perforado | E18: 188953 | F18: 468719 | I18: 0.56 | K18: =N18-I18 -> 5.87 | L18: =O18-I18 -> -0.56 | N18: 6.43
A19: 15 | B19: Pozo_ TS-88_Pta_Leona | C19: Punta Leona | D19: Perforado | E19: 188839 | F19: 465987 | I19: 0.32 | K19: =N19-I19 -> 1.39 | L19: =O19-I19 -> -0.32 | N19: 1.71

Sheet Enero 2018
A1: Plan de Monitoreo Acuífero Mantas y Agujas
A2: Fecha: 23 de Enero del 2018
A4: N˚ | B4: Nombre del POZO | C4: Lugar | D4: Tipo | E4: Latitud | F4: Longitud | G4: Altitud sobre nivel de Mar | H4: Diámetro armado (in) | I4: Brocal (m) | J4: Profundidad de pozo (m) | K4: Nivel estático (m) | L4: Nivel dinámico (m) | N4: Nivel estático (m) + Brocal | O4: Nivel dinámico (m) + Brocal
A5: 1 | B5: Punta Leona # 21 Capilla | C5: Punta Leona | D5: Perforado | E5: 187420 | F5: 464086 | G5: 22 | H5: 8 | I5: 0.38 | K5: =N5-I5 -> -0.38 | L5: =O5-I5 -> 4.2 | O5: 4.58
A6: 2 | B6: Punta Leona # 28 Rotonda | C6: Punta Leona | D6: Perforado | E6: 187337 | F6: 464142 | G6: 24 | H6: 6 | I6: 0.35 | K6: =N6-I6 -> -0.35 | L6: =O6-I6 -> 5.95 | O6: 6.3
A7: 3 | B7: Punta Leona # 8 Barlovento | C7: Punta Leona | D7: Perforado | E7: 187173 | F7: 464343 | G7: 32 | I7: 0 | K7: =N7-I7 -> 0 | L7: =O7-I7 -> 5.92 | O7: 5.92
A8: 4 | B8: Punta Leona # 38 Boulevard | C8: Punta Leona | D8: Perforado | E8: 188544 | F8: 466399 | G8: 36 | H8: 10 | I8: 0.34 | K8: =N8-I8 -> -0.34 | L8: =O8-I8 -> 4.85 | O8: 5.19
A9: 5 | B9: Punta Leona Boulevard 2 | C9: Punta Leona | D9: Perforado | E9: 188556 | F9: 466296 | G9: 35 | H9: 10 | I9: 0.57 | K9: =N9-I9 -> -0.57 | L9: =O9-I9 -> 4.23 | O9: 4.8
A10: 6 | B10: ASADA Quebrada Ganado Castaña | C10: Quebrada Ganado | D10: Perforado | E10: 188977 | F10: 468685 | G10: 66 | H10: 3 | I10: 0.3 | K10: =N10-I10 -> 5.3 | L10: =O10-I10 -> -0.3 | N10: 5.6
A11: 7 | B11: Juan Ignacio Naranjo Chávez | C11: Quebrada Ganado | D11: Perforado | E11: 189542 | F11: 467732 | G11: 49 | I11: - | K11: =N11-I11 -> #VALUE! | L11: =O11-I11 -> #VALUE!
A12: 8 | B12: Carlos Solano | C12: Quebrada Ganado | D12: Perforado | E12: 189959 | F12: 467620 | G12: 47 | I12: - | K12: =N12-I12 -> #VALUE! | L12: =O12-I12 -> #VALUE!
A13: 9 | B13: Plantation Acres | C13: Agujas | D13: Perforado | E13: 188581 | F13: 466891 | G13: 59 | I13: 0 | K13: =N13-I13 -> 0 | L13: =O13-I13 -> 0
A14: 10 | B14: ASADA Quebrada Ganado Cacique | C14: Agujas | D14: Perforado | E14: 189077 | F14: 466777 | G14: 47 | H14: 4 | I14: 0.57 | J14: 23 | K14: =N14-I14 -> -0.57 | L14: =O14-I14 -> 9.59 | O14: 10.16
A15: 11 | B15: Residencial Santiago | C15: Agujas | D15: Perforado | E15: 189533 | F15: 465181 | G15: 27 | H15: 3 | I15: 0.55 | K15: =N15-I15 -> -0.55 | L15: =O15-I15 -> -0.14 | O15: 0.41
A16: 12 | B16: Carlos Luis Monge | C16: Agujas | D16: Perforado | E16: 189923 | F16: 464947 | G16: 22 | I16: - | K16: =N16-I16 -> #VALUE! | L16: =O16-I16 -> #VALUE!
A17: 13 | B17: Samar de Santana | C17: Agujas | D17: Excavado | E17: 189801 | F17: 465079 | G17: 24 | I17: 0.4 | K17: =N17-I17 -> -0.4 | L17: =O17-I17 -> -0.4
A18: 14 | B18: ASADA Quebrada Ganado Castaña Nuevo | C18: Quebrada Ganado | D18: Perforado | E18: 188953 | F18: 468719 | I18: 0.56 | K18: =N18-I18 -> 5.94 | L18: =O18-I18 -> -0.56 | N18: 6.5
A19: 15 | B19: Pozo_ TS-88_Pta_Leona | C19: Punta Leona | D19: Perforado | E19: 188839 | F19: 465987 | I19: 0.32 | K19: =N19-I19 -> 0.61 | L19: =O19-I19 -> -0.32 | N19: 0.93

Sheet Febrero 2018
A1: Plan de Monitoreo Acuífero Mantas y Agujas
A2: Fecha: 20 de Febrero del 2018
A4: N˚ | B4: Nombre del POZO | C4: Lugar | D4: Tipo | E4: Latitud | F4: Longitud | G4: Altitud sobre nivel de Mar | H4: Diámetro armado (in) | I4: Brocal (m) | J4: Profundidad de pozo (m) | K4: Nivel estático (m) | L4: Nivel dinámico (m) | N4: Nivel estático (m) + Brocal | O4: Nivel dinámico (m) + Brocal
A5: 1 | B5: Punta Leona # 21 Capilla | C5: Punta Leona | D5: Perforado | E5: 187420 | F5: 464086 | G5: 22 | H5: 8 | I5: 0.38 | K5: =N5-I5 -> -0.38 | L5: =O5-I5 -> 6.29 | O5: 6.67
A6: 2 | B6: Punta Leona # 28 Rotonda | C6: Punta Leona | D6: Perforado | E6: 187337 | F6: 464142 | G6: 24 | H6: 6 | I6: 0.35 | K6: =N6-I6 -> -0.35 | L6: =O6-I6 -> 7.62 | O6: 7.97
A7: 3 | B7: Punta Leona # 8 Barlovento | C7: Punta Leona | D7: Perforado | E7: 187173 | F7: 464343 | G7: 32 | I7: 0 | K7: =N7-I7 -> 0 | L7: =O7-I7 -> 10.96 | O7: 10.96
A8: 4 | B8: Punta Leona # 38 Boulevard | C8: Punta Leona | D8: Perforado | E8: 188544 | F8: 466399 | G8: 36 | H8: 10 | I8: 0.34 | K8: =N8-I8 -> -0.34 | L8: =O8-I8 -> 6.1 | O8: 6.44
A9: 5 | B9: Punta Leona Boulevard 2 | C9: Punta Leona | D9: Perforado | E9: 188556 | F9: 466296 | G9: 35 | H9: 10 | I9: 0.57 | K9: =N9-I9 -> -0.57 | L9: =O9-I9 -> 4.53 | O9: 5.1
A10: 6 | B10: ASADA Quebrada Ganado Castaña | C10: Quebrada Ganado | D10: Perforado | E10: 188977 | F10: 468685 | G10: 66 | H10: 3 | I10: 0.3 | K10: =N10-I10 -> 5.35 | L10: =O10-I10 -> -0.3 | N10: 5.65
A11: 7 | B11: Juan Ignacio Naranjo Chávez | C11: Quebrada Ganado | D11: Perforado | E11: 189542 | F11: 467732 | G11: 49 | I11: - | K11: =N11-I11 -> #VALUE! | L11: =O11-I11 -> #VALUE!
A12: 8 | B12: Carlos Solano | C12: Quebrada Ganado | D12: Perforado | E12: 189959 | F12: 467620 | G12: 47 | I12: - | K12: =N12-I12 -> #VALUE! | L12: =O12-I12 -> #VALUE!
A13: 9 | B13: Plantation Acres | C13: Agujas | D13: Perforado | E13: 188581 | F13: 466891 | G13: 59 | I13: 0 | K13: =N13-I13 -> 0 | L13: =O13-I13 -> 0
A14: 10 | B14: ASADA Quebrada Ganado Cacique | C14: Agujas | D14: Perforado | E14: 189077 | F14: 466777 | G14: 47 | H14: 4 | I14: 0.57 | J14: 23 | K14: =N14-I14 -> -0.57 | L14: =O14-I14 -> 9.97 | O14: 10.54
A15: 11 | B15: Residencial Santiago | C15: Agujas | D15: Perforado | E15: 189533 | F15: 465181 | G15: 27 | H15: 3 | I15: 0.55 | K15: =N15-I15 -> -0.22 | L15: =O15-I15 -> -0.55 | N15: 0.33
A16: 12 | B16: Carlos Luis Monge | C16: Agujas | D16: Perforado | E16: 189923 | F16: 464947 | G16: 22 | I16: - | K16: =N16-I16 -> #VALUE! | L16: =O16-I16 -> #VALUE!
A17: 13 | B17: Samar de Santana | C17: Agujas | D17: Excavado | E17: 189801 | F17: 465079 | G17: 24 | I17: 0.4 | K17: =N17-I17 -> -0.4 | L17: =O17-I17 -> -0.4
A18: 14 | B18: ASADA Quebrada Ganado Castaña Nuevo | C18: Quebrada Ganado | D18: Perforado | E18: 188953 | F18: 468719 | I18: 0.56 | K18: =N18-I18 -> -0.56 | L18: =O18-I18 -> 8.04 | O18: 8.6
A19: 15 | B19: Pozo_ TS-88_Pta_Leona | C19: Punta Leona | D19: Perforado | E19: 188839 | F19: 465987 | I19: 0.32 | K19: =N19-I19 -> 1.79 | L19: =O19-I19 -> -0.32 | N19: 2.11

Sheet Marzo 2018
A1: Plan de Monitoreo Acuífero Mantas y Agujas
A2: Fecha: 20 de Marzo del 2018
A4: N˚ | B4: Nombre del POZO | C4: Lugar | D4: Tipo | E4: Latitud | F4: Longitud | G4: Altitud sobre nivel de Mar | H4: Diámetro armado (in) | I4: Brocal (m) | J4: Profundidad de pozo (m) | K4: Nivel estático (m) | L4: Nivel dinámico (m) | N4: Nivel estático (m) + Brocal | O4: Nivel dinámico (m) + Brocal
A5: 1 | B5: Punta Leona # 21 Capilla | C5: Punta Leona | D5: Perforado | E5: 187420 | F5: 464086 | G5: 22 | H5: 8 | I5: 0.38 | K5: =N5-I5 -> 5.41 | L5: =O5-I5 -> -0.38 | N5: 5.79
A6: 2 | B6: Punta Leona # 28 Rotonda | C6: Punta Leona | D6: Perforado | E6: 187337 | F6: 464142 | G6: 24 | H6: 6 | I6: 0.35 | K6: =N6-I6 -> 7.32 | L6: =O6-I6 -> -0.35 | N6: 7.67
A7: 3 | B7: Punta Leona # 8 Barlovento | C7: Punta Leona | D7: Perforado | E7: 187173 | F7: 464343 | G7: 32 | I7: 0 | K7: =N7-I7 -> 0 | L7: =O7-I7 -> 13.28 | O7: 13.28
A8: 4 | B8: Punta Leona # 38 Boulevard | C8: Punta Leona | D8: Perforado | E8: 188544 | F8: 466399 | G8: 36 | H8: 10 | I8: 0.34 | K8: =N8-I8 -> -0.34 | L8: =O8-I8 -> 6.84 | O8: 7.18
A9: 5 | B9: Punta Leona Boulevard 2 | C9: Punta Leona | D9: Perforado | E9: 188556 | F9: 466296 | G9: 35 | H9: 10 | I9: 0.57 | K9: =N9-I9 -> -0.57 | L9: =O9-I9 -> 5.3 | O9: 5.87
A10: 6 | B10: ASADA Quebrada Ganado Castaña | C10: Quebrada Ganado | D10: Perforado | E10: 188977 | F10: 468685 | G10: 66 | H10: 3 | I10: 0.3 | K10: =N10-I10 -> 5.65 | L10: =O10-I10 -> -0.3 | N10: 5.95
A11: 7 | B11: Juan Ignacio Naranjo Chávez | C11: Quebrada Ganado | D11: Perforado | E11: 189542 | F11: 467732 | G11: 49 | I11: - | K11: =N11-I11 -> #VALUE! | L11: =O11-I11 -> #VALUE!
A12: 8 | B12: Carlos Solano | C12: Quebrada Ganado | D12: Perforado | E12: 189959 | F12: 467620 | G12: 47 | I12: - | K12: =N12-I12 -> #VALUE! | L12: =O12-I12 -> #VALUE!
A13: 9 | B13: Plantation Acres | C13: Agujas | D13: Perforado | E13: 188581 | F13: 466891 | G13: 59 | I13: 0 | K13: =N13-I13 -> 0 | L13: =O13-I13 -> 0
A14: 10 | B14: ASADA Quebrada Ganado Cacique | C14: Agujas | D14: Perforado | E14: 189077 | F14: 466777 | G14: 47 | H14: 4 | I14: 0.57 | J14: 23 | K14: =N14-I14 -> -0.57 | L14: =O14-I14 -> 10.88 | O14: 11.45
A15: 11 | B15: Residencial Santiago | C15: Agujas | D15: Perforado | E15: 189533 | F15: 465181 | G15: 27 | H15: 3 | I15: 0.55 | K15: =N15-I15 -> -0.2 | L15: =O15-I15 -> -0.55 | N15: 0.35
A16: 12 | B16: Carlos Luis Monge | C16: Agujas | D16: Perforado | E16: 189923 | F16: 464947 | G16: 22 | I16: - | K16: =N16-I16 -> #VALUE! | L16: =O16-I16 -> #VALUE!
A17: 13 | B17: Samar de Santana | C17: Agujas | D17: Excavado | E17: 189801 | F17: 465079 | G17: 24 | I17: 0.4 | K17: =N17-I17 -> -0.4 | L17: =O17-I17 -> -0.4
A18: 14 | B18: ASADA Quebrada Ganado Castaña Nuevo | C18: Quebrada Ganado | D18: Perforado | E18: 188953 | F18: 468719 | I18: 0.56 | K18: =N18-I18 -> -0.56 | L18: =O18-I18 -> 8.7 | O18: 9.26
A19: 15 | B19: Pozo_ TS-88_Pta_Leona | C19: Punta Leona | D19: Perforado | E19: 188839 | F19: 465987 | I19: 0.32 | K19: =N19-I19 -> 2.2 | L19: =O19-I19 -> -0.32 | N19: 2.52

Sheet Abril 2018
A1: Plan de Monitoreo Acuífero Mantas y Agujas
A2: Fecha: 24 de Abril del 2018
A4: N˚ | B4: Nombre del POZO | C4: Lugar | D4: Tipo | E4: Latitud | F4: Longitud | G4: Altitud sobre nivel de Mar | H4: Diámetro armado (in) | I4: Brocal (m) | J4: Profundidad de pozo (m) | K4: Nivel estático (m) | L4: Nivel dinámico (m) | N4: Nivel estático (m) + Brocal | O4: Nivel dinámico (m) + Brocal
A5: 1 | B5: Punta Leona # 21 Capilla | C5: Punta Leona | D5: Perforado | E5: 187420 | F5: 464086 | G5: 22 | H5: 8 | I5: 0.38 | K5: =N5-I5 -> -0.38 | L5: =O5-I5 -> 5.92 | O5: 6.3
A6: 2 | B6: Punta Leona # 28 Rotonda | C6: Punta Leona | D6: Perforado | E6: 187337 | F6: 464142 | G6: 24 | H6: 6 | I6: 0.35 | K6: =N6-I6 -> 9.32 | L6: =O6-I6 -> -0.35 | N6: 9.67
A7: 3 | B7: Punta Leona # 8 Barlovento | C7: Punta Leona | D7: Perforado | E7: 187173 | F7: 464343 | G7: 32 | I7: 0 | K7: =N7-I7 -> 0 | L7: =O7-I7 -> 14.69 | O7: 14.69
A8: 4 | B8: Punta Leona # 38 Boulevard | C8: Punta Leona | D8: Perforado | E8: 188544 | F8: 466399 | G8: 36 | H8: 10 | I8: 0.34 | K8: =N8-I8 -> -0.34 | L8: =O8-I8 -> 7.82 | O8: 8.16
A9: 5 | B9: Punta Leona Boulevard 2 | C9: Punta Leona | D9: Perforado | E9: 188556 | F9: 466296 | G9: 35 | H9: 10 | I9: 0.57 | K9: =N9-I9 -> -0.57 | L9: =O9-I9 -> 5.94 | O9: 6.51
A10: 6 | B10: ASADA Quebrada Ganado Castaña | C10: Quebrada Ganado | D10: Perforado | E10: 188977 | F10: 468685 | G10: 66 | H10: 3 | I10: 0.3 | K10: =N10-I10 -> 5.89 | L10: =O10-I10 -> -0.3 | N10: 6.19
A11: 7 | B11: Juan Ignacio Naranjo Chávez | C11: Quebrada Ganado | D11: Perforado | E11: 189542 | F11: 467732 | G11: 49 | I11: - | K11: =N11-I11 -> #VALUE! | L11: =O11-I11 -> #VALUE!
A12: 8 | B12: Carlos Solano | C12: Quebrada Ganado | D12: Perforado | E12: 189959 | F12: 467620 | G12: 47 | I12: - | K12: =N12-I12 -> #VALUE! | L12: =O12-I12 -> #VALUE!
A13: 9 | B13: Plantation Acres | C13: Agujas | D13: Perforado | E13: 188581 | F13: 466891 | G13: 59 | I13: 0 | K13: =N13-I13 -> 0 | L13: =O13-I13 -> 0
A14: 10 | B14: ASADA Quebrada Ganado Cacique | C14: Agujas | D14: Perforado | E14: 189077 | F14: 466777 | G14: 47 | H14: 4 | I14: 0.57 | J14: 23 | K14: =N14-I14 -> 11.34 | L14: =O14-I14 -> -0.57 | N14: 11.91
A15: 11 | B15: Residencial Santiago | C15: Agujas | D15: Perforado | E15: 189533 | F15: 465181 | G15: 27 | H15: 3 | I15: 0.55 | K15: =N15-I15 -> -0.55 | L15: =O15-I15 -> 0.67 | O15: 1.22
A16: 12 | B16: Carlos Luis Monge | C16: Agujas | D16: Perforado | E16: 189923 | F16: 464947 | G16: 22 | I16: - | K16: =N16-I16 -> #VALUE! | L16: =O16-I16 -> #VALUE!
A17: 13 | B17: Samar de Santana | C17: Agujas | D17: Excavado | E17: 189801 | F17: 465079 | G17: 24 | I17: 0.4 | K17: =N17-I17 -> -0.4 | L17: =O17-I17 -> -0.4
A18: 14 | B18: ASADA Quebrada Ganado Castaña Nuevo | C18: Quebrada Ganado | D18: Perforado | E18: 188953 | F18: 468719 | I18: 0.56 | K18: =N18-I18 -> -0.56 | L18: =O18-I18 -> 8.97 | O18: 9.53
A19: 15 | B19: Pozo_ TS-88_Pta_Leona | C19: Punta Leona | D19: Perforado | E19: 188839 | F19: 465987 | I19: 0.32 | K19: =N19-I19 -> 2.65 | L19: =O19-I19 -> -0.32 | N19: 2.97

Sheet Mayo 2018
A1: Plan de Monitoreo Acuífero Mantas y Agujas
A2: Fecha: 22 de Mayo del 2018
A4: N˚ | B4: Nombre del POZO | C4: Lugar | D4: Tipo | E4: Latitud | F4: Longitud | G4: Altitud sobre nivel de Mar | H4: Diámetro armado (in) | I4: Brocal (m) | J4: Profundidad de pozo (m) | K4: Nivel estático (m) | L4: Nivel dinámico (m) | N4: Nivel estático (m) + Brocal | O4: Nivel dinámico (m) + Brocal
A5: 1 | B5: Punta Leona # 21 Capilla | C5: Punta Leona | D5: Perforado | E5: 187420 | F5: 464086 | G5: 22 | H5: 8 | I5: 0.38 | K5: =N5-I5 -> -0.38 | L5: =O5-I5 -> 8.29 | O5: 8.67
A6: 2 | B6: Punta Leona # 28 Rotonda | C6: Punta Leona | D6: Perforado | E6: 187337 | F6: 464142 | G6: 24 | H6: 6 | I6: 0.35 | K6: =N6-I6 -> 9.33 | L6: =O6-I6 -> -0.35 | N6: 9.68
A7: 3 | B7: Punta Leona # 8 Barlovento | C7: Punta Leona | D7: Perforado | E7: 187173 | F7: 464343 | G7: 32 | I7: 0 | K7: =N7-I7 -> 0 | L7: =O7-I7 -> 14.63 | O7: 14.63
A8: 4 | B8: Punta Leona # 38 Boulevard | C8: Punta Leona | D8: Perforado | E8: 188544 | F8: 466399 | G8: 36 | H8: 10 | I8: 0.34 | K8: =N8-I8 -> -0.34 | L8: =O8-I8 -> 8.61 | O8: 8.95
A9: 5 | B9: Punta Leona Boulevard 2 | C9: Punta Leona | D9: Perforado | E9: 188556 | F9: 466296 | G9: 35 | H9: 10 | I9: 0.57 | K9: =N9-I9 -> -0.57 | L9: =O9-I9 -> 6.53 | O9: 7.1
A10: 6 | B10: ASADA Quebrada Ganado Castaña | C10: Quebrada Ganado | D10: Perforado | E10: 188977 | F10: 468685 | G10: 66 | H10: 3 | I10: 0.3 | K10: =N10-I10 -> 5.97 | L10: =O10-I10 -> -0.3 | N10: 6.27
A11: 7 | B11: Juan Ignacio Naranjo Chávez | C11: Quebrada Ganado | D11: Perforado | E11: 189542 | F11: 467732 | G11: 49 | I11: - | K11: =N11-I11 -> #VALUE! | L11: =O11-I11 -> #VALUE!
A12: 8 | B12: Carlos Solano | C12: Quebrada Ganado | D12: Perforado | E12: 189959 | F12: 467620 | G12: 47 | I12: - | K12: =N12-I12 -> #VALUE! | L12: =O12-I12 -> #VALUE!
A13: 9 | B13: Plantation Acres | C13: Agujas | D13: Perforado | E13: 188581 | F13: 466891 | G13: 59 | I13: 0 | K13: =N13-I13 -> 0 | L13: =O13-I13 -> 0
A14: 10 | B14: ASADA Quebrada Ganado Cacique | C14: Agujas | D14: Perforado | E14: 189077 | F14: 466777 | G14: 47 | H14: 4 | I14: 0.57 | J14: 23 | K14: =N14-I14 -> 12.15 | L14: =O14-I14 -> -0.57 | N14: 12.72
A15: 11 | B15: Residencial Santiago | C15: Agujas | D15: Perforado | E15: 189533 | F15: 465181 | G15: 27 | H15: 3 | I15: 0.55 | K15: =N15-I15 -> -0.1 | L15: =O15-I15 -> -0.55 | N15: 0.45
A16: 12 | B16: Carlos Luis Monge | C16: Agujas | D16: Perforado | E16: 189923 | F16: 464947 | G16: 22 | I16: - | K16: =N16-I16 -> #VALUE! | L16: =O16-I16 -> #VALUE!
A17: 13 | B17: Samar de Santana | C17: Agujas | D17: Excavado | E17: 189801 | F17: 465079 | G17: 24 | I17: 0.4 | K17: =N17-I17 -> -0.4 | L17: =O17-I17 -> -0.4
A18: 14 | B18: ASADA Quebrada Ganado Castaña Nuevo | C18: Quebrada Ganado | D18: Perforado | E18: 188953 | F18: 468719 | I18: 0.56 | K18: =N18-I18 -> -0.56 | L18: =O18-I18 -> 9.65 | O18: 10.21
A19: 15 | B19: Pozo_ TS-88_Pta_Leona | C19: Punta Leona | D19: Perforado | E19: 188839 | F19: 465987 | I19: 0.32 | K19: =N19-I19 -> 3.06 | L19: =O19-I19 -> -0.32 | N19: 3.38

Sheet Junio 2018
A1: Plan de Monitoreo Acuífero Mantas y Agujas
A2: Fecha: 22 de Mayo del 2018
A4: N˚ | B4: Nombre del POZO | C4: Lugar | D4: Tipo | E4: Latitud | F4: Longitud | G4: Altitud sobre nivel de Mar | H4: Diámetro armado (in) | I4: Brocal (m) | J4: Profundidad de pozo (m) | K4: Nivel estático (m) | L4: Nivel dinámico (m) | N4: Nivel estático (m) + Brocal | O4: Nivel dinámico (m) + Brocal
A5: 1 | B5: Punta Leona # 21 Capilla | C5: Punta Leona | D5: Perforado | E5: 187420 | F5: 464086 | G5: 22 | H5: 8 | I5: 0.38 | K5: =N5-I5 -> -0.38 | L5: =O5-I5 -> 7.4 | O5: 7.78
A6: 2 | B6: Punta Leona # 28 Rotonda | C6: Punta Leona | D6: Perforado | E6: 187337 | F6: 464142 | G6: 24 | H6: 6 | I6: 0.35 | K6: =N6-I6 -> -0.35 | L6: =O6-I6 -> 7.97 | O6: 8.32
A7: 3 | B7: Punta Leona # 8 Barlovento | C7: Punta Leona | D7: Perforado | E7: 187173 | F7: 464343 | G7: 32 | I7: 0 | K7: =N7-I7 -> 0 | L7: =O7-I7 -> 12.77 | O7: 12.77
A8: 4 | B8: Punta Leona # 38 Boulevard | C8: Punta Leona | D8: Perforado | E8: 188544 | F8: 466399 | G8: 36 | H8: 10 | I8: 0.34 | K8: =N8-I8 -> -0.34 | L8: =O8-I8 -> 8.18 | O8: 8.52
A9: 5 | B9: Punta Leona Boulevard 2 | C9: Punta Leona | D9: Perforado | E9: 188556 | F9: 466296 | G9: 35 | H9: 10 | I9: 0.57 | K9: =N9-I9 -> -0.57 | L9: =O9-I9 -> 5.99 | O9: 6.56
A10: 6 | B10: ASADA Quebrada Ganado Castaña | C10: Quebrada Ganado | D10: Perforado | E10: 188977 | F10: 468685 | G10: 66 | H10: 3 | I10: 0.3 | K10: =N10-I10 -> 6.75 | L10: =O10-I10 -> -0.3 | N10: 7.05
A11: 7 | B11: Juan Ignacio Naranjo Chávez | C11: Quebrada Ganado | D11: Perforado | E11: 189542 | F11: 467732 | G11: 49 | I11: - | K11: =N11-I11 -> #VALUE! | L11: =O11-I11 -> #VALUE!
A12: 8 | B12: Carlos Solano | C12: Quebrada Ganado | D12: Perforado | E12: 189959 | F12: 467620 | G12: 47 | I12: - | K12: =N12-I12 -> #VALUE! | L12: =O12-I12 -> #VALUE!
A13: 9 | B13: Plantation Acres | C13: Agujas | D13: Perforado | E13: 188581 | F13: 466891 | G13: 59 | I13: 0 | K13: =N13-I13 -> 0 | L13: =O13-I13 -> 0
A14: 10 | B14: ASADA Quebrada Ganado Cacique | C14: Agujas | D14: Perforado | E14: 189077 | F14: 466777 | G14: 47 | H14: 4 | I14: 0.57 | J14: 23 | K14: =N14-I14 -> 11.58 | L14: =O14-I14 -> -0.57 | N14: 12.15
A15: 11 | B15: Residencial Santiago | C15: Agujas | D15: Perforado | E15: 189533 | F15: 465181 | G15: 27 | H15: 3 | I15: 0.55 | K15: =N15-I15 -> -0.1 | L15: =O15-I15 -> -0.55 | N15: 0.45
A16: 12 | B16: Carlos Luis Monge | C16: Agujas | D16: Perforado | E16: 189923 | F16: 464947 | G16: 22 | I16: - | K16: =N16-I16 -> #VALUE! | L16: =O16-I16 -> #VALUE!
A17: 13 | B17: Samar de Santana | C17: Agujas | D17: Excavado | E17: 189801 | F17: 465079 | G17: 24 | I17: 0.4 | K17: =N17-I17 -> -0.4 | L17: =O17-I17 -> -0.4
A18: 14 | B18: ASADA Quebrada Ganado Castaña Nuevo | C18: Quebrada Ganado | D18: Perforado | E18: 188953 | F18: 468719 | I18: 0.56 | K18: =N18-I18 -> 5.7 | L18: =O18-I18 -> -0.56 | N18: 6.26
A19: 15 | B19: Pozo_ TS-88_Pta_Leona | C19: Punta Leona | D19: Perforado | E19: 188839 | F19: 465987 | I19: 0.32 | K19: =N19-I19 -> 2.59 | L19: =O19-I19 -> -0.32 | N19: 2.91

Sheet Julio 2018
A1: Plan de Monitoreo Acuífero Mantas y Agujas
A2: Fecha: 17 de Julio del 2018
A4: N˚ | B4: Nombre del POZO | C4: Lugar | D4: Tipo | E4: Latitud | F4: Longitud | G4: Altitud sobre nivel de Mar | H4: Diámetro armado (in) | I4: Brocal (m) | J4: Profundidad de pozo (m) | K4: Nivel estático (m) | L4: Nivel dinámico (m) | N4: Nivel estático (m) + Brocal | O4: Nivel dinámico (m) + Brocal
A5: 1 | B5: Punta Leona # 21 Capilla | C5: Punta Leona | D5: Perforado | E5: 187420 | F5: 464086 | G5: 22 | H5: 8 | I5: 0.38 | K5: =N5-I5 -> -0.38 | L5: =O5-I5 -> 6.45 | O5: 6.83
A6: 2 | B6: Punta Leona # 28 Rotonda | C6: Punta Leona | D6: Perforado | E6: 187337 | F6: 464142 | G6: 24 | H6: 6 | I6: 0.35 | K6: =N6-I6 -> -0.35 | L6: =O6-I6 -> 7.71 | O6: 8.06
A7: 3 | B7: Punta Leona # 8 Barlovento | C7: Punta Leona | D7: Perforado | E7: 187173 | F7: 464343 | G7: 32 | I7: 0 | K7: =N7-H7 -> 0 | L7: =O7-I7 -> 10.93 | O7: 10.93
A8: 4 | B8: Punta Leona # 38 Boulevard | C8: Punta Leona | D8: Perforado | E8: 188544 | F8: 466399 | G8: 36 | H8: 10 | I8: 0.34 | K8: sonda no pasa | N8: sonda no pasa
A9: 5 | B9: Punta Leona Boulevard 2 | C9: Punta Leona | D9: Perforado | E9: 188556 | F9: 466296 | G9: 35 | H9: 10 | I9: 0.57 | K9: =N9-I9 -> -0.57 | L9: =O9-I9 -> 5.11 | O9: 5.68
A10: 6 | B10: ASADA Quebrada Ganado Castaña | C10: Quebrada Ganado | D10: Perforado | E10: 188977 | F10: 468685 | G10: 66 | H10: 3 | I10: 0.3 | K10: asada no disponible
A11: 7 | B11: Juan Ignacio Naranjo Chávez | C11: Quebrada Ganado | D11: Perforado | E11: 189542 | F11: 467732 | G11: 49 | I11: - | K11: =N11-I11 -> #VALUE! | L11: =O11-I11 -> #VALUE!
A12: 8 | B12: Carlos Solano | C12: Quebrada Ganado | D12: Perforado | E12: 189959 | F12: 467620 | G12: 47 | I12: - | K12: =N12-I12 -> #VALUE! | L12: =O12-I12 -> #VALUE!
