Workbook

Sheet Octubre 2015
A1: Monitoreo Cuenca Quirimán
A3: Nº | B3: Nombre de Pozo | C3: Lon | D3: Lat | E3: Br (m) | I3: N.E. | J3: N.D. | K3: Fecha | M3: N.E. | N3: N.D.
A4: 1 | B4: Pozo 1 Asada Quirimán | C4: 371747 | D4: 233146 | E4: 0.2 | J4: =N4-E4 -> 19.7 | K4: 42345 | N4: 19.9
A5: 2 | B5: Oscar García | C5: 371019 | D5: 232783 | E5: 0.78 | I5: =M5-E5 -> 13.48 | K5: 42345 | M5: 14.26
A7: 3 | B7: Vianey Guevara | C7: 370602 | D7: 232450 | E7: 0.5 | I7: =M7-E7 -> 19.82 | K7: 42346 | M7: 20.32
A8: 4 | B8: Pozo Asada La Y Griega | C8: 370992 | D8: 234494 | E8: 0.17 | J8: =N8-E8 -> 28.53 | K8: 42345 | N8: 28.7

Sheet Diciembre 2015
A1: Monitoreo Cuenca Quirimán
A3: Nº | B3: Nombre de Pozo | C3: Lon | D3: Lat | E3: Br (m) | I3: N.E. | J3: N.D. | K3: Fecha | M3: N.E. | N3: N.D.
A4: 1 | B4: Pozo 1 Asada Quirimán | C4: 371747 | D4: 233146 | E4: 0.2 | I4: - | J4: =N4-E4 -> 13.93 | K4: 42345 | M4: - | N4: 14.13
A5: 2 | B5: Oscar García | C5: 371019 | D5: 232783 | E5: 0.78 | I5: =M5-E5 -> 11.45 | J5: - | K5: 42345 | M5: 12.23 | N5: -
A7: 3 | B7: Vianey Guevara | C7: 370602 | D7: 232450 | E7: 0.5 | I7: =M7-E7 -> 19.7 | J7: - | K7: 42346 | M7: 20.2 | N7: -
A8: 4 | B8: Pozo Asada La Y Griega | C8: 370992 | D8: 234494 | E8: 0.17 | I8: =M8-E8 -> 22.04 | J8: - | K8: 42345 | M8: 22.21 | N8: -

Sheet Enero 2016
A1: Monitoreo Cuenca Quirimán
A3: N. | B3: Pozo | C3: Tipo | D3: Este | E3: Norte | F3: m.s.n.m. | G3: Brocal | H3: Profundidad (m) | I3: Nivel E (m) | J3: Nivel D (m) | K3: Fecha | M3: Nivel E (m) | N3: Nivel D (m)
A4: 1 | B4: #1 Asada Quiriman | C4: P | D4: 371747 | E4: 233146 | F4: 223 | G4: 0.2 | I4: =M4-G4 -> 12.78 | K4: 42394 | M4: 12.98
A5: 2 | B5: #2 Asada Quiriman | C5: P | D5: 371188 | E5: 232816 | F5: 221 | G5: 0.48 | I5: =M5-G5 -> 2.85 | K5: 42394 | M5: 3.33
A6: 3 | B6: Frente escuela Quiriman | C6: E | D6: 371019 | E6: 232783 | F6: 206 | G6: 0.78 | I6: =M6-G6 -> 11.55 | K6: 42394 | M6: 12.33
A7: 4 | B7: Vianey Guevara | C7: E | D7: 370602 | E7: 232450 | F7: 214 | G7: 0.5 | I7: =M7-G7 -> 20.28 | K7: 42394 | M7: 20.78
A8: 5 | B8: Asada La Y Griega | C8: P | D8: 370992 | E8: 234494 | F8: 237 | G8: 0.17 | H8: 38 | I8: =M8-G8 -> 21.58 | K8: 42394 | M8: 21.75

Sheet Febrero 2016
A1: Monitoreo Cuenca Quirimán
A3: N. | B3: Pozo | C3: Tipo | D3: Este | E3: Norte | F3: m.s.n.m. | G3: Brocal | H3: Profundidad (m) | I3: Nivel E (m) | J3: Nivel D (m) | K3: Fecha | M3: Nivel E (m) | N3: Nivel D (m)
A4: 1 | B4: #1 Asada Quiriman | C4: P | D4: 371747 | E4: 233146 | F4: 223 | G4: 0.2 | I4: =M4-G4 -> 3.43 | K4: 42394 | M4: 3.63
A5: 2 | B5: #2 Asada Quiriman | C5: P | D5: 371188 | E5: 232816 | F5: 221 | G5: 0.48 | I5: - | K5: 42394 | M5: -
A6: 3 | B6: Frente escuela Quiriman | C6: E | D6: 371019 | E6: 232783 | F6: 206 | G6: 0.78 | I6: =M6-G6 -> 12.12 | K6: 42394 | M6: 12.9
A7: 4 | B7: Vianey Guevara | C7: E | D7: 370602 | E7: 232450 | F7: 214 | G7: 0.5 | I7: =M7-G7 -> 19.88 | K7: 42394 | M7: 20.38
A8: 5 | B8: Asada La Y Griega | C8: P | D8: 370992 | E8: 234494 | F8: 237 | G8: 0.17 | H8: 38 | I8: =M8-G8 -> 22.76 | K8: 42394 | M8: 22.93
A9: 6 | B9: Casa Abandonada | C9: E | G9: 0.4 | I9: =M9-G9 -> 4.91 | K9: 42459 | M9: 5.31

Sheet Marzo 2016
A1: Monitoreo Cuenca Quirimán
A3: N. | B3: Pozo | C3: Tipo | D3: Este | E3: Norte | F3: m.s.n.m. | G3: Brocal | H3: Profundidad (m) | I3: Nivel E (m) | J3: Nivel D (m) | K3: Fecha | M3: Nivel E (m) | N3: Nivel D (m)
A5: 1 | B5: #1 Asada Quiriman | C5: P | D5: 371747 | E5: 233146 | F5: 223 | G5: 0.2 | H5: 30 | I5: =M5-G5 -> 14.44 | K5: 42459 | M5: 14.64
A6: 2 | B6: #2 Asada Quiriman | C6: P | D6: 371188 | E6: 232816 | F6: 221 | G6: 0.48 | I6: =M6-G6 -> 3.97 | K6: 42459 | M6: 4.45
A7: 3 | B7: Frente escuela Quiriman | C7: E | D7: 371019 | E7: 232783 | F7: 206 | G7: 0.78 | H7: 15.45 | I7: =M7-G7 -> 12.88 | K7: 42459 | M7: 13.66
A8: 4 | B8: Vianey Guevara | C8: E | D8: 370602 | E8: 232450 | F8: 214 | G8: 0.5 | I8: =M8-G8 -> 20.23 | K8: 42459 | M8: 20.73
A9: 5 | B9: Asada La Y Griega | C9: P | D9: 370992 | E9: 234494 | F9: 237 | G9: 0.17 | H9: 38 | I9: =M9-G9 -> 25.6 | K9: 42459 | M9: 25.77
A10: 6 | B10: Casa Abandonada | C10: E | D10: 371175 | E10: 232773 | G10: 0.4 | H10: 7.95 | I10: =M10-G10 -> 5.87 | K10: 42459 | M10: 6.27

Sheet Abril 2016
A1: Monitoreo Cuenca Quirimán
A3: N. | B3: Pozo | C3: Tipo | D3: Este | E3: Norte | F3: m.s.n.m. | G3: Brocal | H3: Profundidad (m) | I3: Nivel E (m) | J3: Nivel D (m) | K3: Fecha | M3: Nivel E (m) | N3: Nivel D (m)
A5: 1 | B5: #1 Asada Quiriman | C5: P | D5: 371747 | E5: 233146 | F5: 223 | G5: 0.2 | H5: 30 | I5: =M5-G5 -> 15.14 | K5: 42487 | M5: 15.34
A6: 2 | B6: #2 Asada Quiriman | C6: P | D6: 371188 | E6: 232816 | F6: 221 | G6: 0.48 | I6: No bajó la sonda | K6: 42487 | M6: sd
A7: 3 | B7: Frente escuela Quiriman | C7: E | D7: 371019 | E7: 232783 | F7: 206 | G7: 0.78 | H7: 15.45 | I7: =M7-G7 -> 13.07 | K7: 42487 | M7: 13.85
A8: 4 | B8: Vianey Guevara | C8: E | D8: 370602 | E8: 232450 | F8: 214 | G8: 0.5 | I8: No bajó la sonda | K8: 42487 | M8: sd
A9: 5 | B9: Asada La Y Griega | C9: P | D9: 370992 | E9: 234494 | F9: 237 | G9: 0.17 | H9: 38 | I9: =M9-G9 -> 24.56 | K9: 42487 | M9: 24.73
A10: 6 | B10: Casa Abandonada | C10: E | D10: 371175 | E10: 232773 | G10: 0.4 | H10: 7.95 | I10: =M10-G10 -> 6.2 | K10: 42487 | M10: 6.6

Sheet Mayo 2016
A1: Monitoreo Cuenca Quirimán
A3: N. | B3: Pozo | C3: Tipo | D3: Este | E3: Norte | F3: m.s.n.m. | G3: Brocal | H3: Profundidad (m) | I3: Nivel E (m) | J3: Nivel D (m) | K3: Fecha | M3: Nivel E (m) | N3: Nivel D (m)
A5: 1 | B5: #1 Asada Quiriman | C5: P | D5: 371747 | E5: 233146 | F5: 223 | G5: 0.2 | H5: 30 | I5: =M5-G5 -> 14.11 | K5: 42516 | M5: 14.31
A6: 2 | B6: #2 Asada Quiriman | C6: P | D6: 371188 | E6: 232816 | F6: 221 | G6: 0.48 | I6: =M6-G6 -> 4.75 | K6: 42516 | M6: 5.23
A7: 3 | B7: Frente escuela Quiriman | C7: E | D7: 371019 | E7: 232783 | F7: 206 | G7: 0.78 | H7: 15.45 | I7: =M7-G7 -> 13.21 | K7: 42516 | M7: 13.99
A8: 4 | B8: Vianey Guevara | C8: E | D8: 370602 | E8: 232450 | F8: 214 | G8: 0.5 | I8: =M8-G8 -> 19.93 | K8: 42516 | M8: 20.43
A9: 5 | B9: Asada La Y Griega | C9: P | D9: 370992 | E9: 234494 | F9: 237 | G9: 0.17 | H9: 38 | J9: =N9-G9 -> 29.57 | K9: 42516 | N9: 29.74
A10: 6 | B10: Casa Abandonada | C10: E | D10: 371175 | E10: 232773 | G10: 0.4 | H10: 7.95 | I10: =M10-G10 -> 6.47 | K10: 42516 | M10: 6.87

Sheet Junio 2016
A1: Monitoreo Cuenca Quirimán
A3: N. | B3: Pozo | C3: Tipo | D3: Este | E3: Norte | F3: m.s.n.m. | G3: Brocal | H3: Profundidad (m) | I3: Nivel E (m) | J3: Nivel D (m) | K3: Fecha | M3: Nivel E (m) | N3: Nivel D (m)
A5: 1 | B5: #1 Asada Quiriman | C5: P | D5: 371747 | E5: 233146 | F5: 223 | G5: 0.2 | H5: 30 | I5: =M5-G5 -> 14.54 | K5: 42542 | M5: 14.74
A6: 2 | B6: #2 Asada Quiriman | C6: P | D6: 371188 | E6: 232816 | F6: 221 | G6: 0.48 | I6: =M6-G6 -> 3.79 | K6: 42542 | M6: 4.27
A7: 3 | B7: Frente escuela Quiriman | C7: E | D7: 371019 | E7: 232783 | F7: 206 | G7: 0.78 | H7: 15.45 | I7: =M7-G7 -> 12.68 | K7: 42542 | M7: 13.46
A8: 4 | B8: Vianey Guevara | C8: E | D8: 370602 | E8: 232450 | F8: 214 | G8: 0.5 | I8: =M8-G8 -> 19.95 | K8: 42542 | M8: 20.45
A9: 5 | B9: Asada La Y Griega | C9: P | D9: 370992 | E9: 234494 | F9: 237 | G9: 0.17 | H9: 38 | I9: =M9-G9 -> 27.06 | K9: 42542 | M9: 27.23
A10: 6 | B10: Casa Abandonada | C10: E | D10: 371175 | E10: 232773 | G10: 0.4 | H10: 7.95 | I10: =M10-G10 -> 5.38 | K10: 42542 | M10: 5.78

Sheet Julio 2016
A1: Monitoreo Cuenca Quirimán
A3: N. | B3: Pozo | C3: Tipo | D3: Este | E3: Norte | F3: m.s.n.m. | G3: Brocal | H3: Profundidad (m) | I3: Nivel E (m) | J3: Nivel D (m) | K3: Fecha | M3: Nivel E (m) | N3: Nivel D (m)
A5: 1 | B5: #1 Asada Quiriman | C5: P | D5: 371747 | E5: 233146 | F5: 223 | G5: 0.2 | H5: 30 | J5: =N5-G5 -> 15.27 | K5: 42577 | N5: 15.47
A6: 2 | B6: #2 Asada Quiriman | C6: P | D6: 371188 | E6: 232816 | F6: 221 | G6: 0.48 | I6: =M6-G6 -> 2.99 | K6: 42577 | M6: 3.47
A7: 3 | B7: Frente escuela Quiriman | C7: E | D7: 371019 | E7: 232783 | F7: 206 | G7: 0.78 | H7: 15.45 | I7: =M7-G7 -> 10.54 | K7: 42577 | M7: 11.32
A8: 4 | B8: Vianey Guevara | C8: E | D8: 370602 | E8: 232450 | F8: 214 | G8: 0.5 | I8: =M8-G8 -> 19.87 | K8: 42577 | M8: 20.37
A9: 5 | B9: Asada La Y Griega | C9: P | D9: 370992 | E9: 234494 | F9: 237 | G9: 0.17 | H9: 38 | I9: =M9-G9 -> 25.63 | K9: 42577 | M9: 25.8
A10: 6 | B10: Casa Abandonada | C10: E | D10: 371175 | E10: 232773 | G10: 0.4 | H10: 7.95 | I10: =M10-G10 -> 4.7 | K10: 42577 | M10: 5.1

Sheet Agosto 2016
A1: Monitoreo Cuenca Quirimán
A3: N. | B3: Pozo | C3: Tipo | D3: Este | E3: Norte | F3: m.s.n.m. | G3: Brocal | H3: Profundidad (m) | I3: Nivel E (m) | J3: Nivel D (m) | K3: Fecha | M3: Nivel E (m) | N3: Nivel D (m)
A5: 1 | B5: #1 Asada Quiriman | C5: P | D5: 371747 | E5: 233146 | F5: 223 | G5: 0.2 | H5: 30 | I5: =M5-G5 -> 12.74 | K5: 42607 | M5: 12.94
A6: 2 | B6: #2 Asada Quiriman | C6: P | D6: 371188 | E6: 232816 | F6: 221 | G6: 0.48 | I6: =M6-G6 -> 2.56 | K6: 42607 | M6: 3.04
A7: 3 | B7: Frente escuela Quiriman | C7: E | D7: 371019 | E7: 232783 | F7: 206 | G7: 0.78 | H7: 15.45 | I7: =M7-G7 -> 11.74 | K7: 42607 | M7: 12.52
A8: 4 | B8: Vianey Guevara | C8: E | D8: 370602 | E8: 232450 | F8: 214 | G8: 0.5 | I8: =M8-G8 -> 19.84 | K8: 42607 | M8: 20.34
A9: 5 | B9: Asada La Y Griega | C9: P | D9: 370992 | E9: 234494 | F9: 237 | G9: 0.17 | H9: 38 | J9: =N9-G9 -> 29.7 | K9: 42607 | N9: 29.87
A10: 6 | B10: Casa Abandonada | C10: E | D10: 371175 | E10: 232773 | G10: 0.4 | H10: 7.95 | I10: =M10-G10 -> 4.28 | K10: 42607 | M10: 4.68

Sheet Setiembre 2016
A1: Monitoreo Cuenca Quirimán
A3: N. | B3: Pozo | C3: Tipo | D3: Este | E3: Norte | F3: m.s.n.m. | G3: Brocal | H3: Profundidad (m) | I3: Nivel E (m) | J3: Nivel D (m) | K3: Fecha | M3: Nivel E (m) | N3: Nivel D (m)
A5: 1 | B5: #1 Asada Quiriman | C5: P | D5: 371747 | E5: 233146 | F5: 223 | G5: 0.2 | H5: 30 | J5: =N5-G5 -> 13.75 | K5: 42642 | M5: - | N5: 13.95
A6: 2 | B6: #2 Asada Quiriman | C6: P | D6: 371188 | E6: 232816 | F6: 221 | G6: 0.48 | I6: =M6-G6 -> 1.86 | K6: 42642 | M6: 2.34 | N6: -
A7: 3 | B7: Frente escuela Quiriman | C7: E | D7: 371019 | E7: 232783 | F7: 206 | G7: 0.78 | H7: 15.45 | I7: Porton cerrado | K7: 42642 | M7: - | N7: -
A8: 4 | B8: Vianey Guevara | C8: E | D8: 370602 | E8: 232450 | F8: 214 | G8: 0.5 | I8: =M8-G8 -> 19.6 | K8: 42642 | M8: 20.1 | N8: -
A9: 5 | B9: Asada La Y Griega | C9: P | D9: 370992 | E9: 234494 | F9: 237 | G9: 0.17 | H9: 38 | J9: =N9-G9 -> 23.85 | K9: 42642 | M9: - | N9: 24.02
A10: 6 | B10: Casa Abandonada | C10: E | D10: 371175 | E10: 232773 | G10: 0.4 | H10: 7.95 | I10: =M10-G10 -> 3.67 | K10: 42642 | M10: 4.07 | N10: -

Sheet Octubre 2016
A1: Monitoreo Cuenca Quirimán
A3: N. | B3: Pozo | C3: Tipo | D3: Este | E3: Norte | F3: m.s.n.m. | G3: Brocal | H3: Profundidad (m) | I3: Nivel E (m) | J3: Nivel D (m) | K3: Fecha | M3: Nivel E (m) | N3: Nivel D (m)
A5: 1 | B5: #1 Asada Quiriman | C5: P | D5: 371747 | E5: 233146 | F5: 223 | G5: 0.2 | H5: 30 | I5: =M5-G5 -> 13.28 | J5: =N5-G5 -> -0.2 | K5: 42670 | M5: 13.48
A6: 2 | B6: #2 Asada Quiriman | C6: P | D6: 371188 | E6: 232816 | F6: 221 | G6: 0.48 | I6: =M6-G6 -> 1.62 | J6: =N6-G6 -> -0.48 | K6: 42670 | M6: 2.1
A7: 3 | B7: Frente escuela Quiriman | C7: E | D7: 371019 | E7: 232783 | F7: 206 | G7: 0.78 | H7: 15.45 | I7: Porton cerrado | K7: 42670 | M7: Sin acceso
A8: 4 | B8: Vianey Guevara | C8: E | D8: 370602 | E8: 232450 | F8: 214 | G8: 0.5 | I8: =M8-G8 -> 19.5 | J8: =N8-G8 -> -0.5 | K8: 42670 | M8: 20
A9: 5 | B9: Asada La Y Griega | C9: P | D9: 370992 | E9: 234494 | F9: 237 | G9: 0.17 | H9: 38 | I9: =M9-G9 -> 16.89 | J9: =N9-G9 -> -0.17 | K9: 42670 | M9: 17.06
A10: 6 | B10: Casa Abandonada | C10: E | D10: 371175 | E10: 232773 | G10: 0.4 | H10: 7.95 | I10: =M10-G10 -> 3.44 | J10: =N10-G10 -> -0.4 | K10: 42670 | M10: 3.84

Sheet Noviembre 2016

Sheet Diciembre 2016
A1: Monitoreo Cuenca Quirimán
A3: N. | B3: Pozo | C3: Tipo | D3: Este | E3: Norte | F3: m.s.n.m. | G3: Brocal | H3: Profundidad (m) | I3: Nivel E (m) | J3: Nivel D (m) | K3: Fecha | M3: Nivel E (m) | N3: Nivel D (m)
A5: 1 | B5: #1 Asada Quiriman | C5: P | D5: 371747 | E5: 233146 | F5: 223 | G5: 0.2 | H5: 30 | I5: =M5-G5 -> 13.88 | J5: =N5-G5 -> -0.2 | K5: 42719 | M5: 14.08
A6: 2 | B6: #2 Asada Quiriman | C6: P | D6: 371188 | E6: 232816 | F6: 221 | G6: 0.48 | I6: =M6-G6 -> 1.86 | J6: =N6-G6 -> -0.48 | K6: 42719 | M6: 2.34
A7: 3 | B7: Frente escuela Quiriman | C7: E | D7: 371019 | E7: 232783 | F7: 206 | G7: 0.78 | H7: 15.45 | I7: Porton cerrado | K7: 42719 | M7: Sin dato
A8: 4 | B8: Vianey Guevara | C8: E | D8: 370602 | E8: 232450 | F8: 214 | G8: 0.5 | I8: =M8-G8 -> 19.68 | J8: =N8-G8 -> -0.5 | K8: 42719 | M8: 20.18
A9: 5 | B9: Asada La Y Griega | C9: P | D9: 370992 | E9: 234494 | F9: 237 | G9: 0.17 | H9: 38 | I9: =M9-G9 -> 15.91 | J9: =N9-G9 -> -0.17 | K9: 42719 | M9: 16.08
A10: 6 | B10: Casa Abandonada | C10: E | D10: 371175 | E10: 232773 | G10: 0.4 | H10: 7.95 | I10: =M10-G10 -> 3.63 | J10: =N10-G10 -> -0.4 | K10: 42719 | M10: 4.03

Sheet Enero 2017

Sheet Febrero 2017
A1: Monitoreo Cuenca Quirimán
A3: N. | B3: Pozo | C3: Tipo | D3: Este | E3: Norte | F3: m.s.n.m. | G3: Brocal | H3: Profundidad (m) | I3: Nivel E (m) | J3: Nivel D (m) | K3: Fecha | M3: Nivel E (m) | N3: Nivel D (m)
A5: 1 | B5: #1 Asada Quiriman | C5: P | D5: 371747 | E5: 233146 | F5: 223 | G5: 0.2 | H5: 30 | I5: =M5-G5 -> -0.2 | J5: =N5-G5 -> 14.89 | K5: 42789 | N5: 15.09
A6: 2 | B6: #2 Asada Quiriman | C6: P | D6: 371188 | E6: 232816 | F6: 221 | G6: 0.48 | I6: =M6-G6 -> 2.42 | J6: =N6-G6 -> -0.48 | K6: 42789 | M6: 2.9
A7: 3 | B7: Frente escuela Quiriman | C7: E | D7: 371019 | E7: 232783 | F7: 206 | G7: 0.78 | H7: 15.45 | I7: Porton cerrado | K7: 42789 | M7: Sin acceso
A8: 4 | B8: Vianey Guevara | C8: E | D8: 370602 | E8: 232450 | F8: 214 | G8: 0.5 | I8: =M8-G8 -> 19.87 | J8: =N8-G8 -> -0.5 | K8: 42789 | M8: 20.37
A9: 5 | B9: Asada La Y Griega | C9: P | D9: 370992 | E9: 234494 | F9: 237 | G9: 0.17 | H9: 38 | I9: =M9-G9 -> -0.17 | J9: =N9-G9 -> 21.02 | K9: 42789 | N9: 21.19
A10: 6 | B10: Casa Abandonada | C10: E | D10: 371175 | E10: 232773 | G10: 0.4 | H10: 7.95 | I10: =M10-G10 -> 4.3 | J10: =N10-G10 -> -0.4 | K10: 42789 | M10: 4.7

Sheet Marzo 2017
A1: Monitoreo Cuenca Quirimán
A3: N. | B3: Pozo | C3: Tipo | D3: Este | E3: Norte | F3: m.s.n.m. | G3: Brocal | H3: Profundidad (m) | I3: Nivel E (m) | J3: Nivel D (m) | K3: Fecha | M3: Nivel E (m) | N3: Nivel D (m)
A5: 1 | B5: #1 Asada Quiriman | C5: P | D5: 371747 | E5: 233146 | F5: 223 | G5: 0.2 | H5: 30 | I5: =M5-G5 -> -0.2 | J5: =N5-G5 -> 19.13 | K5: 42824 | N5: 19.33
A6: 2 | B6: #2 Asada Quiriman | C6: P | D6: 371188 | E6: 232816 | F6: 221 | G6: 0.48 | I6: =M6-G6 -> 3.29 | J6: =N6-G6 -> -0.48 | K6: 42824 | M6: 3.77
A7: 3 | B7: Frente escuela Quiriman | C7: E | D7: 371019 | E7: 232783 | F7: 206 | G7: 0.78 | H7: 15.45 | I7: Porton cerrado | K7: 42824 | M7: Sin acceso
A8: 4 | B8: Vianey Guevara | C8: E | D8: 370602 | E8: 232450 | F8: 214 | G8: 0.5 | I8: =M8-G8 -> 20.4 | J8: =N8-G8 -> -0.5 | K8: 42824 | M8: 20.9
A9: 5 | B9: Asada La Y Griega | C9: P | D9: 370992 | E9: 234494 | F9: 237 | G9: 0.17 | H9: 38 | I9: =M9-G9 -> 26.38 | J9: =N9-G9 -> -0.17 | K9: 42824 | M9: 26.55
A10: 6 | B10: Casa Abandonada | C10: E | D10: 371175 | E10: 232773 | G10: 0.4 | H10: 7.95 | I10: =M10-G10 -> 8.4 | J10: =N10-G10 -> -0.4 | K10: 42824 | M10: 8.8
A11: 7 | B11: Rafael Barrantes perforado | C11: P | D11: 371948 | E11: 233360 | G11: 0.2 | I11: =M11-G11 -> 19.28 | J11: =N11-G11 -> -0.2 | K11: 42824 | M11: 19.48
A12: 8 | B12: Rafael Barrantes escavado | C12: E | D12: 371994 | E12: 233556 | G12: 0.4 | I12: =M12-G12 -> 5.56 | J12: =N12-G12 -> -0.4 | K12: 42824 | M12: 5.96

Sheet Abril 2017
A1: Monitoreo Cuenca Quirimán
A3: N. | B3: Pozo | C3: Tipo | D3: Este | E3: Norte | F3: m.s.n.m. | G3: Brocal | H3: Profundidad (m) | I3: Nivel E (m) | J3: Nivel D (m) | K3: Fecha | M3: Nivel E (m) | N3: Nivel D (m)
A5: 1 | B5: #1 Asada Quiriman | C5: P | D5: 371747 | E5: 233146 | F5: 223 | G5: 0.2 | H5: 30 | I5: =M5-G5 -> #VALUE! | J5: =N5-G5 -> -0.2 | K5: 42853 | M5: sin dato
A6: 2 | B6: #2 Asada Quiriman | C6: P | D6: 371188 | E6: 232816 | F6: 221 | G6: 0.48 | I6: =M6-G6 -> 5.88 | J6: =N6-G6 -> -0.48 | K6: 42853 | M6: 6.36
A7: 3 | B7: Frente escuela Quiriman | C7: E | D7: 371019 | E7: 232783 | F7: 206 | G7: 0.78 | H7: 15.45 | I7: Porton cerrado | K7: 42853 | M7: Sin acceso
A8: 4 | B8: Vianey Guevara | C8: E | D8: 370602 | E8: 232450 | F8: 214 | G8: 0.5 | I8: =M8-G8 -> 20.08 | J8: =N8-G8 -> -0.5 | K8: 42853 | M8: 20.58
A9: 5 | B9: Asada La Y Griega | C9: P | D9: 370992 | E9: 234494 | F9: 237 | G9: 0.17 | H9: 38 | I9: =M9-G9 -> #VALUE! | J9: =N9-G9 -> -0.17 | K9: 42853 | M9: sin dato
A10: 6 | B10: Casa Abandonada | C10: E | D10: 371175 | E10: 232773 | G10: 0.4 | H10: 7.95 | I10: =M10-G10 -> 5.57 | J10: =N10-G10 -> -0.4 | K10: 42853 | M10: 5.97
A11: 7 | B11: Rafael Barrantes perforado | C11: P | D11: 371948 | E11: 233360 | G11: 0.2 | I11: =M11-G11 -> 16.77 | J11: =N11-G11 -> -0.2 | K11: 42853 | M11: 16.97
A12: 8 | B12: Rafael Barrantes escavado | C12: E | D12: 371994 | E12: 233556 | G12: 0.4 | I12: =M12-G12 -> 6.5 | J12: =N12-G12 -> -0.4 | K12: 42853 | M12: 6.9

Sheet Mayo 2017
A1: Monitoreo Cuenca Quirimán
A3: N. | B3: Pozo | C3: Tipo | D3: Este | E3: Norte | F3: m.s.n.m. | G3: Brocal | H3: Profundidad (m) | I3: Nivel E (m) | J3: Nivel D (m) | K3: Fecha | M3: Nivel E (m) | N3: Nivel D (m)
A5: 1 | B5: #1 Asada Quiriman | C5: P | D5: 371747 | E5: 233146 | F5: 223 | G5: 0.2 | H5: 30 | I5: =M5-G5 -> -0.2 | J5: =N5-G5 -> 16.71 | K5: 42881 | N5: 16.91
A6: 2 | B6: #2 Asada Quiriman | C6: P | D6: 371188 | E6: 232816 | F6: 221 | G6: 0.48 | I6: =M6-G6 -> 3.23 | J6: =N6-G6 -> -0.48 | K6: 42881 | M6: 3.71
A7: 3 | B7: Frente escuela Quiriman | C7: E | D7: 371019 | E7: 232783 | F7: 206 | G7: 0.78 | H7: 15.45 | I7: Porton cerrado | K7: 42881 | M7: Sin acceso
A8: 4 | B8: Vianey Guevara | C8: E | D8: 370602 | E8: 232450 | F8: 214 | G8: 0.5 | I8: =M8-G8 -> 19.6 | J8: =N8-G8 -> -0.5 | K8: 42881 | M8: 20.1
A9: 5 | B9: Asada La Y Griega | C9: P | D9: 370992 | E9: 234494 | F9: 237 | G9: 0.17 | H9: 38 | I9: =M9-G9 -> 25.8 | J9: =N9-G9 -> -0.17 | K9: 42881 | M9: 25.97
A10: 6 | B10: Casa Abandonada | C10: E | D10: 371175 | E10: 232773 | G10: 0.4 | H10: 7.95 | I10: =M10-G10 -> 4.84 | J10: =N10-G10 -> -0.4 | K10: 42881 | M10: 5.24
A11: 7 | B11: Rafael Barrantes perforado | C11: P | D11: 371948 | E11: 233360 | G11: 0.2 | I11: =M11-G11 -> 16.44 | J11: =N11-G11 -> -0.2 | K11: 42881 | M11: 16.64
A12: 8 | B12: Rafael Barrantes escavado | C12: E | D12: 371994 | E12: 233556 | G12: 0.4 | I12: =M12-G12 -> 4.65 | J12: =N12-G12 -> -0.4 | K12: 42881 | M12: 5.05

Sheet Junio 2017
A1: Monitoreo Cuenca Quirimán
A3: N. | B3: Pozo | C3: Tipo | D3: Este | E3: Norte | F3: m.s.n.m. | G3: Brocal | H3: Profundidad (m) | I3: Nivel E (m) | J3: Nivel D (m) | K3: Fecha | M3: Nivel E (m) | N3: Nivel D (m)
A5: 1 | B5: #1 Asada Quiriman | C5: P | D5: 371747 | E5: 233146 | F5: 223 | G5: 0.2 | H5: 30 | I5: =M5-G5 -> -0.2 | J5: =N5-G5 -> 13.77 | K5: 42909 | N5: 13.97
A6: 2 | B6: #2 Asada Quiriman | C6: P | D6: 371188 | E6: 232816 | F6: 221 | G6: 0.48 | I6: =M6-G6 -> 1.78 | J6: =N6-G6 -> -0.48 | K6: 42909 | M6: 2.26
A7: 3 | B7: Frente escuela Quiriman | C7: E | D7: 371019 | E7: 232783 | F7: 206 | G7: 0.78 | H7: 15.45 | I7: Porton cerrado | K7: 42909 | M7: Sin acceso
A8: 4 | B8: Vianey Guevara | C8: E | D8: 370602 | E8: 232450 | F8: 214 | G8: 0.5 | I8: =M8-G8 -> 21.42 | J8: =N8-G8 -> -0.5 | K8: 42909 | M8: 21.92
A9: 5 | B9: Asada La Y Griega | C9: P | D9: 370992 | E9: 234494 | F9: 237 | G9: 0.17 | H9: 38 | I9: =M9-G9 -> -0.17 | J9: =N9-G9 -> 25.33 | K9: 42909 | N9: 25.5
A10: 6 | B10: Casa Abandonada | C10: E | D10: 371175 | E10: 232773 | G10: 0.4 | H10: 7.95 | I10: =M10-G10 -> #VALUE! | J10: =N10-G10 -> -0.4 | K10: 42909 | M10: Sin dato
A11: 7 | B11: Rafael Barrantes perforado | C11: P | D11: 371948 | E11: 233360 | G11: 0.2 | I11: =M11-G11 -> 16.18 | J11: =N11-G11 -> -0.2 | K11: 42909 | M11: 16.38
A12: 8 | B12: Rafael Barrantes escavado | C12: E | D12: 371994 | E12: 233556 | G12: 0.4 | I12: =M12-G12 -> 3.13 | J12: =N12-G12 -> -0.4 | K12: 42909 | M12: 3.53

Sheet Julio 2017
A1: Monitoreo Cuenca Quirimán
A3: N. | B3: Pozo | C3: Tipo | D3: Este | E3: Norte | F3: m.s.n.m. | G3: Brocal | H3: Profundidad (m) | I3: Nivel E (m) | J3: Nivel D (m) | K3: Fecha | M3: Nivel E (m) | N3: Nivel D (m)
A5: 1 | B5: #1 Asada Quiriman | C5: P | D5: 371747 | E5: 233146 | F5: 223 | G5: 0.2 | H5: 30 | I5: =M5-G5 -> -0.2 | J5: =N5-G5 -> 13.4 | K5: 42937 | N5: 13.6
A6: 2 | B6: #2 Asada Quiriman | C6: P | D6: 371188 | E6: 232816 | F6: 221 | G6: 0.48 | I6: =M6-G6 -> 1.65 | J6: =N6-G6 -> -0.48 | K6: 42937 | M6: 2.13
A7: 3 | B7: Frente escuela Quiriman | C7: E | D7: 371019 | E7: 232783 | F7: 206 | G7: 0.78 | H7: 15.45 | I7: Porton cerrado | K7: 42937 | M7: Sin acceso
A8: 4 | B8: Vianey Guevara | C8: E | D8: 370602 | E8: 232450 | F8: 214 | G8: 0.5 | I8: =M8-G8 -> 19.55 | J8: =N8-G8 -> -0.5 | K8: 42937 | M8: 20.05
A9: 5 | B9: Asada La Y Griega | C9: P | D9: 370992 | E9: 234494 | F9: 237 | G9: 0.17 | H9: 38 | I9: =M9-G9 -> 19.25 | J9: =N9-G9 -> -0.17 | K9: 42937 | M9: 19.42
A10: 6 | B10: Casa Abandonada | C10: E | D10: 371175 | E10: 232773 | G10: 0.4 | H10: 7.95 | I10: =M10-G10 -> 3.48 | J10: =N10-G10 -> -0.4 | K10: 42937 | M10: 3.88
A11: 7 | B11: Rafael Barrantes perforado | C11: P | D11: 371948 | E11: 233360 | G11: 0.2 | I11: =M11-G11 -> 14.2 | J11: =N11-G11 -> -0.2 | K11: 42937 | M11: 14.4
A12: 8 | B12: Rafael Barrantes escavado | C12: E | D12: 371994 | E12: 233556 | G12: 0.4 | I12: =M12-G12 -> 3.14 | J12: =N12-G12 -> -0.4 | K12: 42937 | M12: 3.54

Sheet Agosto 2017
A1: Monitoreo Cuenca Quirimán
A3: N. | B3: Pozo | C3: Tipo | D3: Este | E3: Norte | F3: m.s.n.m. | G3: Brocal | H3: Profundidad (m) | I3: Nivel E (m) | J3: Nivel D (m) | K3: Fecha | M3: Nivel E (m) | N3: Nivel D (m)
A5: 1 | B5: #1 Asada Quiriman | C5: P | D5: 371747 | E5: 233146 | F5: 223 | G5: 0.2 | H5: 30 | I5: =M5-G5 -> -0.2 | J5: =N5-G5 -> 13.55 | K5: 42972 | N5: 13.75
A6: 2 | B6: #2 Asada Quiriman | C6: P | D6: 371188 | E6: 232816 | F6: 221 | G6: 0.48 | I6: =M6-G6 -> 1.72 | J6: =N6-G6 -> -0.48 | K6: 42972 | M6: 2.2
A7: 3 | B7: Frente escuela Quiriman | C7: E | D7: 371019 | E7: 232783 | F7: 206 | G7: 0.78 | H7: 15.45 | I7: Porton cerrado | K7: 42972 | M7: Sin acceso
A8: 4 | B8: Vianey Guevara | C8: E | D8: 370602 | E8: 232450 | F8: 214 | G8: 0.5 | I8: =M8-G8 -> 19.6 | J8: =N8-G8 -> -0.5 | K8: 42972 | M8: 20.1
A9: 5 | B9: Asada La Y Griega | C9: P | D9: 370992 | E9: 234494 | F9: 237 | G9: 0.17 | H9: 38 | I9: =M9-G9 -> -0.17 | J9: =N9-G9 -> 18.52 | K9: 42972 | N9: 18.69
A10: 6 | B10: Casa Abandonada | C10: E | D10: 371175 | E10: 232773 | G10: 0.4 | H10: 7.95 | I10: =M10-G10 -> 3.45 | J10: =N10-G10 -> -0.4 | K10: 42972 | M10: 3.85
A11: 7 | B11: Rafael Barrantes perforado | C11: P | D11: 371948 | E11: 233360 | G11: 0.2 | I11: =M11-G11 -> 14.45 | J11: =N11-G11 -> -0.2 | K11: 42972 | M11: 14.65
A12: 8 | B12: Rafael Barrantes escavado | C12: E | D12: 371994 | E12: 233556 | G12: 0.4 | I12: =M12-G12 -> 3.28 | J12: =N12-G12 -> -0.4 | K12: 42972 | M12: 3.68

Sheet Setiembre 2017
A1: Monitoreo Cuenca Quirimán
A3: N. | B3: Pozo | C3: Tipo | D3: Este | E3: Norte | F3: m.s.n.m. | G3: Brocal | H3: Profundidad (m) | I3: Nivel E (m) | J3: Nivel D (m) | K3: Fecha | M3: Nivel E (m) | N3: Nivel D (m)
A5: 1 | B5: #1 Asada Quiriman | C5: P | D5: 371747 | E5: 233146 | F5: 223 | G5: 0.2 | H5: 30 | I5: =M5-G5 -> -0.2 | J5: =N5-G5 -> 12.86 | K5: 43006 | N5: 13.06
A6: 2 | B6: #2 Asada Quiriman | C6: P | D6: 371188 | E6: 232816 | F6: 221 | G6: 0.48 | I6: =M6-G6 -> 1.27 | J6: =N6-G6 -> -0.48 | K6: 43006 | M6: 1.75
A7: 3 | B7: Frente escuela Quiriman | C7: E | D7: 371019 | E7: 232783 | F7: 206 | G7: 0.78 | H7: 15.45 | I7: Porton cerrado | K7: 43006 | M7: Sin acceso
A8: 4 | B8: Vianey Guevara | C8: E | D8: 370602 | E8: 232450 | F8: 214 | G8: 0.5 | I8: =M8-G8 -> 19.06 | J8: =N8-G8 -> -0.5 | K8: 43006 | M8: 19.56
A9: 5 | B9: Asada La Y Griega | C9: P | D9: 370992 | E9: 234494 | F9: 237 | G9: 0.17 | H9: 38 | I9: =M9-G9 -> 15.98 | J9: =N9-G9 -> -0.17 | K9: 43006 | M9: 16.15
A10: 6 | B10: Casa Abandonada | C10: E | D10: 371175 | E10: 232773 | G10: 0.4 | H10: 7.95 | I10: =M10-G10 -> 3.11 | J10: =N10-G10 -> -0.4 | K10: 43006 | M10: 3.51
A11: 7 | B11: Rafael Barrantes perforado | C11: P | D11: 371948 | E11: 233360 | G11: 0.2 | I11: =M11-G11 -> 13.33 | J11: =N11-G11 -> -0.2 | K11: 43006 | M11: 13.53
A12: 8 | B12: Rafael Barrantes escavado | C12: E | D12: 371994 | E12: 233556 | G12: 0.4 | I12: =M12-G12 -> 2.7 | J12: =N12-G12 -> -0.4 | K12: 43006 | M12: 3.1

Sheet Octubre 2017
A1: Monitoreo Cuenca Quirimán
A3: N. | B3: Pozo | C3: Tipo | D3: Este | E3: Norte | F3: m.s.n.m. | G3: Brocal | H3: Profundidad (m) | I3: Nivel E (m) | J3: Nivel D (m) | K3: Fecha | M3: Nivel E (m) | N3: Nivel D (m)
A5: 1 | B5: #1 Asada Quiriman | C5: P | D5: 371747 | E5: 233146 | F5: 223 | G5: 0.2 | H5: 30 | I5: =M5-G5 -> 11.19 | J5: =N5-G5 -> -0.2 | K5: 43032 | M5: 11.39
A6: 2 | B6: #2 Asada Quiriman | C6: P | D6: 371188 | E6: 232816 | F6: 221 | G6: 0.48 | I6: =M6-G6 -> 1.38 | J6: =N6-G6 -> -0.48 | K6: 43032 | M6: 1.86
A7: 3 | B7: Frente escuela Quiriman | C7: E | D7: 371019 | E7: 232783 | F7: 206 | G7: 0.78 | H7: 15.45 | I7: Porton cerrado | K7: 43032 | M7: Sin acceso
A8: 4 | B8: Vianey Guevara | C8: E | D8: 370602 | E8: 232450 | F8: 214 | G8: 0.5 | I8: =M8-G8 -> 19.36 | J8: =N8-G8 -> -0.5 | K8: 43032 | M8: 19.86
A9: 5 | B9: Asada La Y Griega | C9: P | D9: 370992 | E9: 234494 | F9: 237 | G9: 0.17 | H9: 38 | I9: =M9-G9 -> 11.76 | J9: =N9-G9 -> -0.17 | K9: 43032 | M9: 11.93
A10: 6 | B10: Casa Abandonada | C10: E | D10: 371175 | E10: 232773 | G10: 0.4 | H10: 7.95 | I10: =M10-G10 -> 3.78 | J10: =N10-G10 -> -0.4 | K10: 43032 | M10: 4.18
A11: 7 | B11: Rafael Barrantes perforado | C11: P | D11: 371948 | E11: 233360 | G11: 0.2 | I11: =M11-G11 -> 14.2 | J11: =N11-G11 -> -0.2 | K11: 43032 | M11: 14.4
A12: 8 | B12: Rafael Barrantes escavado | C12: E | D12: 371994 | E12: 233556 | G12: 0.4 | I12: =M12-G12 -> 2.68 | J12: =N12-G12 -> -0.4 | K12: 43032 | M12: 3.08

Sheet Noviembre 2017
A1: Monitoreo Cuenca Quirimán
A3: N. | B3: Pozo | C3: Tipo | D3: Este | E3: Norte | F3: m.s.n.m. | G3: Brocal | H3: Profundidad (m) | I3: Nivel E (m) | J3: Nivel D (m) | K3: Fecha | M3: Nivel E (m) | N3: Nivel D (m)
A5: 1 | B5: #1 Asada Quiriman | C5: P | D5: 371747 | E5: 233146 | F5: 223 | G5: 0.2 | H5: 30 | I5: =M5-G5 -> 11.54 | J5: =N5-G5 -> -0.2 | K5: 43060 | M5: 11.74
A6: 2 | B6: #2 Asada Quiriman | C6: P | D6: 371188 | E6: 232816 | F6: 221 | G6: 0.48 | I6: =M6-G6 -> 1.65 | J6: =N6-G6 -> -0.48 | K6: 43060 | M6: 2.13
A7: 3 | B7: Frente escuela Quiriman | C7: E | D7: 371019 | E7: 232783 | F7: 206 | G7: 0.78 | H7: 15.45 | I7: Porton cerrado | K7: 43060 | M7: Sin acceso
A8: 4 | B8: Vianey Guevara | C8: E | D8: 370602 | E8: 232450 | F8: 214 | G8: 0.5 | I8: =M8-G8 -> 19.5 | J8: =N8-G8 -> -0.5 | K8: 43060 | M8: 20
A9: 5 | B9: Asada La Y Griega | C9: P | D9: 370992 | E9: 234494 | F9: 237 | G9: 0.17 | H9: 38 | I9: =M9-G9 -> 13.47 | J9: =N9-G9 -> -0.17 | K9: 43060 | M9: 13.64
A10: 6 | B10: Casa Abandonada | C10: E | D10: 371175 | E10: 232773 | G10: 0.4 | H10: 7.95 | I10: =M10-G10 -> 3.6 | J10: =N10-G10 -> -0.4 | K10: 43060 | M10: 4
A11: 7 | B11: Rafael Barrantes perforado | C11: P | D11: 371948 | E11: 233360 | G11: 0.2 | I11: =M11-G11 -> 14.54 | J11: =N11-G11 -> -0.2 | K11: 43060 | M11: 14.74
A12: 8 | B12: Rafael Barrantes escavado | C12: E | D12: 371994 | E12: 233556 | G12: 0.4 | I12: =M12-G12 -> 3.26 | J12: =N12-G12 -> -0.4 | K12: 43060 | M12: 3.66

Sheet Diciembre 2017
A1: Monitoreo Cuenca Quirimán
A3: N. | B3: Pozo | C3: Tipo | D3: Este | E3: Norte | F3: m.s.n.m. | G3: Brocal | H3: Profundidad (m) | I3: Nivel E (m) | J3: Nivel D (m) | K3: Fecha | M3: Nivel E (m) | N3: Nivel D (m)
A5: 1 | B5: #1 Asada Quiriman | C5: P | D5: 371747 | E5: 233146 | F5: 223 | G5: 0.2 | H5: 30 | I5: =M5-G5 -> 11.81 | J5: =N5-G5 -> -0.2 | K5: 43080 | M5: =19.51-7.5 -> 12.01
A6: 2 | B6: #2 Asada Quiriman | C6: P | D6: 371188 | E6: 232816 | F6: 221 | G6: 0.48 | I6: =M6-G6 -> 1.86 | J6: =N6-G6 -> -0.48 | K6: 43080 | M6: =9.84-7.5 -> 2.34
A7: 3 | B7: Frente escuela Quiriman | C7: E | D7: 371019 | E7: 232783 | F7: 206 | G7: 0.78 | H7: 15.45 | I7: Porton cerrado | K7: 43080 | M7: Sin acceso
A8: 4 | B8: Vianey Guevara | C8: E | D8: 370602 | E8: 232450 | F8: 214 | G8: 0.5 | I8: =M8-G8 -> 19.6 | J8: =N8-G8 -> -0.5 | K8: 43080 | M8: =27.6-7.5 -> 20.1
A9: 5 | B9: Asada La Y Griega | C9: P | D9: 370992 | E9: 234494 | F9: 237 | G9: 0.17 | H9: 38 | I9: =M9-G9 -> 14.79 | J9: =N9-G9 -> -0.17 | K9: 43080 | M9: =22.46-7.5 -> 14.96
A10: 6 | B10: Casa Abandonada | C10: E | D10: 371175 | E10: 232773 | G10: 0.4 | H10: 7.95 | I10: =M10-G10 -> 3.75 | J10: =N10-G10 -> -0.4 | K10: 43080 | M10: =11.65-7.5 -> 4.15
A11: 7 | B11: Rafael Barrantes perforado | C11: P | D11: 371948 | E11: 233360 | G11: 0.2 | I11: =M11-G11 -> 15.86 | J11: =N11-G11 -> -0.2 | K11: 43080 | M11: =23.56-7.5 -> 16.06
A12: 8 | B12: Rafael Barrantes escavado | C12: E | D12: 371994 | E12: 233556 | G12: 0.4 | I12: =M12-G12 -> 3.45 | J12: =N12-G12 -> -0.4 | K12: 43080 | M12: =11.35-7.5 -> 3.85

Sheet Enero 2018
A1: Monitoreo Cuenca Quirimán
A3: N. | B3: Pozo | C3: Tipo | D3: Este | E3: Norte | F3: m.s.n.m. | G3: Brocal | H3: Profundidad (m) | I3: Nivel E (m) | J3: Nivel D (m) | K3: Fecha | M3: Nivel E (m) | N3: Nivel D (m)
A5: 1 | B5: #1 Asada Quiriman | C5: P | D5: 371747 | E5: 233146 | F5: 223 | G5: 0.2 | H5: 30 | I5: =M5-G5 -> -0.2 | J5: =N5-G5 -> 14.56 | K5: 43123 | N5: 14.76
A6: 2 | B6: #2 Asada Quiriman | C6: P | D6: 371188 | E6: 232816 | F6: 221 | G6: 0.48 | I6: =M6-G6 -> 2.16 | J6: =N6-G6 -> -0.48 | K6: 43123 | M6: 2.64
A7: 3 | B7: Frente escuela Quiriman | C7: E | D7: 371019 | E7: 232783 | F7: 206 | G7: 0.78 | H7: 15.45 | I7: Porton cerrado | K7: 43123 | M7: Sin acceso
A8: 4 | B8: Vianey Guevara | C8: E | D8: 370602 | E8: 232450 | F8: 214 | G8: 0.5 | I8: =M8-G8 -> 19.77 | J8: =N8-G8 -> -0.5 | K8: 43123 | M8: 20.27
A9: 5 | B9: Asada La Y Griega | C9: P | D9: 370992 | E9: 234494 | F9: 237 | G9: 0.17 | H9: 38 | I9: =M9-G9 -> 18.96 | J9: =N9-G9 -> -0.17 | K9: 43123 | M9: 19.13
A10: 6 | B10: Casa Abandonada | C10: E | D10: 371175 | E10: 232773 | G10: 0.4 | H10: 7.95 | I10: =M10-G10 -> 3.92 | J10: =N10-G10 -> -0.4 | K10: 43123 | M10: 4.32
A11: 7 | B11: Rafael Barrantes perforado | C11: P | D11: 371948 | E11: 233360 | G11: 0.2 | I11: =M11-G11 -> 15.45 | J11: =N11-G11 -> -0.2 | K11: 43123 | M11: 15.65
A12: 8 | B12: Rafael Barrantes escavado | C12: E | D12: 371994 | E12: 233556 | G12: 0.4 | I12: =M12-G12 -> 4.1 | J12: =N12-G12 -> -0.4 | K12: 43123 | M12: 4.5

Sheet Febrero 2018
A1: Monitoreo Cuenca Quirimán
A3: N. | B3: Pozo | C3: Tipo | D3: Este | E3: Norte | F3: m.s.n.m. | G3: Brocal | H3: Profundidad (m) | I3: Nivel E (m) | J3: Nivel D (m) | K3: Fecha | M3: Nivel E (m) | N3: Nivel D (m)
A5: 1 | B5: #1 Asada Quiriman | C5: P | D5: 371747 | E5: 233146 | F5: 223 | G5: 0.2 | H5: 30 | I5: =M5-G5 -> -0.2 | J5: =N5-G5 -> 15.57 | K5: 43152 | N5: 15.77
A6: 2 | B6: #2 Asada Quiriman | C6: P | D6: 371188 | E6: 232816 | F6: 221 | G6: 0.48 | I6: =M6-G6 -> 2.67 | J6: =N6-G6 -> -0.48 | K6: 43152 | M6: 3.15
A7: 3 | B7: Frente escuela Quiriman | C7: E | D7: 371019 | E7: 232783 | F7: 206 | G7: 0.78 | H7: 15.45 | I7: Porton cerrado | K7: 43152 | M7: Sin acceso
A8: 4 | B8: Vianey Guevara | C8: E | D8: 370602 | E8: 232450 | F8: 214 | G8: 0.5 | I8: =M8-G8 -> 19.73 | J8: =N8-G8 -> -0.5 | K8: 43152 | M8: 20.23
A9: 5 | B9: Asada La Y Griega | C9: P | D9: 370992 | E9: 234494 | F9: 237 | G9: 0.17 | H9: 38 | I9: =M9-G9 -> 19.46 | J9: =N9-G9 -> -0.17 | K9: 43152 | M9: 19.63
A10: 6 | B10: Casa Abandonada | C10: E | D10: 371175 | E10: 232773 | G10: 0.4 | H10: 7.95 | I10: =M10-G10 -> 4.53 | J10: =N10-G10 -> -0.4 | K10: 43152 | M10: 4.93
A11: 7 | B11: Rafael Barrantes perforado | C11: P | D11: 371948 | E11: 233360 | G11: 0.2 | I11: =M11-G11 -> 15.78 | J11: =N11-G11 -> -0.2 | K11: 43152 | M11: 15.98
A12: 8 | B12: Rafael Barrantes escavado | C12: E | D12: 371994 | E12: 233556 | G12: 0.4 | I12: =M12-G12 -> 5.05 | J12: =N12-G12 -> -0.4 | K12: 43152 | M12: 5.45

Sheet Marzo 2018
A1: Monitoreo Cuenca Quirimán
A3: N. | B3: Pozo | C3: Tipo | D3: Este | E3: Norte | F3: m.s.n.m. | G3: Brocal | H3: Profundidad (m) | I3: Nivel E (m) | J3: Nivel D (m) | K3: Fecha | M3: Nivel E (m) | N3: Nivel D (m)
A5: 1 | B5: #1 Asada Quiriman | C5: P | D5: 371747 | E5: 233146 | F5: 223 | G5: 0.2 | H5: 30 | I5: =M5-G5 -> #VALUE! | J5: =N5-G5 -> -0.2 | K5: 43180 | M5: sin dato
A6: 2 | B6: #2 Asada Quiriman | C6: P | D6: 371188 | E6: 232816 | F6: 221 | G6: 0.48 | I6: =M6-G6 -> 3.37 | J6: =N6-G6 -> -0.48 | K6: 43180 | M6: 3.85
A7: 3 | B7: Frente escuela Quiriman | C7: E | D7: 371019 | E7: 232783 | F7: 206 | G7: 0.78 | H7: 15.45 | I7: Porton cerrado | K7: 43180 | M7: Sin acceso
A8: 4 | B8: Vianey Guevara | C8: E | D8: 370602 | E8: 232450 | F8: 214 | G8: 0.5 | I8: =M8-G8 -> 20.12 | J8: =N8-G8 -> -0.5 | K8: 43180 | M8: 20.62
A9: 5 | B9: Asada La Y Griega | C9: P | D9: 370992 | E9: 234494 | F9: 237 | G9: 0.17 | H9: 38 | I9: =M9-G9 -> 21.08 | J9: =N9-G9 -> -0.17 | K9: 43180 | M9: 21.25
A10: 6 | B10: Casa Abandonada | C10: E | D10: 371175 | E10: 232773 | G10: 0.4 | H10: 7.95 | I10: =M10-G10 -> 5.11 | J10: =N10-G10 -> -0.4 | K10: 43180 | M10: 5.51
A11: 7 | B11: Rafael Barrantes perforado | C11: P | D11: 371948 | E11: 233360 | G11: 0.2 | I11: =M11-G11 -> 16.47 | J11: =N11-G11 -> -0.2 | K11: 43180 | M11: 16.67
A12: 8 | B12: Rafael Barrantes escavado | C12: E | D12: 371994 | E12: 233556 | G12: 0.4 | I12: =M12-G12 -> 5.99 | J12: =N12-G12 -> -0.4 | K12: 43180 | M12: 6.39

Sheet Abril 2018
A1: Monitoreo Cuenca Quirimán
A3: N. | B3: Pozo | C3: Tipo | D3: Este | E3: Norte | F3: m.s.n.m. | G3: Brocal | H3: Profundidad (m) | I3: Nivel E (m) | J3: Nivel D (m) | K3: Fecha | M3: Nivel E (m) | N3: Nivel D (m)
A5: 1 | B5: #1 Asada Quiriman | C5: P | D5: 371747 | E5: 233146 | F5: 223 | G5: 0.2 | H5: 30 | I5: =M5-G5 -> -0.2 | J5: =N5-G5 -> 17.33 | K5: 43180 | N5: 17.53
A6: 2 | B6: #2 Asada Quiriman | C6: P | D6: 371188 | E6: 232816 | F6: 221 | G6: 0.48 | I6: =M6-G6 -> 4.05 | J6: =N6-G6 -> -0.48 | K6: 43180 | M6: 4.53
A7: 3 | B7: Frente escuela Quiriman | C7: E | D7: 371019 | E7: 232783 | F7: 206 | G7: 0.78 | H7: 15.45 | I7: Porton cerrado | K7: 43180 | M7: Sin acceso
A8: 4 | B8: Vianey Guevara | C8: E | D8: 370602 | E8: 232450 | F8: 214 | G8: 0.5 | I8: =M8-G8 -> 19.84 | J8: =N8-G8 -> -0.5 | K8: 43180 | M8: 20.34
A9: 5 | B9: Asada La Y Griega | C9: P | D9: 370992 | E9: 234494 | F9: 237 | G9: 0.17 | H9: 38 | I9: =M9-G9 -> -0.17 | J9: =N9-G9 -> -0.17 | K9: 43180
A10: 6 | B10: Casa Abandonada | C10: E | D10: 371175 | E10: 232773 | G10: 0.4 | H10: 7.95 | I10: =M10-G10 -> 5.77 | J10: =N10-G10 -> -0.4 | K10: 43180 | M10: 6.17
A11: 7 | B11: Rafael Barrantes perforado | C11: P | D11: 371948 | E11: 233360 | G11: 0.2 | I11: =M11-G11 -> 17.36 | J11: =N11-G11 -> -0.2 | K11: 43180 | M11: 17.56
A12: 8 | B12: Rafael Barrantes escavado | C12: E | D12: 371994 | E12: 233556 | G12: 0.4 | I12: =M12-G12 -> 7.23 | J12: =N12-G12 -> -0.4 | K12: 43180 | M12: 7.63

Sheet Mayo 2018
A1: Monitoreo Cuenca Quirimán
A3: N. | B3: Pozo | C3: Tipo | D3: Este | E3: Norte | F3: m.s.n.m. | G3: Brocal | H3: Profundidad (m) | I3: Nivel E (m) | J3: Nivel D (m) | K3: Fecha | M3: Nivel E (m) | N3: Nivel D (m)
A5: 1 | B5: #1 Asada Quiriman | C5: P | D5: 371747 | E5: 233146 | F5: 223 | G5: 0.2 | H5: 30 | I5: =M5-G5 -> -0.2 | J5: =N5-G5 -> 19.69 | K5: 43243 | N5: 19.89
A6: 2 | B6: #2 Asada Quiriman | C6: P | D6: 371188 | E6: 232816 | F6: 221 | G6: 0.48 | I6: =M6-G6 -> 4.57 | J6: =N6-G6 -> -0.48 | K6: 43243 | M6: 5.05
A7: 3 | B7: Frente escuela Quiriman | C7: E | D7: 371019 | E7: 232783 | F7: 206 | G7: 0.78 | H7: 15.45 | I7: Porton cerrado | K7: 43243 | M7: Sin acceso
A8: 4 | B8: Vianey Guevara | C8: E | D8: 370602 | E8: 232450 | F8: 214 | G8: 0.5 | I8: =M8-G8 -> 19.87 | J8: =N8-G8 -> -0.5 | K8: 43243 | M8: 20.37
A9: 5 | B9: Asada La Y Griega | C9: P | D9: 370992 | E9: 234494 | F9: 237 | G9: 0.17 | H9: 38 | I9: =M9-G9 -> #VALUE! | J9: =N9-G9 -> -0.17 | K9: 43243 | M9: Cerrado con llave
A10: 6 | B10: Casa Abandonada | C10: E | D10: 371175 | E10: 232773 | G10: 0.4 | H10: 7.95 | I10: =M10-G10 -> 6.26 | J10: =N10-G10 -> -0.4 | K10: 43243 | M10: 6.66
A11: 7 | B11: Rafael Barrantes perforado | C11: P | D11: 371948 | E11: 233360 | G11: 0.2 | I11: =M11-G11 -> 18.69 | J11: =N11-G11 -> -0.2 | K11: 43243 | M11: 18.89
A12: 8 | B12: Rafael Barrantes escavado | C12: E | D12: 371994 | E12: 233556 | G12: 0.4 | I12: =M12-G12 -> 8.13 | J12: =N12-G12 -> -0.4 | K12: 43243 | M12: 8.53

Sheet Junio 2018
A1: Monitoreo Cuenca Quirimán
A3: N. | B3: Pozo | C3: Tipo | D3: Este | E3: Norte | F3: m.s.n.m. | G3: Brocal | H3: Profundidad (m) | I3: Nivel E (m) | J3: Nivel D (m) | K3: Fecha | M3: Nivel E (m) | N3: Nivel D (m)
A5: 1 | B5: #1 Asada Quiriman | C5: P | D5: 371747 | E5: 233146 | F5: 223 | G5: 0.2 | H5: 30 | I5: =M5-G5 -> #VALUE! | J5: =N5-G5 -> -0.2 | K5: 43271 | M5: ASADA no disponible
A6: 2 | B6: #2 Asada Quiriman | C6: P | D6: 371188 | E6: 232816 | F6: 221 | G6: 0.48 | I6: =M6-G6 -> 4.62 | J6: =N6-G6 -> -0.48 | K6: 43271 | M6: 5.1
A7: 3 | B7: Frente escuela Quiriman | C7: E | D7: 371019 | E7: 232783 | F7: 206 | G7: 0.78 | H7: 15.45 | I7: Porton cerrado | K7: 43271 | M7: Sin acceso
A8: 4 | B8: Vianey Guevara | C8: E | D8: 370602 | E8: 232450 | F8: 214 | G8: 0.5 | I8: =M8-G8 -> 19.55 | J8: =N8-G8 -> -0.5 | K8: 43271 | M8: 20.05
A9: 5 | B9: Asada La Y Griega | C9: P | D9: 370992 | E9: 234494 | F9: 237 | G9: 0.17 | H9: 38 | I9: =M9-G9 -> 26.16 | J9: =N9-G9 -> -0.17 | K9: 43271 | M9: 26.33
A10: 6 | B10: Casa Abandonada | C10: E | D10: 371175 | E10: 232773 | G10: 0.4 | H10: 7.95 | I10: =M10-G10 -> 6.21 | J10: =N10-G10 -> -0.4 | K10: 43271 | M10: 6.61
A11: 7 | B11: Rafael Barrantes perforado | C11: P | D11: 371948 | E11: 233360 | G11: 0.2 | I11: =M11-G11 -> 19.08 | J11: =N11-G11 -> -0.2 | K11: 43271 | M11: 19.28
A12: 8 | B12: Rafael Barrantes escavado | C12: E | D12: 371994 | E12: 233556 | G12: 0.4 | I12: =M12-G12 -> 7.82 | J12: =N12-G12 -> -0.4 | K12: 43271 | M12: 8.22

Sheet Julio 2018
A1: Monitoreo Cuenca Quirimán
A3: N. | B3: Pozo | C3: Tipo | D3: Este | E3: Norte | F3: m.s.n.m. | G3: Brocal | H3: Profundidad (m) | I3: Nivel E (m) | J3: Nivel D (m) | K3: Fecha | M3: Nivel E (m) | N3: Nivel D (m)
A5: 1 | B5: #1 Asada Quiriman | C5: P | D5: 371747 | E5: 233146 | F5: 223 | G5: 0.2 | H5: 30 | I5: =M5-G5 -> 14.13 | J5: =N5-G5 -> -0.2 | K5: 43299 | M5: 14.33
A6: 2 | B6: #2 Asada Quiriman | C6: P | D6: 371188 | E6: 232816 | F6: 221 | G6: 0.48 | I6: =M6-G6 -> 4.62 | J6: =N6-G6 -> -0.48 | K6: 43300 | M6: 5.1
A7: 3 | B7: Frente escuela Quiriman | C7: E | D7: 371019 | E7: 232783 | F7: 206 | G7: 0.78 | H7: 15.45 | I7: Porton cerrado | K7: 43301 | M7: Sin acceso
A8: 4 | B8: Vianey Guevara | C8: E | D8: 370602 | E8: 232450 | F8: 214 | G8: 0.5 | I8: =M8-G8 -> 19.55 | J8: =N8-G8 -> -0.5 | K8: 43302 | M8: 20.05
A9: 5 | B9: Asada La Y Griega | C9: P | D9: 370992 | E9: 234494 | F9: 237 | G9: 0.17 | H9: 38 | I9: =M9-G9 -> 26.16 | J9: =N9-G9 -> -0.17 | K9: 43303 | M9: 26.33
A10: 6 | B10: Casa Abandonada | C10: E | D10: 371175 | E10: 232773 | G10: 0.4 | H10: 7.95 | I10: =M10-G10 -> 6.21 | J10: =N10-G10 -> -0.4 | K10: 43304 | M10: 6.61
A11: 7 | B11: Rafael Barrantes perforado | C11: P | D11: 371948 | E11: 233360 | G11: 0.2 | I11: =M11-G11 -> 19.08 | J11: =N11-G11 -> -0.2 | K11: 43305 | M11: 19.28
A12: 8 | B12: Rafael Barrantes escavado | C12: E | D12: 371994 | E12: 233556 | G12: 0.4 | I12: =M12-G12 -> 7.82 | J12: =N12-G12 -> -0.4 | K12: 43306 | M12: 8.22

Sheet Agosto 2018
A1: Monitoreo Cuenca Quirimán
A3: N. | B3: Pozo | C3: Tipo | D3: Este | E3: Norte | F3: m.s.n.m. | G3: Brocal | H3: Profundidad (m) | I3: Nivel E (m) | J3: Nivel D (m) | K3: Fecha | M3: Nivel E (m) | N3: Nivel D (m)
A5: 1 | B5: #1 Asada Quiriman | C5: P | D5: 371747 | E5: 233146 | F5: 223 | G5: 0.2 | H5: 30 | I5: =M5-G5 -> #VALUE! | J5: =N5-G5 -> -0.2 | K5: 43333 | M5: ASADA no disponible
A6: 2 | B6: #2 Asada Quiriman | C6: P | D6: 371188 | E6: 232816 | F6: 221 | G6: 0.48 | I6: =M6-G6 -> 2.5 | J6: =N6-G6 -> -0.48 | K6: 43333 | M6: 2.98
A7: 3 | B7: Frente escuela Quiriman | C7: E | D7: 371019 | E7: 232783 | F7: 206 | G7: 0.78 | H7: 15.45 | I7: Porton cerrado | K7: 43333 | M7: Sin acceso
A8: 4 | B8: Vianey Guevara | C8: E | D8: 370602 | E8: 232450 | F8: 214 | G8: 0.5 | I8: =M8-G8 -> 19.7 | J8: =N8-G8 -> -0.5 | K8: 43333 | M8: 20.2
A9: 5 | B9: Asada La Y Griega | C9: P | D9: 370992 | E9: 234494 | F9: 237 | G9: 0.17 | H9: 38 | I9: =M9-G9 -> #VALUE! | J9: =N9-G9 -> -0.17 | K9: 43333 | M9: Sin acceso
A10: 6 | B10: Casa Abandonada | C10: E | D10: 371175 | E10: 232773 | G10: 0.4 | H10: 7.95 | I10: =M10-G10 -> 4.18 | J10: =N10-G10 -> -0.4 | K10: 43333 | M10: 4.58
A11: 7 | B11: Rafael Barrantes perforado | C11: P | D11: 371948 | E11: 233360 | G11: 0.2 | I11: =M11-G11 -> 15.58 | J11: =N11-G11 -> -0.2 | K11: 43333 | M11: 15.78
A12: 8 | B12: Rafael Barrantes escavado | C12: E | D12: 371994 | E12: 233556 | G12: 0.4 | I12: =M12-G12 -> 3.58 | J12: =N12-G12 -> -0.4 | K12: 43333 | M12: 3.98

Sheet Setiembre 2018
A1: Monitoreo Cuenca Quirimán
A3: N. | B3: Pozo | C3: Tipo | D3: Este | E3: Norte | F3: m.s.n.m. | G3: Brocal | H3: Profundidad (m) | I3: Nivel E (m) | J3: Nivel D (m) | K3: Fecha | M3: Nivel E (m) | N3: Nivel D (m)
A5: 1 | B5: #1 Asada Quiriman | C5: P | D5: 371747 | E5: 233146 | F5: 223 | G5: 0.2 | H5: 30 | I5: =M5-G5 -> #VALUE! | J5: =N5-G5 -> -0.2 | K5: 43368 | M5: ASADA no disponible
A6: 2 | B6: #2 Asada Quiriman | C6: P | D6: 371188 | E6: 232816 | F6: 221 | G6: 0.48 | I6: =M6-G6 -> 2.48 | J6: =N6-G6 -> -0.48 | K6: 43368 | M6: 2.96
A7: 3 | B7: Frente escuela Quiriman | C7: E | D7: 371019 | E7: 232783 | F7: 206 | G7: 0.78 | H7: 15.45 | I7: Porton cerrado | K7: 43368 | M7: Sin acceso
A8: 4 | B8: Vianey Guevara | C8: E | D8: 370602 | E8: 232450 | F8: 214 | G8: 0.5 | I8: =M8-G8 -> 19.48 | J8: =N8-G8 -> -0.5 | K8: 43368 | M8: 19.98
A9: 5 | B9: Asada La Y Griega | C9: P | D9: 370992 | E9: 234494 | F9: 237 | G9: 0.17 | H9: 38 | I9: =M9-G9 -> #VALUE! | J9: =N9-G9 -> -0.17 | K9: 43368 | M9: Sin acceso
A10: 6 | B10: Casa Abandonada | C10: E | D10: 371175 | E10: 232773 | G10: 0.4 | H10: 7.95 | I10: =M10-G10 -> #VALUE! | J10: =N10-G10 -> -0.4 | K10: 43368 | M10: Sin acceso
A11: 7 | B11: Rafael Barrantes perforado | C11: P | D11: 371948 | E11: 233360 | G11: 0.2 | I11: =M11-G11 -> 15.32 | J11: =N11-G11 -> -0.2 | K11: 43368 | M11: 15.52
A12: 8 | B12: Rafael Barrantes escavado | C12: E | D12: 371994 | E12: 233556 | G12: 0.4 | I12: =M12-G12 -> #VALUE! | J12: =N12-G12 -> -0.4 | K12: 43368 | M12: Tapado

Sheet Octubre 2018
A1: Monitoreo Cuenca Quirimán
A3: N. | B3: Pozo | C3: Tipo | D3: Este | E3: Norte | F3: m.s.n.m. | G3: Brocal | H3: Profundidad (m) | I3: Nivel E (m) | J3: Nivel D (m) | K3: Fecha | M3: Nivel E (m) | N3: Nivel D (m)
A5: 1 | B5: #1 Asada Quiriman | C5: P | D5: 371747 | E5: 233146 | F5: 223 | G5: 0.2 | H5: 30 | I5: =M5-G5 -> #VALUE! | J5: =N5-G5 -> -0.2 | K5: 43397 | M5: ASADA no disponible
A6: 2 | B6: #2 Asada Quiriman | C6: P | D6: 371188 | E6: 232816 | F6: 221 | G6: 0.48 | I6: =M6-G6 -> 1.19 | J6: =N6-G6 -> -0.48 | K6: 43397 | M6: 1.67
A7: 3 | B7: Frente escuela Quiriman | C7: E | D7: 371019 | E7: 232783 | F7: 206 | G7: 0.78 | H7: 15.45 | I7: Porton cerrado | K7: 43397 | M7: Sin acceso
A8: 4 | B8: Vianey Guevara | C8: E | D8: 370602 | E8: 232450 | F8: 214 | G8: 0.5 | I8: =M8-G8 -> 18.95 | J8: =N8-G8 -> -0.5 | K8: 43397 | M8: 19.45
A9: 5 | B9: Asada La Y Griega | C9: P | D9: 370992 | E9: 234494 | F9: 237 | G9: 0.17 | H9: 38 | I9: =M9-G9 -> 15.28 | J9: =N9-G9 -> -0.17 | K9: 43397 | M9: 15.45
A10: 6 | B10: Casa Abandonada | C10: E | D10: 371175 | E10: 232773 | G10: 0.4 | H10: 7.95 | I10: =M10-G10 -> 3.14 | J10: =N10-G10 -> -0.4 | K10: 43397 | M10: 3.54
A11: 7 | B11: Rafael Barrantes perforado | C11: P | D11: 371948 | E11: 233360 | G11: 0.2 | I11: =M11-G11 -> 13.38 | J11: =N11-G11 -> -0.2 | K11: 43397 | M11: 13.58
A12: 8 | B12: Rafael Barrantes escavado | C12: E | D12: 371994 | E12: 233556 | G12: 0.4 | I12: =M12-G12 -> 2.7 | J12: =N12-G12 -> -0.4 | K12: 43397 | M12: 3.1

Sheet Noviembre 2018
A1: Monitoreo Cuenca Quirimán
A3: N. | B3: Pozo | C3: Tipo | D3: Este | E3: Norte | F3: m.s.n.m. | G3: Brocal | H3: Profundidad (m) | I3: Nivel E (m) | J3: Nivel D (m) | K3: Fecha | M3: Nivel E (m) | N3: Nivel D (m)
A5: 1 | B5: #1 Asada Quiriman | C5: P | D5: 371747 | E5: 233146 | F5: 223 | G5: 0.2 | H5: 30 | I5: =M5-G5 -> #VALUE! | J5: =N5-G5 -> -0.2 | K5: 43397 | M5: ASADA no disponible
A6: 2 | B6: #2 Asada Quiriman | C6: P | D6: 371188 | E6: 232816 | F6: 221 | G6: 0.48 | I6: =M6-G6 -> 1.77 | J6: =N6-G6 -> -0.48 | K6: 43397 | M6: 2.25
A7: 3 | B7: Frente escuela Quiriman | C7: E | D7: 371019 | E7: 232783 | F7: 206 | G7: 0.78 | H7: 15.45 | I7: Porton cerrado | K7: 43397 | M7: Sin acceso
A8: 4 | B8: Vianey Guevara | C8: E | D8: 370602 | E8: 232450 | F8: 214 | G8: 0.5 | I8: =M8-G8 -> 19.23 | J8: =N8-G8 -> -0.5 | K8: 43397 | M8: 19.73
A9: 5 | B9: Asada La Y Griega | C9: P | D9: 370992 | E9: 234494 | F9: 237 | G9: 0.17 | H9: 38 | I9: =M9-G9 -> 15.76 | J9: =N9-G9 -> -0.17 | K9: 43397 | M9: 15.93
A10: 6 | B10: Casa Abandonada | C10: E | D10: 371175 | E10: 232773 | G10: 0.4 | H10: 7.95 | I10: =M10-G10 -> 2.78 | J10: =N10-G10 -> -0.4 | K10: 43397 | M10: 3.18
A11: 7 | B11: Rafael Barrantes perforado | C11: P | D11: 371948 | E11: 233360 | G11: 0.2 | I11: =M11-G11 -> 14.73 | J11: =N11-G11 -> -0.2 | K11: 43397 | M11: 14.93
A12: 8 | B12: Rafael Barrantes escavado | C12: E | D12: 371994 | E12: 233556 | G12: 0.4 | I12: =M12-G12 -> 3.25 | J12: =N12-G12 -> -0.4 | K12: 43397 | M12: 3.65

Sheet Diciembre 2018
A1: Monitoreo Cuenca Quirimán
A3: N. | B3: Pozo | C3: Tipo | D3: Este | E3: Norte | F3: m.s.n.m. | G3: Brocal | H3: Profundidad (m) | I3: Nivel E (m) | J3: Nivel D (m) | K3: Fecha | M3: Nivel E (m) | N3: Nivel D (m)
A5: 1 | B5: #1 Asada Quiriman | C5: P | D5: 371747 | E5: 233146 | F5: 223 | G5: 0.2 | H5: 30 | I5: =M5-G5 -> #VALUE! | J5: =N5-G5 -> -0.2 | K5: 43445 | M5: ASADA no disponible
A6: 2 | B6: #2 Asada Quiriman | C6: P | D6: 371188 | E6: 232816 | F6: 221 | G6: 0.48 | I6: =M6-G6 -> 0.95 | J6: =N6-G6 -> -0.48 | K6: 43445 | M6: 1.43
A7: 3 | B7: Frente escuela Quiriman | C7: E | D7: 371019 | E7: 232783 | F7: 206 | G7: 0.78 | H7: 15.45 | I7: Porton cerrado | K7: 43445 | M7: Sin acceso
A8: 4 | B8: Vianey Guevara | C8: E | D8: 370602 | E8: 232450 | F8: 214 | G8: 0.5 | I8: =M8-G8 -> 19.38 | J8: =N8-G8 -> -0.5 | K8: 43445 | M8: 19.88
A9: 5 | B9: Asada La Y Griega | C9: P | D9: 370992 | E9: 234494 | F9: 237 | G9: 0.17 | H9: 38 | I9: =M9-G9 -> 16.18 | J9: =N9-G9 -> -0.17 | K9: 43445 | M9: 16.35
A10: 6 | B10: Casa Abandonada | C10: E | D10: 371175 | E10: 232773 | G10: 0.4 | H10: 7.95 | I10: =M10-G10 -> 3.77 | J10: =N10-G10 -> -0.4 | K10: 43445 | M10: 4.17
A11: 7 | B11: Rafael Barrantes perforado | C11: P | D11: 371948 | E11: 233360 | G11: 0.2 | I11: =M11-G11 -> #VALUE! | J11: =N11-G11 -> -0.2 | K11: 43445 | M11: cerrado
A12: 8 | B12: Rafael Barrantes escavado | C12: E | D12: 371994 | E12: 233556 | G12: 0.4 | I12: =M12-G12 -> 3.38 | J12: =N12-G12 -> -0.4 | K12: 43445 | M12: 3.78

Sheet Enero 2019
A1: Monitoreo Cuenca Quirimán
A3: N. | B3: Pozo | C3: Tipo | D3: Este | E3: Norte | F3: m.s.n.m. | G3: Brocal | H3: Profundidad (m) | I3: Nivel E (m) | J3: Nivel D (m) | K3: Fecha | M3: Nivel E (m) | N3: Nivel D (m)
A5: 1 | B5: #1 Asada Quiriman | C5: P | D5: 371747 | E5: 233146 | F5: 223 | G5: 0.2 | H5: 30 | I5: =M5-G5 -> -0.2 | J5: =N5-G5 -> 14.8 | K5: 43489 | N5: 15
A6: 2 | B6: #2 Asada Quiriman | C6: P | D6: 371188 | E6: 232816 | F6: 221 | G6: 0.48 | I6: =M6-G6 -> 2.39 | J6: =N6-G6 -> -0.48 | K6: 43489 | M6: 2.87
A7: 3 | B7: Frente escuela Quiriman | C7: E | D7: 371019 | E7: 232783 | F7: 206 | G7: 0.78 | H7: 15.45 | I7: Porton cerrado | K7: 43489 | M7: Sin acceso
A8: 4 | B8: Vianey Guevara | C8: E | D8: 370602 | E8: 232450 | F8: 214 | G8: 0.5 | I8: =M8-G8 -> 19.56 | J8: =N8-G8 -> -0.5 | K8: 43489 | M8: 20.06
A9: 5 | B9: Asada La Y Griega | C9: P | D9: 370992 | E9: 234494 | F9: 237 | G9: 0.17 | H9: 38 | I9: =M9-G9 -> -0.17 | J9: =N9-G9 -> 20.18 | K9: 43489 | N9: 20.35
A10: 6 | B10: Casa Abandonada | C10: E | D10: 371175 | E10: 232773 | G10: 0.4 | H10: 7.95 | I10: =M10-G10 -> 4.21 | J10: =N10-G10 -> -0.4 | K10: 43489 | M10: 4.61
A11: 7 | B11: Rafael Barrantes perforado | C11: P | D11: 371948 | E11: 233360 | G11: 0.2 | I11: =M11-G11 -> 15.58 | J11: =N11-G11 -> -0.2 | K11: 43489 | M11: 15.78
A12: 8 | B12: Rafael Barrantes escavado | C12: E | D12: 371994 | E12: 233556 | G12: 0.4 | I12: =M12-G12 -> 4.24 | J12: =N12-G12 -> -0.4 | K12: 43489 | M12: 4.64

Sheet Febrero 2019
A1: Monitoreo Cuenca Quirimán
A3: N. | B3: Pozo | C3: Tipo | D3: Este | E3: Norte | F3: m.s.n.m. | G3: Brocal | H3: Profundidad (m) | I3: Nivel E (m) | J3: Nivel D (m) | K3: Fecha | M3: Nivel E (m) | N3: Nivel D (m)
A5: 1 | B5: #1 Asada Quiriman | C5: P | D5: 371747 | E5: 233146 | F5: 223 | G5: 0.2 | H5: 30 | I5: =M5-G5 -> 15.47 | J5: =N5-G5 -> -0.2 | K5: 43515 | M5: 15.67
A6: 2 | B6: #2 Asada Quiriman | C6: P | D6: 371188 | E6: 232816 | F6: 221 | G6: 0.48 | I6: =M6-G6 -> 3.01 | J6: =N6-G6 -> -0.48 | K6: 43515 | M6: 3.49
A7: 3 | B7: Frente escuela Quiriman | C7: E | D7: 371019 | E7: 232783 | F7: 206 | G7: 0.78 | H7: 15.45 | I7: Porton cerrado | K7: 43515 | M7: Sin acceso
A8: 4 | B8: Vianey Guevara | C8: E | D8: 370602 | E8: 232450 | F8: 214 | G8: 0.5 | I8: =M8-G8 -> 19.59 | J8: =N8-G8 -> -0.5 | K8: 43515 | M8: 20.09
A9: 5 | B9: Asada La Y Griega | C9: P | D9: 370992 | E9: 234494 | F9: 237 | G9: 0.17 | H9: 38 | I9: =M9-G9 -> 20.59 | J9: =N9-G9 -> -0.17 | K9: 43515 | M9: 20.76
A10: 6 | B10: Casa Abandonada | C10: E | D10: 371175 | E10: 232773 | G10: 0.4 | H10: 7.95 | I10: =M10-G10 -> 4.81 | J10: =N10-G10 -> -0.4 | K10: 43515 | M10: 5.21
A11: 7 | B11: Rafael Barrantes perforado | C11: P | D11: 371948 | E11: 233360 | G11: 0.2 | I11: =M11-G11 -> 15.89 | J11: =N11-G11 -> -0.2 | K11: 43515 | M11: 16.09
A12: 8 | B12: Rafael Barrantes escavado | C12: E | D12: 371994 | E12: 233556 | G12: 0.4 | I12: =M12-G12 -> 5.14 | J12: =N12-G12 -> -0.4 | K12: 43515 | M12: 5.54

Sheet Marzo 2019
A1: Monitoreo Cuenca Quirimán
A3: N. | B3: Pozo | C3: Tipo | D3: Este | E3: Norte | F3: m.s.n.m. | G3: Brocal | H3: Profundidad (m) | I3: Nivel E (m) | J3: Nivel D (m) | K3: Fecha | M3: Nivel E (m) | N3: Nivel D (m)
A5: 1 | B5: #1 Asada Quiriman | C5: P | D5: 371747 | E5: 233146 | F5: 223 | G5: 0.2 | H5: 30 | I5: =M5-G5 -> -0.2 | J5: =N5-G5 -> 16.91 | K5: 43552 | N5: 17.11
A6: 2 | B6: #2 Asada Quiriman | C6: P | D6: 371188 | E6: 232816 | F6: 221 | G6: 0.48 | I6: =M6-G6 -> 3.89 | J6: =N6-G6 -> -0.48 | K6: 43552 | M6: 4.37
A7: 3 | B7: Frente escuela Quiriman | C7: E | D7: 371019 | E7: 232783 | F7: 206 | G7: 0.78 | H7: 15.45 | I7: Porton cerrado | K7: 43552 | M7: Sin acceso
A8: 4 | B8: Vianey Guevara | C8: E | D8: 370602 | E8: 232450 | F8: 214 | G8: 0.5 | I8: =M8-G8 -> 19.78 | J8: =N8-G8 -> -0.5 | K8: 43552 | M8: 20.28
A9: 5 | B9: Asada La Y Griega | C9: P | D9: 370992 | E9: 234494 | F9: 237 | G9: 0.17 | H9: 38 | I9: =M9-G9 -> 22.12 | J9: =N9-G9 -> -0.17 | K9: 43552 | M9: 22.29
A10: 6 | B10: Casa Abandonada | C10: E | D10: 371175 | E10: 232773 | G10: 0.4 | H10: 7.95 | I10: =M10-G10 -> 5.62 | J10: =N10-G10 -> -0.4 | K10: 43552 | M10: 6.02
A11: 7 | B11: Rafael Barrantes perforado | C11: P | D11: 371948 | E11: 233360 | G11: 0.2 | I11: =M11-G11 -> 16.85 | J11: =N11-G11 -> -0.2 | K11: 43552 | M11: 17.05
A12: 8 | B12: Rafael Barrantes escavado | C12: E | D12: 371994 | E12: 233556 | G12: 0.4 | I12: =M12-G12 -> 6.33 | J12: =N12-G12 -> -0.4 | K12: 43552 | M12: 6.73

Sheet Abril 2019
A1: Monitoreo Cuenca Quirimán
A3: N. | B3: Pozo | C3: Tipo | D3: Este | E3: Norte | F3: m.s.n.m. | G3: Brocal | H3: Profundidad (m) | I3: Nivel E (m) | J3: Nivel D (m) | K3: Fecha | M3: Nivel E (m) | N3: Nivel D (m)
A5: 1 | B5: #1 Asada Quiriman | C5: P | D5: 371747 | E5: 233146 | F5: 223 | G5: 0.2 | H5: 30 | I5: =M5-G5 -> -0.2 | J5: =N5-G5 -> 18.57 | K5: 43579 | N5: 18.77
A6: 2 | B6: #2 Asada Quiriman | C6: P | D6: 371188 | E6: 232816 | F6: 221 | G6: 0.48 | I6: =M6-G6 -> 4.41 | J6: =N6-G6 -> -0.48 | K6: 43579 | M6: 4.89
A7: 3 | B7: Frente escuela Quiriman | C7: E | D7: 371019 | E7: 232783 | F7: 206 | G7: 0.78 | H7: 15.45 | I7: Porton cerrado | K7: 43579 | M7: Sin acceso
A8: 4 | B8: Vianey Guevara | C8: E | D8: 370602 | E8: 232450 | F8: 214 | G8: 0.5 | I8: =M8-G8 -> 19.79 | J8: =N8-G8 -> -0.5 | K8: 43579 | M8: 20.29
A9: 5 | B9: Asada La Y Griega | C9: P | D9: 370992 | E9: 234494 | F9: 237 | G9: 0.17 | H9: 38 | I9: =M9-G9 -> #VALUE! | J9: =N9-G9 -> -0.17 | K9: 43579 | M9: sonda no marca
A10: 6 | B10: Casa Abandonada | C10: E | D10: 371175 | E10: 232773 | G10: 0.4 | H10: 7.95 | I10: =M10-G10 -> 6.13 | J10: =N10-G10 -> -0.4 | K10: 43579 | M10: 6.53
A11: 7 | B11: Rafael Barrantes perforado | C11: P | D11: 371948 | E11: 233360 | G11: 0.2 | I11: =M11-G11 -> 17.79 | J11: =N11-G11 -> -0.2 | K11: 43579 | M11: 17.99
A12: 8 | B12: Rafael Barrantes escavado | C12: E | D12: 371994 | E12: 233556 | G12: 0.4 | I12: =M12-G12 -> 8.23 | J12: =N12-G12 -> -0.4 | K12: 43579 | M12: 8.63

Sheet Mayo 2019
A1: Monitoreo Cuenca Quirimán
A3: N. | B3: Pozo | C3: Tipo | D3: Este | E3: Norte | F3: m.s.n.m. | G3: Brocal | H3: Profundidad (m) | I3: Nivel E (m) | J3: Nivel D (m) | K3: Fecha | M3: Nivel E (m) | N3: Nivel D (m)
A5: 1 | B5: #1 Asada Quiriman | C5: P | D5: 371747 | E5: 233146 | F5: 223 | G5: 0.2 | H5: 30 | I5: =M5-G5 -> 16.4 | J5: =N5-G5 -> -0.2 | K5: 43607 | M5: 16.6
A6: 2 | B6: #2 Asada Quiriman | C6: P | D6: 371188 | E6: 232816 | F6: 221 | G6: 0.48 | I6: =M6-G6 -> 4.8 | J6: =N6-G6 -> -0.48 | K6: 43607 | M6: 5.28
A7: 3 | B7: Frente escuela Quiriman | C7: E | D7: 371019 | E7: 232783 | F7: 206 | G7: 0.78 | H7: 15.45 | I7: Porton cerrado | K7: 43607 | M7: Sin acceso
A8: 4 | B8: Vianey Guevara | C8: E | D8: 370602 | E8: 232450 | F8: 214 | G8: 0.5 | I8: =M8-G8 -> 19.76 | J8: =N8-G8 -> -0.5 | K8: 43607 | M8: 20.26
A9: 5 | B9: Asada La Y Griega | C9: P | D9: 370992 | E9: 234494 | F9: 237 | G9: 0.17 | H9: 38 | I9: =M9-G9 -> 24.47 | J9: =N9-G9 -> -0.17 | K9: 43607 | M9: 24.64
A10: 6 | B10: Casa Abandonada | C10: E | D10: 371175 | E10: 232773 | G10: 0.4 | H10: 7.95 | I10: =M10-G10 -> 6.45 | J10: =N10-G10 -> -0.4 | K10: 43607 | M10: 6.85
A11: 7 | B11: Rafael Barrantes perforado | C11: P | D11: 371948 | E11: 233360 | G11: 0.2 | I11: =M11-G11 -> 18.84 | J11: =N11-G11 -> -0.2 | K11: 43607 | M11: 19.04
A12: 8 | B12: Rafael Barrantes escavado | C12: E | D12: 371994 | E12: 233556 | G12: 0.4 | I12: =M12-G12 -> 9.55 | J12: =N12-G12 -> -0.4 | K12: 43607 | M12: 9.95

Sheet Junio 2019
A1: Monitoreo Cuenca Quirimán
A3: N. | B3: Pozo | C3: Tipo | D3: Este | E3: Norte | F3: m.s.n.m. | G3: Brocal | H3: Profundidad (m) | I3: Nivel E (m) | J3: Nivel D (m) | K3: Fecha | M3: Nivel E (m) | N3: Nivel D (m)
A5: 1 | B5: #1 Asada Quiriman | C5: P | D5: 371747 | E5: 233146 | F5: 223 | G5: 0.2 | H5: 30 | I5: =M5-G5 -> -0.2 | J5: =N5-G5 -> 19.06 | K5: 43635 | N5: 19.26
A6: 2 | B6: #2 Asada Quiriman | C6: P | D6: 371188 | E6: 232816 | F6: 221 | G6: 0.48 | I6: =M6-G6 -> 5.12 | J6: =N6-G6 -> -0.48 | K6: 43635 | M6: 5.6
A7: 3 | B7: Frente escuela Quiriman | C7: E | D7: 371019 | E7: 232783 | F7: 206 | G7: 0.78 | H7: 15.45 | I7: Porton cerrado | K7: 43635 | M7: Sin acceso
A8: 4 | B8: Vianey Guevara | C8: E | D8: 370602 | E8: 232450 | F8: 214 | G8: 0.5 | I8: =M8-G8 -> 19.67 | J8: =N8-G8 -> -0.5 | K8: 43635 | M8: 20.17
A9: 5 | B9: Asada La Y Griega | C9: P | D9: 370992 | E9: 234494 | F9: 237 | G9: 0.17 | H9: 38 | I9: =M9-G9 -> 26.04 | J9: =N9-G9 -> -0.17 | K9: 43635 | M9: 26.21
A10: 6 | B10: Casa Abandonada | C10: E | D10: 371175 | E10: 232773 | G10: 0.4 | H10: 7.95 | I10: =M10-G10 -> 6.73 | J10: =N10-G10 -> -0.4 | K10: 43635 | M10: 7.13
A11: 7 | B11: Rafael Barrantes perforado | C11: P | D11: 371948 | E11: 233360 | G11: 0.2 | I11: =M11-G11 -> 18.96 | J11: =N11-G11 -> -0.2 | K11: 43635 | M11: 19.16
A12: 8 | B12: Rafael Barrantes escavado | C12: E | D12: 371994 | E12: 233556 | G12: 0.4 | I12: =M12-G12 -> 7.45 | J12: =N12-G12 -> -0.4 | K12: 43635 | M12: 7.85

Sheet Julio 2019
A1: Monitoreo Cuenca Quirimán
A3: N. | B3: Pozo | C3: Tipo | D3: Este | E3: Norte | F3: m.s.n.m. | G3: Brocal | H3: Profundidad (m) | I3: Nivel E (m) | J3: Nivel D (m) | K3: Fecha | M3: Nivel E (m) | N3: Nivel D (m)
A5: 1 | B5: #1 Asada Quiriman | C5: P | D5: 371747 | E5: 233146 | F5: 223 | G5: 0.2 | H5: 30 | I5: =M5-G5 -> 16.3 | J5: =N5-G5 -> -0.2 | K5: 43662 | M5: 16.5
A6: 2 | B6: #2 Asada Quiriman | C6: P | D6: 371188 | E6: 232816 | F6: 221 | G6: 0.48 | I6: =M6-G6 -> 4.9 | J6: =N6-G6 -> -0.48 | K6: 43662 | M6: 5.38
A7: 3 | B7: Frente escuela Quiriman | C7: E | D7: 371019 | E7: 232783 | F7: 206 | G7: 0.78 | H7: 15.45 | I7: Porton cerrado | K7: 43662 | M7: Sin acceso
A8: 4 | B8: Vianey Guevara | C8: E | D8: 370602 | E8: 232450 | F8: 214 | G8: 0.5 | I8: =M8-G8 -> 19.65 | J8: =N8-G8 -> -0.5 | K8: 43662 | M8: 20.15
A9: 5 | B9: Asada La Y Griega | C9: P | D9: 370992 | E9: 234494 | F9: 237 | G9: 0.17 | H9: 38 | I9: =M9-G9 -> -0.17 | J9: =N9-G9 -> 32.59 | K9: 43662 | N9: 32.76
A10: 6 | B10: Casa Abandonada | C10: E | D10: 371175 | E10: 232773 | G10: 0.4 | H10: 7.95 | I10: =M10-G10 -> 6.52 | J10: =N10-G10 -> -0.4 | K10: 43662 | M10: 6.92
A11: 7 | B11: Rafael Barrantes perforado | C11: P | D11: 371948 | E11: 233360 | G11: 0.2 | I11: =M11-G11 -> 17.46 | J11: =N11-G11 -> -0.2 | K11: 43662 | M11: 17.66
A12: 8 | B12: Rafael Barrantes escavado | C12: E | D12: 371994 | E12: 233556 | G12: 0.4 | I12: =M12-G12 -> 4.76 | J12: =N12-G12 -> -0.4 | K12: 43662 | M12: 5.16

Sheet Agosto 2019
A1: Monitoreo Cuenca Quirimán
A3: N. | B3: Pozo | C3: Tipo | D3: Este | E3: Norte | F3: m.s.n.m. | G3: Brocal | H3: Profundidad (m) | I3: Nivel E (m) | J3: Nivel D (m) | K3: Fecha | M3: Nivel E (m) | N3: Nivel D (m)
A5: 1 | B5: #1 Asada Quiriman | C5: P | D5: 371747 | E5: 233146 | F5: 223 | G5: 0.2 | H5: 30 | I5: =M5-G5 -> 15.03 | J5: =N5-G5 -> -0.2 | K5: 43697 | M5: 15.23
A6: 2 | B6: #2 Asada Quiriman | C6: P | D6: 371188 | E6: 232816 | F6: 221 | G6: 0.48 | I6: =M6-G6 -> 4.76 | J6: =N6-G6 -> -0.48 | M6: 5.24
A7: 3 | B7: Frente escuela Quiriman | C7: E | D7: 371019 | E7: 232783 | F7: 206 | G7: 0.78 | H7: 15.45 | I7: Porton cerrado | M7: Sin acceso
A8: 4 | B8: Vianey Guevara | C8: E | D8: 370602 | E8: 232450 | F8: 214 | G8: 0.5 | I8: =M8-G8 -> 19.81 | J8: =N8-G8 -> -0.5 | M8: 20.31
A9: 5 | B9: Asada La Y Griega | C9: P | D9: 370992 | E9: 234494 | F9: 237 | G9: 0.17 | H9: 38 | I9: =M9-G9 -> -0.17 | J9: =N9-G9 -> 32.92 | N9: 33.09
A10: 6 | B10: Casa Abandonada | C10: E | D10: 371175 | E10: 232773 | G10: 0.4 | H10: 7.95 | I10: =M10-G10 -> 10.62 | J10: =N10-G10 -> -0.4 | M10: 11.02
A11: 7 | B11: Rafael Barrantes perforado | C11: P | D11: 371948 | E11: 233360 | G11: 0.2 | I11: =M11-G11 -> 16.27 | J11: =N11-G11 -> -0.2 | M11: 16.47
A12: 8 | B12: Rafael Barrantes escavado | C12: E | D12: 371994 | E12: 233556 | G12: 0.4 | I12: =M12-G12 -> 4.05 | J12: =N12-G12 -> -0.4 | M12: 4.45

Sheet Setiembre 2019
A1: Monitoreo Cuenca Quirimán
A3: N. | B3: Pozo | C3: Tipo | D3: Este | E3: Norte | F3: m.s.n.m. | G3: Brocal | H3: Profundidad (m) | I3: Nivel E (m) | J3: Nivel D (m) | K3: Fecha | M3: Nivel E (m) | N3: Nivel D (m)
A5: 1 | B5: #1 Asada Quiriman | C5: P | D5: 371747 | E5: 233146 | F5: 223 | G5: 0.2 | H5: 30 | I5: =M5-G5 -> 14.08 | J5: =N5-G5 -> -0.2 | K5: 43733 | M5: 14.28
A6: 2 | B6: #2 Asada Quiriman | C6: P | D6: 371188 | E6: 232816 | F6: 221 | G6: 0.48 | I6: =M6-G6 -> 3.96 | J6: =N6-G6 -> -0.48 | M6: 4.44
A7: 3 | B7: Frente escuela Quiriman | C7: E | D7: 371019 | E7: 232783 | F7: 206 | G7: 0.78 | H7: 15.45 | I7: Porton cerrado | M7: Sin acceso
