Workbook

Sheet Octubre 2015
A1: Monitoreo Cuenca Quirimán
A3: Nº | B3: Nombre de Pozo | C3: Lon | D3: Lat | E3: Br (m) | I3: N.E. | J3: N.D. | K3: Fecha | M3: N.E. | N3: N.D.
A4: 1 | B4: Pozo 1 Asada Quirimán | C4: 371747 | D4: 233146 | E4: 0.2 | J4: =N4-E4 -> 19.7 | K4: 42345 | N4: 19.9
A5: 2 | B5: Oscar García | C5: 371019 | D5: 232783 | E5: 0.78 | I5: =M5-E5 -> 13.48 | K5: 42345 | M5: 14.26
A7: 3 | B7: Vianey Guevara | C7: 370602 | D7: 232450 | E7: 0.5 | I7: =M7-E7 -> 19.82 | K7: 42346 | M7: 20.32
A8: 4 | B8: Pozo Asada La Y Griega | C8: 370992 | D8: 234494 | E8: 0.17 | J8: =N8-E8 -> 28.53 | K8: 42345 | N8: 28.7

Sheet Diciembre 2015
A1: Monitoreo Cuenca Quirimán
A3: Nº | B3: Nombre de Pozo | C3: Lon | D3: Lat | E3: Br (m) | I3: N.E. | J3: N.D. | K3: Fecha | M3: N.E. | N3: N.D.
A4: 1 | B4: Pozo 1 Asada Quirimán | C4: 371747 | D4: 233146 | E4: 0.2 | I4: - | J4: =N4-E4 -> 13.93 | K4: 42345 | M4: - | N4: 14.13
A5: 2 | B5: Oscar García | C5: 371019 | D5: 232783 | E5: 0.78 | I5: =M5-E5 -> 11.45 | J5: - | K5: 42345 | M5: 12.23 | N5: -
A7: 3 | B7: Vianey Guevara | C7: 370602 | D7: 232450 | E7: 0.5 | I7: =M7-E7 -> 19.7 | J7: - | K7: 42346 | M7: 20.2 | N7: -
A8: 4 | B8: Pozo Asada La Y Griega | C8: 370992 | D8: 234494 | E8: 0.17 | I8: =M8-E8 -> 22.04 | J8: - | K8: 42345 | M8: 22.21 | N8: -

Sheet Enero 2016
A1: Monitoreo Cuenca Quirimán
A3: N. | B3: Pozo | C3: Tipo | D3: Este | E3: Norte | F3: m.s.n.m. | G3: Brocal | H3: Profundidad (m) | I3: Nivel E (m) | J3: Nivel D (m) | K3: Fecha | M3: Nivel E (m) | N3: Nivel D (m)
A4: 1 | B4: #1 Asada Quiriman | C4: P | D4: 371747 | E4: 233146 | F4: 223 | G4: 0.2 | I4: =M4-G4 -> 12.78 | K4: 42394 | M4: 12.98
A5: 2 | B5: #2 Asada Quiriman | C5: P | D5: 371188 | E5: 232816 | F5: 221 | G5: 0.48 | I5: =M5-G5 -> 2.85 | K5: 42394 | M5: 3.33
A6: 3 | B6: Frente escuela Quiriman | C6: E | D6: 371019 | E6: 232783 | F6: 206 | G6: 0.78 | I6: =M6-G6 -> 11.55 | K6: 42394 | M6: 12.33
A7: 4 | B7: Vianey Guevara | C7: E | D7: 370602 | E7: 232450 | F7: 214 | G7: 0.5 | I7: =M7-G7 -> 20.28 | K7: 42394 | M7: 20.78
A8: 5 | B8: Asada La Y Griega | C8: P | D8: 370992 | E8: 234494 | F8: 237 | G8: 0.17 | H8: 38 | I8: =M8-G8 -> 21.58 | K8: 42394 | M8: 21.75

Sheet Febrero 2016
A1: Monitoreo Cuenca Quirimán
A3: N. | B3: Pozo | C3: Tipo | D3: Este | E3: Norte | F3: m.s.n.m. | G3: Brocal | H3: Profundidad (m) | I3: Nivel E (m) | J3: Nivel D (m) | K3: Fecha | M3: Nivel E (m) | N3: Nivel D (m)
A4: 1 | B4: #1 Asada Quiriman | C4: P | D4: 371747 | E4: 233146 | F4: 223 | G4: 0.2 | I4: =M4-G4 -> 3.43 | K4: 42394 | M4: 3.63
A5: 2 | B5: #2 Asada Quiriman | C5: P | D5: 371188 | E5: 232816 | F5: 221 | G5: 0.48 | I5: - | K5: 42394 | M5: -
A6: 3 | B6: Frente escuela Quiriman | C6: E | D6: 371019 | E6: 232783 | F6: 206 | G6: 0.78 | I6: =M6-G6 -> 12.12 | K6: 42394 | M6: 12.9
A7: 4 | B7: Vianey Guevara | C7: E | D7: 370602 | E7: 232450 | F7: 214 | G7: 0.5 | I7: =M7-G7 -> 19.88 | K7: 42394 | M7: 20.38
A8: 5 | B8: Asada La Y Griega | C8: P | D8: 370992 | E8: 234494 | F8: 237 | G8: 0.17 | H8: 38 | I8: =M8-G8 -> 22.76 | K8: 42394 | M8: 22.93
A9: 6 | B9: Casa Abandonada | C9: E | G9: 0.4 | I9: =M9-G9 -> 4.91 | K9: 42459 | M9: 5.31

Sheet Marzo 2016
A1: Monitoreo Cuenca Quirimán
A3: N. | B3: Pozo | C3: Tipo | D3: Este | E3: Norte | F3: m.s.n.m. | G3: Brocal | H3: Profundidad (m) | I3: Nivel E (m) | J3: Nivel D (m) | K3: Fecha | M3: Nivel E (m) | N3: Nivel D (m)
A5: 1 | B5: #1 Asada Quiriman | C5: P | D5: 371747 | E5: 233146 | F5: 223 | G5: 0.2 | H5: 30 | I5: =M5-G5 -> 14.44 | K5: 42459 | M5: 14.64
A6: 2 | B6: #2 Asada Quiriman | C6: P | D6: 371188 | E6: 232816 | F6: 221 | G6: 0.48 | I6: =M6-G6 -> 3.97 | K6: 42459 | M6: 4.45
A7: 3 | B7: Frente escuela Quiriman | C7: E | D7: 371019 | E7: 232783 | F7: 206 | G7: 0.78 | H7: 15.45 | I7: =M7-G7 -> 12.88 | K7: 42459 | M7: 13.66
A8: 4 | B8: Vianey Guevara | C8: E | D8: 370602 | E8: 232450 | F8: 214 | G8: 0.5 | I8: =M8-G8 -> 20.23 | K8: 42459 | M8: 20.73
A9: 5 | B9: Asada La Y Griega | C9: P | D9: 370992 | E9: 234494 | F9: 237 | G9: 0.17 | H9: 38 | I9: =M9-G9 -> 25.6 | K9: 42459 | M9: 25.77
A10: 6 | B10: Casa Abandonada | C10: E | D10: 371175 | E10: 232773 | G10: 0.4 | H10: 7.95 | I10: =M10-G10 -> 5.87 | K10: 42459 | M10: 6.27

Sheet Abril 2016
A1: Monitoreo Cuenca Quirimán
A3: N. | B3: Pozo | C3: Tipo | D3: Este | E3: Norte | F3: m.s.n.m. | G3: Brocal | H3: Profundidad (m) | I3: Nivel E (m) | J3: Nivel D (m) | K3: Fecha | M3: Nivel E (m) | N3: Nivel D (m)
A5: 1 | B5: #1 Asada Quiriman | C5: P | D5: 371747 | E5: 233146 | F5: 223 | G5: 0.2 | H5: 30 | I5: =M5-G5 -> 15.14 | K5: 42487 | M5: 15.34
A6: 2 | B6: #2 Asada Quiriman | C6: P | D6: 371188 | E6: 232816 | F6: 221 | G6: 0.48 | I6: No bajó la sonda | K6: 42487 | M6: sd
A7: 3 | B7: Frente escuela Quiriman | C7: E | D7: 371019 | E7: 232783 | F7: 206 | G7: 0.78 | H7: 15.45 | I7: =M7-G7 -> 13.07 | K7: 42487 | M7: 13.85
A8: 4 | B8: Vianey Guevara | C8: E | D8: 370602 | E8: 232450 | F8: 214 | G8: 0.5 | I8: No bajó la sonda | K8: 42487 | M8: sd
A9: 5 | B9: Asada La Y Griega | C9: P | D9: 370992 | E9: 234494 | F9: 237 | G9: 0.17 | H9: 38 | I9: =M9-G9 -> 24.56 | K9: 42487 | M9: 24.73
A10: 6 | B10: Casa Abandonada | C10: E | D10: 371175 | E10: 232773 | G10: 0.4 | H10: 7.95 | I10: =M10-G10 -> 6.2 | K10: 42487 | M10: 6.6

Sheet Mayo 2016
A1: Monitoreo Cuenca Quirimán
A3: N. | B3: Pozo | C3: Tipo | D3: Este | E3: Norte | F3: m.s.n.m. | G3: Brocal | H3: Profundidad (m) | I3: Nivel E (m) | J3: Nivel D (m) | K3: Fecha | M3: Nivel E (m) | N3: Nivel D (m)
A5: 1 | B5: #1 Asada Quiriman | C5: P | D5: 371747 | E5: 233146 | F5: 223 | G5: 0.2 | H5: 30 | I5: =M5-G5 -> 14.11 | K5: 42516 | M5: 14.31
A6: 2 | B6: #2 Asada Quiriman | C6: P | D6: 371188 | E6: 232816 | F6: 221 | G6: 0.48 | I6: =M6-G6 -> 4.75 | K6: 42516 | M6: 5.23
A7: 3 | B7: Frente escuela Quiriman | C7: E | D7: 371019 | E7: 232783 | F7: 206 | G7: 0.78 | H7: 15.45 | I7: =M7-G7 -> 13.21 | K7: 42516 | M7: 13.99
A8: 4 | B8: Vianey Guevara | C8: E | D8: 370602 | E8: 232450 | F8: 214 | G8: 0.5 | I8: =M8-G8 -> 19.93 | K8: 42516 | M8: 20.43
A9: 5 | B9: Asada La Y Griega | C9: P | D9: 370992 | E9: 234494 | F9: 237 | G9: 0.17 | H9: 38 | J9: =N9-G9 -> 29.57 | K9: 42516 | N9: 29.74
A10: 6 | B10: Casa Abandonada | C10: E | D10: 371175 | E10: 232773 | G10: 0.4 | H10: 7.95 | I10: =M10-G10 -> 6.47 | K10: 42516 | M10: 6.87

Sheet Junio 2016
A1: Monitoreo Cuenca Quirimán
A3: N. | B3: Pozo | C3: Tipo | D3: Este | E3: Norte | F3: m.s.n.m. | G3: Brocal | H3: Profundidad (m) | I3: Nivel E (m) | J3: Nivel D (m) | K3: Fecha | M3: Nivel E (m) | N3: Nivel D (m)
A5: 1 | B5: #1 Asada Quiriman | C5: P | D5: 371747 | E5: 233146 | F5: 223 | G5: 0.2 | H5: 30 | I5: =M5-G5 -> 14.54 | K5: 42542 | M5: 14.74
A6: 2 | B6: #2 Asada Quiriman | C6: P | D6: 371188 | E6: 232816 | F6: 221 | G6: 0.48 | I6: =M6-G6 -> 3.79 | K6: 42542 | M6: 4.27
A7: 3 | B7: Frente escuela Quiriman | C7: E | D7: 371019 | E7: 232783 | F7: 206 | G7: 0.78 | H7: 15.45 | I7: =M7-G7 -> 12.68 | K7: 42542 | M7: 13.46
A8: 4 | B8: Vianey Guevara | C8: E | D8: 370602 | E8: 232450 | F8: 214 | G8: 0.5 | I8: =M8-G8 -> 19.95 | K8: 42542 | M8: 20.45
A9: 5 | B9: Asada La Y Griega | C9: P | D9: 370992 | E9: 234494 | F9: 237 | G9: 0.17 | H9: 38 | I9: =M9-G9 -> 27.06 | K9: 42542 | M9: 27.23
A10: 6 | B10: Casa Abandonada | C10: E | D10: 371175 | E10: 232773 | G10: 0.4 | H10: 7.95 | I10: =M10-G10 -> 5.38 | K10: 42542 | M10: 5.78

Sheet Julio 2016
A1: Monitoreo Cuenca Quirimán
A3: N. | B3: Pozo | C3: Tipo | D3: Este | E3: Norte | F3: m.s.n.m. | G3: Brocal | H3: Profundidad (m) | I3: Nivel E (m) | J3: Nivel D (m) | K3: Fecha | M3: Nivel E (m) | N3: Nivel D (m)
A5: 1 | B5: #1 Asada Quiriman | C5: P | D5: 371747 | E5: 233146 | F5: 223 | G5: 0.2 | H5: 30 | J5: =N5-G5 -> 15.27 | K5: 42577 | N5: 15.47
A6: 2 | B6: #2 Asada Quiriman | C6: P | D6: 371188 | E6: 232816 | F6: 221 | G6: 0.48 | I6: =M6-G6 -> 2.99 | K6: 42577 | M6: 3.47
A7: 3 | B7: Frente escuela Quiriman | C7: E | D7: 371019 | E7: 232783 | F7: 206 | G7: 0.78 | H7: 15.45 | I7: =M7-G7 -> 10.54 | K7: 42577 | M7: 11.32
A8: 4 | B8: Vianey Guevara | C8: E | D8: 370602 | E8: 232450 | F8: 214 | G8: 0.5 | I8: =M8-G8 -> 19.87 | K8: 42577 | M8: 20.37
A9: 5 | B9: Asada La Y Griega | C9: P | D9: 370992 | E9: 234494 | F9: 237 | G9: 0.17 | H9: 38 | I9: =M9-G9 -> 25.63 | K9: 42577 | M9: 25.8
A10: 6 | B10: Casa Abandonada | C10: E | D10: 371175 | E10: 232773 | G10: 0.4 | H10: 7.95 | I10: =M10-G10 -> 4.7 | K10: 42577 | M10: 5.1

Sheet Agosto 2016
A1: Monitoreo Cuenca Quirimán
A3: N. | B3: Pozo | C3: Tipo | D3: Este | E3: Norte | F3: m.s.n.m. | G3: Brocal | H3: Profundidad (m) | I3: Nivel E (m) | J3: Nivel D (m) | K3: Fecha | M3: Nivel E (m) | N3: Nivel D (m)
A5: 1 | B5: #1 Asada Quiriman | C5: P | D5: 371747 | E5: 233146 | F5: 223 | G5: 0.2 | H5: 30 | I5: =M5-G5 -> 12.74 | K5: 42607 | M5: 12.94
A6: 2 | B6: #2 Asada Quiriman | C6: P | D6: 371188 | E6: 232816 | F6: 221 | G6: 0.48 | I6: =M6-G6 -> 2.56 | K6: 42607 | M6: 3.04
A7: 3 | B7: Frente escuela Quiriman | C7: E | D7: 371019 | E7: 232783 | F7: 206 | G7: 0.78 | H7: 15.45 | I7: =M7-G7 -> 11.74 | K7: 42607 | M7: 12.52
A8: 4 | B8: Vianey Guevara | C8: E | D8: 370602 | E8: 232450 | F8: 214 | G8: 0.5 | I8: =M8-G8 -> 19.84 | K8: 42607 | M8: 20.34
A9: 5 | B9: Asada La Y Griega | C9: P | D9: 370992 | E9: 234494 | F9: 237 | G9: 0.17 | H9: 38 | J9: =N9-G9 -> 29.7 | K9: 42607 | N9: 29.87
A10: 6 | B10: Casa Abandonada | C10: E | D10: 371175 | E10: 232773 | G10: 0.4 | H10: 7.95 | I10: =M10-G10 -> 4.28 | K10: 42607 | M10: 4.68

Sheet Setiembre 2016
A1: Monitoreo Cuenca Quirimán
A3: N. | B3: Pozo | C3: Tipo | D3: Este | E3: Norte | F3: m.s.n.m. | G3: Brocal | H3: Profundidad (m) | I3: Nivel E (m) | J3: Nivel D (m) | K3: Fecha | M3: Nivel E (m) | N3: Nivel D (m)
A5: 1 | B5: #1 Asada Quiriman | C5: P | D5: 371747 | E5: 233146 | F5: 223 | G5: 0.2 | H5: 30 | J5: =N5-G5 -> 13.75 | K5: 42642 | M5: - | N5: 13.95
A6: 2 | B6: #2 Asada Quiriman | C6: P | D6: 371188 | E6: 232816 | F6: 221 | G6: 0.48 | I6: =M6-G6 -> 1.86 | K6: 42642 | M6: 2.34 | N6: -
A7: 3 | B7: Frente escuela Quiriman | C7: E | D7: 371019 | E7: 232783 | F7: 206 | G7: 0.78 | H7: 15.45 | I7: Porton cerrado | K7: 42642 | M7: - | N7: -
A8: 4 | B8: Vianey Guevara | C8: E | D8: 370602 | E8: 232450 | F8: 214 | G8: 0.5 | I8: =M8-G8 -> 19.6 | K8: 42642 | M8: 20.1 | N8: -
A9: 5 | B9: Asada La Y Griega | C9: P | D9: 370992 | E9: 234494 | F9: 237 | G9: 0.17 | H9: 38 | J9: =N9-G9 -> 23.85 | K9: 42642 | M9: - | N9: 24.02
A10: 6 | B10: Casa Abandonada | C10: E | D10: 371175 | E10: 232773 | G10: 0.4 | H10: 7.95 | I10: =M10-G10 -> 3.67 | K10: 42642 | M10: 4.07 | N10: -

Sheet Octubre 2016
A1: Monitoreo Cuenca Quirimán
A3: N. | B3: Pozo | C3: Tipo | D3: Este | E3: Norte | F3: m.s.n.m. | G3: Brocal | H3: Profundidad (m) | I3: Nivel E (m) | J3: Nivel D (m) | K3: Fecha | M3: Nivel E (m) | N3: Nivel D (m)
A5: 1 | B5: #1 Asada Quiriman | C5: P | D5: 371747 | E5: 233146 | F5: 223 | G5: 0.2 | H5: 30 | I5: =M5-G5 -> 13.28 | J5: =N5-G5 -> -0.2 | K5: 42670 | M5: 13.48
A6: 2 | B6: #2 Asada Quiriman | C6: P | D6: 371188 | E6: 232816 | F6: 221 | G6: 0.48 | I6: =M6-G6 -> 1.62 | J6: =N6-G6 -> -0.48 | K6: 42670 | M6: 2.1
A7: 3 | B7: Frente escuela Quiriman | C7: E | D7: 371019 | E7: 232783 | F7: 206 | G7: 0.78 | H7: 15.45 | I7: Porton cerrado | K7: 42670 | M7: Sin acceso
A8: 4 | B8: Vianey Guevara | C8: E | D8: 370602 | E8: 232450 | F8: 214 | G8: 0.5 | I8: =M8-G8 -> 19.5 | J8: =N8-G8 -> -0.5 | K8: 42670 | M8: 20
A9: 5 | B9: Asada La Y Griega | C9: P | D9: 370992 | E9: 234494 | F9: 237 | G9: 0.17 | H9: 38 | I9: =M9-G9 -> 16.89 | J9: =N9-G9 -> -0.17 | K9: 42670 | M9: 17.06
A10: 6 | B10: Casa Abandonada | C10: E | D10: 371175 | E10: 232773 | G10: 0.4 | H10: 7.95 | I10: =M10-G10 -> 3.44 | J10: =N10-G10 -> -0.4 | K10: 42670 | M10: 3.84

Sheet Noviembre 2016

Sheet Diciembre 2016
A1: Monitoreo Cuenca Quirimán
A3: N. | B3: Pozo | C3: Tipo | D3: Este | E3: Norte | F3: m.s.n.m. | G3: Brocal | H3: Profundidad (m) | I3: Nivel E (m) | J3: Nivel D (m) | K3: Fecha | M3: Nivel E (m) | N3: Nivel D (m)
A5: 1 | B5: #1 Asada Quiriman | C5: P | D5: 371747 | E5: 233146 | F5: 223 | G5: 0.2 | H5: 30 | I5: =M5-G5 -> 13.88 | J5: =N5-G5 -> -0.2 | K5: 42719 | M5: 14.08
A6: 2 | B6: #2 Asada Quiriman | C6: P | D6: 371188 | E6: 232816 | F6: 221 | G6: 0.48 | I6: =M6-G6 -> 1.86 | J6: =N6-G6 -> -0.48 | K6: 42719 | M6: 2.34
A7: 3 | B7: Frente escuela Quiriman | C7: E | D7: 371019 | E7: 232783 | F7: 206 | G7: 0.78 | H7: 15.45 | I7: Porton cerrado | K7: 42719 | M7: Sin dato
A8: 4 | B8: Vianey Guevara | C8: E | D8: 370602 | E8: 232450 | F8: 214 | G8: 0.5 | I8: =M8-G8 -> 19.68 | J8: =N8-G8 -> -0.5 | K8: 42719 | M8: 20.18
A9: 5 | B9: Asada La Y Griega | C9: P | D9: 370992 | E9: 234494 | F9: 237 | G9: 0.17 | H9: 38 | I9: =M9-G9 -> 15.91 | J9: =N9-G9 -> -0.17 | K9: 42719 | M9: 16.08
A10: 6 | B10: Casa Abandonada | C10: E | D10: 371175 | E10: 232773 | G10: 0.4 | H10: 7.95 | I10: =M10-G10 -> 3.63 | J10: =N10-G10 -> -0.4 | K10: 42719 | M10: 4.03

Sheet Enero 2017

Sheet Febrero 2017
A1: Monitoreo Cuenca Quirimán
A3: N. | B3: Pozo | C3: Tipo | D3: Este | E3: Norte | F3: m.s.n.m. | G3: Brocal | H3: Profundidad (m) | I3: Nivel E (m) | J3: Nivel D (m) | K3: Fecha | M3: Nivel E (m) | N3: Nivel D (m)
A5: 1 | B5: #1 Asada Quiriman | C5: P | D5: 371747 | E5: 233146 | F5: 223 | G5: 0.2 | H5: 30 | I5: =M5-G5 -> -0.2 | J5: =N5-G5 -> 14.89 | K5: 42789 | N5: 15.09
A6: 2 | B6: #2 Asada Quiriman | C6: P | D6: 371188 | E6: 232816 | F6: 221 | G6: 0.48 | I6: =M6-G6 -> 2.42 | J6: =N6-G6 -> -0.48 | K6: 42789 | M6: 2.9
A7: 3 | B7: Frente escuela Quiriman | C7: E | D7: 371019 | E7: 232783 | F7: 206 | G7: 0.78 | H7: 15.45 | I7: Porton cerrado | K7: 42789 | M7: Sin acceso
A8: 4 | B8: Vianey Guevara | C8: E | D8: 370602 | E8: 232450 | F8: 214 | G8: 0.5 | I8: =M8-G8 -> 19.87 | J8: =N8-G8 -> -0.5 | K8: 42789 | M8: 20.37
A9: 5 | B9: Asada La Y Griega | C9: P | D9: 370992 | E9: 234494 | F9: 237 | G9: 0.17 | H9: 38 | I9: =M9-G9 -> -0.17 | J9: =N9-G9 -> 21.02 | K9: 42789 | N9: 21.19
A10: 6 | B10: Casa Abandonada | C10: E | D10: 371175 | E10: 232773 | G10: 0.4 | H10: 7.95 | I10: =M10-G10 -> 4.3 | J10: =N10-G10 -> -0.4 | K10: 42789 | M10: 4.7

Sheet Marzo 2017
A1: Monitoreo Cuenca Quirimán
A3: N. | B3: Pozo | C3: Tipo | D3: Este | E3: Norte | F3: m.s.n.m. | G3: Brocal | H3: Profundidad (m) | I3: Nivel E (m) | J3: Nivel D (m) | K3: Fecha | M3: Nivel E (m) | N3: Nivel D (m)
A5: 1 | B5: #1 Asada Quiriman | C5: P | D5: 371747 | E5: 233146 | F5: 223 | G5: 0.2 | H5: 30 | I5: =M5-G5 -> -0.2 | J5: =N5-G5 -> 19.13 | K5: 42824 | N5: 19.33
A6: 2 | B6: #2 Asada Quiriman | C6: P | D6: 371188 | E6: 232816 | F6: 221 | G6: 0.48 | I6: =M6-G6 -> 3.29 | J6: =N6-G6 -> -0.48 | K6: 42824 | M6: 3.77
A7: 3 | B7: Frente escuela Quiriman | C7: E | D7: 371019 | E7: 232783 | F7: 206 | G7: 0.78 | H7: 15.45 | I7: Porton cerrado | K7: 42824 | M7: Sin acceso
A8: 4 | B8: Vianey Guevara | C8: E | D8: 370602 | E8: 232450 | F8: 214 | G8: 0.5 | I8: =M8-G8 -> 20.4 | J8: =N8-G8 -> -0.5 | K8: 42824 | M8: 20.9
A9: 5 | B9: Asada La Y Griega | C9: P | D9: 370992 | E9: 234494 | F9: 237 | G9: 0.17 | H9: 38 | I9: =M9-G9 -> 26.38 | J9: =N9-G9 -> -0.17 | K9: 42824 | M9: 26.55
A10: 6 | B10: Casa Abandonada | C10: E | D10: 371175 | E10: 232773 | G10: 0.4 | H10: 7.95 | I10: =M10-G10 -> 8.4 | J10: =N10-G10 -> -0.4 | K10: 42824 | M10: 8.8
A11: 7 | B11: Rafael Barrantes perforado | C11: P | D11: 371948 | E11: 233360 | G11: 0.2 | I11: =M11-G11 -> 19.28 | J11: =N11-G11 -> -0.2 | K11: 42824 | M11: 19.48
A12: 8 | B12: Rafael Barrantes escavado | C12: E | D12: 371994 | E12: 233556 | G12: 0.4 | I12: =M12-G12 -> 5.56 | J12: =N12-G12 -> -0.4 | K12: 42824 | M12: 5.96

Sheet Abril 2017
A1: Monitoreo Cuenca Quirimán
A3: N. | B3: Pozo | C3: Tipo | D3: Este | E3: Norte | F3: m.s.n.m. | G3: Brocal | H3: Profundidad (m) | I3: Nivel E (m) | J3: Nivel D (m) | K3: Fecha | M3: Nivel E (m) | N3: Nivel D (m)
A5: 1 | B5: #1 Asada Quiriman | C5: P | D5: 371747 | E5: 233146 | F5: 223 | G5: 0.2 | H5: 30 | I5: =M5-G5 -> #VALUE! | J5: =N5-G5 -> -0.2 | K5: 42853 | M5: sin dato
A6: 2 | B6: #2 Asada Quiriman | C6: P | D6: 371188 | E6: 232816 | F6: 221 | G6: 0.48 | I6: =M6-G6 -> 5.88 | J6: =N6-G6 -> -0.48 | K6: 42853 | M6: 6.36
A7: 3 | B7: Frente escuela Quiriman | C7: E | D7: 371019 | E7: 232783 | F7: 206 | G7: 0.78 | H7: 15.45 | I7: Porton cerrado | K7: 42853 | M7: Sin acceso
A8: 4 | B8: Vianey Guevara | C8: E | D8: 370602 | E8: 232450 | F8: 214 | G8: 0.5 | I8: =M8-G8 -> 20.08 | J8: =N8-G8 -> -0.5 | K8: 42853 | M8: 20.58
A9: 5 | B9: Asada La Y Griega | C9: P | D9: 370992 | E9: 234494 | F9: 237 | G9: 0.17 | H9: 38 | I9: =M9-G9 -> #VALUE! | J9: =N9-G9 -> -0.17 | K9: 42853 | M9: sin dato
A10: 6 | B10: Casa Abandonada | C10: E | D10: 371175 | E10: 232773 | G10: 0.4 | H10: 7.95 | I10: =M10-G10 -> 5.57 | J10: =N10-G10 -> -0.4 | K10: 42853 | M10: 5.97
A11: 7 | B11: Rafael Barrantes perforado | C11: P | D11: 371948 | E11: 233360 | G11: 0.2 | I11: =M11-G11 -> 16.77 | J11: =N11-G11 -> -0.2 | K11: 42853 | M11: 16.97
A12: 8 | B12: Rafael Barrantes escavado | C12: E | D12: 371994 | E12: 233556 | G12: 0.4 | I12: =M12-G12 -> 6.5 | J12: =N12-G12 -> -0.4 | K12: 42853 | M12: 6.9

Sheet Mayo 2017
A1: Monitoreo Cuenca Quirimán
A3: N. | B3: Pozo | C3: Tipo | D3: Este | E3: Norte | F3: m.s.n.m. | G3: Brocal | H3: Profundidad (m) | I3: Nivel E (m) | J3: Nivel D (m) | K3: Fecha | M3: Nivel E (m) | N3: Nivel D (m)
A5: 1 | B5: #1 Asada Quiriman | C5: P | D5: 371747 | E5: 233146 | F5: 223 | G5: 0.2 | H5: 30 | I5: =M5-G5 -> -0.2 | J5: =N5-G5 -> 16.71 | K5: 42881 | N5: 16.91
A6: 2 | B6: #2 Asada Quiriman | C6: P | D6: 371188 | E6: 232816 | F6: 221 | G6: 0.48 | I6: =M6-G6 -> 3.23 | J6: =N6-G6 -> -0.48 | K6: 42881 | M6: 3.71
A7: 3 | B7: Frente escuela Quiriman | C7: E | D7: 371019 | E7: 232783 | F7: 206 | G7: 0.78 | H7: 15.45 | I7: Porton cerrado | K7: 42881 | M7: Sin acceso
A8: 4 | B8: Vianey Guevara | C8: E | D8: 370602 | E8: 232450 | F8: 214 | G8: 0.5 | I8: =M8-G8 -> 19.6 | J8: =N8-G8 -> -0.5 | K8: 42881 | M8: 20.1
A9: 5 | B9: Asada La Y Griega | C9: P | D9: 370992 | E9: 234494 | F9: 237 | G9: 0.17 | H9: 38 | I9: =M9-G9 -> 25.8 | J9: =N9-G9 -> -0.17 | K9: 42881 | M9: 25.97
A10: 6 | B10: Casa Abandonada | C10: E | D10: 371175 | E10: 232773 | G10: 0.4 | H10: 7.95 | I10: =M10-G10 -> 4.84 | J10: =N10-G10 -> -0.4 | K10: 42881 | M10: 5.24
A11: 7 | B11: Rafael Barrantes perforado | C11: P | D11: 371948 | E11: 233360 | G11: 0.2 | I11: =M11-G11 -> 16.44 | J11: =N11-G11 -> -0.2 | K11: 42881 | M11: 16.64
A12: 8 | B12: Rafael Barrantes escavado | C12: E | D12: 371994 | E12: 233556 | G12: 0.4 | I12: =M12-G12 -> 4.65 | J12: =N12-G12 -> -0.4 | K12: 42881 | M12: 5.05

Sheet Junio 2017
A1: Monitoreo Cuenca Quirimán
A3: N. | B3: Pozo | C3: Tipo | D3: Este | E3: Norte | F3: m.s.n.m. | G3: Brocal | H3: Profundidad (m) | I3: Nivel E (m) | J3: Nivel D (m) | K3: Fecha | M3: Nivel E (m) | N3: Nivel D (m)
A5: 1 | B5: #1 Asada Quiriman | C5: P | D5: 371747 | E5: 233146 | F5: 223 | G5: 0.2 | H5: 30 | I5: =M5-G5 -> -0.2 | J5: =N5-G5 -> 13.77 | K5: 42909 | N5: 13.97
A6: 2 | B6: #2 Asada Quiriman | C6: P | D6: 371188 | E6: 232816 | F6: 221 | G6: 0.48 | I6: =M6-G6 -> 1.78 | J6: =N6-G6 -> -0.48 | K6: 42909 | M6: 2.26
A7: 3 | B7: Frente escuela Quiriman | C7: E | D7: 371019 | E7: 232783 | F7: 206 | G7: 0.78 | H7: 15.45 | I7: Porton cerrado | K7: 42909 | M7: Sin acceso
A8: 4 | B8: Vianey Guevara | C8: E | D8: 370602 | E8: 232450 | F8: 214 | G8: 0.5 | I8: =M8-G8 -> 21.42 | J8: =N8-G8 -> -0.5 | K8: 42909 | M8: 21.92
A9: 5 | B9: Asada La Y Griega | C9: P | D9: 370992 | E9: 234494 | F9: 237 | G9: 0.17 | H9: 38 | I9: =M9-G9 -> -0.17 | J9: =N9-G9 -> 25.33 | K9: 42909 | N9: 25.5
A10: 6 | B10: Casa Abandonada | C10: E | D10: 371175 | E10: 232773 | G10: 0.4 | H10: 7.95 | I10: =M10-G10 -> #VALUE! | J10: =N10-G10 -> -0.4 | K10: 42909 | M10: Sin dato
A11: 7 | B11: Rafael Barrantes perforado | C11: P | D11: 371948 | E11: 233360 | G11: 0.2 | I11: =M11-G11 -> 16.18 | J11: =N11-G11 -> -0.2 | K11: 42909 | M11: 16.38
A12: 8 | B12: Rafael Barrantes escavado | C12: E | D12: 371994 | E12: 233556 | G12: 0.4 | I12: =M12-G12 -> 3.13 | J12: =N12-G12 -> -0.4 | K12: 42909 | M12: 3.53

Sheet Julio 2017
A1: Monitoreo Cuenca Quirimán
A3: N. | B3: Pozo | C3: Tipo | D3: Este | E3: Norte | F3: m.s.n.m. | G3: Brocal | H3: Profundidad (m) | I3: Nivel E (m) | J3: Nivel D (m) | K3: Fecha | M3: Nivel E (m) | N3: Nivel D (m)
A5: 1 | B5: #1 Asada Quiriman | C5: P | D5: 371747 | E5: 233146 | F5: 223 | G5: 0.2 | H5: 30 | I5: =M5-G5 -> -0.2 | J5: =N5-G5 -> 13.4 | K5: 42937 | N5: 13.6
A6: 2 | B6: #2 Asada Quiriman | C6: P | D6: 371188 | E6: 232816 | F6: 221 | G6: 0.48 | I6: =M6-G6 -> 1.65 | J6: =N6-G6 -> -0.48 | K6: 42937 | M6: 2.13
A7: 3 | B7: Frente escuela Quiriman | C7: E | D7: 371019 | E7: 232783 | F7: 206 | G7: 0.78 | H7: 15.45 | I7: Porton cerrado | K7: 42937 | M7: Sin acceso
A8: 4 | B8: Vianey Guevara | C8: E | D8: 370602 | E8: 232450 | F8: 214 | G8: 0.5 | I8: =M8-G8 -> 19.55 | J8: =N8-G8 -> -0.5 | K8: 42937 | M8: 20.05
A9: 5 | B9: Asada La Y Griega | C9: P | D9: 370992 | E9: 234494 | F9: 237 | G9: 0.17 | H9: 38 | I9: =M9-G9 -> 19.25 | J9: =N9-G9 -> -0.17 | K9: 42937 | M9: 19.42
A10: 6 | B10: Casa Abandonada | C10: E | D10: 371175 | E10: 232773 | G10: 0.4 | H10: 7.95 | I10: =M10-G10 -> 3.48 | J10: =N10-G10 -> -0.4 | K10: 42937 | M10: 3.88
A11: 7 | B11: Rafael Barrantes perforado | C11: P | D11: 371948 | E11: 233360 | G11: 0.2 | I11: =M11-G11 -> 14.2 | J11: =N11-G11 -> -0.2 | K11: 42937 | M11: 14.4
A12: 8 | B12: Rafael Barrantes escavado | C12: E | D12: 371994 | E12: 233556 | G12: 0.4 | I12: =M12-G12 -> 3.14 | J12: =N12-G12 -> -0.4 | K12: 42937 | M12: 3.54

Sheet Agosto 2017
A1: Monitoreo Cuenca Quirimán
A3: N. | B3: Pozo | C3: Tipo | D3: Este | E3: Norte | F3: m.s.n.m. | G3: Brocal | H3: Profundidad (m) | I3: Nivel E (m) | J3: Nivel D (m) | K3: Fecha | M3: Nivel E (m) | N3: Nivel D (m)
A5: 1 | B5: #1 Asada Quiriman | C5: P | D5: 371747 | E5: 233146 | F5: 223 | G5: 0.2 | H5: 30 | I5: =M5-G5 -> -0.2 | J5: =N5-G5 -> 13.55 | K5: 42972 | N5: 13.75
A6: 2 | B6: #2 Asada Quiriman | C6: P | D6: 371188 | E6: 232816 | F6: 221 | G6: 0.48 | I6: =M6-G6 -> 1.72 | J6: =N6-G6 -> -0.48 | K6: 42972 | M6: 2.2
A7: 3 | B7: Frente escuela Quiriman | C7: E | D7: 371019 | E7: 232783 | F7: 206 | G7: 0.78 | H7: 15.45 | I7: Porton cerrado | K7: 42972 | M7: Sin acceso
A8: 4 | B8: Vianey Guevara | C8: E | D8: 370602 | E8: 232450 | F8: 214 | G8: 0.5 | I8: =M8-G8 -> 19.6 | J8: =N8-G8 -> -0.5 | K8: 42972 | M8: 20.1
A9: 5 | B9: Asada La Y Griega | C9: P | D9: 370992 | E9: 234494 | F9: 237 | G9: 0.17 | H9: 38 | I9: =M9-G9 -> -0.17 | J9: =N9-G9 -> 18.52 | K9: 42972 | N9: 18.69
A10: 6 | B10: Casa Abandonada | C10: E | D10: 371175 | E10: 232773 | G10: 0.4 | H10: 7.95 | I10: =M10-G10 -> 3.45 | J10: =N10-G10 -> -0.4 | K10: 42972 | M10: 3.85
A11: 7 | B11: Rafael Barrantes perforado | C11: P | D11: 371948 | E11: 233360 | G11: 0.2 | I11: =M11-G11 -> 14.45 | J11: =N11-G11 -> -0.2 | K11: 42972 | M11: 14.65
A12: 8 | B12: Rafael Barrantes escavado | C12: E | D12: 371994 | E12: 233556 | G12: 0.4 | I12: =M12-G12 -> 3.28 | J12: =N12-G12 -> -0.4 | K12: 42972 | M12: 3.68

Sheet Setiembre 2017
A1: Monitoreo Cuenca Quirimán
A3: N. | B3: Pozo | C3: Tipo | D3: Este | E3: Norte | F3: m.s.n.m. | G3: Brocal | H3: Profundidad (m) | I3: Nivel E (m) | J3: Nivel D (m) | K3: Fecha | M3: Nivel E (m) | N3: Nivel D (m)
A5: 1 | B5: #1 Asada Quiriman | C5: P | D5: 371747 | E5: 233146 | F5: 223 | G5: 0.2 | H5: 30 | I5: =M5-G5 -> -0.2 | J5: =N5-G5 -> 12.86 | K5: 43006 | N5: 13.06
A6: 2 | B6: #2 Asada Quiriman | C6: P | D6: 371188 | E6: 232816 | F6: 221 | G6: 0.48 | I6: =M6-G6 -> 1.27 | J6: =N6-G6 -> -0.48 | K6: 43006 | M6: 1.75
A7: 3 | B7: Frente escuela Quiriman | C7: E | D7: 371019 | E7: 232783 | F7: 206 | G7: 0.78 | H7: 15.45 | I7: Porton cerrado | K7: 43006 | M7: Sin acceso
A8: 4 | B8: Vianey Guevara | C8: E | D8: 370602 | E8: 232450 | F8: 214 | G8: 0.5 | I8: =M8-G8 -> 19.06 | J8: =N8-G8 -> -0.5 | K8: 43006 | M8: 19.56
A9: 5 | B9: Asada La Y Griega | C9: P | D9: 370992 | E9: 234494 | F9: 237 | G9: 0.17 | H9: 38 | I9: =M9-G9 -> 15.98 | J9: =N9-G9 -> -0.17 | K9: 43006 | M9: 16.15
A10: 6 | B10: Casa Abandonada | C10: E | D10: 371175 | E10: 232773 | G10: 0.4 | H10: 7.95 | I10: =M10-G10 -> 3.11 | J10: =N10-G10 -> -0.4 | K10: 43006 | M10: 3.51
A11: 7 | B11: Rafael Barrantes perforado | C11: P | D11: 371948 | E11: 233360 | G11: 0.2 | I11: =M11-G11 -> 13.33 | J11: =N11-G11 -> -0.2 | K11: 43006 | M11: 13.53
A12: 8 | B12: Rafael Barrantes escavado | C12: E | D12: 371994 | E12: 233556 | G12: 0.4 | I12: =M12-G12 -> 2.7 | J12: =N12-G12 -> -0.4 | K12: 43006 | M12: 3.1

Sheet Octubre 2017
A1: Monitoreo Cuenca Quirimán
A3: N. | B3: Pozo | C3: Tipo | D3: Este | E3: Norte | F3: m.s.n.m. | G3: Brocal | H3: Profundidad (m) | I3: Nivel E (m) | J3: Nivel D (m) | K3: Fecha | M3: Nivel E (m) | N3: Nivel D (m)
A5: 1 | B5: #1 Asada Quiriman | C5: P | D5: 371747 | E5: 233146 | F5: 223 | G5: 0.2 | H5: 30 | I5: =M5-G5 -> 11.19 | J5: =N5-G5 -> -0.2 | K5: 43032 | M5: 11.39
A6: 2 | B6: #2 Asada Quiriman | C6: P | D6: 371188 | E6: 232816 | F6: 221 | G6: 0.48 | I6: =M6-G6 -> 1.38 | J6: =N6-G6 -> -0.48 | K6: 43032 | M6: 1.86
A7: 3 | B7: Frente escuela Quiriman | C7: E | D7: 371019 | E7: 232783 | F7: 206 | G7: 0.78 | H7: 15.45 | I7: Porton cerrado | K7: 43032 | M7: Sin acceso
A8: 4 | B8: Vianey Guevara | C8: E | D8: 370602 | E8: 232450 | F8: 214 | G8: 0.5 | I8: =M8-G8 -> 19.36 | J8: =N8-G8 -> -0.5 | K8: 43032 | M8: 19.86
A9: 5 | B9: Asada La Y Griega | C9: P | D9: 370992 | E9: 234494 | F9: 237 | G9: 0.17 | H9: 38 | I9: =M9-G9 -> 11.76 | J9: =N9-G9 -> -0.17 | K9: 43032 | M9: 11.93
A10: 6 | B10: Casa Abandonada | C10: E | D10: 371175 | E10: 232773 | G10: 0.4 | H10: 7.95 | I10: =M10-G10 -> 3.78 | J10: =N10-G10 -> -0.4 | K10: 43032 | M10: 4.18
A11: 7 | B11: Rafael Barrantes perforado | C11: P | D11: 371948 | E11: 233360 | G11: 0.2 | I11: =M11-G11 -> 14.2 | J11: =N11-G11 -> -0.2 | K11: 43032 | M11: 14.4
A12: 8 | B12: Rafael Barrantes escavado | C12: E | D12: 371994 | E12: 233556 | G12: 0.4 | I12: =M12-G12 -> 2.68 | J12: =N12-G12 -> -0.4 | K12: 43032 | M12: 3.08

Sheet Noviembre 2017
A1: Monitoreo Cuenca Quirimán
A3: N. | B3: Pozo | C3: Tipo | D3: Este | E3: Norte | F3: m.s.n.m. | G3: Brocal | H3: Profundidad (m) | I3: Nivel E (m) | J3: Nivel D (m) | K3: Fecha | M3: Nivel E (m) | N3: Nivel D (m)
A5: 1 | B5: #1 Asada Quiriman | C5: P | D5: 371747 | E5: 233146 | F5: 223 | G5: 0.2 | H5: 30 | I5: =M5-G5 -> 11.54 | J5: =N5-G5 -> -0.2 | K5: 43060 | M5: 11.74
A6: 2 | B6: #2 Asada Quiriman | C6: P | D6: 371188 | E6: 232816 | F6: 221 | G6: 0.48 | I6: =M6-G6 -> 1.65 | J6: =N6-G6 -> -0.48 | K6: 43060 | M6: 2.13
A7: 3 | B7: Frente escuela Quiriman | C7: E | D7: 371019 | E7: 232783 | F7: 206 | G7: 0.78 | H7: 15.45 | I7: Porton cerrado | K7: 43060 | M7: Sin acceso
A8: 4 | B8: Vianey Guevara | C8: E | D8: 370602 | E8: 232450 | F8: 214 | G8: 0.5 | I8: =M8-G8 -> 19.5 | J8: =N8-G8 -> -0.5 | K8: 43060 | M8: 20
A9: 5 | B9: Asada La Y Griega | C9: P | D9: 370992 | E9: 234494 | F9: 237 | G9: 0.17 | H9: 38 | I9: =M9-G9 -> 13.47 | J9: =N9-G9 -> -0.17 | K9: 43060 | M9: 13.64
A10: 6 | B10: Casa Abandonada | C10: E | D10: 371175 | E10: 232773 | G10: 0.4 | H10: 7.95 | I10: =M10-G10 -> 3.6 | J10: =N10-G10 -> -0.4 | K10: 43060 | M10: 4
A11: 7 | B11: Rafael Barrantes perforado | C11: P | D11: 371948 | E11: 233360 | G11: 0.2 | I11: =M11-G11 -> 14.54 | J11: =N11-G11 -> -0.2 | K11: 43060 | M11: 14.74
A12: 8 | B12: Rafael Barrantes escavado | C12: E | D12: 371994 | E12: 233556 | G12: 0.4 | I12: =M12-G12 -> 3.26 | J12: =N12-G12 -> -0.4 | K12: 43060 | M12: 3.66

Sheet Diciembre 2017
A1: Monitoreo Cuenca Quirimán
A3: N. | B3: Pozo | C3: Tipo | D3: Este | E3: Norte | F3: m.s.n.m. | G3: Brocal | H3: Profundidad (m) | I3: Nivel E (m) | J3: Nivel D (m) | K3: Fecha | M3: Nivel E (m) | N3: Nivel D (m)
A5: 1 | B5: #1 Asada Quiriman | C5: P | D5: 371747 | E5: 233146 | F5: 223 | G5: 0.2 | H5: 30 | I5: =M5-G5 -> 11.81 | J5: =N5-G5 -> -0.2 | K5: 43080 | M5: =19.51-7.5 -> 12.01
A6: 2 | B6: #2 Asada Quiriman | C6: P | D6: 371188 | E6: 232816 | F6: 221 | G6: 0.48 | I6: =M6-G6 -> 1.86 | J6: =N6-G6 -> -0.48 | K6: 43080 | M6: =9.84-7.5 -> 2.34
A7: 3 | B7: Frente escuela Quiriman | C7: E | D7: 371019 | E7: 232783 | F7: 206 | G7: 0.78 | H7: 15.45 | I7: Porton cerrado | K7: 43080 | M7: Sin acceso
A8: 4 | B8: Vianey Guevara | C8: E | D8: 370602 | E8: 232450 | F8: 214 | G8: 0.5 | I8: =M8-G8 -> 19.6 | J8: =N8-G8 -> -0.5 | K8: 43080 | M8: =27.6-7.5 -> 20.1
A9: 5 | B9: Asada La Y Griega | C9: P | D9: 370992 | E9: 234494 | F9: 237 | G9: 0.17 | H9: 38 | I9: =M9-G9 -> 14.79 | J9: =N9-G9 -> -0.17 | K9: 43080 | M9: =22.46-7.5 -> 14.96
A10: 6 | B10: Casa Abandonada | C10: E | D10: 371175 | E10: 232773 | G10: 0.4 | H10: 7.95 | I10: =M10-G10 -> 3.75 | J10: =N10-G10 -> -0.4 | K10: 43080 | M10: =11.65-7.5 -> 4.15
A11: 7 | B11: Rafael Barrantes perforado | C11: P | D11: 371948 | E11: 233360 | G11: 0.2 | I11: =M11-G11 -> 15.86 | J11: =N11-G11 -> -0.2 | K11: 43080 | M11: =23.56-7.5 -> 16.06
A12: 8 | B12: Rafael Barrantes escavado | C12: E | D12: 371994 | E12: 233556 | G12: 0.4 | I12: =M12-G12 -> 3.45 | J12: =N12-G12 -> -0.4 | K12: 43080 | M12: =11.35-7.5 -> 3.85

Sheet Enero 2018
A1: Monitoreo Cuenca Quirimán
A3: N. | B3: Pozo | C3: Tipo | D3: Este | E3: Norte | F3: m.s.n.m. | G3: Brocal | H3: Profundidad (m) | I3: Nivel E (m) | J3: Nivel D (m) | K3: Fecha | M3: Nivel E (m) | N3: Nivel D (m)
A5: 1 | B5: #1 Asada Quiriman | C5: P | D5: 371747 | E5: 233146 | F5: 223 | G5: 0.2 | H5: 30 | I5: =M5-G5 -> -0.2 | J5: =N5-G5 -> 14.56 | K5: 43123 | N5: 14.76
A6: 2 | B6: #2 Asada Quiriman | C6: P | D6: 371188 | E6: 232816 | F6: 221 | G6: 0.48 | I6: =M6-G6 -> 2.16 | J6: =N6-G6 -> -0.48 | K6: 43123 | M6: 2.64
A7: 3 | B7: Frente escuela Quiriman | C7: E | D7: 371019 | E7: 232783 | F7: 206 | G7: 0.78 | H7: 15.45 | I7: Porton cerrado | K7: 43123 | M7: Sin acceso
A8: 4 | B8: Vianey Guevara | C8: E | D8: 370602 | E8: 232450 | F8: 214 | G8: 0.5 | I8: =M8-G8 -> 19.77 | J8: =N8-G8 -> -0.5 | K8: 43123 | M8: 20.27
A9: 5 | B9: Asada La Y Griega | C9: P | D9: 370992 | E9: 234494 | F9: 237 | G9: 0.17 | H9: 38 | I9: =M9-G9 -> 18.96 | J9: =N9-G9 -> -0.17 | K9: 43123 | M9: 19.13
A10: 6 | B10: Casa Abandonada | C10: E | D10: 371175 | E10: 232773 | G10: 0.4 | H10: 7.95 | I10: =M10-G10 -> 3.92 | J10: =N10-G10 -> -0.4 | K10: 43123 | M10: 4.32
A11: 7 | B11: Rafael Barrantes perforado | C11: P | D11: 371948 | E11: 233360 | G11: 0.2 | I11: =M11-G11 -> 15.45 | J11: =N11-G11 -> -0.2 | K11: 43123 | M11: 15.65
A12: 8 | B12: Rafael Barrantes escavado | C12: E | D12: 371994 | E12: 233556 | G12: 0.4 | I12: =M12-G12 -> 4.1 | J12: =N12-G12 -> -0.4 | K12: 43123 | M12: 4.5

Sheet Febrero 2018
A1: Monitoreo Cuenca Quirimán
A3: N. | B3: Pozo | C3: Tipo | D3: Este | E3: Norte | F3: m.s.n.m. | G3: Brocal | H3: Profundidad (m) | I3: Nivel E (m) | J3: Nivel D (m) | K3: Fecha | M3: Nivel E (m) | N3: Nivel D (m)
A5: 1 | B5: #1 Asada Quiriman | C5: P | D5: 371747 | E5: 233146 | F5: 223 | G5: 0.2 | H5: 30 | I5: =M5-G5 -> -0.2 | J5: =N5-G5 -> 15.57 | K5: 43152 | N5: 15.77
A6: 2 | B6: #2 Asada Quiriman | C6: P | D6: 371188 | E6: 232816 | F6: 221 | G6: 0.48 | I6: =M6-G6 -> 2.67 | J6: =N6-G6 -> -0.48 | K6: 43152 | M6: 3.15
A7: 3 | B7: Frente escuela Quiriman | C7: E | D7: 371019 | E7: 232783 | F7: 206 | G7: 0.78 | H7: 15.45 | I7: Porton cerrado | K7: 43152 | M7: Sin acceso
A8: 4 | B8: Vianey Guevara | C8: E | D8: 370602 | E8: 232450 | F8: 214 | G8: 0.5 | I8: =M8-G8 -> 19.73 | J8: =N8-G8 -> -0.5 | K8: 43152 | M8: 20.23
A9: 5 | B9: Asada La Y Griega | C9: P | D9: 370992 | E9: 234494 | F9: 237 | G9: 0.17 | H9: 38 | I9: =M9-G9 -> 19.46 | J9: =N9-G9 -> -0.17 | K9: 43152 | M9: 19.63
A10: 6 | B10: Casa Abandonada | C10: E | D10: 371175 | E10: 232773 | G10: 0.4 | H10: 7.95 | I10: =M10-G10 -> 4.53 | J10: =N10-G10 -> -0.4 | K10: 43152 | M10: 4.93
A11: 7 | B11: Rafael Barrantes perforado | C11: P | D11: 371948 | E11: 233360 | G11: 0.2 | I11: =M11-G11 -> 15.78 | J11: =N11-G11 -> -0.2 | K11: 43152 | M11: 15.98
A12: 8 | B12: Rafael Barrantes escavado | C12: E | D12: 371994 | E12: 233556 | G12: 0.4 | I12: =M12-G12 -> 5.05 | J12: =N12-G12 -> -0.4 | K12: 43152 | M12: 5.45

Sheet Marzo 2018
A1: Monitoreo Cuenca Quirimán
A3: N. | B3: Pozo | C3: Tipo | D3: Este | E3: Norte | F3: m.s.n.m. | G3: Brocal | H3: Profundidad (m) | I3: Nivel E (m) | J3: Nivel D (m) | K3: Fecha | M3: Nivel E (m) | N3: Nivel D (m)
A5: 1 | B5: #1 Asada Quiriman | C5: P | D5: 371747 | E5: 233146 | F5: 223 | G5: 0.2 | H5: 30 | I5: =M5-G5 -> #VALUE! | J5: =N5-G5 -> -0.2 | K5: 43180 | M5: sin dato
A6: 2 | B6: #2 Asada Quiriman | C6: P | D6: 371188 | E6: 232816 | F6: 221 | G6: 0.48 | I6: =M6-G6 -> 3.37 | J6: =N6-G6 -> -0.48 | K6: 43180 | M6: 3.85
A7: 3 | B7: Frente escuela Quiriman | C7: E | D7: 371019 | E7: 232783 | F7: 206 | G7: 0.78 | H7: 15.45 | I7: Porton cerrado | K7: 43180 | M7: Sin acceso
A8: 4 | B8: Vianey Guevara | C8: E | D8: 370602 | E8: 232450 | F8: 214 | G8: 0.5 | I8: =M8-G8 -> 20.12 | J8: =N8-G8 -> -0.5 | K8: 43180 | M8: 20.62
A9: 5 | B9: Asada La Y Griega | C9: P | D9: 370992 | E9: 234494 | F9: 237 | G9: 0.17 | H9: 38 | I9: =M9-G9 -> 21.08 | J9: =N9-G9 -> -0.17 | K9: 43180 | M9: 21.25
A10: 6 | B10: Casa Abandonada | C10: E | D10: 371175 | E10: 232773 | G10: 0.4 | H10: 7.95 | I10: =M10-G10 -> 5.11 | J10: =N10-G10 -> -0.4 | K10: 43180 | M10: 5.51
A11: 7 | B11: Rafael Barrantes perforado | C11: P | D11: 371948 | E11: 233360 | G11: 0.2 | I11: =M11-G11 -> 16.47 | J11: =N11-G11 -> -0.2 | K11: 43180 | M11: 16.67
A12: 8 | B12: Rafael Barrantes escavado | C12: E | D12: 371994 | E12: 233556 | G12: 0.4 | I12: =M12-G12 -> 5.99 | J12: =N12-G12 -> -0.4 | K12: 43180 | M12: 6.39

Sheet Abril 2018
A1: Monitoreo Cuenca Quirimán
A3: N. | B3: Pozo | C3: Tipo | D3: Este | E3: Norte | F3: m.s.n.m. | G3: Brocal | H3: Profundidad (m) | I3: Nivel E (m) | J3: Nivel D (m) | K3: Fecha | M3: Nivel E (m) | N3: Nivel D (m)
A5: 1 | B5: #1 Asada Quiriman | C5: P | D5: 371747 | E5: 233146 | F5: 223 | G5: 0.2 | H5: 30 | I5: =M5-G5 -> -0.2 | J5: =N5-G5 -> 17.33 | K5: 43180 | N5: 17.53
A6: 2 | B6: #2 Asada Quiriman | C6: P | D6: 371188 | E6: 232816 | F6: 221 | G6: 0.48 | I6: =M6-G6 -> 4.05 | J6: =N6-G6 -> -0.48 | K6: 43180 | M6: 4.53
A7: 3 | B7: Frente escuela Quiriman | C7: E | D7: 371019 | E7: 232783 | F7: 206 | G7: 0.78 | H7: 15.45 | I7: Porton cerrado | K7: 43180 | M7: Sin acceso
A8: 4 | B8: Vianey Guevara | C8: E | D8: 370602 | E8: 232450 | F8: 214 | G8: 0.5 | I8: =M8-G8 -> 19.84 | J8: =N8-G8 -> -0.5 | K8: 43180 | M8: 20.34
A9: 5 | B9: Asada La Y Griega | C9: P | D9: 370992 | E9: 234494 | F9: 237 | G9: 0.17 | H9: 38 | I9: =M9-G9 -> -0.17 | J9: =N9-G9 -> -0.17 | K9: 43180
A10: 6 | B10: Casa Abandonada | C10: E | D10: 371175 | E10: 232773 | G10: 0.4 | H10: 7.95 | I10: =M10-G10 -> 5.77 | J10: =N10-G10 -> -0.4 | K10: 43180 | M10: 6.17
A11: 7 | B11: Rafael Barrantes perforado | C11: P | D11: 371948 | E11: 233360 | G11: 0.2 | I11: =M11-G11 -> 17.36 | J11: =N11-G11 -> -0.2 | K11: 43180 | M11: 17.56
A12: 8 | B12: Rafael Barrantes escavado | C12: E | D12: 371994 | E12: 233556 | G12: 0.4 | I12: =M12-G12 -> 7.23 | J12: =N12-G12 -> -0.4 | K12: 43180 | M12: 7.63

Sheet Mayo 2018
A1: Monitoreo Cuenca Quirimán
A3: N. | B3: Pozo | C3: Tipo | D3: Este | E3: Norte | F3: m.s.n.m. | G3: Brocal | H3: Profundidad (m) | I3: Nivel E (m) | J3: Nivel D (m) | K3: Fecha | M3: Nivel E (m) | N3: Nivel D (m)
A5: 1 | B5: #1 Asada Quiriman | C5: P | D5: 371747 | E5: 233146 | F5: 223 | G5: 0.2 | H5: 30 | I5: =M5-G5 -> -0.2 | J5: =N5-G5 -> 19.69 | K5: 43243 | N5: 19.89
A6: 2 | B6: #2 Asada Quiriman | C6: P | D6: 371188 | E6: 232816 | F6: 221 | G6: 0.48 | I6: =M6-G6 -> 4.57 | J6: =N6-G6 -> -0.48 | K6: 43243 | M6: 5.05
A7: 3 | B7: Frente escuela Quiriman | C7: E | D7: 371019 | E7: 232783 | F7: 206 | G7: 0.78 | H7: 15.45 | I7: Porton cerrado | K7: 43243 | M7: Sin acceso
A8: 4 | B8: Vianey Guevara | C8: E | D8: 370602 | E8: 232450 | F8: 214 | G8: 0.5 | I8: =M8-G8 -> 19.87 | J8: =N8-G8 -> -0.5 | K8: 43243 | M8: 20.37
A9: 5 | B9: Asada La Y Griega | C9: P | D9: 370992 | E9: 234494 | F9: 237 | G9: 0.17 | H9: 38 | I9: =M9-G9 -> #VALUE! | J9: =N9-G9 -> -0.17 | K9: 43243 | M9: Cerrado con llave
A10: 6 | B10: Casa Abandonada | C10: E | D10: 371175 | E10: 232773 | G10: 0.4 | H10: 7.95 | I10: =M10-G10 -> 6.26 | J10: =N10-G10 -> -0.4 | K10: 43243 | M10: 6.66
A11: 7 | B11: Rafael Barrantes perforado | C11: P | D11: 371948 | E11: 233360 | G11: 0.2 | I11: =M11-G11 -> 18.69 | J11: =N11-G11 -> -0.2 | K11: 43243 | M11: 18.89
A12: 8 | B12: Rafael Barrantes escavado | C12: E | D12: 371994 | E12: 233556 | G12: 0.4 | I12: =M12-G12 -> 8.13 | J12: =N12-G12 -> -0.4 | K12: 43243 | M12: 8.53

Sheet Junio 2018
A1: Monitoreo Cuenca Quirimán
A3: N. | B3: Pozo | C3: Tipo | D3: Este | E3: Norte | F3: m.s.n.m. | G3: Brocal | H3: Profundidad (m) | I3: Nivel E (m) | J3: Nivel D (m) | K3: Fecha | M3: Nivel E (m) | N3: Nivel D (m)
A5: 1 | B5: #1 Asada Quiriman | C5: P | D5: 371747 | E5: 233146 | F5: 223 | G5: 0.2 | H5: 30 | I5: =M5-G5 -> #VALUE! | J5: =N5-G5 -> -0.2 | K5: 43271 | M5: ASADA no disponible
A6: 2 | B6: #2 Asada Quiriman | C6: P | D6: 371188 | E6: 232816 | F6: 221 | G6: 0.48 | I6: =M6-G6 -> 4.62 | J6: =N6-G6 -> -0.48 | K6: 43271 | M6: 5.1
A7: 3 | B7: Frente escuela Quiriman | C7: E | D7: 371019 | E7: 232783 | F7: 206 | G7: 0.78 | H7: 15.45 | I7: Porton cerrado | K7: 43271 | M7: Sin acceso
A8: 4 | B8: Vianey Guevara | C8: E | D8: 370602 | E8: 232450 | F8: 214 | G8: 0.5 | I8: =M8-G8 -> 19.55 | J8: =N8-G8 -> -0.5 | K8: 43271 | M8: 20.05
A9: 5 | B9: Asada La Y Griega | C9: P | D9: 370992 | E9: 234494 | F9: 237 | G9: 0.17 | H9: 38 | I9: =M9-G9 -> 26.16 | J9: =N9-G9 -> -0.17 | K9: 43271 | M9: 26.33
A10: 6 | B10: Casa Abandonada | C10: E | D10: 371175 | E10: 232773 | G10: 0.4 | H10: 7.95 | I10: =M10-G10 -> 6.21 | J10: =N10-G10 -> -0.4 | K10: 43271 | M10: 6.61
A11: 7 | B11: Rafael Barrantes perforado | C11: P | D11: 371948 | E11: 233360 | G11: 0.2 | I11: =M11-G11 -> 19.08 | J11: =N11-G11 -> -0.2 | K11: 43271 | M11: 19.28
A12: 8 | B12: Rafael Barrantes escavado | C12: E | D12: 371994 | E12: 233556 | G12: 0.4 | I12: =M12-G12 -> 7.82 | J12: =N12-G12 -> -0.4 | K12: 43271 | M12: 8.22

Sheet Julio 2018
A1: Monitoreo Cuenca Quirimán
A3: N. | B3: Pozo | C3: Tipo | D3: Este | E3: Norte | F3: m.s.n.m. | G3: Brocal | H3: Profundidad (m) | I3: Nivel E (m) | J3: Nivel D (m) | K3: Fecha | M3: Nivel E (m) | N3: Nivel D (m)
A5: 1 | B5: #1 Asada Quiriman | C5: P | D5: 371747 | E5: 233146 | F5: 223 | G5: 0.2 | H5: 30 | I5: =M5-G5 -> 14.13 | J5: =N5-G5 -> -0.2 | K5: 43299 | M5: 14.33
A6: 2 | B6: #2 Asada Quiriman | C6: P | D6: 371188 | E6: 232816 | F6: 221 | G6: 0.48 | I6: =M6-G6 -> 4.62 | J6: =N6-G6 -> -0.48 | K6: 43300 | M6: 5.1
A7: 3 | B7: Frente escuela Quiriman | C7: E | D7: 371019 | E7: 232783 | F7: 206 | G7: 0.78 | H7: 15.45 | I7: Porton cerrado | K7: 43301 | M7: Sin acceso
A8: 4 | B8: Vianey Guevara | C8: E | D8: 370602 | E8: 232450 | F8: 214 | G8: 0.5 | I8: =M8-G8 -> 19.55 | J8: =N8-G8 -> -0.5 | K8: 43302 | M8: 20.05
A9: 5 | B9: Asada La Y Griega | C9: P | D9: 370992 | E9: 234494 | F9: 237 | G9: 0.17 | H9: 38 | I9: =M9-G9 -> 26.16 | J9: =N9-G9 -> -0.17 | K9: 43303 | M9: 26.33
A10: 6 | B10: Casa Abandonada | C10: E | D10: 371175 | E10: 232773 | G10: 0.4 | H10: 7.95 | I10: =M10-G10 -> 6.21 | J10: =N10-G10 -> -0.4 | K10: 43304 | M10: 6.61
A11: 7 | B11: Rafael Barrantes perforado | C11: P | D11: 371948 | E11: 233360 | G11: 0.2 | I11: =M11-G11 -> 19.08 | J11: =N11-G11 -> -0.2 | K11: 43305 | M11: 19.28
A12: 8 | B12: Rafael Barrantes escavado | C12: E | D12: 371994 | E12: 233556 | G12: 0.4 | I12: =M12-G12 -> 7.82 | J12: =N12-G12 -> -0.4 | K12: 43306 | M12: 8.22

Sheet Agosto 2018
A1: Monitoreo Cuenca Quirimán
A3: N. | B3: Pozo | C3: Tipo | D3: Este | E3: Norte | F3: m.s.n.m. | G3: Brocal | H3: Profundidad (m) | I3: Nivel E (m) | J3: Nivel D (m) | K3: Fecha | M3: Nivel E (m) | N3: Nivel D (m)
A5: 1 | B5: #1 Asada Quiriman | C5: P | D5: 371747 | E5: 233146 | F5: 223 | G5: 0.2 | H5: 30 | I5: =M5-G5 -> #VALUE! | J5: =N5-G5 -> -0.2 | K5: 43333 | M5: ASADA no disponible
A6: 2 | B6: #2 Asada Quiriman | C6: P | D6: 371188 | E6: 232816 | F6: 221 | G6: 0.48 | I6: =M6-G6 -> 2.5 | J6: =N6-G6 -> -0.48 | K6: 43333 | M6: 2.98
A7: 3 | B7: Frente escuela Quiriman | C7: E | D7: 371019 | E7: 232783 | F7: 206 | G7: 0.78 | H7: 15.45 | I7: Porton cerrado | K7: 43333 | M7: Sin acceso
A8: 4 | B8: Vianey Guevara | C8: E | D8: 370602 | E8: 232450 | F8: 214 | G8: 0.5 | I8: =M8-G8 -> 19.7 | J8: =N8-G8 -> -0.5 | K8: 43333 | M8: 20.2
A9: 5 | B9: Asada La Y Griega | C9: P | D9: 370992 | E9: 234494 | F9: 237 | G9: 0.17 | H9: 38 | I9: =M9-G9 -> #VALUE! | J9: =N9-G9 -> -0.17 | K9: 43333 | M9: Sin acceso
A10: 6 | B10: Casa Abandonada | C10: E | D10: 371175 | E10: 232773 | G10: 0.4 | H10: 7.95 | I10: =M10-G10 -> 4.18 | J10: =N10-G10 -> -0.4 | K10: 43333 | M10: 4.58
A11: 7 | B11: Rafael Barrantes perforado | C11: P | D11: 371948 | E11: 233360 | G11: 0.2 | I11: =M11-G11 -> 15.58 | J11: =N11-G11 -> -0.2 | K11: 43333 | M11: 15.78
A12: 8 | B12: Rafael Barrantes escavado | C12: E | D12: 371994 | E12: 233556 | G12: 0.4 | I12: =M12-G12 -> 3.58 | J12: =N12-G12 -> -0.4 | K12: 43333 | M12: 3.98

Sheet Setiembre 2018
A1: Monitoreo Cuenca Quirimán
A3: N. | B3: Pozo | C3: Tipo | D3: Este | E3: Norte | F3: m.s.n.m. | G3: Brocal | H3: Profundidad (m) | I3: Nivel E (m) | J3: Nivel D (m) | K3: Fecha | M3: Nivel E (m) | N3: Nivel D (m)
A5: 1 | B5: #1 Asada Quiriman | C5: P | D5: 371747 | E5: 233146 | F5: 223 | G5: 0.2 | H5: 30 | I5: =M5-G5 -> #VALUE! | J5: =N5-G5 -> -0.2 | K5: 43368 | M5: ASADA no disponible
A6: 2 | B6: #2 Asada Quiriman | C6: P | D6: 371188 | E6: 232816 | F6: 221 | G6: 0.48 | I6: =M6-G6 -> 2.48 | J6: =N6-G6 -> -0.48 | K6: 43368 | M6: 2.96
A7: 3 | B7: Frente escuela Quiriman | C7: E | D7: 371019 | E7: 232783 | F7: 206 | G7: 0.78 | H7: 15.45 | I7: Porton cerrado | K7: 43368 | M7: Sin acceso
A8: 4 | B8: Vianey Guevara | C8: E | D8: 370602 | E8: 232450 | F8: 214 | G8: 0.5 | I8: =M8-G8 -> 19.48 | J8: =N8-G8 -> -0.5 | K8: 43368 | M8: 19.98
A9: 5 | B9: Asada La Y Griega | C9: P | D9: 370992 | E9: 234494 | F9: 237 | G9: 0.17 | H9: 38 | I9: =M9-G9 -> #VALUE! | J9: =N9-G9 -> -0.17 | K9: 43368 | M9: Sin acceso
A10: 6 | B10: Casa Abandonada | C10: E | D10: 371175 | E10: 232773 | G10: 0.4 | H10: 7.95 | I10: =M10-G10 -> #VALUE! | J10: =N10-G10 -> -0.4 | K10: 43368 | M10: Sin acceso
A11: 7 | B11: Rafael Barrantes perforado | C11: P | D11: 371948 | E11: 233360 | G11: 0.2 | I11: =M11-G11 -> 15.32 | J11: =N11-G11 -> -0.2 | K11: 43368 | M11: 15.52
A12: 8 | B12: Rafael Barrantes escavado | C12: E | D12: 371994 | E12: 233556 | G12: 0.4 | I12: =M12-G12 -> #VALUE! | J12: =N12-G12 -> -0.4 | K12: 43368 | M12: Tapado

Sheet Octubre 2018
A1: Monitoreo Cuenca Quirimán
A3: N. | B3: Pozo | C3: Tipo | D3: Este | E3: Norte | F3: m.s.n.m. | G3: Brocal | H3: Profundidad (m) | I3: Nivel E (m) | J3: Nivel D (m) | K3: Fecha | M3: Nivel E (m) | N3: Nivel D (m)
A5: 1 | B5: #1 Asada Quiriman | C5: P | D5: 371747 | E5: 233146 | F5: 223 | G5: 0.2 | H5: 30 | I5: =M5-G5 -> #VALUE! | J5: =N5-G5 -> -0.2 | K5: 43397 | M5: ASADA no disponible
A6: 2 | B6: #2 Asada Quiriman | C6: P | D6: 371188 | E6: 232816 | F6: 221 | G6: 0.48 | I6: =M6-G6 -> 1.19 | J6: =N6-G6 -> -0.48 | K6: 43397 | M6: 1.67
A7: 3 | B7: Frente escuela Quiriman | C7: E | D7: 371019 | E7: 232783 | F7: 206 | G7: 0.78 | H7: 15.45 | I7: Porton cerrado | K7: 43397 | M7: Sin acceso
A8: 4 | B8: Vianey Guevara | C8: E | D8: 370602 | E8: 232450 | F8: 214 | G8: 0.5 | I8: =M8-G8 -> 18.95 | J8: =N8-G8 -> -0.5 | K8: 43397 | M8: 19.45
A9: 5 | B9: Asada La Y Griega | C9: P | D9: 370992 | E9: 234494 | F9: 237 | G9: 0.17 | H9: 38 | I9: =M9-G9 -> 15.28 | J9: =N9-G9 -> -0.17 | K9: 43397 | M9: 15.45
A10: 6 | B10: Casa Abandonada | C10: E | D10: 371175 | E10: 232773 | G10: 0.4 | H10: 7.95 | I10: =M10-G10 -> 3.14 | J10: =N10-G10 -> -0.4 | K10: 43397 | M10: 3.54
A11: 7 | B11: Rafael Barrantes perforado | C11: P | D11: 371948 | E11: 233360 | G11: 0.2 | I11: =M11-G11 -> 13.38 | J11: =N11-G11 -> -0.2 | K11: 43397 | M11: 13.58
A12: 8 | B12: Rafael Barrantes escavado | C12: E | D12: 371994 | E12: 233556 | G12: 0.4 | I12: =M12-G12 -> 2.7 | J12: =N12-G12 -> -0.4 | K12: 43397 | M12: 3.1

Sheet Noviembre 2018
A1: Monitoreo Cuenca Quirimán
A3: N. | B3: Pozo | C3: Tipo | D3: Este | E3: Norte | F3: m.s.n.m. | G3: Brocal | H3: Profundidad (m) | I3: Nivel E (m) | J3: Nivel D (m) | K3: Fecha | M3: Nivel E (m) | N3: Nivel D (m)
A5: 1 | B5: #1 Asada Quiriman | C5: P | D5: 371747 | E5: 233146 | F5: 223 | G5: 0.2 | H5: 30 | I5: =M5-G5 -> #VALUE! | J5: =N5-G5 -> -0.2 | K5: 43397 | M5: ASADA no disponible
A6: 2 | B6: #2 Asada Quiriman | C6: P | D6: 371188 | E6: 232816 | F6: 221 | G6: 0.48 | I6: =M6-G6 -> 1.77 | J6: =N6-G6 -> -0.48 | K6: 43397 | M6: 2.25
A7: 3 | B7: Frente escuela Quiriman | C7: E | D7: 371019 | E7: 232783 | F7: 206 | G7: 0.78 | H7: 15.45 | I7: Porton cerrado | K7: 43397 | M7: Sin acceso
A8: 4 | B8: Vianey Guevara | C8: E | D8: 370602 | E8: 232450 | F8: 214 | G8: 0.5 | I8: =M8-G8 -> 19.23 | J8: =N8-G8 -> -0.5 | K8: 43397 | M8: 19.73
A9: 5 | B9: Asada La Y Griega | C9: P | D9: 370992 | E9: 234494 | F9: 237 | G9: 0.17 | H9: 38 | I9: =M9-G9 -> 15.76 | J9: =N9-G9 -> -0.17 | K9: 43397 | M9: 15.93
A10: 6 | B10: Casa Abandonada | C10: E | D10: 371175 | E10: 232773 | G10: 0.4 | H10: 7.95 | I10: =M10-G10 -> 2.78 | J10: =N10-G10 -> -0.4 | K10: 43397 | M10: 3.18
A11: 7 | B11: Rafael Barrantes perforado | C11: P | D11: 371948 | E11: 233360 | G11: 0.2 | I11: =M11-G11 -> 14.73 | J11: =N11-G11 -> -0.2 | K11: 43397 | M11: 14.93
A12: 8 | B12: Rafael Barrantes escavado | C12: E | D12: 371994 | E12: 233556 | G12: 0.4 | I12: =M12-G12 -> 3.25 | J12: =N12-G12 -> -0.4 | K12: 43397 | M12: 3.65

Sheet Diciembre 2018
A1: Monitoreo Cuenca Quirimán
A3: N. | B3: Pozo | C3: Tipo | D3: Este | E3: Norte | F3: m.s.n.m. | G3: Brocal | H3: Profundidad (m) | I3: Nivel E (m) | J3: Nivel D (m) | K3: Fecha | M3: Nivel E (m) | N3: Nivel D (m)
A5: 1 | B5: #1 Asada Quiriman | C5: P | D5: 371747 | E5: 233146 | F5: 223 | G5: 0.2 | H5: 30 | I5: =M5-G5 -> #VALUE! | J5: =N5-G5 -> -0.2 | K5: 43445 | M5: ASADA no disponible
A6: 2 | B6: #2 Asada Quiriman | C6: P | D6: 371188 | E6: 232816 | F6: 221 | G6: 0.48 | I6: =M6-G6 -> 0.95 | J6: =N6-G6 -> -0.48 | K6: 43445 | M6: 1.43
A7: 3 | B7: Frente escuela Quiriman | C7: E | D7: 371019 | E7: 232783 | F7: 206 | G7: 0.78 | H7: 15.45 | I7: Porton cerrado | K7: 43445 | M7: Sin acceso
A8: 4 | B8: Vianey Guevara | C8: E | D8: 370602 | E8: 232450 | F8: 214 | G8: 0.5 | I8: =M8-G8 -> 19.38 | J8: =N8-G8 -> -0.5 | K8: 43445 | M8: 19.88
A9: 5 | B9: Asada La Y Griega | C9: P | D9: 370992 | E9: 234494 | F9: 237 | G9: 0.17 | H9: 38 | I9: =M9-G9 -> 16.18 | J9: =N9-G9 -> -0.17 | K9: 43445 | M9: 16.35
A10: 6 | B10: Casa Abandonada | C10: E | D10: 371175 | E10: 232773 | G10: 0.4 | H10: 7.95 | I10: =M10-G10 -> 3.77 | J10: =N10-G10 -> -0.4 | K10: 43445 | M10: 4.17
A11: 7 | B11: Rafael Barrantes perforado | C11: P | D11: 371948 | E11: 233360 | G11: 0.2 | I11: =M11-G11 -> #VALUE! | J11: =N11-G11 -> -0.2 | K11: 43445 | M11: cerrado
A12: 8 | B12: Rafael Barrantes escavado | C12: E | D12: 371994 | E12: 233556 | G12: 0.4 | I12: =M12-G12 -> 3.38 | J12: =N12-G12 -> -0.4 | K12: 43445 | M12: 3.78

Sheet Enero 2019
A1: Monitoreo Cuenca Quirimán
A3: N. | B3: Pozo | C3: Tipo | D3: Este | E3: Norte | F3: m.s.n.m. | G3: Brocal | H3: Profundidad (m) | I3: Nivel E (m) | J3: Nivel D (m) | K3: Fecha | M3: Nivel E (m) | N3: Nivel D (m)
A5: 1 | B5: #1 Asada Quiriman | C5: P | D5: 371747 | E5: 233146 | F5: 223 | G5: 0.2 | H5: 30 | I5: =M5-G5 -> -0.2 | J5: =N5-G5 -> 14.8 | K5: 43489 | N5: 15
A6: 2 | B6: #2 Asada Quiriman | C6: P | D6: 371188 | E6: 232816 | F6: 221 | G6: 0.48 | I6: =M6-G6 -> 2.39 | J6: =N6-G6 -> -0.48 | K6: 43489 | M6: 2.87
A7: 3 | B7: Frente escuela Quiriman | C7: E | D7: 371019 | E7: 232783 | F7: 206 | G7: 0.78 | H7: 15.45 | I7: Porton cerrado | K7: 43489 | M7: Sin acceso
A8: 4 | B8: Vianey Guevara | C8: E | D8: 370602 | E8: 232450 | F8: 214 | G8: 0.5 | I8: =M8-G8 -> 19.56 | J8: =N8-G8 -> -0.5 | K8: 43489 | M8: 20.06
A9: 5 | B9: Asada La Y Griega | C9: P | D9: 370992 | E9: 234494 | F9: 237 | G9: 0.17 | H9: 38 | I9: =M9-G9 -> -0.17 | J9: =N9-G9 -> 20.18 | K9: 43489 | N9: 20.35
A10: 6 | B10: Casa Abandonada | C10: E | D10: 371175 | E10: 232773 | G10: 0.4 | H10: 7.95 | I10: =M10-G10 -> 4.21 | J10: =N10-G10 -> -0.4 | K10: 43489 | M10: 4.61
A11: 7 | B11: Rafael Barrantes perforado | C11: P | D11: 371948 | E11: 233360 | G11: 0.2 | I11: =M11-G11 -> 15.58 | J11: =N11-G11 -> -0.2 | K11: 43489 | M11: 15.78
A12: 8 | B12: Rafael Barrantes escavado | C12: E | D12: 371994 | E12: 233556 | G12: 0.4 | I12: =M12-G12 -> 4.24 | J12: =N12-G12 -> -0.4 | K12: 43489 | M12: 4.64

Sheet Febrero 2019
A1: Monitoreo Cuenca Quirimán
A3: N. | B3: Pozo | C3: Tipo | D3: Este | E3: Norte | F3: m.s.n.m. | G3: Brocal | H3: Profundidad (m) | I3: Nivel E (m) | J3: Nivel D (m) | K3: Fecha | M3: Nivel E (m) | N3: Nivel D (m)
A5: 1 | B5: #1 Asada Quiriman | C5: P | D5: 371747 | E5: 233146 | F5: 223 | G5: 0.2 | H5: 30 | I5: =M5-G5 -> 15.47 | J5: =N5-G5 -> -0.2 | K5: 43515 | M5: 15.67
A6: 2 | B6: #2 Asada Quiriman | C6: P | D6: 371188 | E6: 232816 | F6: 221 | G6: 0.48 | I6: =M6-G6 -> 3.01 | J6: =N6-G6 -> -0.48 | K6: 43515 | M6: 3.49
A7: 3 | B7: Frente escuela Quiriman | C7: E | D7: 371019 | E7: 232783 | F7: 206 | G7: 0.78 | H7: 15.45 | I7: Porton cerrado | K7: 43515 | M7: Sin acceso
A8: 4 | B8: Vianey Guevara | C8: E | D8: 370602 | E8: 232450 | F8: 214 | G8: 0.5 | I8: =M8-G8 -> 19.59 | J8: =N8-G8 -> -0.5 | K8: 43515 | M8: 20.09
A9: 5 | B9: Asada La Y Griega | C9: P | D9: 370992 | E9: 234494 | F9: 237 | G9: 0.17 | H9: 38 | I9: =M9-G9 -> 20.59 | J9: =N9-G9 -> -0.17 | K9: 43515 | M9: 20.76
A10: 6 | B10: Casa Abandonada | C10: E | D10: 371175 | E10: 232773 | G10: 0.4 | H10: 7.95 | I10: =M10-G10 -> 4.81 | J10: =N10-G10 -> -0.4 | K10: 43515 | M10: 5.21
A11: 7 | B11: Rafael Barrantes perforado | C11: P | D11: 371948 | E11: 233360 | G11: 0.2 | I11: =M11-G11 -> 15.89 | J11: =N11-G11 -> -0.2 | K11: 43515 | M11: 16.09
A12: 8 | B12: Rafael Barrantes escavado | C12: E | D12: 371994 | E12: 233556 | G12: 0.4 | I12: =M12-G12 -> 5.14 | J12: =N12-G12 -> -0.4 | K12: 43515 | M12: 5.54

Sheet Marzo 2019
A1: Monitoreo Cuenca Quirimán
A3: N. | B3: Pozo | C3: Tipo | D3: Este | E3: Norte | F3: m.s.n.m. | G3: Brocal | H3: Profundidad (m) | I3: Nivel E (m) | J3: Nivel D (m) | K3: Fecha | M3: Nivel E (m) | N3: Nivel D (m)
A5: 1 | B5: #1 Asada Quiriman | C5: P | D5: 371747 | E5: 233146 | F5: 223 | G5: 0.2 | H5: 30 | I5: =M5-G5 -> -0.2 | J5: =N5-G5 -> 16.91 | K5: 43552 | N5: 17.11
A6: 2 | B6: #2 Asada Quiriman | C6: P | D6: 371188 | E6: 232816 | F6: 221 | G6: 0.48 | I6: =M6-G6 -> 3.89 | J6: =N6-G6 -> -0.48 | K6: 43552 | M6: 4.37
A7: 3 | B7: Frente escuela Quiriman | C7: E | D7: 371019 | E7: 232783 | F7: 206 | G7: 0.78 | H7: 15.45 | I7: Porton cerrado | K7: 43552 | M7: Sin acceso
A8: 4 | B8: Vianey Guevara | C8: E | D8: 370602 | E8: 232450 | F8: 214 | G8: 0.5 | I8: =M8-G8 -> 19.78 | J8: =N8-G8 -> -0.5 | K8: 43552 | M8: 20.28
A9: 5 | B9: Asada La Y Griega | C9: P | D9: 370992 | E9: 234494 | F9: 237 | G9: 0.17 | H9: 38 | I9: =M9-G9 -> 22.12 | J9: =N9-G9 -> -0.17 | K9: 43552 | M9: 22.29
A10: 6 | B10: Casa Abandonada | C10: E | D10: 371175 | E10: 232773 | G10: 0.4 | H10: 7.95 | I10: =M10-G10 -> 5.62 | J10: =N10-G10 -> -0.4 | K10: 43552 | M10: 6.02
A11: 7 | B11: Rafael Barrantes perforado | C11: P | D11: 371948 | E11: 233360 | G11: 0.2 | I11: =M11-G11 -> 16.85 | J11: =N11-G11 -> -0.2 | K11: 43552 | M11: 17.05
A12: 8 | B12: Rafael Barrantes escavado | C12: E | D12: 371994 | E12: 233556 | G12: 0.4 | I12: =M12-G12 -> 6.33 | J12: =N12-G12 -> -0.4 | K12: 43552 | M12: 6.73

Sheet Abril 2019
A1: Monitoreo Cuenca Quirimán
A3: N. | B3: Pozo | C3: Tipo | D3: Este | E3: Norte | F3: m.s.n.m. | G3: Brocal | H3: Profundidad (m) | I3: Nivel E (m) | J3: Nivel D (m) | K3: Fecha | M3: Nivel E (m) | N3: Nivel D (m)
A5: 1 | B5: #1 Asada Quiriman | C5: P | D5: 371747 | E5: 233146 | F5: 223 | G5: 0.2 | H5: 30 | I5: =M5-G5 -> -0.2 | J5: =N5-G5 -> 18.57 | K5: 43579 | N5: 18.77
A6: 2 | B6: #2 Asada Quiriman | C6: P | D6: 371188 | E6: 232816 | F6: 221 | G6: 0.48 | I6: =M6-G6 -> 4.41 | J6: =N6-G6 -> -0.48 | K6: 43579 | M6: 4.89
A7: 3 | B7: Frente escuela Quiriman | C7: E | D7: 371019 | E7: 232783 | F7: 206 | G7: 0.78 | H7: 15.45 | I7: Porton cerrado | K7: 43579 | M7: Sin acceso
A8: 4 | B8: Vianey Guevara | C8: E | D8: 370602 | E8: 232450 | F8: 214 | G8: 0.5 | I8: =M8-G8 -> 19.79 | J8: =N8-G8 -> -0.5 | K8: 43579 | M8: 20.29
A9: 5 | B9: Asada La Y Griega | C9: P | D9: 370992 | E9: 234494 | F9: 237 | G9: 0.17 | H9: 38 | I9: =M9-G9 -> #VALUE! | J9: =N9-G9 -> -0.17 | K9: 43579 | M9: sonda no marca
A10: 6 | B10: Casa Abandonada | C10: E | D10: 371175 | E10: 232773 | G10: 0.4 | H10: 7.95 | I10: =M10-G10 -> 6.13 | J10: =N10-G10 -> -0.4 | K10: 43579 | M10: 6.53
A11: 7 | B11: Rafael Barrantes perforado | C11: P | D11: 371948 | E11: 233360 | G11: 0.2 | I11: =M11-G11 -> 17.79 | J11: =N11-G11 -> -0.2 | K11: 43579 | M11: 17.99
A12: 8 | B12: Rafael Barrantes escavado | C12: E | D12: 371994 | E12: 233556 | G12: 0.4 | I12: =M12-G12 -> 8.23 | J12: =N12-G12 -> -0.4 | K12: 43579 | M12: 8.63

Sheet Mayo 2019
A1: Monitoreo Cuenca Quirimán
A3: N. | B3: Pozo | C3: Tipo | D3: Este | E3: Norte | F3: m.s.n.m. | G3: Brocal | H3: Profundidad (m) | I3: Nivel E (m) | J3: Nivel D (m) | K3: Fecha | M3: Nivel E (m) | N3: Nivel D (m)
A5: 1 | B5: #1 Asada Quiriman | C5: P | D5: 371747 | E5: 233146 | F5: 223 | G5: 0.2 | H5: 30 | I5: =M5-G5 -> 16.4 | J5: =N5-G5 -> -0.2 | K5: 43607 | M5: 16.6
A6: 2 | B6: #2 Asada Quiriman | C6: P | D6: 371188 | E6: 232816 | F6: 221 | G6: 0.48 | I6: =M6-G6 -> 4.8 | J6: =N6-G6 -> -0.48 | K6: 43607 | M6: 5.28
A7: 3 | B7: Frente escuela Quiriman | C7: E | D7: 371019 | E7: 232783 | F7: 206 | G7: 0.78 | H7: 15.45 | I7: Porton cerrado | K7: 43607 | M7: Sin acceso
A8: 4 | B8: Vianey Guevara | C8: E | D8: 370602 | E8: 232450 | F8: 214 | G8: 0.5 | I8: =M8-G8 -> 19.76 | J8: =N8-G8 -> -0.5 | K8: 43607 | M8: 20.26
A9: 5 | B9: Asada La Y Griega | C9: P | D9: 370992 | E9: 234494 | F9: 237 | G9: 0.17 | H9: 38 | I9: =M9-G9 -> 24.47 | J9: =N9-G9 -> -0.17 | K9: 43607 | M9: 24.64
A10: 6 | B10: Casa Abandonada | C10: E | D10: 371175 | E10: 232773 | G10: 0.4 | H10: 7.95 | I10: =M10-G10 -> 6.45 | J10: =N10-G10 -> -0.4 | K10: 43607 | M10: 6.85
A11: 7 | B11: Rafael Barrantes perforado | C11: P | D11: 371948 | E11: 233360 | G11: 0.2 | I11: =M11-G11 -> 18.84 | J11: =N11-G11 -> -0.2 | K11: 43607 | M11: 19.04
A12: 8 | B12: Rafael Barrantes escavado | C12: E | D12: 371994 | E12: 233556 | G12: 0.4 | I12: =M12-G12 -> 9.55 | J12: =N12-G12 -> -0.4 | K12: 43607 | M12: 9.95

Sheet Junio 2019
A1: Monitoreo Cuenca Quirimán
A3: N. | B3: Pozo | C3: Tipo | D3: Este | E3: Norte | F3: m.s.n.m. | G3: Brocal | H3: Profundidad (m) | I3: Nivel E (m) | J3: Nivel D (m) | K3: Fecha | M3: Nivel E (m) | N3: Nivel D (m)
A5: 1 | B5: #1 Asada Quiriman | C5: P | D5: 371747 | E5: 233146 | F5: 223 | G5: 0.2 | H5: 30 | I5: =M5-G5 -> -0.2 | J5: =N5-G5 -> 19.06 | K5: 43635 | N5: 19.26
A6: 2 | B6: #2 Asada Quiriman | C6: P | D6: 371188 | E6: 232816 | F6: 221 | G6: 0.48 | I6: =M6-G6 -> 5.12 | J6: =N6-G6 -> -0.48 | K6: 43635 | M6: 5.6
A7: 3 | B7: Frente escuela Quiriman | C7: E | D7: 371019 | E7: 232783 | F7: 206 | G7: 0.78 | H7: 15.45 | I7: Porton cerrado | K7: 43635 | M7: Sin acceso
A8: 4 | B8: Vianey Guevara | C8: E | D8: 370602 | E8: 232450 | F8: 214 | G8: 0.5 | I8: =M8-G8 -> 19.67 | J8: =N8-G8 -> -0.5 | K8: 43635 | M8: 20.17
A9: 5 | B9: Asada La Y Griega | C9: P | D9: 370992 | E9: 234494 | F9: 237 | G9: 0.17 | H9: 38 | I9: =M9-G9 -> 26.04 | J9: =N9-G9 -> -0.17 | K9: 43635 | M9: 26.21
A10: 6 | B10: Casa Abandonada | C10: E | D10: 371175 | E10: 232773 | G10: 0.4 | H10: 7.95 | I10: =M10-G10 -> 6.73 | J10: =N10-G10 -> -0.4 | K10: 43635 | M10: 7.13
A11: 7 | B11: Rafael Barrantes perforado | C11: P | D11: 371948 | E11: 233360 | G11: 0.2 | I11: =M11-G11 -> 18.96 | J11: =N11-G11 -> -0.2 | K11: 43635 | M11: 19.16
A12: 8 | B12: Rafael Barrantes escavado | C12: E | D12: 371994 | E12: 233556 | G12: 0.4 | I12: =M12-G12 -> 7.45 | J12: =N12-G12 -> -0.4 | K12: 43635 | M12: 7.85

Sheet Julio 2019
A1: Monitoreo Cuenca Quirimán
A3: N. | B3: Pozo | C3: Tipo | D3: Este | E3: Norte | F3: m.s.n.m. | G3: Brocal | H3: Profundidad (m) | I3: Nivel E (m) | J3: Nivel D (m) | K3: Fecha | M3: Nivel E (m) | N3: Nivel D (m)
A5: 1 | B5: #1 Asada Quiriman | C5: P | D5: 371747 | E5: 233146 | F5: 223 | G5: 0.2 | H5: 30 | I5: =M5-G5 -> 16.3 | J5: =N5-G5 -> -0.2 | K5: 43662 | M5: 16.5
A6: 2 | B6: #2 Asada Quiriman | C6: P | D6: 371188 | E6: 232816 | F6: 221 | G6: 0.48 | I6: =M6-G6 -> 4.9 | J6: =N6-G6 -> -0.48 | K6: 43662 | M6: 5.38
A7: 3 | B7: Frente escuela Quiriman | C7: E | D7: 371019 | E7: 232783 | F7: 206 | G7: 0.78 | H7: 15.45 | I7: Porton cerrado | K7: 43662 | M7: Sin acceso
A8: 4 | B8: Vianey Guevara | C8: E | D8: 370602 | E8: 232450 | F8: 214 | G8: 0.5 | I8: =M8-G8 -> 19.65 | J8: =N8-G8 -> -0.5 | K8: 43662 | M8: 20.15
A9: 5 | B9: Asada La Y Griega | C9: P | D9: 370992 | E9: 234494 | F9: 237 | G9: 0.17 | H9: 38 | I9: =M9-G9 -> -0.17 | J9: =N9-G9 -> 32.59 | K9: 43662 | N9: 32.76
A10: 6 | B10: Casa Abandonada | C10: E | D10: 371175 | E10: 232773 | G10: 0.4 | H10: 7.95 | I10: =M10-G10 -> 6.52 | J10: =N10-G10 -> -0.4 | K10: 43662 | M10: 6.92
A11: 7 | B11: Rafael Barrantes perforado | C11: P | D11: 371948 | E11: 233360 | G11: 0.2 | I11: =M11-G11 -> 17.46 | J11: =N11-G11 -> -0.2 | K11: 43662 | M11: 17.66
A12: 8 | B12: Rafael Barrantes escavado | C12: E | D12: 371994 | E12: 233556 | G12: 0.4 | I12: =M12-G12 -> 4.76 | J12: =N12-G12 -> -0.4 | K12: 43662 | M12: 5.16

Sheet Agosto 2019
A1: Monitoreo Cuenca Quirimán
A3: N. | B3: Pozo | C3: Tipo | D3: Este | E3: Norte | F3: m.s.n.m. | G3: Brocal | H3: Profundidad (m) | I3: Nivel E (m) | J3: Nivel D (m) | K3: Fecha | M3: Nivel E (m) | N3: Nivel D (m)
A5: 1 | B5: #1 Asada Quiriman | C5: P | D5: 371747 | E5: 233146 | F5: 223 | G5: 0.2 | H5: 30 | I5: =M5-G5 -> 15.03 | J5: =N5-G5 -> -0.2 | K5: 43697 | M5: 15.23
A6: 2 | B6: #2 Asada Quiriman | C6: P | D6: 371188 | E6: 232816 | F6: 221 | G6: 0.48 | I6: =M6-G6 -> 4.76 | J6: =N6-G6 -> -0.48 | M6: 5.24
A7: 3 | B7: Frente escuela Quiriman | C7: E | D7: 371019 | E7: 232783 | F7: 206 | G7: 0.78 | H7: 15.45 | I7: Porton cerrado | M7: Sin acceso
A8: 4 | B8: Vianey Guevara | C8: E | D8: 370602 | E8: 232450 | F8: 214 | G8: 0.5 | I8: =M8-G8 -> 19.81 | J8: =N8-G8 -> -0.5 | M8: 20.31
A9: 5 | B9: Asada La Y Griega | C9: P | D9: 370992 | E9: 234494 | F9: 237 | G9: 0.17 | H9: 38 | I9: =M9-G9 -> -0.17 | J9: =N9-G9 -> 32.92 | N9: 33.09
A10: 6 | B10: Casa Abandonada | C10: E | D10: 371175 | E10: 232773 | G10: 0.4 | H10: 7.95 | I10: =M10-G10 -> 10.62 | J10: =N10-G10 -> -0.4 | M10: 11.02
A11: 7 | B11: Rafael Barrantes perforado | C11: P | D11: 371948 | E11: 233360 | G11: 0.2 | I11: =M11-G11 -> 16.27 | J11: =N11-G11 -> -0.2 | M11: 16.47
A12: 8 | B12: Rafael Barrantes escavado | C12: E | D12: 371994 | E12: 233556 | G12: 0.4 | I12: =M12-G12 -> 4.05 | J12: =N12-G12 -> -0.4 | M12: 4.45

Sheet Setiembre 2019
A1: Monitoreo Cuenca Quirimán
A3: N. | B3: Pozo | C3: Tipo | D3: Este | E3: Norte | F3: m.s.n.m. | G3: Brocal | H3: Profundidad (m) | I3: Nivel E (m) | J3: Nivel D (m) | K3: Fecha | M3: Nivel E (m) | N3: Nivel D (m)
A5: 1 | B5: #1 Asada Quiriman | C5: P | D5: 371747 | E5: 233146 | F5: 223 | G5: 0.2 | H5: 30 | I5: =M5-G5 -> 14.08 | J5: =N5-G5 -> -0.2 | K5: 43733 | M5: 14.28
A6: 2 | B6: #2 Asada Quiriman | C6: P | D6: 371188 | E6: 232816 | F6: 221 | G6: 0.48 | I6: =M6-G6 -> 3.96 | J6: =N6-G6 -> -0.48 | M6: 4.44
A7: 3 | B7: Frente escuela Quiriman | C7: E | D7: 371019 | E7: 232783 | F7: 206 | G7: 0.78 | H7: 15.45 | I7: Porton cerrado | M7: Sin acceso
A8: 4 | B8: Vianey Guevara | C8: E | D8: 370602 | E8: 232450 | F8: 214 | G8: 0.5 | I8: =M8-G8 -> 19.56 | J8: =N8-G8 -> -0.5 | M8: 20.06
A9: 5 | B9: Asada La Y Griega | C9: P | D9: 370992 | E9: 234494 | F9: 237 | G9: 0.17 | H9: 38 | I9: =M9-G9 -> 30.26 | J9: =N9-G9 -> -0.17 | M9: 30.43
A10: 6 | B10: Casa Abandonada | C10: E | D10: 371175 | E10: 232773 | G10: 0.4 | H10: 7.95 | I10: =M10-G10 -> 5.64 | J10: =N10-G10 -> -0.4 | M10: 6.04
A11: 7 | B11: Rafael Barrantes perforado | C11: P | D11: 371948 | E11: 233360 | G11: 0.2 | I11: =M11-G11 -> 15.87 | J11: =N11-G11 -> -0.2 | M11: 16.07
A12: 8 | B12: Rafael Barrantes escavado | C12: E | D12: 371994 | E12: 233556 | G12: 0.4 | I12: =M12-G12 -> 4.6 | J12: =N12-G12 -> -0.4 | M12: 5

Sheet Octubre 2019
A1: Monitoreo Cuenca Quirimán
A3: N. | B3: Pozo | C3: Tipo | D3: Este | E3: Norte | F3: m.s.n.m. | G3: Brocal | H3: Profundidad (m) | I3: Nivel E (m) | J3: Nivel D (m) | K3: Fecha | M3: Nivel E (m) | N3: Nivel D (m)
A5: 1 | B5: #1 Asada Quiriman | C5: P | D5: 371747 | E5: 233146 | F5: 223 | G5: 0.2 | H5: 30 | I5: =M5-G5 -> -0.2 | J5: =N5-G5 -> 13.37 | K5: 43761 | N5: 13.57
A6: 2 | B6: #2 Asada Quiriman | C6: P | D6: 371188 | E6: 232816 | F6: 221 | G6: 0.48 | I6: =M6-G6 -> 1.52 | J6: =N6-G6 -> -0.48 | M6: 2
A7: 3 | B7: Frente escuela Quiriman | C7: E | D7: 371019 | E7: 232783 | F7: 206 | G7: 0.78 | H7: 15.45 | I7: Porton cerrado | M7: Sin acceso
A8: 4 | B8: Vianey Guevara | C8: E | D8: 370602 | E8: 232450 | F8: 214 | G8: 0.5 | I8: =M8-G8 -> #VALUE! | J8: =N8-G8 -> -0.5 | M8: sin acceso
A9: 5 | B9: Asada La Y Griega | C9: P | D9: 370992 | E9: 234494 | F9: 237 | G9: 0.17 | H9: 38 | I9: =M9-G9 -> #VALUE! | J9: =N9-G9 -> -0.17 | M9: sin acceso
A10: 6 | B10: Casa Abandonada | C10: E | D10: 371175 | E10: 232773 | G10: 0.4 | H10: 7.95 | I10: =M10-G10 -> 3.21 | J10: =N10-G10 -> -0.4 | M10: 3.61
A11: 7 | B11: Rafael Barrantes perforado | C11: P | D11: 371948 | E11: 233360 | G11: 0.2 | I11: =M11-G11 -> #VALUE! | J11: =N11-G11 -> -0.2 | M11: no estaba dueño
A12: 8 | B12: Rafael Barrantes escavado | C12: E | D12: 371994 | E12: 233556 | G12: 0.4 | I12: =M12-G12 -> 2.75 | J12: =N12-G12 -> -0.4 | M12: 3.15

Sheet Noviembre 2019
A1: Monitoreo Cuenca Quirimán
A3: N. | B3: Pozo | C3: Tipo | D3: Este | E3: Norte | F3: m.s.n.m. | G3: Brocal | H3: Profundidad (m) | I3: Nivel E (m) | J3: Nivel D (m) | K3: Fecha | M3: Nivel E (m) | N3: Nivel D (m)
A5: 1 | B5: #1 Asada Quiriman | C5: P | D5: 371747 | E5: 233146 | F5: 223 | G5: 0.2 | H5: 30 | I5: =M5-G5 -> 10.91 | J5: =N5-G5 -> -0.2 | K5: 43789 | M5: 11.11
A6: 2 | B6: #2 Asada Quiriman | C6: P | D6: 371188 | E6: 232816 | F6: 221 | G6: 0.48 | I6: =M6-G6 -> 1.83 | J6: =N6-G6 -> -0.48 | M6: 2.31
A7: 3 | B7: Frente escuela Quiriman | C7: E | D7: 371019 | E7: 232783 | F7: 206 | G7: 0.78 | H7: 15.45 | I7: Porton cerrado | M7: Sin acceso
A8: 4 | B8: Vianey Guevara | C8: E | D8: 370602 | E8: 232450 | F8: 214 | G8: 0.5 | I8: =M8-G8 -> #VALUE! | J8: =N8-G8 -> -0.5 | M8: sin acceso
A9: 5 | B9: Asada La Y Griega | C9: P | D9: 370992 | E9: 234494 | F9: 237 | G9: 0.17 | H9: 38 | I9: =M9-G9 -> #VALUE! | J9: =N9-G9 -> -0.17 | M9: sin acceso
A10: 6 | B10: Casa Abandonada | C10: E | D10: 371175 | E10: 232773 | G10: 0.4 | H10: 7.95 | I10: =M10-G10 -> 3.62 | J10: =N10-G10 -> -0.4 | M10: 4.02
A11: 7 | B11: Rafael Barrantes perforado | C11: P | D11: 371948 | E11: 233360 | G11: 0.2 | I11: =M11-G11 -> #VALUE! | J11: =N11-G11 -> -0.2 | M11: no estaba dueño
A12: 8 | B12: Rafael Barrantes escavado | C12: E | D12: 371994 | E12: 233556 | G12: 0.4 | I12: =M12-G12 -> 3 | J12: =N12-G12 -> -0.4 | M12: 3.4

Sheet Diciembre 2019
A1: Monitoreo Cuenca Quirimán
A3: N. | B3: Pozo | C3: Tipo | D3: Este | E3: Norte | F3: m.s.n.m. | G3: Brocal | H3: Profundidad (m) | I3: Nivel E (m) | J3: Nivel D (m) | K3: Fecha | M3: Nivel E (m) | N3: Nivel D (m)
A5: 1 | B5: #1 Asada Quiriman | C5: P | D5: 371747 | E5: 233146 | F5: 223 | G5: 0.2 | H5: 30 | I5: =M5-G5 -> 12.03 | J5: =N5-G5 -> -0.2 | K5: 43810 | M5: 12.23
A6: 2 | B6: #2 Asada Quiriman | C6: P | D6: 371188 | E6: 232816 | F6: 221 | G6: 0.48 | I6: =M6-G6 -> 2.04 | J6: =N6-G6 -> -0.48 | M6: 2.52
A7: 3 | B7: Frente escuela Quiriman | C7: E | D7: 371019 | E7: 232783 | F7: 206 | G7: 0.78 | H7: 15.45 | I7: Porton cerrado | M7: Sin acceso
A8: 4 | B8: Vianey Guevara | C8: E | D8: 370602 | E8: 232450 | F8: 214 | G8: 0.5 | I8: =M8-G8 -> 19.42 | J8: =N8-G8 -> -0.5 | M8: 19.92
A9: 5 | B9: Asada La Y Griega | C9: P | D9: 370992 | E9: 234494 | F9: 237 | G9: 0.17 | H9: 38 | I9: =M9-G9 -> #VALUE! | J9: =N9-G9 -> -0.17 | M9: dueño no estaba
A10: 6 | B10: Casa Abandonada | C10: E | D10: 371175 | E10: 232773 | G10: 0.4 | H10: 7.95 | I10: =M10-G10 -> 3.8 | J10: =N10-G10 -> -0.4 | M10: 4.2
A11: 7 | B11: Rafael Barrantes perforado | C11: P | D11: 371948 | E11: 233360 | G11: 0.2 | I11: =M11-G11 -> 15.06 | J11: =N11-G11 -> -0.2 | M11: 15.26
A12: 8 | B12: Rafael Barrantes escavado | C12: E | D12: 371994 | E12: 233556 | G12: 0.4 | I12: =M12-G12 -> 4.4 | J12: =N12-G12 -> -0.4 | M12: 4.8

Sheet Enero 2020
A1: Monitoreo Cuenca Quirimán
A3: N. | B3: Pozo | C3: Tipo | D3: Este | E3: Norte | F3: m.s.n.m. | G3: Brocal | H3: Profundidad (m) | I3: Nivel E (m) | J3: Nivel D (m) | K3: Fecha | M3: Nivel E (m) | N3: Nivel D (m)
A5: 1 | B5: #1 Asada Quiriman | C5: P | D5: 371747 | E5: 233146 | F5: 223 | G5: 0.2 | H5: 30 | I5: =M5-G5 -> 15.06 | J5: =N5-G5 -> -0.2 | K5: 43852 | M5: 15.26
A6: 2 | B6: #2 Asada Quiriman | C6: P | D6: 371188 | E6: 232816 | F6: 221 | G6: 0.48 | I6: =M6-G6 -> 2.43 | J6: =N6-G6 -> -0.48 | M6: 2.91
A7: 3 | B7: Frente escuela Quiriman | C7: E | D7: 371019 | E7: 232783 | F7: 206 | G7: 0.78 | H7: 15.45 | I7: Porton cerrado | M7: Sin acceso
A8: 4 | B8: Vianey Guevara | C8: E | D8: 370602 | E8: 232450 | F8: 214 | G8: 0.5 | I8: =M8-G8 -> 19.75 | J8: =N8-G8 -> -0.5 | M8: 20.25
A9: 5 | B9: Asada La Y Griega | C9: P | D9: 370992 | E9: 234494 | F9: 237 | G9: 0.17 | H9: 38 | I9: =M9-G9 -> 18.53 | J9: =N9-G9 -> -0.17 | M9: 18.7
A10: 6 | B10: Casa Abandonada | C10: E | D10: 371175 | E10: 232773 | G10: 0.4 | H10: 7.95 | I10: =M10-G10 -> 4.2 | J10: =N10-G10 -> -0.4 | M10: 4.6
A11: 7 | B11: Rafael Barrantes perforado | C11: P | D11: 371948 | E11: 233360 | G11: 0.2 | I11: =M11-G11 -> 15.52 | J11: =N11-G11 -> -0.2 | M11: 15.72
A12: 8 | B12: Rafael Barrantes escavado | C12: E | D12: 371994 | E12: 233556 | G12: 0.4 | I12: =M12-G12 -> 4.2 | J12: =N12-G12 -> -0.4 | M12: 4.6

Sheet Febrero 2020
A1: Monitoreo Cuenca Quirimán
A3: N. | B3: Pozo | C3: Tipo | D3: Este | E3: Norte | F3: m.s.n.m. | G3: Brocal | H3: Profundidad (m) | I3: Nivel E (m) | J3: Nivel D (m) | K3: Fecha | M3: Nivel E (m) | N3: Nivel D (m)
A5: 1 | B5: #1 Asada Quiriman | C5: P | D5: 371747 | E5: 233146 | F5: 223 | G5: 0.2 | H5: 30 | I5: =M5-G5 -> -0.2 | J5: =N5-G5 -> 27.85 | K5: 43880 | N5: 28.05
A6: 2 | B6: #2 Asada Quiriman | C6: P | D6: 371188 | E6: 232816 | F6: 221 | G6: 0.48 | I6: =M6-G6 -> 3.09 | J6: =N6-G6 -> -0.48 | M6: 3.57
A7: 3 | B7: Frente escuela Quiriman | C7: E | D7: 371019 | E7: 232783 | F7: 206 | G7: 0.78 | H7: 15.45 | I7: Porton cerrado | M7: Sin acceso
A8: 4 | B8: Vianey Guevara | C8: E | D8: 370602 | E8: 232450 | F8: 214 | G8: 0.5 | I8: =M8-G8 -> 19.67 | J8: =N8-G8 -> -0.5 | M8: 20.17
A9: 5 | B9: Asada La Y Griega | C9: P | D9: 370992 | E9: 234494 | F9: 237 | G9: 0.17 | H9: 38 | I9: =M9-G9 -> #VALUE! | J9: =N9-G9 -> -0.17 | M9: sonda no bajo de 50 m
A10: 6 | B10: Casa Abandonada | C10: E | D10: 371175 | E10: 232773 | G10: 0.4 | H10: 7.95 | I10: =M10-G10 -> 4.81 | J10: =N10-G10 -> -0.4 | M10: 5.21
A11: 7 | B11: Rafael Barrantes perforado | C11: P | D11: 371948 | E11: 233360 | G11: 0.2 | I11: =M11-G11 -> #VALUE! | J11: =N11-G11 -> -0.2 | M11: dueño no estaba
A12: 8 | B12: Rafael Barrantes escavado | C12: E | D12: 371994 | E12: 233556 | G12: 0.4 | I12: =M12-G12 -> 5.02 | J12: =N12-G12 -> -0.4 | M12: 5.42

Sheet Marzo 2020
A1: Monitoreo Cuenca Quirimán
A3: N. | B3: Pozo | C3: Tipo | D3: Este | E3: Norte | F3: m.s.n.m. | G3: Brocal | H3: Profundidad (m) | I3: Nivel E (m) | J3: Nivel D (m) | K3: Fecha | M3: Nivel E (m) | N3: Nivel D (m)
A5: 1 | B5: #1 Asada Quiriman | C5: P | D5: 371747 | E5: 233146 | F5: 223 | G5: 0.2 | H5: 30 | I5: =M5-G5 -> -0.2 | J5: =N5-G5 -> 17.28 | K5: 43880 | N5: 17.48
A6: 2 | B6: #2 Asada Quiriman | C6: P | D6: 371188 | E6: 232816 | F6: 221 | G6: 0.48 | I6: =M6-G6 -> 3.79 | J6: =N6-G6 -> -0.48 | M6: 4.27
A7: 3 | B7: Frente escuela Quiriman | C7: E | D7: 371019 | E7: 232783 | F7: 206 | G7: 0.78 | H7: 15.45 | I7: Porton cerrado | M7: Sin acceso
A8: 4 | B8: Vianey Guevara | C8: E | D8: 370602 | E8: 232450 | F8: 214 | G8: 0.5 | I8: =M8-G8 -> #VALUE! | J8: =N8-G8 -> -0.5 | M8: camino cerrado
A9: 5 | B9: Asada La Y Griega | C9: P | D9: 370992 | E9: 234494 | F9: 237 | G9: 0.17 | H9: 38 | I9: =M9-G9 -> 21.79 | J9: =N9-G9 -> -0.17 | M9: 21.96
A10: 6 | B10: Casa Abandonada | C10: E | D10: 371175 | E10: 232773 | G10: 0.4 | H10: 7.95 | I10: =M10-G10 -> 5.47 | J10: =N10-G10 -> -0.4 | M10: 5.87
A11: 7 | B11: Rafael Barrantes perforado | C11: P | D11: 371948 | E11: 233360 | G11: 0.2 | I11: =M11-G11 -> 16.51 | J11: =N11-G11 -> -0.2 | M11: 16.71
A12: 8 | B12: Rafael Barrantes escavado | C12: E | D12: 371994 | E12: 233556 | G12: 0.4 | I12: =M12-G12 -> 6.38 | J12: =N12-G12 -> -0.4 | M12: 6.78

Sheet Abril 2020
A1: Monitoreo Cuenca Quirimán
A3: N. | B3: Pozo | C3: Tipo | D3: Este | E3: Norte | F3: m.s.n.m. | G3: Brocal | H3: Profundidad (m) | I3: Nivel E (m) | J3: Nivel D (m) | K3: Fecha | M3: Nivel E (m) | N3: Nivel D (m)
A5: 1 | B5: #1 Asada Quiriman | C5: P | D5: 371747 | E5: 233146 | F5: 223 | G5: 0.2 | H5: 30 | I5: =M5-G5 -> 11.44 | J5: =N5-G5 -> -0.2 | K5: 43942 | M5: 11.64
A6: 2 | B6: #2 Asada Quiriman | C6: P | D6: 371188 | E6: 232816 | F6: 221 | G6: 0.48 | I6: =M6-G6 -> #VALUE! | J6: =N6-G6 -> -0.48 | M6: sonda no marca
A7: 3 | B7: Frente escuela Quiriman | C7: E | D7: 371019 | E7: 232783 | F7: 206 | G7: 0.78 | H7: 15.45 | I7: Porton cerrado | M7: Sin acceso
A8: 4 | B8: Vianey Guevara | C8: E | D8: 370602 | E8: 232450 | F8: 214 | G8: 0.5 | I8: =M8-G8 -> 19.76 | J8: =N8-G8 -> -0.5 | M8: 20.26
A9: 5 | B9: Asada La Y Griega | C9: P | D9: 370992 | E9: 234494 | F9: 237 | G9: 0.17 | H9: 38 | I9: =M9-G9 -> 23.18 | J9: =N9-G9 -> -0.17 | M9: 23.35
A10: 6 | B10: Casa Abandonada | C10: E | D10: 371175 | E10: 232773 | G10: 0.4 | H10: 7.95 | I10: =M10-G10 -> 6.2 | J10: =N10-G10 -> -0.4 | M10: 6.6
A11: 7 | B11: Rafael Barrantes perforado | C11: P | D11: 371948 | E11: 233360 | G11: 0.2 | I11: =M11-G11 -> 17.76 | J11: =N11-G11 -> -0.2 | M11: 17.96
A12: 8 | B12: Rafael Barrantes escavado | C12: E | D12: 371994 | E12: 233556 | G12: 0.4 | I12: =M12-G12 -> 7.2 | J12: =N12-G12 -> -0.4 | M12: 7.6

Sheet Mayo 2020
A1: Monitoreo Cuenca Quirimán
A3: N. | B3: Pozo | C3: Tipo | D3: Este | E3: Norte | F3: m.s.n.m. | G3: Brocal | H3: Profundidad (m) | I3: Nivel E (m) | J3: Nivel D (m) | K3: Fecha | M3: Nivel E (m) | N3: Nivel D (m)
A5: 1 | B5: #1 Asada Quiriman | C5: P | D5: 371747 | E5: 233146 | F5: 223 | G5: 0.2 | H5: 30 | I5: =M5-G5 -> -0.2 | J5: =N5-G5 -> 20.79 | K5: 43942 | N5: 20.99
A6: 2 | B6: #2 Asada Quiriman | C6: P | D6: 371188 | E6: 232816 | F6: 221 | G6: 0.48 | I6: =M6-G6 -> 4.99 | J6: =N6-G6 -> -0.48 | M6: 5.47
A7: 3 | B7: Frente escuela Quiriman | C7: E | D7: 371019 | E7: 232783 | F7: 206 | G7: 0.78 | H7: 15.45 | I7: Porton cerrado | M7: Sin acceso
A8: 4 | B8: Vianey Guevara | C8: E | D8: 370602 | E8: 232450 | F8: 214 | G8: 0.5 | I8: =M8-G8 -> 19.82 | J8: =N8-G8 -> -0.5 | M8: 20.32
A9: 5 | B9: Asada La Y Griega | C9: P | D9: 370992 | E9: 234494 | F9: 237 | G9: 0.17 | H9: 38 | I9: =M9-G9 -> #VALUE! | J9: =N9-G9 -> -0.17 | M9: sonda no marca
A10: 6 | B10: Casa Abandonada | C10: E | D10: 371175 | E10: 232773 | G10: 0.4 | H10: 7.95 | I10: =M10-G10 -> #VALUE! | J10: =N10-G10 -> -0.4 | M10: seco
A11: 7 | B11: Rafael Barrantes perforado | C11: P | D11: 371948 | E11: 233360 | G11: 0.2 | I11: =M11-G11 -> 18.82 | J11: =N11-G11 -> -0.2 | M11: 19.02
A12: 8 | B12: Rafael Barrantes escavado | C12: E | D12: 371994 | E12: 233556 | G12: 0.4 | I12: =M12-G12 -> 8.22 | J12: =N12-G12 -> -0.4 | M12: 8.62

Sheet Junio 2020
A1: Monitoreo Cuenca Quirimán
A3: N. | B3: Pozo | C3: Tipo | D3: Este | E3: Norte | F3: m.s.n.m. | G3: Brocal | H3: Profundidad (m) | I3: Nivel E (m) | J3: Nivel D (m) | K3: Fecha | M3: Nivel E (m) | N3: Nivel D (m)
A5: 1 | B5: #1 Asada Quiriman | C5: P | D5: 371747 | E5: 233146 | F5: 223 | G5: 0.2 | H5: 30 | I5: =M5-G5 -> -0.2 | J5: =N5-G5 -> 20.05 | K5: 44006 | N5: 20.25
A6: 2 | B6: #2 Asada Quiriman | C6: P | D6: 371188 | E6: 232816 | F6: 221 | G6: 0.48 | I6: =M6-G6 -> 5.12 | J6: =N6-G6 -> -0.48 | M6: 5.6
A7: 3 | B7: Frente escuela Quiriman | C7: E | D7: 371019 | E7: 232783 | F7: 206 | G7: 0.78 | H7: 15.45 | I7: Porton cerrado | M7: Sin acceso
A8: 4 | B8: Vianey Guevara | C8: E | D8: 370602 | E8: 232450 | F8: 214 | G8: 0.5 | I8: =M8-G8 -> 19.7 | J8: =N8-G8 -> -0.5 | M8: 20.2
A9: 5 | B9: Asada La Y Griega | C9: P | D9: 370992 | E9: 234494 | F9: 237 | G9: 0.17 | H9: 38 | I9: =M9-G9 -> 26.76 | J9: =N9-G9 -> -0.17 | M9: 26.93
A10: 6 | B10: Casa Abandonada | C10: E | D10: 371175 | E10: 232773 | G10: 0.4 | H10: 7.95 | I10: =M10-G10 -> 6.82 | J10: =N10-G10 -> -0.4 | M10: 7.22
A11: 7 | B11: Rafael Barrantes perforado | C11: P | D11: 371948 | E11: 233360 | G11: 0.2 | I11: =M11-G11 -> 19.35 | J11: =N11-G11 -> -0.2 | M11: 19.55
A12: 8 | B12: Rafael Barrantes escavado | C12: E | D12: 371994 | E12: 233556 | G12: 0.4 | I12: =M12-G12 -> 7.66 | J12: =N12-G12 -> -0.4 | M12: 8.06

Sheet Julio 2020
A1: Monitoreo Cuenca Quirimán
A3: N. | B3: Pozo | C3: Tipo | D3: Este | E3: Norte | F3: m.s.n.m. | G3: Brocal | H3: Profundidad (m) | I3: Nivel E (m) | J3: Nivel D (m) | K3: Fecha | M3: Nivel E (m) | N3: Nivel D (m)
A5: 1 | B5: #1 Asada Quiriman | C5: P | D5: 371747 | E5: 233146 | F5: 223 | G5: 0.2 | H5: 30 | I5: =M5-G5 -> 13.81 | J5: =N5-G5 -> -0.2 | K5: 44034 | M5: 14.01
A6: 2 | B6: #2 Asada Quiriman | C6: P | D6: 371188 | E6: 232816 | F6: 221 | G6: 0.48 | I6: =M6-G6 -> 3.15 | J6: =N6-G6 -> -0.48 | M6: 3.63
A7: 3 | B7: Frente escuela Quiriman | C7: E | D7: 371019 | E7: 232783 | F7: 206 | G7: 0.78 | H7: 15.45 | I7: Porton cerrado | M7: Sin acceso
A8: 4 | B8: Vianey Guevara | C8: E | D8: 370602 | E8: 232450 | F8: 214 | G8: 0.5 | I8: =M8-G8 -> 19.61 | J8: =N8-G8 -> -0.5 | M8: 20.11
A9: 5 | B9: Asada La Y Griega | C9: P | D9: 370992 | E9: 234494 | F9: 237 | G9: 0.17 | H9: 38 | I9: =M9-G9 -> #VALUE! | J9: =N9-G9 -> -0.17 | M9: sonda no pasó más de 30, no marcó
A10: 6 | B10: Casa Abandonada | C10: E | D10: 371175 | E10: 232773 | G10: 0.4 | H10: 7.95 | I10: =M10-G10 -> 4.83 | J10: =N10-G10 -> -0.4 | M10: 5.23
A11: 7 | B11: Rafael Barrantes perforado | C11: P | D11: 371948 | E11: 233360 | G11: 0.2 | I11: =M11-G11 -> #VALUE! | J11: =N11-G11 -> -0.2 | M11: No se encontraron
A12: 8 | B12: Rafael Barrantes escavado | C12: E | D12: 371994 | E12: 233556 | G12: 0.4 | I12: =M12-G12 -> -0.4 | J12: =N12-G12 -> -0.4

Sheet Agosto 2020
A1: Monitoreo Cuenca Quirimán
A3: N. | B3: Pozo | C3: Tipo | D3: Este | E3: Norte | F3: m.s.n.m. | G3: Brocal | H3: Profundidad (m) | I3: Nivel E (m) | J3: Nivel D (m) | K3: Fecha | M3: Nivel E (m) | N3: Nivel D (m)
A5: 1 | B5: #1 Asada Quiriman | C5: P | D5: 371747 | E5: 233146 | F5: 223 | G5: 0.2 | H5: 30 | I5: =M5-G5 -> 14.97 | J5: =N5-G5 -> -0.2 | K5: 44062 | M5: 15.17
A6: 2 | B6: #2 Asada Quiriman | C6: P | D6: 371188 | E6: 232816 | F6: 221 | G6: 0.48 | I6: =M6-G6 -> 1.87 | J6: =N6-G6 -> -0.48 | M6: 2.35
A7: 3 | B7: Frente escuela Quiriman | C7: E | D7: 371019 | E7: 232783 | F7: 206 | G7: 0.78 | H7: 15.45 | I7: Porton cerrado | M7: Sin acceso
A8: 4 | B8: Vianey Guevara | C8: E | D8: 370602 | E8: 232450 | F8: 214 | G8: 0.5 | I8: =M8-G8 -> 19.35 | J8: =N8-G8 -> -0.5 | M8: 19.85
A9: 5 | B9: Asada La Y Griega | C9: P | D9: 370992 | E9: 234494 | F9: 237 | G9: 0.17 | H9: 38 | I9: =M9-G9 -> 21.31 | J9: =N9-G9 -> -0.17 | M9: 21.48
A10: 6 | B10: Casa Abandonada | C10: E | D10: 371175 | E10: 232773 | G10: 0.4 | H10: 7.95 | I10: =M10-G10 -> 3.58 | J10: =N10-G10 -> -0.4 | M10: 3.98
A11: 7 | B11: Rafael Barrantes perforado | C11: P | D11: 371948 | E11: 233360 | G11: 0.2 | I11: =M11-G11 -> 14.33 | J11: =N11-G11 -> -0.2 | M11: 14.53
A12: 8 | B12: Rafael Barrantes escavado | C12: E | D12: 371994 | E12: 233556 | G12: 0.4 | I12: =M12-G12 -> 3.19 | J12: =N12-G12 -> -0.4 | M12: 3.59

Sheet Setiembre 2020
A1: Monitoreo Cuenca Quirimán
A3: N. | B3: Pozo | C3: Tipo | D3: Este | E3: Norte | F3: m.s.n.m. | G3: Brocal | H3: Profundidad (m) | I3: Nivel E (m) | J3: Nivel D (m) | K3: Fecha | M3: Nivel E (m) | N3: Nivel D (m)
A5: 1 | B5: #1 Asada Quiriman | C5: P | D5: 371747 | E5: 233146 | F5: 223 | G5: 0.2 | H5: 30 | I5: =M5-G5 -> 11.53 | J5: =N5-G5 -> -0.2 | M5: =26.73-15 -> 11.73
A6: 2 | B6: #2 Asada Quiriman | C6: P | D6: 371188 | E6: 232816 | F6: 221 | G6: 0.48 | I6: =M6-G6 -> 1.71 | J6: =N6-G6 -> -0.48 | M6: =17.19-15 -> 2.19
A7: 3 | B7: Frente escuela Quiriman | C7: E | D7: 371019 | E7: 232783 | F7: 206 | G7: 0.78 | H7: 15.45 | I7: Porton cerrado | M7: Sin acceso
A8: 4 | B8: Vianey Guevara | C8: E | D8: 370602 | E8: 232450 | F8: 214 | G8: 0.5 | I8: =M8-G8 -> 17.85 | J8: =N8-G8 -> -0.5 | M8: =33.35-15 -> 18.35
A9: 5 | B9: Asada La Y Griega | C9: P | D9: 370992 | E9: 234494 | F9: 237 | G9: 0.17 | H9: 38 | I9: =M9-G9 -> #VALUE! | J9: =N9-G9 -> -0.17 | M9: Sonda no pasa los 30 m
A10: 6 | B10: Casa Abandonada | C10: E | D10: 371175 | E10: 232773 | G10: 0.4 | H10: 7.95 | I10: =M10-G10 -> 2.29 | J10: =N10-G10 -> -0.4 | M10: =17.69-15 -> 2.69
A11: 7 | B11: Rafael Barrantes perforado | C11: P | D11: 371948 | E11: 233360 | G11: 0.2 | I11: =M11-G11 -> #VALUE! | J11: =N11-G11 -> -0.2 | M11: *** No está señor.
A12: 8 | B12: Rafael Barrantes escavado | C12: E | D12: 371994 | E12: 233556 | G12: 0.4 | I12: =M12-G12 -> #VALUE! | J12: =N12-G12 -> -0.4 | M12: *** No está señor.

Sheet Octubre 2020
A1: Monitoreo Cuenca Quirimán
A3: N. | B3: Pozo | C3: Tipo | D3: Este | E3: Norte | F3: m.s.n.m. | G3: Brocal | H3: Profundidad (m) | I3: Nivel E (m) | J3: Nivel D (m) | K3: Fecha | M3: Nivel E (m) | N3: Nivel D (m)
A5: 1 | B5: #1 Asada Quiriman | C5: P | D5: 371747 | E5: 233146 | F5: 223 | G5: 0.2 | H5: 30 | I5: =M5-G5 -> -0.2 | J5: =N5-G5 -> 22.24 | N5: 22.44
A6: 2 | B6: #2 Asada Quiriman | C6: P | D6: 371188 | E6: 232816 | F6: 221 | G6: 0.48 | I6: =M6-G6 -> 1.53 | J6: =N6-G6 -> -0.48 | M6: 2.01
A7: 3 | B7: Frente escuela Quiriman | C7: E | D7: 371019 | E7: 232783 | F7: 206 | G7: 0.78 | H7: 15.45 | I7: Porton cerrado | M7: Sin acceso
A8: 4 | B8: Vianey Guevara | C8: E | D8: 370602 | E8: 232450 | F8: 214 | G8: 0.5 | I8: =M8-G8 -> 19.18 | J8: =N8-G8 -> -0.5 | M8: 19.68
A9: 5 | B9: Asada La Y Griega | C9: P | D9: 370992 | E9: 234494 | F9: 237 | G9: 0.17 | H9: 38 | I9: =M9-G9 -> -0.17 | J9: =N9-G9 -> 14.99 | N9: 15.16
A10: 6 | B10: Casa Abandonada | C10: E | D10: 371175 | E10: 232773 | G10: 0.4 | H10: 7.95 | I10: =M10-G10 -> 3.37 | J10: =N10-G10 -> -0.4 | M10: 3.77
A11: 7 | B11: Rafael Barrantes perforado | C11: P | D11: 371948 | E11: 233360 | G11: 0.2 | I11: =M11-G11 -> 13.91 | J11: =N11-G11 -> -0.2 | M11: 14.11
A12: 8 | B12: Rafael Barrantes escavado | C12: E | D12: 371994 | E12: 233556 | G12: 0.4 | I12: =M12-G12 -> 3.12 | J12: =N12-G12 -> -0.4 | M12: 3.52

Sheet Noviembre 2020
A1: Monitoreo Cuenca Quirimán
A3: N. | B3: Pozo | C3: Tipo | D3: Este | E3: Norte | F3: m.s.n.m. | G3: Brocal | H3: Profundidad (m) | I3: Nivel E (m) | J3: Nivel D (m) | K3: Fecha | M3: Nivel E (m) | N3: Nivel D (m)
A5: 1 | B5: #1 Asada Quiriman | C5: P | D5: 371747 | E5: 233146 | F5: 223 | G5: 0.2 | H5: 30 | I5: =M5-G5 -> 10.86 | J5: =N5-G5 -> -0.2 | M5: 11.06
A6: 2 | B6: #2 Asada Quiriman | C6: P | D6: 371188 | E6: 232816 | F6: 221 | G6: 0.48 | I6: =M6-G6 -> 1.3 | J6: =N6-G6 -> -0.48 | M6: 1.78
A7: 3 | B7: Frente escuela Quiriman | C7: E | D7: 371019 | E7: 232783 | F7: 206 | G7: 0.78 | H7: 15.45 | I7: Porton cerrado | M7: Sin acceso
A8: 4 | B8: Vianey Guevara | C8: E | D8: 370602 | E8: 232450 | F8: 214 | G8: 0.5 | I8: =M8-G8 -> 18.9 | J8: =N8-G8 -> -0.5 | M8: 19.4
A9: 5 | B9: Asada La Y Griega | C9: P | D9: 370992 | E9: 234494 | F9: 237 | G9: 0.17 | H9: 38 | I9: =M9-G9 -> 13.47 | J9: =N9-G9 -> -0.17 | M9: 13.64
A10: 6 | B10: Casa Abandonada | C10: E | D10: 371175 | E10: 232773 | G10: 0.4 | H10: 7.95 | I10: =M10-G10 -> 2.97 | J10: =N10-G10 -> -0.4 | M10: 3.37
A11: 7 | B11: Rafael Barrantes perforado | C11: P | D11: 371948 | E11: 233360 | G11: 0.2 | I11: =M11-G11 -> 14.33 | J11: =N11-G11 -> -0.2 | M11: 14.53
A12: 8 | B12: Rafael Barrantes escavado | C12: E | D12: 371994 | E12: 233556 | G12: 0.4 | I12: =M12-G12 -> 2.95 | J12: =N12-G12 -> -0.4 | M12: 3.35

Sheet Diciembre 2020
A1: Monitoreo Cuenca Quirimán
A3: N. | B3: Pozo | C3: Tipo | D3: Este | E3: Norte | F3: m.s.n.m. | G3: Brocal | H3: Profundidad (m) | I3: Nivel E (m) | J3: Nivel D (m) | K3: Fecha | M3: Nivel E (m) | N3: Nivel D (m)
A5: 1 | B5: #1 Asada Quiriman | C5: P | D5: 371747 | E5: 233146 | F5: 223 | G5: 0.2 | H5: 30 | I5: =M5-G5 -> 11.43 | J5: =N5-G5 -> -0.2 | K5: 44174 | M5: 11.63
A6: 2 | B6: #2 Asada Quiriman | C6: P | D6: 371188 | E6: 232816 | F6: 221 | G6: 0.48 | I6: =M6-G6 -> 1.66 | J6: =N6-G6 -> -0.48 | M6: 2.14
A7: 3 | B7: Frente escuela Quiriman | C7: E | D7: 371019 | E7: 232783 | F7: 206 | G7: 0.78 | H7: 15.45 | I7: Porton cerrado | M7: Sin acceso
A8: 4 | B8: Vianey Guevara | C8: E | D8: 370602 | E8: 232450 | F8: 214 | G8: 0.5 | I8: =M8-G8 -> 19.26 | J8: =N8-G8 -> -0.5 | M8: 19.76
A9: 5 | B9: Asada La Y Griega | C9: P | D9: 370992 | E9: 234494 | F9: 237 | G9: 0.17 | H9: 38 | I9: =M9-G9 -> 13.07 | J9: =N9-G9 -> -0.17 | M9: 13.24
A10: 6 | B10: Casa Abandonada | C10: E | D10: 371175 | E10: 232773 | G10: 0.4 | H10: 7.95 | I10: =M10-G10 -> 3.47 | J10: =N10-G10 -> -0.4 | M10: 3.87
A11: 7 | B11: Rafael Barrantes perforado | C11: P | D11: 371948 | E11: 233360 | G11: 0.2 | I11: =M11-G11 -> 13.97 | J11: =N11-G11 -> -0.2 | M11: 14.17
A12: 8 | B12: Rafael Barrantes escavado | C12: E | D12: 371994 | E12: 233556 | G12: 0.4 | I12: =M12-G12 -> 2.92 | J12: =N12-G12 -> -0.4 | M12: 3.32

Sheet Enero 2021
A1: Monitoreo Cuenca Quirimán
A3: N. | B3: Pozo | C3: Tipo | D3: Este | E3: Norte | F3: m.s.n.m. | G3: Brocal | H3: Profundidad (m) | I3: Nivel E (m) | J3: Nivel D (m) | K3: Fecha | M3: Nivel E (m) | N3: Nivel D (m)
A5: 1 | B5: #1 Asada Quiriman | C5: P | D5: 371747 | E5: 233146 | F5: 223 | G5: 0.2 | H5: 30 | I5: =M5-G5 -> -0.2 | J5: =N5-G5 -> 14.4 | K5: 44216 | N5: 14.6
A6: 2 | B6: #2 Asada Quiriman | C6: P | D6: 371188 | E6: 232816 | F6: 221 | G6: 0.48 | I6: =M6-G6 -> 2.01 | J6: =N6-G6 -> -0.48 | M6: 2.49
A7: 3 | B7: Frente escuela Quiriman | C7: E | D7: 371019 | E7: 232783 | F7: 206 | G7: 0.78 | H7: 15.45 | I7: Porton cerrado | M7: Sin acceso
A8: 4 | B8: Vianey Guevara | C8: E | D8: 370602 | E8: 232450 | F8: 214 | G8: 0.5 | I8: =M8-G8 -> 19.42 | J8: =N8-G8 -> -0.5 | M8: 19.92
A9: 5 | B9: Asada La Y Griega | C9: P | D9: 370992 | E9: 234494 | F9: 237 | G9: 0.17 | H9: 38 | I9: =M9-G9 -> 15.97 | J9: =N9-G9 -> -0.17 | M9: 16.14
A10: 6 | B10: Casa Abandonada | C10: E | D10: 371175 | E10: 232773 | G10: 0.4 | H10: 7.95 | I10: =M10-G10 -> 3.97 | J10: =N10-G10 -> -0.4 | M10: 4.37
A11: 7 | B11: Rafael Barrantes perforado | C11: P | D11: 371948 | E11: 233360 | G11: 0.2 | I11: =M11-G11 -> 15.12 | J11: =N11-G11 -> -0.2 | M11: 15.32
A12: 8 | B12: Rafael Barrantes escavado | C12: E | D12: 371994 | E12: 233556 | G12: 0.4 | I12: =M12-G12 -> 4.5 | J12: =N12-G12 -> -0.4 | M12: 4.9

Sheet Febrero 2021
A1: Monitoreo Cuenca Quirimán
A3: N. | B3: Pozo | C3: Tipo | D3: Este | E3: Norte | F3: m.s.n.m. | G3: Brocal | H3: Profundidad (m) | I3: Nivel E (m) | J3: Nivel D (m) | K3: Fecha | M3: Nivel E (m) | N3: Nivel D (m)
A5: 1 | B5: #1 Asada Quiriman | C5: P | D5: 371747 | E5: 233146 | F5: 223 | G5: 0.2 | H5: 30 | I5: =M5-G5 -> 12.86 | J5: =N5-G5 -> -0.2 | K5: 44251 | M5: 13.06
A6: 2 | B6: #2 Asada Quiriman | C6: P | D6: 371188 | E6: 232816 | F6: 221 | G6: 0.48 | I6: =M6-G6 -> 2.45 | J6: =N6-G6 -> -0.48 | M6: 2.93
A7: 3 | B7: Frente escuela Quiriman | C7: E | D7: 371019 | E7: 232783 | F7: 206 | G7: 0.78 | H7: 15.45 | I7: Porton cerrado | M7: Sin acceso
A8: 4 | B8: Vianey Guevara | C8: E | D8: 370602 | E8: 232450 | F8: 214 | G8: 0.5 | I8: =M8-G8 -> 19.25 | J8: =N8-G8 -> -0.5 | M8: 19.75
A9: 5 | B9: Asada La Y Griega | C9: P | D9: 370992 | E9: 234494 | F9: 237 | G9: 0.17 | H9: 38 | I9: =M9-G9 -> #VALUE! | J9: =N9-G9 -> -0.17 | M9: sonda no marco
A10: 6 | B10: Casa Abandonada | C10: E | D10: 371175 | E10: 232773 | G10: 0.4 | H10: 7.95 | I10: =M10-G10 -> 4.35 | J10: =N10-G10 -> -0.4 | M10: 4.75
A11: 7 | B11: Rafael Barrantes perforado | C11: P | D11: 371948 | E11: 233360 | G11: 0.2 | I11: =M11-G11 -> 15.58 | J11: =N11-G11 -> -0.2 | M11: 15.78
A12: 8 | B12: Rafael Barrantes escavado | C12: E | D12: 371994 | E12: 233556 | G12: 0.4 | I12: =M12-G12 -> 3.36 | J12: =N12-G12 -> -0.4 | M12: 3.76

Sheet Marzo 2021
A1: Monitoreo Cuenca Quirimán
A3: N. | B3: Pozo | C3: Tipo | D3: Este | E3: Norte | F3: m.s.n.m. | G3: Brocal | H3: Profundidad (m) | I3: Nivel E (m) | J3: Nivel D (m) | K3: Fecha | M3: Nivel E (m) | N3: Nivel D (m)
A5: 1 | B5: #1 Asada Quiriman | C5: P | D5: 371747 | E5: 233146 | F5: 223 | G5: 0.2 | H5: 30 | I5: =M5-G5 -> 12.64 | J5: =N5-G5 -> -0.2 | K5: 44251 | M5: 12.84
A6: 2 | B6: #2 Asada Quiriman | C6: P | D6: 371188 | E6: 232816 | F6: 221 | G6: 0.48 | I6: =M6-G6 -> 3.1 | J6: =N6-G6 -> -0.48 | M6: 3.58
A7: 3 | B7: Frente escuela Quiriman | C7: E | D7: 371019 | E7: 232783 | F7: 206 | G7: 0.78 | H7: 15.45 | I7: Porton cerrado | M7: Sin acceso
A8: 4 | B8: Vianey Guevara | C8: E | D8: 370602 | E8: 232450 | F8: 214 | G8: 0.5 | I8: =M8-G8 -> #VALUE! | J8: =N8-G8 -> -0.5 | M8: Dueños no estaban
A9: 5 | B9: Asada La Y Griega | C9: P | D9: 370992 | E9: 234494 | F9: 237 | G9: 0.17 | H9: 38 | I9: =M9-G9 -> 19.5 | J9: =N9-G9 -> -0.17 | M9: 19.67
A10: 6 | B10: Casa Abandonada | C10: E | D10: 371175 | E10: 232773 | G10: 0.4 | H10: 7.95 | I10: =M10-G10 -> 4.9 | J10: =N10-G10 -> -0.4 | M10: 5.3
A11: 7 | B11: Rafael Barrantes perforado | C11: P | D11: 371948 | E11: 233360 | G11: 0.2 | I11: =M11-G11 -> #VALUE! | J11: =N11-G11 -> -0.2 | M11: Dueños no estaban
A12: 8 | B12: Rafael Barrantes escavado | C12: E | D12: 371994 | E12: 233556 | G12: 0.4 | I12: =M12-G12 -> 5.2 | J12: =N12-G12 -> -0.4 | M12: 5.6

Sheet Abril 2021 
A1: Monitoreo Cuenca Quirimán
A3: N. | B3: Pozo | C3: Tipo | D3: Este | E3: Norte | F3: m.s.n.m. | G3: Brocal | H3: Profundidad (m) | I3: Nivel E (m) | J3: Nivel D (m) | K3: Fecha | M3: Nivel E (m) | N3: Nivel D (m)
A5: 1 | B5: #1 Asada Quiriman | C5: P | D5: 371747 | E5: 233146 | F5: 223 | G5: 0.2 | H5: 30 | I5: =M5-G5 -> -0.2 | J5: =N5-G5 -> 16.93 | K5: 44251 | N5: 17.13
A6: 2 | B6: #2 Asada Quiriman | C6: P | D6: 371188 | E6: 232816 | F6: 221 | G6: 0.48 | I6: =M6-G6 -> 4.49 | J6: =N6-G6 -> -0.48 | M6: 4.97
A7: 3 | B7: Frente escuela Quiriman | C7: E | D7: 371019 | E7: 232783 | F7: 206 | G7: 0.78 | H7: 15.45 | I7: Porton cerrado | M7: Sin acceso
A8: 4 | B8: Vianey Guevara | C8: E | D8: 370602 | E8: 232450 | F8: 214 | G8: 0.5 | I8: =M8-G8 -> 19.75 | J8: =N8-G8 -> -0.5 | M8: 20.25
A9: 5 | B9: Asada La Y Griega | C9: P | D9: 370992 | E9: 234494 | F9: 237 | G9: 0.17 | H9: 38 | I9: =M9-G9 -> -0.17 | J9: =N9-G9 -> 22.96 | N9: 23.13
A10: 6 | B10: Casa Abandonada | C10: E | D10: 371175 | E10: 232773 | G10: 0.4 | H10: 7.95 | I10: =M10-G10 -> 5.12 | J10: =N10-G10 -> -0.4 | M10: 5.52
A11: 7 | B11: Rafael Barrantes perforado | C11: P | D11: 371948 | E11: 233360 | G11: 0.2 | I11: =M11-G11 -> 16.8 | J11: =N11-G11 -> -0.2 | M11: 17
A12: 8 | B12: Rafael Barrantes escavado | C12: E | D12: 371994 | E12: 233556 | G12: 0.4 | I12: =M12-G12 -> 6.15 | J12: =N12-G12 -> -0.4 | M12: 6.55

Sheet Mayo 2021
A1: Monitoreo Cuenca Quirimán
A3: N. | B3: Pozo | C3: Tipo | D3: Este | E3: Norte | F3: m.s.n.m. | G3: Brocal | H3: Profundidad (m) | I3: Nivel E (m) | J3: Nivel D (m) | K3: Fecha | M3: Nivel E (m) | N3: Nivel D (m)
A5: 1 | B5: #1 Asada Quiriman | C5: P | D5: 371747 | E5: 233146 | F5: 223 | G5: 0.2 | H5: 30 | I5: =M5-G5 -> -0.2 | J5: =N5-G5 -> 18.53 | K5: 44341 | N5: 18.73
A6: 2 | B6: #2 Asada Quiriman | C6: P | D6: 371188 | E6: 232816 | F6: 221 | G6: 0.48 | I6: =M6-G6 -> 4.12 | J6: =N6-G6 -> -0.48 | M6: 4.6
A7: 3 | B7: Frente escuela Quiriman | C7: E | D7: 371019 | E7: 232783 | F7: 206 | G7: 0.78 | H7: 15.45 | I7: Porton cerrado | M7: Sin acceso
A8: 4 | B8: Vianey Guevara | C8: E | D8: 370602 | E8: 232450 | F8: 214 | G8: 0.5 | I8: =M8-G8 -> 19.7 | J8: =N8-G8 -> -0.5 | M8: 20.2
A9: 5 | B9: Asada La Y Griega | C9: P | D9: 370992 | E9: 234494 | F9: 237 | G9: 0.17 | H9: 38 | I9: =M9-G9 -> 22.8 | J9: =N9-G9 -> -0.17 | M9: 22.97
A10: 6 | B10: Casa Abandonada | C10: E | D10: 371175 | E10: 232773 | G10: 0.4 | H10: 7.95 | I10: =M10-G10 -> 5.85 | J10: =N10-G10 -> -0.4 | M10: 6.25
A11: 7 | B11: Rafael Barrantes perforado | C11: P | D11: 371948 | E11: 233360 | G11: 0.2 | I11: =M11-G11 -> 17.35 | J11: =N11-G11 -> -0.2 | M11: 17.55
A12: 8 | B12: Rafael Barrantes escavado | C12: E | D12: 371994 | E12: 233556 | G12: 0.4 | I12: =M12-G12 -> 6.79 | J12: =N12-G12 -> -0.4 | M12: 7.19

Sheet Junio 2021
A1: Monitoreo Cuenca Quirimán
A3: N. | B3: Pozo | C3: Tipo | D3: Este | E3: Norte | F3: m.s.n.m. | G3: Brocal | H3: Profundidad (m) | I3: Nivel E (m) | J3: Nivel D (m) | K3: Fecha | M3: Nivel E (m) | N3: Nivel D (m)
A5: 1 | B5: #1 Asada Quiriman | C5: P | D5: 371747 | E5: 233146 | F5: 223 | G5: 0.2 | H5: 30 | I5: =M5-G5 -> 15.58 | J5: =N5-G5 -> -0.2 | K5: 44370 | M5: 15.78
A6: 2 | B6: #2 Asada Quiriman | C6: P | D6: 371188 | E6: 232816 | F6: 221 | G6: 0.48 | I6: =M6-G6 -> 3.92 | J6: =N6-G6 -> -0.48 | M6: 4.4
A7: 3 | B7: Frente escuela Quiriman | C7: E | D7: 371019 | E7: 232783 | F7: 206 | G7: 0.78 | H7: 15.45 | I7: Porton cerrado | M7: Sin acceso
A8: 4 | B8: Vianey Guevara | C8: E | D8: 370602 | E8: 232450 | F8: 214 | G8: 0.5 | I8: =M8-G8 -> 19.59 | J8: =N8-G8 -> -0.5 | M8: 20.09
A9: 5 | B9: Asada La Y Griega | C9: P | D9: 370992 | E9: 234494 | F9: 237 | G9: 0.17 | H9: 38 | I9: =M9-G9 -> #VALUE! | J9: =N9-G9 -> -0.17 | M9: Sonda no marca a los 30 m
A10: 6 | B10: Casa Abandonada | C10: E | D10: 371175 | E10: 232773 | G10: 0.4 | H10: 7.95 | I10: =M10-G10 -> 2.26 | J10: =N10-G10 -> -0.4 | M10: 2.66
A11: 7 | B11: Rafael Barrantes perforado | C11: P | D11: 371948 | E11: 233360 | G11: 0.2 | I11: =M11-G11 -> 17.77 | J11: =N11-G11 -> -0.2 | M11: 17.97
A12: 8 | B12: Rafael Barrantes escavado | C12: E | D12: 371994 | E12: 233556 | G12: 0.94 | I12: =M12-G12 -> 6.8 | J12: =N12-G12 -> -0.94 | M12: 7.74

Sheet Julio 2021
A1: Monitoreo Cuenca Quirimán
A3: N. | B3: Pozo | C3: Tipo | D3: Este | E3: Norte | F3: m.s.n.m. | G3: Brocal | H3: Profundidad (m) | I3: Nivel E (m) | J3: Nivel D (m) | K3: Fecha | M3: Nivel E (m) | N3: Nivel D (m)
A5: 1 | B5: #1 Asada Quiriman | C5: P | D5: 371747 | E5: 233146 | F5: 223 | G5: 0.2 | H5: 30 | I5: =M5-G5 -> -0.2 | J5: =N5-G5 -> 15.02 | K5: 44399 | N5: 15.22
A6: 2 | B6: #2 Asada Quiriman | C6: P | D6: 371188 | E6: 232816 | F6: 221 | G6: 0.48 | I6: =M6-G6 -> 2.26 | J6: =N6-G6 -> -0.48 | M6: 2.74
A7: 3 | B7: Frente escuela Quiriman | C7: E | D7: 371019 | E7: 232783 | F7: 206 | G7: 0.78 | H7: 15.45 | I7: Porton cerrado | M7: Sin acceso
A8: 4 | B8: Vianey Guevara | C8: E | D8: 370602 | E8: 232450 | F8: 214 | G8: 0.5 | I8: =M8-G8 -> 19.52 | J8: =N8-G8 -> -0.5 | M8: 20.02
A9: 5 | B9: Asada La Y Griega | C9: P | D9: 370992 | E9: 234494 | F9: 237 | G9: 0.17 | H9: 38 | I9: =M9-G9 -> 21.36 | J9: =N9-G9 -> -0.17 | M9: 21.53
A10: 6 | B10: Casa Abandonada | C10: E | D10: 371175 | E10: 232773 | G10: 0.4 | H10: 7.95 | I10: =M10-G10 -> 3.97 | J10: =N10-G10 -> -0.4 | M10: 4.37
A11: 7 | B11: Rafael Barrantes perforado | C11: P | D11: 371948 | E11: 233360 | G11: 0.2 | I11: =M11-G11 -> #VALUE! | J11: =N11-G11 -> -0.2 | M11: Dueño no estaba
A12: 8 | B12: Rafael Barrantes escavado | C12: E | D12: 371994 | E12: 233556 | G12: 0.94 | I12: =M12-G12 -> 3.9 | J12: =N12-G12 -> -0.94 | M12: 4.84

Sheet Agosto 2021
A1: Monitoreo Cuenca Quirimán
A3: N. | B3: Pozo | C3: Tipo | D3: Este | E3: Norte | F3: m.s.n.m. | G3: Brocal | H3: Profundidad (m) | I3: Nivel E (m) | J3: Nivel D (m) | K3: Fecha | M3: Nivel E (m) | N3: Nivel D (m)
A5: 1 | B5: #1 Asada Quiriman | C5: P | D5: 371747 | E5: 233146 | F5: 223 | G5: 0.2 | H5: 30 | I5: =M5-G5 -> 12.49 | J5: =N5-G5 -> -0.2 | K5: 44432 | M5: 12.69
A6: 2 | B6: #2 Asada Quiriman | C6: P | D6: 371188 | E6: 232816 | F6: 221 | G6: 0.48 | I6: =M6-G6 -> 2.02 | J6: =N6-G6 -> -0.48 | M6: 2.5
A7: 3 | B7: Frente escuela Quiriman | C7: E | D7: 371019 | E7: 232783 | F7: 206 | G7: 0.78 | H7: 15.45 | I7: Porton cerrado | M7: Sin acceso
A8: 4 | B8: Vianey Guevara | C8: E | D8: 370602 | E8: 232450 | F8: 214 | G8: 0.5 | I8: =M8-G8 -> 19.53 | J8: =N8-G8 -> -0.5 | M8: 20.03
A9: 5 | B9: Asada La Y Griega | C9: P | D9: 370992 | E9: 234494 | F9: 237 | G9: 0.17 | H9: 38 | I9: =M9-G9 -> #VALUE! | J9: =N9-G9 -> -0.17 | M9: Sonda no marca
A10: 6 | B10: Casa Abandonada | C10: E | D10: 371175 | E10: 232773 | G10: 0.4 | H10: 7.95 | I10: =M10-G10 -> 3.82 | J10: =N10-G10 -> -0.4 | M10: 4.22
A11: 7 | B11: Rafael Barrantes perforado | C11: P | D11: 371948 | E11: 233360 | G11: 0.2 | I11: =M11-G11 -> 15.29 | J11: =N11-G11 -> -0.2 | M11: 15.49
A12: 8 | B12: Rafael Barrantes escavado | C12: E | D12: 371994 | E12: 233556 | G12: 0.94 | I12: =M12-G12 -> 3.65 | J12: =N12-G12 -> -0.94 | M12: 4.59

Sheet Setiembre 2021
A1: Monitoreo Cuenca Quirimán
A3: N. | B3: Pozo | C3: Tipo | D3: Este | E3: Norte | F3: m.s.n.m. | G3: Brocal | H3: Profundidad (m) | I3: Nivel E (m) | J3: Nivel D (m) | K3: Fecha | M3: Nivel E (m) | N3: Nivel D (m)
A5: 1 | B5: #1 Asada Quiriman | C5: P | D5: 371747 | E5: 233146 | F5: 223 | G5: 0.2 | H5: 30 | I5: =M5-G5 -> 11.65 | J5: =N5-G5 -> -0.2 | K5: 44460 | M5: 11.85
A6: 2 | B6: #2 Asada Quiriman | C6: P | D6: 371188 | E6: 232816 | F6: 221 | G6: 0.48 | I6: =M6-G6 -> 1.64 | J6: =N6-G6 -> -0.48 | M6: 2.12
A7: 3 | B7: Frente escuela Quiriman | C7: E | D7: 371019 | E7: 232783 | F7: 206 | G7: 0.78 | H7: 15.45 | I7: Porton cerrado | M7: Sin acceso
A8: 4 | B8: Vianey Guevara | C8: E | D8: 370602 | E8: 232450 | F8: 214 | G8: 0.5 | I8: =M8-G8 -> 19.28 | J8: =N8-G8 -> -0.5 | M8: 19.78
A9: 5 | B9: Asada La Y Griega | C9: P | D9: 370992 | E9: 234494 | F9: 237 | G9: 0.17 | H9: 38 | I9: =M9-G9 -> 18.47 | J9: =N9-G9 -> -0.17 | M9: 18.64
A10: 6 | B10: Casa Abandonada | C10: E | D10: 371175 | E10: 232773 | G10: 0.4 | H10: 7.95 | I10: =M10-G10 -> 3.39 | J10: =N10-G10 -> -0.4 | M10: 3.79
A11: 7 | B11: Rafael Barrantes perforado | C11: P | D11: 371948 | E11: 233360 | G11: 0.2 | I11: =M11-G11 -> 14.42 | J11: =N11-G11 -> -0.2 | M11: 14.62
A12: 8 | B12: Rafael Barrantes escavado | C12: E | D12: 371994 | E12: 233556 | G12: 0.94 | I12: =M12-G12 -> -0.94 | J12: =N12-G12 -> -0.94

Sheet Octubre 2021
A1: Monitoreo Cuenca Quirimán
A3: N. | B3: Pozo | C3: Tipo | D3: Este | E3: Norte | F3: m.s.n.m. | G3: Brocal | H3: Profundidad (m) | I3: Nivel E (m) | J3: Nivel D (m) | K3: Fecha | M3: Nivel E (m) | N3: Nivel D (m)
A5: 1 | B5: #1 Asada Quiriman | C5: P | D5: 371747 | E5: 233146 | F5: 223 | G5: 0.2 | H5: 30 | I5: =M5-G5 -> -0.2 | J5: =N5-G5 -> 13.62 | K5: 44489 | N5: 13.82
A6: 2 | B6: #2 Asada Quiriman | C6: P | D6: 371188 | E6: 232816 | F6: 221 | G6: 0.48 | I6: =M6-G6 -> 1.55 | J6: =N6-G6 -> -0.48 | M6: 2.03
A7: 3 | B7: Frente escuela Quiriman | C7: E | D7: 371019 | E7: 232783 | F7: 206 | G7: 0.78 | H7: 15.45 | I7: Porton cerrado | M7: Sin acceso
A8: 4 | B8: Vianey Guevara | C8: E | D8: 370602 | E8: 232450 | F8: 214 | G8: 0.5 | I8: =M8-G8 -> 18.85 | J8: =N8-G8 -> -0.5 | M8: 19.35
A9: 5 | B9: Asada La Y Griega | C9: P | D9: 370992 | E9: 234494 | F9: 237 | G9: 0.17 | H9: 38 | I9: =M9-G9 -> 16.88 | J9: =N9-G9 -> -0.17 | M9: 17.05
A10: 6 | B10: Casa Abandonada | C10: E | D10: 371175 | E10: 232773 | G10: 0.4 | H10: 7.95 | I10: =M10-G10 -> 3.06 | J10: =N10-G10 -> -0.4 | M10: 3.46
A11: 7 | B11: Rafael Barrantes perforado | C11: P | D11: 371948 | E11: 233360 | G11: 0.2 | I11: =M11-G11 -> 16.16 | J11: =N11-G11 -> -0.2 | M11: 16.36
A12: 8 | B12: Rafael Barrantes escavado | C12: E | D12: 371994 | E12: 233556 | G12: 0.94 | I12: =M12-G12 -> 3.01 | J12: =N12-G12 -> -0.94 | M12: 3.95

Sheet Noviembre 2021
A1: Monitoreo Cuenca Quirimán
A3: N. | B3: Pozo | C3: Tipo | D3: Este | E3: Norte | F3: m.s.n.m. | G3: Brocal | H3: Profundidad (m) | I3: Nivel E (m) | J3: Nivel D (m) | K3: Fecha | M3: Nivel E (m) | N3: Nivel D (m)
A5: 1 | B5: #1 Asada Quiriman | C5: P | D5: 371747 | E5: 233146 | F5: 223 | G5: 0.2 | H5: 30 | I5: =M5-G5 -> 11.82 | J5: =N5-G5 -> -0.2 | K5: 44516 | M5: 12.02
A6: 2 | B6: #2 Asada Quiriman | C6: P | D6: 371188 | E6: 232816 | F6: 221 | G6: 0.48 | I6: =M6-G6 -> 1.74 | J6: =N6-G6 -> -0.48 | M6: 2.22
A7: 3 | B7: Frente escuela Quiriman | C7: E | D7: 371019 | E7: 232783 | F7: 206 | G7: 0.78 | H7: 15.45 | I7: Porton cerrado | M7: Sin acceso
A8: 4 | B8: Vianey Guevara | C8: E | D8: 370602 | E8: 232450 | F8: 214 | G8: 0.5 | I8: =M8-G8 -> #VALUE! | J8: =N8-G8 -> -0.5 | M8: Dueños no estaban
A9: 5 | B9: Asada La Y Griega | C9: P | D9: 370992 | E9: 234494 | F9: 237 | G9: 0.17 | H9: 38 | I9: =M9-G9 -> 15.38 | J9: =N9-G9 -> -0.17 | M9: 15.55
A10: 6 | B10: Casa Abandonada | C10: E | D10: 371175 | E10: 232773 | G10: 0.4 | H10: 7.95 | I10: =M10-G10 -> 3.6 | J10: =N10-G10 -> -0.4 | M10: 4
A11: 7 | B11: Rafael Barrantes perforado | C11: P | D11: 371948 | E11: 233360 | G11: 0.2 | I11: =M11-G11 -> 14.62 | J11: =N11-G11 -> -0.2 | M11: 14.82
A12: 8 | B12: Rafael Barrantes escavado | C12: E | D12: 371994 | E12: 233556 | G12: 0.94 | I12: =M12-G12 -> 3.16 | J12: =N12-G12 -> -0.94 | M12: 4.1

Sheet Diciembre 2021
A1: Monitoreo Cuenca Quirimán
A3: N. | B3: Pozo | C3: Tipo | D3: Este | E3: Norte | F3: m.s.n.m. | G3: Brocal | H3: Profundidad (m) | I3: Nivel E (m) | J3: Nivel D (m) | K3: Fecha | M3: Nivel E (m) | N3: Nivel D (m)
A5: 1 | B5: #1 Asada Quiriman | C5: P | D5: 371747 | E5: 233146 | F5: 223 | G5: 0.2 | H5: 30 | I5: =M5-G5 -> -0.2 | J5: =N5-G5 -> 13.62 | K5: 44544 | N5: 13.82
A6: 2 | B6: #2 Asada Quiriman | C6: P | D6: 371188 | E6: 232816 | F6: 221 | G6: 0.48 | I6: =M6-G6 -> 1.55 | J6: =N6-G6 -> -0.48 | M6: 2.03
A7: 3 | B7: Frente escuela Quiriman | C7: E | D7: 371019 | E7: 232783 | F7: 206 | G7: 0.78 | H7: 15.45 | I7: Porton cerrado | M7: Sin acceso
A8: 4 | B8: Vianey Guevara | C8: E | D8: 370602 | E8: 232450 | F8: 214 | G8: 0.5 | I8: =M8-G8 -> 18.85 | J8: =N8-G8 -> -0.5 | M8: 19.35
A9: 5 | B9: Asada La Y Griega | C9: P | D9: 370992 | E9: 234494 | F9: 237 | G9: 0.17 | H9: 38 | I9: =M9-G9 -> 16.88 | J9: =N9-G9 -> -0.17 | M9: 17.05
A10: 6 | B10: Casa Abandonada | C10: E | D10: 371175 | E10: 232773 | G10: 0.4 | H10: 7.95 | I10: =M10-G10 -> 3.06 | J10: =N10-G10 -> -0.4 | M10: 3.46
A11: 7 | B11: Rafael Barrantes perforado | C11: P | D11: 371948 | E11: 233360 | G11: 0.2 | I11: =M11-G11 -> 16.16 | J11: =N11-G11 -> -0.2 | M11: 16.36
A12: 8 | B12: Rafael Barrantes escavado | C12: E | D12: 371994 | E12: 233556 | G12: 0.94 | I12: =M12-G12 -> 3.01 | J12: =N12-G12 -> -0.94 | M12: 3.95

Sheet Enero 2022
A1: Monitoreo Cuenca Quirimán
A3: N. | B3: Pozo | C3: Tipo | D3: Este | E3: Norte | F3: m.s.n.m. | G3: Brocal | H3: Profundidad (m) | I3: Nivel E (m) | J3: Nivel D (m) | K3: Fecha | M3: Nivel E (m) | N3: Nivel D (m)
A5: 1 | B5: #1 Asada Quiriman | C5: P | D5: 371747 | E5: 233146 | F5: 223 | G5: 0.2 | H5: 30 | I5: =M5-G5 -> -0.2 | J5: =N5-G5 -> 15.21 | N5: 15.41
A6: 2 | B6: #2 Asada Quiriman | C6: P | D6: 371188 | E6: 232816 | F6: 221 | G6: 0.48 | I6: =M6-G6 -> 2.54 | J6: =N6-G6 -> -0.48 | M6: 3.02
A7: 3 | B7: Frente escuela Quiriman | C7: E | D7: 371019 | E7: 232783 | F7: 206 | G7: 0.78 | H7: 15.45 | I7: Porton cerrado | M7: Sin acceso
A8: 4 | B8: Vianey Guevara | C8: E | D8: 370602 | E8: 232450 | F8: 214 | G8: 0.5 | I8: =M8-G8 -> 19.76 | J8: =N8-G8 -> -0.5 | M8: 20.26
A9: 5 | B9: Asada La Y Griega | C9: P | D9: 370992 | E9: 234494 | F9: 237 | G9: 0.17 | H9: 38 | I9: =M9-G9 -> -0.17 | J9: =N9-G9 -> 20.09 | N9: 20.26
A10: 6 | B10: Casa Abandonada | C10: E | D10: 371175 | E10: 232773 | G10: 0.4 | H10: 7.95 | I10: =M10-G10 -> 4.23 | J10: =N10-G10 -> -0.4 | M10: 4.63
A11: 7 | B11: Rafael Barrantes perforado | C11: P | D11: 371948 | E11: 233360 | G11: 0.2 | I11: =M11-G11 -> 15.67 | J11: =N11-G11 -> -0.2 | M11: 15.87
A12: 8 | B12: Rafael Barrantes escavado | C12: E | D12: 371994 | E12: 233556 | G12: 0.94 | I12: =M12-G12 -> 4.42 | J12: =N12-G12 -> -0.94 | M12: 5.36

Sheet Febrero 2022
A1: Monitoreo Cuenca Quirimán
A3: N. | B3: Pozo | C3: Tipo | D3: Este | E3: Norte | F3: m.s.n.m. | G3: Brocal | H3: Profundidad (m) | I3: Nivel E (m) | J3: Nivel D (m) | K3: Fecha | M3: Nivel E (m) | N3: Nivel D (m)
A5: 1 | B5: #1 Asada Quiriman | C5: P | D5: 371747 | E5: 233146 | F5: 223 | G5: 0.2 | H5: 30 | I5: =M5-G5 -> 15.86 | J5: =N5-G5 -> -0.2 | M5: 16.06
A6: 2 | B6: #2 Asada Quiriman | C6: P | D6: 371188 | E6: 232816 | F6: 221 | G6: 0.48 | I6: =M6-G6 -> 3.03 | J6: =N6-G6 -> -0.48 | M6: 3.51
A7: 3 | B7: Frente escuela Quiriman | C7: E | D7: 371019 | E7: 232783 | F7: 206 | G7: 0.78 | H7: 15.45 | I7: Porton cerrado | M7: Sin acceso
A8: 4 | B8: Vianey Guevara | C8: E | D8: 370602 | E8: 232450 | F8: 214 | G8: 0.5 | I8: =M8-G8 -> #VALUE! | J8: =N8-G8 -> -0.5 | M8: Dueños no estaban
A9: 5 | B9: Asada La Y Griega | C9: P | D9: 370992 | E9: 234494 | F9: 237 | G9: 0.17 | H9: 38 | I9: =M9-G9 -> 20.92 | J9: =N9-G9 -> -0.17 | M9: 21.09
A10: 6 | B10: Casa Abandonada | C10: E | D10: 371175 | E10: 232773 | G10: 0.4 | H10: 7.95 | I10: =M10-G10 -> 4.85 | J10: =N10-G10 -> -0.4 | M10: 5.25
A11: 7 | B11: Rafael Barrantes perforado | C11: P | D11: 371948 | E11: 233360 | G11: 0.2 | I11: =M11-G11 -> 16.02 | J11: =N11-G11 -> -0.2 | M11: 16.22
A12: 8 | B12: Rafael Barrantes escavado | C12: E | D12: 371994 | E12: 233556 | G12: 0.94 | I12: =M12-G12 -> 5.33 | J12: =N12-G12 -> -0.94 | M12: 6.27

Sheet Marzo 2022
A1: Monitoreo Cuenca Quirimán
A3: N. | B3: Pozo | C3: Tipo | D3: Este | E3: Norte | F3: m.s.n.m. | G3: Brocal | H3: Profundidad (m) | I3: Nivel E (m) | J3: Nivel D (m) | K3: Fecha | M3: Nivel E (m) | N3: Nivel D (m)
A5: 1 | B5: #1 Asada Quiriman | C5: P | D5: 371747 | E5: 233146 | F5: 223 | G5: 0.2 | H5: 30 | I5: =M5-G5 -> 14.72 | J5: =N5-G5 -> -0.2 | M5: 14.92
A6: 2 | B6: #2 Asada Quiriman | C6: P | D6: 371188 | E6: 232816 | F6: 221 | G6: 0.48 | I6: =M6-G6 -> 3.69 | J6: =N6-G6 -> -0.48 | M6: 4.17
A7: 3 | B7: Frente escuela Quiriman | C7: E | D7: 371019 | E7: 232783 | F7: 206 | G7: 0.78 | H7: 15.45 | I7: Porton cerrado | M7: Sin acceso
A8: 4 | B8: Vianey Guevara | C8: E | D8: 370602 | E8: 232450 | F8: 214 | G8: 0.5 | I8: =M8-G8 -> 19.78 | J8: =N8-G8 -> -0.5 | M8: 20.28
A9: 5 | B9: Asada La Y Griega | C9: P | D9: 370992 | E9: 234494 | F9: 237 | G9: 0.17 | H9: 38 | I9: =M9-G9 -> 22.13 | J9: =N9-G9 -> -0.17 | M9: 22.3
A10: 6 | B10: Casa Abandonada | C10: E | D10: 371175 | E10: 232773 | G10: 0.4 | H10: 7.95 | I10: =M10-G10 -> 4.8 | J10: =N10-G10 -> -0.4 | M10: 5.2
A11: 7 | B11: Rafael Barrantes perforado | C11: P | D11: 371948 | E11: 233360 | G11: 0.2 | I11: =M11-G11 -> 16.7 | J11: =N11-G11 -> -0.2 | M11: 16.9
A12: 8 | B12: Rafael Barrantes escavado | C12: E | D12: 371994 | E12: 233556 | G12: 0.94 | I12: =M12-G12 -> 6.23 | J12: =N12-G12 -> -0.94 | M12: 7.17

Sheet Abril 2022
A1: Monitoreo Cuenca Quirimán
A3: N. | B3: Pozo | C3: Tipo | D3: Este | E3: Norte | F3: m.s.n.m. | G3: Brocal | H3: Profundidad (m) | I3: Nivel E (m) | J3: Nivel D (m) | K3: Fecha | M3: Nivel E (m) | N3: Nivel D (m)
A5: 1 | B5: #1 Asada Quiriman | C5: P | D5: 371747 | E5: 233146 | F5: 223 | G5: 0.2 | H5: 30 | I5: =M5-G5 -> 15.58 | J5: =N5-G5 -> -0.2 | M5: 15.78
A6: 2 | B6: #2 Asada Quiriman | C6: P | D6: 371188 | E6: 232816 | F6: 221 | G6: 0.48 | I6: =M6-G6 -> 4.28 | J6: =N6-G6 -> -0.48 | M6: 4.76
A7: 3 | B7: Frente escuela Quiriman | C7: E | D7: 371019 | E7: 232783 | F7: 206 | G7: 0.78 | H7: 15.45 | I7: Porton cerrado | M7: Sin acceso
A8: 4 | B8: Vianey Guevara | C8: E | D8: 370602 | E8: 232450 | F8: 214 | G8: 0.5 | I8: =M8-G8 -> 19.85 | J8: =N8-G8 -> -0.5 | M8: 20.35
A9: 5 | B9: Asada La Y Griega | C9: P | D9: 370992 | E9: 234494 | F9: 237 | G9: 0.17 | H9: 38 | I9: =M9-G9 -> 26.39 | J9: =N9-G9 -> -0.17 | M9: 26.56
A10: 6 | B10: Casa Abandonada | C10: E | D10: 371175 | E10: 232773 | G10: 0.4 | H10: 7.95 | I10: =M10-G10 -> 5.99 | J10: =N10-G10 -> -0.4 | M10: 6.39
A11: 7 | B11: Rafael Barrantes perforado | C11: P | D11: 371948 | E11: 233360 | G11: 0.2 | I11: =M11-G11 -> 17.77 | J11: =N11-G11 -> -0.2 | M11: 17.97
A12: 8 | B12: Rafael Barrantes escavado | C12: E | D12: 371994 | E12: 233556 | G12: 0.94 | I12: =M12-G12 -> 7.67 | J12: =N12-G12 -> -0.94 | M12: 8.61

Sheet Mayo 2022
A1: Monitoreo Cuenca Quirimán
A3: N. | B3: Pozo | C3: Tipo | D3: Este | E3: Norte | F3: m.s.n.m. | G3: Brocal | H3: Profundidad (m) | I3: Nivel E (m) | J3: Nivel D (m) | K3: Fecha | M3: Nivel E (m) | N3: Nivel D (m)
A5: 1 | B5: #1 Asada Quiriman | C5: P | D5: 371747 | E5: 233146 | F5: 223 | G5: 0.2 | H5: 30 | I5: =M5-G5 -> 17.7 | J5: =N5-G5 -> -0.2 | K5: 44706 | M5: 17.9
A6: 2 | B6: #2 Asada Quiriman | C6: P | D6: 371188 | E6: 232816 | F6: 221 | G6: 0.48 | I6: =M6-G6 -> 3.49 | J6: =N6-G6 -> -0.48 | M6: 3.97
A7: 3 | B7: Frente escuela Quiriman | C7: E | D7: 371019 | E7: 232783 | F7: 206 | G7: 0.78 | H7: 15.45 | I7: Porton cerrado | M7: Sin acceso
A8: 4 | B8: Vianey Guevara | C8: E | D8: 370602 | E8: 232450 | F8: 214 | G8: 0.5 | I8: =M8-G8 -> 19.53 | J8: =N8-G8 -> -0.5 | M8: 20.03
A9: 5 | B9: Asada La Y Griega | C9: P | D9: 370992 | E9: 234494 | F9: 237 | G9: 0.17 | H9: 38 | I9: =M9-G9 -> 24.21 | J9: =N9-G9 -> -0.17 | M9: 24.38
A10: 6 | B10: Casa Abandonada | C10: E | D10: 371175 | E10: 232773 | G10: 0.4 | H10: 7.95 | I10: =M10-G10 -> 5.05 | J10: =N10-G10 -> -0.4 | M10: 5.45
A11: 7 | B11: Rafael Barrantes perforado | C11: P | D11: 371948 | E11: 233360 | G11: 0.2 | I11: =M11-G11 -> 16.93 | J11: =N11-G11 -> -0.2 | M11: 17.13
A12: 8 | B12: Rafael Barrantes escavado | C12: E | D12: 371994 | E12: 233556 | G12: 0.94 | I12: =M12-G12 -> 4.96 | J12: =N12-G12 -> -0.94 | M12: 5.9

Sheet Junio 2022
A1: Monitoreo Cuenca Quirimán
A3: N. | B3: Pozo | C3: Tipo | D3: Este | E3: Norte | F3: m.s.n.m. | G3: Brocal | H3: Profundidad (m) | I3: Nivel E (m) | J3: Nivel D (m) | K3: Fecha | M3: Nivel E (m) | N3: Nivel D (m)
A5: 1 | B5: #1 Asada Quiriman | C5: P | D5: 371747 | E5: 233146 | F5: 223 | G5: 0.2 | H5: 30 | I5: =M5-G5 -> 11.77 | J5: =N5-G5 -> -0.2 | K5: 44734 | M5: 11.97
A6: 2 | B6: #2 Asada Quiriman | C6: P | D6: 371188 | E6: 232816 | F6: 221 | G6: 0.48 | I6: =M6-G6 -> 1.76 | J6: =N6-G6 -> -0.48 | M6: 2.24
A7: 3 | B7: Frente escuela Quiriman | C7: E | D7: 371019 | E7: 232783 | F7: 206 | G7: 0.78 | H7: 15.45 | I7: Porton cerrado | M7: Sin acceso
A8: 4 | B8: Vianey Guevara | C8: E | D8: 370602 | E8: 232450 | F8: 214 | G8: 0.5 | I8: =M8-G8 -> 19.4 | J8: =N8-G8 -> -0.5 | M8: 19.9
A9: 5 | B9: Asada La Y Griega | C9: P | D9: 370992 | E9: 234494 | F9: 237 | G9: 0.17 | H9: 38 | I9: =M9-G9 -> 18.15 | J9: =N9-G9 -> -0.17 | M9: 18.32
A10: 6 | B10: Casa Abandonada | C10: E | D10: 371175 | E10: 232773 | G10: 0.4 | H10: 7.95 | I10: =M10-G10 -> 3.6 | J10: =N10-G10 -> -0.4 | M10: 4
A11: 7 | B11: Rafael Barrantes perforado | C11: P | D11: 371948 | E11: 233360 | G11: 0.2 | I11: =M11-G11 -> 14.43 | J11: =N11-G11 -> -0.2 | M11: 14.63
A12: 8 | B12: Rafael Barrantes escavado | C12: E | D12: 371994 | E12: 233556 | G12: 0.94 | I12: =M12-G12 -> 3.26 | J12: =N12-G12 -> -0.94 | M12: 4.2

Sheet Julio 2022
A1: Monitoreo Cuenca Quirimán
A3: N. | B3: Pozo | C3: Tipo | D3: Este | E3: Norte | F3: m.s.n.m. | G3: Brocal | H3: Profundidad (m) | I3: Nivel E (m) | J3: Nivel D (m) | K3: Fecha | M3: Nivel E (m) | N3: Nivel D (m)
A5: 1 | B5: #1 Asada Quiriman | C5: P | D5: 371747 | E5: 233146 | F5: 223 | G5: 0.2 | H5: 30 | I5: =M5-G5 -> 13.35 | J5: =N5-G5 -> -0.2 | K5: 44762 | M5: 13.55
A6: 2 | B6: #2 Asada Quiriman | C6: P | D6: 371188 | E6: 232816 | F6: 221 | G6: 0.48 | I6: =M6-G6 -> 2.38 | J6: =N6-G6 -> -0.48 | M6: 2.86
A7: 3 | B7: Frente escuela Quiriman | C7: E | D7: 371019 | E7: 232783 | F7: 206 | G7: 0.78 | H7: 15.45 | I7: Porton cerrado | M7: Sin acceso
A8: 4 | B8: Vianey Guevara | C8: E | D8: 370602 | E8: 232450 | F8: 214 | G8: 0.5 | I8: =M8-G8 -> 19.04 | J8: =N8-G8 -> -0.5 | M8: 19.54
A9: 5 | B9: Asada La Y Griega | C9: P | D9: 370992 | E9: 234494 | F9: 237 | G9: 0.17 | H9: 38 | I9: =M9-G9 -> 17.06 | J9: =N9-G9 -> -0.17 | M9: 17.23
A10: 6 | B10: Casa Abandonada | C10: E | D10: 371175 | E10: 232773 | G10: 0.4 | H10: 7.95 | I10: =M10-G10 -> 3.14 | J10: =N10-G10 -> -0.4 | M10: 3.54
A11: 7 | B11: Rafael Barrantes perforado | C11: P | D11: 371948 | E11: 233360 | G11: 0.2 | I11: =M11-G11 -> 13.79 | J11: =N11-G11 -> -0.2 | M11: 13.99
A12: 8 | B12: Rafael Barrantes escavado | C12: E | D12: 371994 | E12: 233556 | G12: 0.94 | I12: =M12-G12 -> 2.71 | J12: =N12-G12 -> -0.94 | M12: 3.65

Sheet Agosto 2022
A1: Monitoreo Cuenca Quirimán
A3: N. | B3: Pozo | C3: Tipo | D3: Este | E3: Norte | F3: m.s.n.m. | G3: Brocal | H3: Profundidad (m) | I3: Nivel E (m) | J3: Nivel D (m) | K3: Fecha | M3: Nivel E (m) | N3: Nivel D (m)
A5: 1 | B5: #1 Asada Quiriman | C5: P | D5: 371747 | E5: 233146 | F5: 223 | G5: 0.2 | H5: 30 | I5: =M5-G5 -> 11.42 | J5: =N5-G5 -> -0.2 | K5: 44795 | M5: 11.62
A6: 2 | B6: #2 Asada Quiriman | C6: P | D6: 371188 | E6: 232816 | F6: 221 | G6: 0.48 | I6: =M6-G6 -> 2.21 | J6: =N6-G6 -> -0.48 | M6: 2.69
A7: 3 | B7: Frente escuela Quiriman | C7: E | D7: 371019 | E7: 232783 | F7: 206 | G7: 0.78 | H7: 15.45 | I7: Porton cerrado | M7: Sin acceso
A8: 4 | B8: Vianey Guevara | C8: E | D8: 370602 | E8: 232450 | F8: 214 | G8: 0.5 | I8: =M8-G8 -> 19.1 | J8: =N8-G8 -> -0.5 | M8: 19.6
A9: 5 | B9: Asada La Y Griega | C9: P | D9: 370992 | E9: 234494 | F9: 237 | G9: 0.17 | H9: 38 | I9: =M9-G9 -> 15.22 | J9: =N9-G9 -> -0.17 | M9: 15.39
A10: 6 | B10: Casa Abandonada | C10: E | D10: 371175 | E10: 232773 | G10: 0.4 | H10: 7.95 | I10: =M10-G10 -> 3.39 | J10: =N10-G10 -> -0.4 | M10: 3.79
A11: 7 | B11: Rafael Barrantes perforado | C11: P | D11: 371948 | E11: 233360 | G11: 0.2 | I11: =M11-G11 -> 13.21 | J11: =N11-G11 -> -0.2 | M11: 13.41
A12: 8 | B12: Rafael Barrantes escavado | C12: E | D12: 371994 | E12: 233556 | G12: 0.94 | I12: =M12-G12 -> 3.06 | J12: =N12-G12 -> -0.94 | M12: 4

Sheet Setiembre 2022
A1: Monitoreo Cuenca Quirimán
A3: N. | B3: Pozo | C3: Tipo | D3: Este | E3: Norte | F3: m.s.n.m. | G3: Brocal | H3: Profundidad (m) | I3: Nivel E (m) | J3: Nivel D (m) | K3: Fecha | M3: Nivel E (m) | N3: Nivel D (m)
A5: 1 | B5: #1 Asada Quiriman | C5: P | D5: 371747 | E5: 233146 | F5: 223 | G5: 0.2 | H5: 30 | I5: =M5-G5 -> 11.45 | J5: =N5-G5 -> -0.2 | K5: 44795 | M5: 11.65
A6: 2 | B6: #2 Asada Quiriman | C6: P | D6: 371188 | E6: 232816 | F6: 221 | G6: 0.48 | I6: =M6-G6 -> 1.61 | J6: =N6-G6 -> -0.48 | M6: 2.09
A7: 3 | B7: Frente escuela Quiriman | C7: E | D7: 371019 | E7: 232783 | F7: 206 | G7: 0.78 | H7: 15.45 | I7: Porton cerrado | M7: Sin acceso
A8: 4 | B8: Vianey Guevara | C8: E | D8: 370602 | E8: 232450 | F8: 214 | G8: 0.5 | I8: =M8-G8 -> 19.19 | J8: =N8-G8 -> -0.5 | M8: 19.69
A9: 5 | B9: Asada La Y Griega | C9: P | D9: 370992 | E9: 234494 | F9: 237 | G9: 0.17 | H9: 38 | I9: =M9-G9 -> 14.67 | J9: =N9-G9 -> -0.17 | M9: 14.84
A10: 6 | B10: Casa Abandonada | C10: E | D10: 371175 | E10: 232773 | G10: 0.4 | H10: 7.95 | I10: =M10-G10 -> 1.16 | J10: =N10-G10 -> -0.4 | M10: 1.56
A11: 7 | B11: Rafael Barrantes perforado | C11: P | D11: 371948 | E11: 233360 | G11: 0.2 | I11: =M11-G11 -> 14.32 | J11: =N11-G11 -> -0.2 | M11: 14.52
A12: 8 | B12: Rafael Barrantes escavado | C12: E | D12: 371994 | E12: 233556 | G12: 0.94 | I12: =M12-G12 -> 3.08 | J12: =N12-G12 -> -0.94 | M12: 4.02

Sheet Octubre 2022
A1: Monitoreo Cuenca Quirimán
A3: N. | B3: Pozo | C3: Tipo | D3: Este | E3: Norte | F3: m.s.n.m. | G3: Brocal | H3: Profundidad (m) | I3: Nivel E (m) | J3: Nivel D (m) | K3: Fecha | M3: Nivel E (m) | N3: Nivel D (m)
A5: 1 | B5: #1 Asada Quiriman | C5: P | D5: 371747 | E5: 233146 | F5: 223 | G5: 0.2 | H5: 30 | I5: =M5-G5 -> 11.34 | J5: =N5-G5 -> -0.2 | K5: 44795 | M5: 11.54
A6: 2 | B6: #2 Asada Quiriman | C6: P | D6: 371188 | E6: 232816 | F6: 221 | G6: 0.48 | I6: =M6-G6 -> 1.42 | J6: =N6-G6 -> -0.48 | M6: 1.9
A7: 3 | B7: Frente escuela Quiriman | C7: E | D7: 371019 | E7: 232783 | F7: 206 | G7: 0.78 | H7: 15.45 | I7: Porton cerrado | M7: Sin acceso
A8: 4 | B8: Vianey Guevara | C8: E | D8: 370602 | E8: 232450 | F8: 214 | G8: 0.5 | I8: =M8-G8 -> 19.03 | J8: =N8-G8 -> -0.5 | M8: 19.53
A9: 5 | B9: Asada La Y Griega | C9: P | D9: 370992 | E9: 234494 | F9: 237 | G9: 0.17 | H9: 38 | I9: =M9-G9 -> 19.43 | J9: =N9-G9 -> -0.17 | M9: 19.6
A10: 6 | B10: Casa Abandonada | C10: E | D10: 371175 | E10: 232773 | G10: 0.4 | H10: 7.95 | I10: =M10-G10 -> 3.34 | J10: =N10-G10 -> -0.4 | M10: 3.74
A11: 7 | B11: Rafael Barrantes perforado | C11: P | D11: 371948 | E11: 233360 | G11: 0.2 | I11: =M11-G11 -> 14.08 | J11: =N11-G11 -> -0.2 | M11: 14.28
A12: 8 | B12: Rafael Barrantes escavado | C12: E | D12: 371994 | E12: 233556 | G12: 0.94 | I12: =M12-G12 -> 2.96 | J12: =N12-G12 -> -0.94 | M12: 3.9

Sheet Noviembre 2022
A1: Monitoreo Cuenca Quirimán
A3: N. | B3: Pozo | C3: Tipo | D3: Este | E3: Norte | F3: m.s.n.m. | G3: Brocal | H3: Profundidad (m) | I3: Nivel E (m) | J3: Nivel D (m) | K3: Fecha | M3: Nivel E (m) | N3: Nivel D (m)
A5: 1 | B5: #1 Asada Quiriman | C5: P | D5: 371747 | E5: 233146 | F5: 223 | G5: 0.2 | H5: 30 | I5: =M5-G5 -> 11 | J5: =N5-G5 -> -0.2 | K5: 44795 | M5: 11.2
A6: 2 | B6: #2 Asada Quiriman | C6: P | D6: 371188 | E6: 232816 | F6: 221 | G6: 0.48 | I6: =M6-G6 -> 1.02 | J6: =N6-G6 -> -0.48 | M6: 1.5
A7: 3 | B7: Frente escuela Quiriman | C7: E | D7: 371019 | E7: 232783 | F7: 206 | G7: 0.78 | H7: 15.45 | I7: Porton cerrado | M7: Sin acceso
A8: 4 | B8: Vianey Guevara | C8: E | D8: 370602 | E8: 232450 | F8: 214 | G8: 0.5 | I8: =M8-G8 -> 19.32 | J8: =N8-G8 -> -0.5 | M8: 19.82
A9: 5 | B9: Asada La Y Griega | C9: P | D9: 370992 | E9: 234494 | F9: 237 | G9: 0.17 | H9: 38 | I9: =M9-G9 -> 19.43 | J9: =N9-G9 -> -0.17 | M9: 19.6
A10: 6 | B10: Casa Abandonada | C10: E | D10: 371175 | E10: 232773 | G10: 0.4 | H10: 7.95 | I10: =M10-G10 -> 2.84 | J10: =N10-G10 -> -0.4 | M10: 3.24
A11: 7 | B11: Rafael Barrantes perforado | C11: P | D11: 371948 | E11: 233360 | G11: 0.2 | I11: =M11-G11 -> 13.85 | J11: =N11-G11 -> -0.2 | M11: 14.05
A12: 8 | B12: Rafael Barrantes escavado | C12: E | D12: 371994 | E12: 233556 | G12: 0.94 | I12: =M12-G12 -> 3.14 | J12: =N12-G12 -> -0.94 | M12: 4.08

Sheet Diciembre 2022
A1: Monitoreo Cuenca Quirimán
A3: N. | B3: Pozo | C3: Tipo | D3: Este | E3: Norte | F3: m.s.n.m. | G3: Brocal | H3: Profundidad (m) | I3: Nivel E (m) | J3: Nivel D (m) | K3: Fecha | M3: Nivel E (m) | N3: Nivel D (m)
A5: 1 | B5: #1 Asada Quiriman | C5: P | D5: 371747 | E5: 233146 | F5: 223 | G5: 0.2 | H5: 30 | I5: =M5-G5 -> -0.2 | J5: =N5-G5 -> 14.28 | K5: 44795 | N5: 14.48
A6: 2 | B6: #2 Asada Quiriman | C6: P | D6: 371188 | E6: 232816 | F6: 221 | G6: 0.48 | I6: =M6-G6 -> 1.81 | J6: =N6-G6 -> -0.48 | M6: 2.29
A7: 3 | B7: Frente escuela Quiriman | C7: E | D7: 371019 | E7: 232783 | F7: 206 | G7: 0.78 | H7: 15.45 | I7: Porton cerrado | M7: Sin acceso
A8: 4 | B8: Vianey Guevara | C8: E | D8: 370602 | E8: 232450 | F8: 214 | G8: 0.5 | I8: =M8-G8 -> 19.42 | J8: =N8-G8 -> -0.5 | M8: 19.92
A9: 5 | B9: Asada La Y Griega | C9: P | D9: 370992 | E9: 234494 | F9: 237 | G9: 0.17 | H9: 38 | I9: =M9-G9 -> 14.91 | J9: =N9-G9 -> -0.17 | M9: 15.08
A10: 6 | B10: Casa Abandonada | C10: E | D10: 371175 | E10: 232773 | G10: 0.4 | H10: 7.95 | I10: =M10-G10 -> 3.78 | J10: =N10-G10 -> -0.4 | M10: 4.18
A11: 7 | B11: Rafael Barrantes perforado | C11: P | D11: 371948 | E11: 233360 | G11: 0.2 | I11: =M11-G11 -> 14.9 | J11: =N11-G11 -> -0.2 | M11: 15.1
A12: 8 | B12: Rafael Barrantes escavado | C12: E | D12: 371994 | E12: 233556 | G12: 0.94 | I12: =M12-G12 -> 3.46 | J12: =N12-G12 -> -0.94 | M12: 4.4

Sheet Enero 2023
A1: Monitoreo Cuenca Quirimán
A3: N. | B3: Pozo | C3: Tipo | D3: Este | E3: Norte | F3: m.s.n.m. | G3: Brocal | H3: Profundidad (m) | I3: Nivel E (m) | J3: Nivel D (m) | K3: Fecha | M3: Nivel E (m) | N3: Nivel D (m)
A5: 1 | B5: #1 Asada Quiriman | C5: P | D5: 371747 | E5: 233146 | F5: 223 | G5: 0.2 | H5: 30 | I5: =M5-G5 -> -0.2 | J5: =N5-G5 -> 14.93 | K5: 44795 | N5: 15.13
A6: 2 | B6: #2 Asada Quiriman | C6: P | D6: 371188 | E6: 232816 | F6: 221 | G6: 0.48 | I6: =M6-G6 -> 2.16 | J6: =N6-G6 -> -0.48 | M6: 2.64
A7: 3 | B7: Frente escuela Quiriman | C7: E | D7: 371019 | E7: 232783 | F7: 206 | G7: 0.78 | H7: 15.45 | I7: Porton cerrado | M7: Sin acceso
A8: 4 | B8: Vianey Guevara | C8: E | D8: 370602 | E8: 232450 | F8: 214 | G8: 0.5 | I8: =M8-G8 -> 19.5 | J8: =N8-G8 -> -0.5 | M8: 20
A9: 5 | B9: Asada La Y Griega | C9: P | D9: 370992 | E9: 234494 | F9: 237 | G9: 0.17 | H9: 38 | I9: =M9-G9 -> 17.71 | J9: =N9-G9 -> -0.17 | M9: 17.88
A10: 6 | B10: Casa Abandonada | C10: E | D10: 371175 | E10: 232773 | G10: 0.4 | H10: 7.95 | I10: =M10-G10 -> 4.1 | J10: =N10-G10 -> -0.4 | M10: 4.5
A11: 7 | B11: Rafael Barrantes perforado | C11: P | D11: 371948 | E11: 233360 | G11: 0.2 | I11: =M11-G11 -> 15.35 | J11: =N11-G11 -> -0.2 | M11: 15.55
A12: 8 | B12: Rafael Barrantes escavado | C12: E | D12: 371994 | E12: 233556 | G12: 0.94 | I12: =M12-G12 -> 4.14 | J12: =N12-G12 -> -0.94 | M12: 5.08

Sheet Febrero 2023
A1: Monitoreo Cuenca Quirimán
A3: N. | B3: Pozo | C3: Tipo | D3: Este | E3: Norte | F3: m.s.n.m. | G3: Brocal | H3: Profundidad (m) | I3: Nivel E (m) | J3: Nivel D (m) | K3: Fecha | M3: Nivel E (m) | N3: Nivel D (m)
A5: 1 | B5: #1 Asada Quiriman | C5: P | D5: 371747 | E5: 233146 | F5: 223 | G5: 0.2 | H5: 30 | I5: =M5-G5 -> -0.2 | J5: =N5-G5 -> 15.8 | K5: 44980 | N5: 16
A6: 2 | B6: #2 Asada Quiriman | C6: P | D6: 371188 | E6: 232816 | F6: 221 | G6: 0.48 | I6: =M6-G6 -> 2.65 | J6: =N6-G6 -> -0.48 | M6: 3.13
A7: 3 | B7: Frente escuela Quiriman | C7: E | D7: 371019 | E7: 232783 | F7: 206 | G7: 0.78 | H7: 15.45 | I7: Porton cerrado | M7: Sin acceso
A8: 4 | B8: Vianey Guevara | C8: E | D8: 370602 | E8: 232450 | F8: 214 | G8: 0.5 | I8: =M8-G8 -> 19.54 | J8: =N8-G8 -> -0.5 | M8: 20.04
A9: 5 | B9: Asada La Y Griega | C9: P | D9: 370992 | E9: 234494 | F9: 237 | G9: 0.17 | H9: 38 | I9: =M9-G9 -> 19.41 | J9: =N9-G9 -> -0.17 | M9: 19.58
A10: 6 | B10: Casa Abandonada | C10: E | D10: 371175 | E10: 232773 | G10: 0.4 | H10: 7.95 | I10: =M10-G10 -> 4.49 | J10: =N10-G10 -> -0.4 | M10: 4.89
A11: 7 | B11: Rafael Barrantes perforado | C11: P | D11: 371948 | E11: 233360 | G11: 0.2 | I11: =M11-G11 -> 15.97 | J11: =N11-G11 -> -0.2 | M11: 16.17
A12: 8 | B12: Rafael Barrantes escavado | C12: E | D12: 371994 | E12: 233556 | G12: 0.94 | I12: =M12-G12 -> 4.88 | J12: =N12-G12 -> -0.94 | M12: 5.82

Sheet Marzo 2023
A1: Monitoreo Cuenca Quirimán
A3: N. | B3: Pozo | C3: Tipo | D3: Este | E3: Norte | F3: m.s.n.m. | G3: Brocal | H3: Profundidad (m) | I3: Nivel E (m) | J3: Nivel D (m) | K3: Fecha | M3: Nivel E (m) | N3: Nivel D (m)
A5: 1 | B5: #1 Asada Quiriman | C5: P | D5: 371747 | E5: 233146 | F5: 223 | G5: 0.2 | H5: 30 | I5: =M5-G5 -> 14.31 | J5: =N5-G5 -> -0.2 | K5: 44980 | M5: 14.51
A6: 2 | B6: #2 Asada Quiriman | C6: P | D6: 371188 | E6: 232816 | F6: 221 | G6: 0.48 | I6: =M6-G6 -> 3.23 | J6: =N6-G6 -> -0.48 | M6: 3.71
A7: 3 | B7: Frente escuela Quiriman | C7: E | D7: 371019 | E7: 232783 | F7: 206 | G7: 0.78 | H7: 15.45 | I7: Porton cerrado | M7: Sin acceso
A8: 4 | B8: Vianey Guevara | C8: E | D8: 370602 | E8: 232450 | F8: 214 | G8: 0.5 | I8: =M8-G8 -> 19.97 | J8: =N8-G8 -> -0.5 | M8: 20.47
A9: 5 | B9: Asada La Y Griega | C9: P | D9: 370992 | E9: 234494 | F9: 237 | G9: 0.17 | H9: 38 | I9: =M9-G9 -> #VALUE! | J9: =N9-G9 -> -0.17 | M9: Sonda no baja
A10: 6 | B10: Casa Abandonada | C10: E | D10: 371175 | E10: 232773 | G10: 0.4 | H10: 7.95 | I10: =M10-G10 -> 5.11 | J10: =N10-G10 -> -0.4 | M10: 5.51
A11: 7 | B11: Rafael Barrantes perforado | C11: P | D11: 371948 | E11: 233360 | G11: 0.2 | I11: =M11-G11 -> 16.32 | J11: =N11-G11 -> -0.2 | M11: 16.52
A12: 8 | B12: Rafael Barrantes escavado | C12: E | D12: 371994 | E12: 233556 | G12: 0.94 | I12: =M12-G12 -> 5.68 | J12: =N12-G12 -> -0.94 | M12: 6.62

Sheet Abril 2023
A1: Monitoreo Cuenca Quirimán
A3: N. | B3: Pozo | C3: Tipo | D3: Este | E3: Norte | F3: m.s.n.m. | G3: Brocal | H3: Profundidad (m) | I3: Nivel E (m) | J3: Nivel D (m) | K3: Fecha | M3: Nivel E (m) | N3: Nivel D (m)
A5: 1 | B5: #1 Asada Quiriman | C5: P | D5: 371747 | E5: 233146 | F5: 223 | G5: 0.2 | H5: 30 | I5: =M5-G5 -> -0.2 | J5: =N5-G5 -> 17.78 | K5: 45041 | N5: 17.98
A6: 2 | B6: #2 Asada Quiriman | C6: P | D6: 371188 | E6: 232816 | F6: 221 | G6: 0.48 | I6: =M6-G6 -> 3.97 | J6: =N6-G6 -> -0.48 | M6: 4.45
A7: 3 | B7: Frente escuela Quiriman | C7: E | D7: 371019 | E7: 232783 | F7: 206 | G7: 0.78 | H7: 15.45 | I7: Porton cerrado | M7: Sin acceso
A8: 4 | B8: Vianey Guevara | C8: E | D8: 370602 | E8: 232450 | F8: 214 | G8: 0.5 | I8: =M8-G8 -> 19.65 | J8: =N8-G8 -> -0.5 | M8: 20.15
A9: 5 | B9: Asada La Y Griega | C9: P | D9: 370992 | E9: 234494 | F9: 237 | G9: 0.17 | H9: 38 | I9: =M9-G9 -> 22.11 | J9: =N9-G9 -> -0.17 | M9: 22.28
A10: 6 | B10: Casa Abandonada | C10: E | D10: 371175 | E10: 232773 | G10: 0.4 | H10: 7.95 | I10: =M10-G10 -> 5.71 | J10: =N10-G10 -> -0.4 | M10: 6.11
A11: 7 | B11: Rafael Barrantes perforado | C11: P | D11: 371948 | E11: 233360 | G11: 0.2 | I11: =M11-G11 -> 18.38 | J11: =N11-G11 -> -0.2 | M11: 18.58
A12: 8 | B12: Rafael Barrantes escavado | C12: E | D12: 371994 | E12: 233556 | G12: 0.94 | I12: =M12-G12 -> 6.87 | J12: =N12-G12 -> -0.94 | M12: 7.81

Sheet Mayo 2023
A1: Monitoreo Cuenca Quirimán
A3: N. | B3: Pozo | C3: Tipo | D3: Este | E3: Norte | F3: m.s.n.m. | G3: Brocal | H3: Profundidad (m) | I3: Nivel E (m) | J3: Nivel D (m) | K3: Fecha | M3: Nivel E (m) | N3: Nivel D (m)
A5: 1 | B5: #1 Asada Quiriman | C5: P | D5: 371747 | E5: 233146 | F5: 223 | G5: 0.2 | H5: 30 | I5: =M5-G5 -> -0.2 | J5: =N5-G5 -> 19.87 | K5: 45071 | N5: 20.07
A6: 2 | B6: #2 Asada Quiriman | C6: P | D6: 371188 | E6: 232816 | F6: 221 | G6: 0.48 | I6: =M6-G6 -> 4.49 | J6: =N6-G6 -> -0.48 | M6: 4.97
A7: 3 | B7: Frente escuela Quiriman | C7: E | D7: 371019 | E7: 232783 | F7: 206 | G7: 0.78 | H7: 15.45 | I7: Porton cerrado | M7: Sin acceso
A8: 4 | B8: Vianey Guevara | C8: E | D8: 370602 | E8: 232450 | F8: 214 | G8: 0.5 | I8: =M8-G8 -> 19.7 | J8: =N8-G8 -> -0.5 | M8: 20.2
A9: 5 | B9: Asada La Y Griega | C9: P | D9: 370992 | E9: 234494 | F9: 237 | G9: 0.17 | H9: 38 | I9: =M9-G9 -> -0.17 | J9: =N9-G9 -> 18.93 | N9: 19.1
A10: 6 | B10: Casa Abandonada | C10: E | D10: 371175 | E10: 232773 | G10: 0.4 | H10: 7.95 | I10: =M10-G10 -> 6.1 | J10: =N10-G10 -> -0.4 | M10: 6.5
A11: 7 | B11: Rafael Barrantes perforado | C11: P | D11: 371948 | E11: 233360 | G11: 0.2 | I11: =M11-G11 -> 18.22 | J11: =N11-G11 -> -0.2 | M11: 18.42
A12: 8 | B12: Rafael Barrantes escavado | C12: E | D12: 371994 | E12: 233556 | G12: 0.94 | I12: =M12-G12 -> 7.83 | J12: =N12-G12 -> -0.94 | M12: 8.77

Sheet Junio 2023
A1: Monitoreo Cuenca Quirimán
A3: N. | B3: Pozo | C3: Tipo | D3: Este | E3: Norte | F3: m.s.n.m. | G3: Brocal | H3: Profundidad (m) | I3: Nivel E (m) | J3: Nivel D (m) | K3: Fecha | M3: Nivel E (m) | N3: Nivel D (m)
A5: 1 | B5: #1 Asada Quiriman | C5: P | D5: 371747 | E5: 233146 | F5: 223 | G5: 0.2 | H5: 30 | I5: =M5-G5 -> #VALUE! | J5: =N5-G5 -> -0.2 | K5: 45071 | M5: sin dato
A6: 2 | B6: #2 Asada Quiriman | C6: P | D6: 371188 | E6: 232816 | F6: 221 | G6: 0.48 | I6: =M6-G6 -> 4.28 | J6: =N6-G6 -> -0.48 | M6: 4.76
A7: 3 | B7: Frente escuela Quiriman | C7: E | D7: 371019 | E7: 232783 | F7: 206 | G7: 0.78 | H7: 15.45 | I7: Porton cerrado | M7: Sin acceso
A8: 4 | B8: Vianey Guevara | C8: E | D8: 370602 | E8: 232450 | F8: 214 | G8: 0.5 | I8: =M8-G8 -> 19.55 | J8: =N8-G8 -> -0.5 | M8: 20.05
A9: 5 | B9: Asada La Y Griega | C9: P | D9: 370992 | E9: 234494 | F9: 237 | G9: 0.17 | H9: 38 | I9: =M9-G9 -> 24.24 | J9: =N9-G9 -> -0.17 | M9: 24.41
A10: 6 | B10: Casa Abandonada | C10: E | D10: 371175 | E10: 232773 | G10: 0.4 | H10: 7.95 | I10: =M10-G10 -> 5.97 | J10: =N10-G10 -> -0.4 | M10: 6.37
A11: 7 | B11: Rafael Barrantes perforado | C11: P | D11: 371948 | E11: 233360 | G11: 0.2 | I11: =M11-G11 -> 18.5 | J11: =N11-G11 -> -0.2 | M11: 18.7
A12: 8 | B12: Rafael Barrantes escavado | C12: E | D12: 371994 | E12: 233556 | G12: 0.94 | I12: =M12-G12 -> 6.81 | J12: =N12-G12 -> -0.94 | M12: 7.75

Sheet Julio 2023
A1: Monitoreo Cuenca Quirimán
A3: N. | B3: Pozo | C3: Tipo | D3: Este | E3: Norte | F3: m.s.n.m. | G3: Brocal | H3: Profundidad (m) | I3: Nivel E (m) | J3: Nivel D (m) | K3: Fecha | M3: Nivel E (m) | N3: Nivel D (m)
A5: 1 | B5: #1 Asada Quiriman | C5: P | D5: 371747 | E5: 233146 | F5: 223 | G5: 0.2 | H5: 30 | I5: =M5-G5 -> -0.2 | J5: =N5-G5 -> 17.97 | K5: 45125 | N5: 18.17
A6: 2 | B6: #2 Asada Quiriman | C6: P | D6: 371188 | E6: 232816 | F6: 221 | G6: 0.48 | I6: =M6-G6 -> 4.02 | J6: =N6-G6 -> -0.48 | M6: 4.5
A7: 3 | B7: Frente escuela Quiriman | C7: E | D7: 371019 | E7: 232783 | F7: 206 | G7: 0.78 | H7: 15.45 | I7: Porton cerrado | M7: Sin acceso
A8: 4 | B8: Vianey Guevara | C8: E | D8: 370602 | E8: 232450 | F8: 214 | G8: 0.5 | I8: =M8-G8 -> 20.2 | J8: =N8-G8 -> -0.5 | M8: 20.7
A9: 5 | B9: Asada La Y Griega | C9: P | D9: 370992 | E9: 234494 | F9: 237 | G9: 0.17 | H9: 38 | I9: =M9-G9 -> 23.95 | J9: =N9-G9 -> -0.17 | M9: 24.12
A10: 6 | B10: Casa Abandonada | C10: E | D10: 371175 | E10: 232773 | G10: 0.4 | H10: 7.95 | I10: =M10-G10 -> 5.54 | J10: =N10-G10 -> -0.4 | M10: 5.94
A11: 7 | B11: Rafael Barrantes perforado | C11: P | D11: 371948 | E11: 233360 | G11: 0.2 | I11: =M11-G11 -> 16.98 | J11: =N11-G11 -> -0.2 | M11: 17.18
A12: 8 | B12: Rafael Barrantes escavado | C12: E | D12: 371994 | E12: 233556 | G12: 0.94 | I12: =M12-G12 -> 4.62 | J12: =N12-G12 -> -0.94 | M12: 5.56

Sheet Agosto 2023
A1: Monitoreo Cuenca Quirimán
A3: N. | B3: Pozo | C3: Tipo | D3: Este | E3: Norte | F3: m.s.n.m. | G3: Brocal | H3: Profundidad (m) | I3: Nivel E (m) | J3: Nivel D (m) | K3: Fecha | M3: Nivel E (m) | N3: Nivel D (m)
A5: 1 | B5: #1 Asada Quiriman | C5: P | D5: 371747 | E5: 233146 | F5: 223 | G5: 0.2 | H5: 30 | I5: =M5-G5 -> 14.74 | J5: =N5-G5 -> -0.2 | K5: 45160 | M5: 14.94
A6: 2 | B6: #2 Asada Quiriman | C6: P | D6: 371188 | E6: 232816 | F6: 221 | G6: 0.48 | I6: =M6-G6 -> 2.95 | J6: =N6-G6 -> -0.48 | M6: 3.43
A7: 3 | B7: Frente escuela Quiriman | C7: E | D7: 371019 | E7: 232783 | F7: 206 | G7: 0.78 | H7: 15.45 | I7: Porton cerrado | M7: Sin acceso
A8: 4 | B8: Vianey Guevara | C8: E | D8: 370602 | E8: 232450 | F8: 214 | G8: 0.5 | I8: =M8-G8 -> 19.58 | J8: =N8-G8 -> -0.5 | M8: 20.08
A9: 5 | B9: Asada La Y Griega | C9: P | D9: 370992 | E9: 234494 | F9: 237 | G9: 0.17 | H9: 38 | I9: =M9-G9 -> 23.78 | J9: =N9-G9 -> -0.17 | M9: 23.95
A10: 6 | B10: Casa Abandonada | C10: E | D10: 371175 | E10: 232773 | G10: 0.4 | H10: 7.95 | I10: =M10-G10 -> 5.1 | J10: =N10-G10 -> -0.4 | M10: 5.5
A11: 7 | B11: Rafael Barrantes perforado | C11: P | D11: 371948 | E11: 233360 | G11: 0.2 | I11: =M11-G11 -> 15.75 | J11: =N11-G11 -> -0.2 | M11: 15.95
A12: 8 | B12: Rafael Barrantes escavado | C12: E | D12: 371994 | E12: 233556 | G12: 0.94 | I12: =M12-G12 -> 3.8 | J12: =N12-G12 -> -0.94 | M12: 4.74

Sheet Setiembre 2023
A1: Monitoreo Cuenca Quirimán
A3: N. | B3: Pozo | C3: Tipo | D3: Este | E3: Norte | F3: m.s.n.m. | G3: Brocal | H3: Profundidad (m) | I3: Nivel E (m) | J3: Nivel D (m) | K3: Fecha | M3: Nivel E (m) | N3: Nivel D (m)
A5: 1 | B5: #1 Asada Quiriman | C5: P | D5: 371747 | E5: 233146 | F5: 223 | G5: 0.2 | H5: 30 | I5: =M5-G5 -> 15.64 | J5: =N5-G5 -> -0.2 | K5: 45188 | M5: 15.84
A6: 2 | B6: #2 Asada Quiriman | C6: P | D6: 371188 | E6: 232816 | F6: 221 | G6: 0.48 | I6: =M6-G6 -> 2.12 | J6: =N6-G6 -> -0.48 | M6: 2.6
A7: 3 | B7: Frente escuela Quiriman | C7: E | D7: 371019 | E7: 232783 | F7: 206 | G7: 0.78 | H7: 15.45 | I7: Porton cerrado | M7: Sin acceso
A8: 4 | B8: Vianey Guevara | C8: E | D8: 370602 | E8: 232450 | F8: 214 | G8: 0.5 | I8: =M8-G8 -> 19.46 | J8: =N8-G8 -> -0.5 | M8: 19.96
A9: 5 | B9: Asada La Y Griega | C9: P | D9: 370992 | E9: 234494 | F9: 237 | G9: 0.17 | H9: 38 | I9: =M9-G9 -> -0.17 | J9: =N9-G9 -> -0.17
A10: 6 | B10: Casa Abandonada | C10: E | D10: 371175 | E10: 232773 | G10: 0.4 | H10: 7.95 | I10: =M10-G10 -> 3.9 | J10: =N10-G10 -> -0.4 | M10: 4.3
A11: 7 | B11: Rafael Barrantes perforado | C11: P | D11: 371948 | E11: 233360 | G11: 0.2 | I11: =M11-G11 -> 15.3 | J11: =N11-G11 -> -0.2 | M11: 15.5
A12: 8 | B12: Rafael Barrantes escavado | C12: E | D12: 371994 | E12: 233556 | G12: 0.94 | I12: =M12-G12 -> 3.51 | J12: =N12-G12 -> -0.94 | M12: 4.45

Sheet Octubre 2023
A1: Monitoreo Cuenca Quirimán
A3: N. | B3: Pozo | C3: Tipo | D3: Este | E3: Norte | F3: m.s.n.m. | G3: Brocal | H3: Profundidad (m) | I3: Nivel E (m) | J3: Nivel D (m) | K3: Fecha | M3: Nivel E (m) | N3: Nivel D (m)
A5: 1 | B5: #1 Asada Quiriman | C5: P | D5: 371747 | E5: 233146 | F5: 223 | G5: 0.2 | H5: 30 | I5: =M5-G5 -> 11.85 | J5: =N5-G5 -> -0.2 | K5: 45188 | M5: 12.05
A6: 2 | B6: #2 Asada Quiriman | C6: P | D6: 371188 | E6: 232816 | F6: 221 | G6: 0.48 | I6: =M6-G6 -> 1.83 | J6: =N6-G6 -> -0.48 | M6: 2.31
A7: 3 | B7: Frente escuela Quiriman | C7: E | D7: 371019 | E7: 232783 | F7: 206 | G7: 0.78 | H7: 15.45 | I7: Porton cerrado | M7: Sin acceso
A8: 4 | B8: Vianey Guevara | C8: E | D8: 370602 | E8: 232450 | F8: 214 | G8: 0.5 | I8: =M8-G8 -> 19.21 | J8: =N8-G8 -> -0.5 | M8: 19.71
A9: 5 | B9: Asada La Y Griega | C9: P | D9: 370992 | E9: 234494 | F9: 237 | G9: 0.17 | H9: 38 | I9: =M9-G9 -> 20.98 | J9: =N9-G9 -> -0.17 | M9: 21.15
A10: 6 | B10: Casa Abandonada | C10: E | D10: 371175 | E10: 232773 | G10: 0.4 | H10: 7.95 | I10: =M10-G10 -> #VALUE! | J10: =N10-G10 -> -0.4 | M10: sin acceso rio crecido
A11: 7 | B11: Rafael Barrantes perforado | C11: P | D11: 371948 | E11: 233360 | G11: 0.2 | I11: =M11-G11 -> 14.62 | J11: =N11-G11 -> -0.2 | M11: 14.82
A12: 8 | B12: Rafael Barrantes escavado | C12: E | D12: 371994 | E12: 233556 | G12: 0.94 | I12: =M12-G12 -> 3.31 | J12: =N12-G12 -> -0.94 | M12: 4.25

Sheet Noviembre 2023
A1: Monitoreo Cuenca Quirimán
A3: N. | B3: Pozo | C3: Tipo | D3: Este | E3: Norte | F3: m.s.n.m. | G3: Brocal | H3: Profundidad (m) | I3: Nivel E (m) | J3: Nivel D (m) | K3: Fecha | M3: Nivel E (m) | N3: Nivel D (m)
A5: 1 | B5: #1 Asada Quiriman | C5: P | D5: 371747 | E5: 233146 | F5: 223 | G5: 0.2 | H5: 30 | I5: =M5-G5 -> -0.2 | J5: =N5-G5 -> 11.87 | K5: 45253 | N5: 12.07
A6: 2 | B6: #2 Asada Quiriman | C6: P | D6: 371188 | E6: 232816 | F6: 221 | G6: 0.48 | I6: =M6-G6 -> 2.19 | J6: =N6-G6 -> -0.48 | M6: 2.67
A7: 3 | B7: Frente escuela Quiriman | C7: E | D7: 371019 | E7: 232783 | F7: 206 | G7: 0.78 | H7: 15.45 | I7: Porton cerrado | M7: Sin acceso
A8: 4 | B8: Vianey Guevara | C8: E | D8: 370602 | E8: 232450 | F8: 214 | G8: 0.5 | I8: =M8-G8 -> 19.28 | J8: =N8-G8 -> -0.5 | M8: 19.78
A9: 5 | B9: Asada La Y Griega | C9: P | D9: 370992 | E9: 234494 | F9: 237 | G9: 0.17 | H9: 38 | I9: =M9-G9 -> 16.87 | J9: =N9-G9 -> -0.17 | M9: 17.04
A10: 6 | B10: Casa Abandonada | C10: E | D10: 371175 | E10: 232773 | G10: 0.4 | H10: 7.95 | I10: =M10-G10 -> 3.46 | J10: =N10-G10 -> -0.4 | M10: 3.86
A11: 7 | B11: Rafael Barrantes perforado | C11: P | D11: 371948 | E11: 233360 | G11: 0.2 | I11: =M11-G11 -> 14.5 | J11: =N11-G11 -> -0.2 | M11: 14.7
A12: 8 | B12: Rafael Barrantes escavado | C12: E | D12: 371994 | E12: 233556 | G12: 0.94 | I12: =M12-G12 -> 2.98 | J12: =N12-G12 -> -0.94 | M12: 3.92

Sheet Diciembre 2023
A1: Monitoreo Cuenca Quirimán
A3: N. | B3: Pozo | C3: Tipo | D3: Este | E3: Norte | F3: m.s.n.m. | G3: Brocal | H3: Profundidad (m) | I3: Nivel E (m) | J3: Nivel D (m) | K3: Fecha | M3: Nivel E (m) | N3: Nivel D (m)
A5: 1 | B5: #1 Asada Quiriman | C5: P | D5: 371747 | E5: 233146 | F5: 223 | G5: 0.2 | H5: 30 | I5: =M5-G5 -> -0.2 | J5: =N5-G5 -> 14.3 | K5: 45272 | N5: 14.5
A6: 2 | B6: #2 Asada Quiriman | C6: P | D6: 371188 | E6: 232816 | F6: 221 | G6: 0.48 | I6: =M6-G6 -> 1.82 | J6: =N6-G6 -> -0.48 | M6: 2.3
A7: 3 | B7: Frente escuela Quiriman | C7: E | D7: 371019 | E7: 232783 | F7: 206 | G7: 0.78 | H7: 15.45 | I7: Porton cerrado | M7: Sin acceso
A8: 4 | B8: Vianey Guevara | C8: E | D8: 370602 | E8: 232450 | F8: 214 | G8: 0.5 | I8: =M8-G8 -> 19.48 | J8: =N8-G8 -> -0.5 | M8: 19.98
A9: 5 | B9: Asada La Y Griega | C9: P | D9: 370992 | E9: 234494 | F9: 237 | G9: 0.17 | H9: 38 | I9: =M9-G9 -> 18.25 | J9: =N9-G9 -> -0.17 | M9: 18.42
A10: 6 | B10: Casa Abandonada | C10: E | D10: 371175 | E10: 232773 | G10: 0.4 | H10: 7.95 | I10: =M10-G10 -> 3.7 | J10: =N10-G10 -> -0.4 | M10: 4.1
A11: 7 | B11: Rafael Barrantes perforado | C11: P | D11: 371948 | E11: 233360 | G11: 0.2 | I11: =M11-G11 -> 14.94 | J11: =N11-G11 -> -0.2 | M11: 15.14
A12: 8 | B12: Rafael Barrantes escavado | C12: E | D12: 371994 | E12: 233556 | G12: 0.94 | I12: =M12-G12 -> 3.25 | J12: =N12-G12 -> -0.94 | M12: 4.19

Sheet Enero 2024
A1: Monitoreo Cuenca Quirimán
A3: N. | B3: Pozo | C3: Tipo | D3: Este | E3: Norte | F3: m.s.n.m. | G3: Brocal | H3: Profundidad (m) | I3: Nivel E (m) | J3: Nivel D (m) | K3: Fecha | M3: Nivel E (m) | N3: Nivel D (m)
A5: 1 | B5: #1 Asada Quiriman | C5: P | D5: 371747 | E5: 233146 | F5: 223 | G5: 0.2 | H5: 30 | I5: =M5-G5 -> 14.47 | J5: =N5-G5 -> -0.2 | K5: 45314 | M5: 14.67
A6: 2 | B6: #2 Asada Quiriman | C6: P | D6: 371188 | E6: 232816 | F6: 221 | G6: 0.48 | I6: =M6-G6 -> 1.82 | J6: =N6-G6 -> -0.48 | M6: 2.3
A7: 3 | B7: Frente escuela Quiriman | C7: E | D7: 371019 | E7: 232783 | F7: 206 | G7: 0.78 | H7: 15.45 | I7: Porton cerrado | M7: Sin acceso
A8: 4 | B8: Vianey Guevara | C8: E | D8: 370602 | E8: 232450 | F8: 214 | G8: 0.5 | I8: =M8-G8 -> 19.6 | J8: =N8-G8 -> -0.5 | M8: 20.1
A9: 5 | B9: Asada La Y Griega | C9: P | D9: 370992 | E9: 234494 | F9: 237 | G9: 0.17 | H9: 38 | I9: =M9-G9 -> 18.23 | J9: =N9-G9 -> -0.17 | M9: 18.4
A10: 6 | B10: Casa Abandonada | C10: E | D10: 371175 | E10: 232773 | G10: 0.4 | H10: 7.95 | I10: =M10-G10 -> 3.87 | J10: =N10-G10 -> -0.4 | M10: 4.27
A11: 7 | B11: Rafael Barrantes perforado | C11: P | D11: 371948 | E11: 233360 | G11: 0.2 | I11: =M11-G11 -> 15.21 | J11: =N11-G11 -> -0.2 | M11: 15.41
A12: 8 | B12: Rafael Barrantes escavado | C12: E | D12: 371994 | E12: 233556 | G12: 0.94 | I12: =M12-G12 -> 3.61 | J12: =N12-G12 -> -0.94 | M12: 4.55

Sheet Febrero 2024
A1: Monitoreo Cuenca Quirimán
A3: N. | B3: Pozo | C3: Tipo | D3: Este | E3: Norte | F3: m.s.n.m. | G3: Brocal | H3: Profundidad (m) | I3: Nivel E (m) | J3: Nivel D (m) | K3: Fecha | M3: Nivel E (m) | N3: Nivel D (m)
A5: 1 | B5: #1 Asada Quiriman | C5: P | D5: 371747 | E5: 233146 | F5: 223 | G5: 0.2 | H5: 30 | I5: =M5-G5 -> 13.11 | J5: =N5-G5 -> -0.2 | K5: 45342 | M5: 13.31
A6: 2 | B6: #2 Asada Quiriman | C6: P | D6: 371188 | E6: 232816 | F6: 221 | G6: 0.48 | I6: =M6-G6 -> 2.59 | J6: =N6-G6 -> -0.48 | M6: 3.07
A7: 3 | B7: Frente escuela Quiriman | C7: E | D7: 371019 | E7: 232783 | F7: 206 | G7: 0.78 | H7: 15.45 | I7: Porton cerrado | M7: Sin acceso
A8: 4 | B8: Vianey Guevara | C8: E | D8: 370602 | E8: 232450 | F8: 214 | G8: 0.5 | I8: =M8-G8 -> 19.61 | J8: =N8-G8 -> -0.5 | M8: 20.11
A9: 5 | B9: Asada La Y Griega | C9: P | D9: 370992 | E9: 234494 | F9: 237 | G9: 0.17 | H9: 38 | I9: =M9-G9 -> 20.09 | J9: =N9-G9 -> -0.17 | M9: 20.26
A10: 6 | B10: Casa Abandonada | C10: E | D10: 371175 | E10: 232773 | G10: 0.4 | H10: 7.95 | I10: =M10-G10 -> 4.34 | J10: =N10-G10 -> -0.4 | M10: 4.74
A11: 7 | B11: Rafael Barrantes perforado | C11: P | D11: 371948 | E11: 233360 | G11: 0.2 | I11: =M11-G11 -> 15.58 | J11: =N11-G11 -> -0.2 | M11: 15.78
A12: 8 | B12: Rafael Barrantes escavado | C12: E | D12: 371994 | E12: 233556 | G12: 0.94 | I12: =M12-G12 -> 4.46 | J12: =N12-G12 -> -0.94 | M12: 5.4

Sheet Marzo 2024
A1: Monitoreo Cuenca Quirimán
A3: N. | B3: Pozo | C3: Tipo | D3: Este | E3: Norte | F3: m.s.n.m. | G3: Brocal | H3: Profundidad (m) | I3: Nivel E (m) | J3: Nivel D (m) | K3: Fecha | M3: Nivel E (m) | N3: Nivel D (m)
A5: 1 | B5: #1 Asada Quiriman | C5: P | D5: 371747 | E5: 233146 | F5: 223 | G5: 0.2 | H5: 30 | I5: =M5-G5 -> 13.11 | J5: =N5-G5 -> -0.2 | K5: 45342 | M5: 13.31
A6: 2 | B6: #2 Asada Quiriman | C6: P | D6: 371188 | E6: 232816 | F6: 221 | G6: 0.48 | I6: =M6-G6 -> 2.59 | J6: =N6-G6 -> -0.48 | M6: 3.07
A7: 3 | B7: Frente escuela Quiriman | C7: E | D7: 371019 | E7: 232783 | F7: 206 | G7: 0.78 | H7: 15.45 | I7: Porton cerrado | M7: Sin acceso
A8: 4 | B8: Vianey Guevara | C8: E | D8: 370602 | E8: 232450 | F8: 214 | G8: 0.5 | I8: =M8-G8 -> 19.61 | J8: =N8-G8 -> -0.5 | M8: 20.11
A9: 5 | B9: Asada La Y Griega | C9: P | D9: 370992 | E9: 234494 | F9: 237 | G9: 0.17 | H9: 38 | I9: =M9-G9 -> 20.09 | J9: =N9-G9 -> -0.17 | M9: 20.26
A10: 6 | B10: Casa Abandonada | C10: E | D10: 371175 | E10: 232773 | G10: 0.4 | H10: 7.95 | I10: =M10-G10 -> 4.34 | J10: =N10-G10 -> -0.4 | M10: 4.74
A11: 7 | B11: Rafael Barrantes perforado | C11: P | D11: 371948 | E11: 233360 | G11: 0.2 | I11: =M11-G11 -> 15.58 | J11: =N11-G11 -> -0.2 | M11: 15.78
A12: 8 | B12: Rafael Barrantes escavado | C12: E | D12: 371994 | E12: 233556 | G12: 0.94 | I12: =M12-G12 -> 4.46 | J12: =N12-G12 -> -0.94 | M12: 5.4

Sheet Abril 2024
A1: Monitoreo Cuenca Quirimán
A3: N. | B3: Pozo | C3: Tipo | D3: Este | E3: Norte | F3: m.s.n.m. | G3: Brocal | H3: Profundidad (m) | I3: Nivel E (m) | J3: Nivel D (m) | K3: Fecha | M3: Nivel E (m) | N3: Nivel D (m)
A5: 1 | B5: #1 Asada Quiriman | C5: P | D5: 371747 | E5: 233146 | F5: 223 | G5: 0.2 | H5: 30 | I5: =M5-G5 -> -0.2 | J5: =N5-G5 -> 17.8 | K5: 45405 | N5: 18
A6: 2 | B6: #2 Asada Quiriman | C6: P | D6: 371188 | E6: 232816 | F6: 221 | G6: 0.48 | I6: =M6-G6 -> 4.02 | J6: =N6-G6 -> -0.48 | M6: 4.5
A7: 3 | B7: Frente escuela Quiriman | C7: E | D7: 371019 | E7: 232783 | F7: 206 | G7: 0.78 | H7: 15.45 | I7: Porton cerrado | M7: Sin acceso
A8: 4 | B8: Vianey Guevara | C8: E | D8: 370602 | E8: 232450 | F8: 214 | G8: 0.5 | I8: =M8-G8 -> 19.3 | J8: =N8-G8 -> -0.5 | M8: 19.8
A9: 5 | B9: Asada La Y Griega | C9: P | D9: 370992 | E9: 234494 | F9: 237 | G9: 0.17 | H9: 38 | I9: =M9-G9 -> 22.9 | J9: =N9-G9 -> -0.17 | M9: 23.07
A10: 6 | B10: Casa Abandonada | C10: E | D10: 371175 | E10: 232773 | G10: 0.4 | H10: 7.95 | I10: =M10-G10 -> 5.83 | J10: =N10-G10 -> -0.4 | M10: 6.23
A11: 7 | B11: Rafael Barrantes perforado | C11: P | D11: 371948 | E11: 233360 | G11: 0.2 | I11: =M11-G11 -> 17.06 | J11: =N11-G11 -> -0.2 | M11: 17.26
A12: 8 | B12: Rafael Barrantes escavado | C12: E | D12: 371994 | E12: 233556 | G12: 0.94 | I12: =M12-G12 -> 6.48 | J12: =N12-G12 -> -0.94 | M12: 7.42

Sheet Mayo 2024
A1: Monitoreo Cuenca Quirimán
A3: N. | B3: Pozo | C3: Tipo | D3: Este | E3: Norte | F3: m.s.n.m. | G3: Brocal | H3: Profundidad (m) | I3: Nivel E (m) | J3: Nivel D (m) | K3: Fecha | M3: Nivel E (m) | N3: Nivel D (m)
A5: 1 | B5: #1 Asada Quiriman | C5: P | D5: 371747 | E5: 233146 | F5: 223 | G5: 0.2 | H5: 30 | I5: =M5-G5 -> 15.93 | J5: =N5-G5 -> -0.2 | K5: 45405 | M5: 16.13
A6: 2 | B6: #2 Asada Quiriman | C6: P | D6: 371188 | E6: 232816 | F6: 221 | G6: 0.48 | I6: =M6-G6 -> 4.52 | J6: =N6-G6 -> -0.48 | M6: 5
A7: 3 | B7: Frente escuela Quiriman | C7: E | D7: 371019 | E7: 232783 | F7: 206 | G7: 0.78 | H7: 15.45 | I7: Porton cerrado | M7: Sin acceso
A8: 4 | B8: Vianey Guevara | C8: E | D8: 370602 | E8: 232450 | F8: 214 | G8: 0.5 | I8: =M8-G8 -> 19.99 | J8: =N8-G8 -> -0.5 | M8: 20.49
A9: 5 | B9: Asada La Y Griega | C9: P | D9: 370992 | E9: 234494 | F9: 237 | G9: 0.17 | H9: 38 | I9: =M9-G9 -> -0.17 | J9: =N9-G9 -> 30.59 | N9: 30.76
A10: 6 | B10: Casa Abandonada | C10: E | D10: 371175 | E10: 232773 | G10: 0.4 | H10: 7.95 | I10: =M10-G10 -> 6.19 | J10: =N10-G10 -> -0.4 | M10: 6.59
A11: 7 | B11: Rafael Barrantes perforado | C11: P | D11: 371948 | E11: 233360 | G11: 0.2 | I11: =M11-G11 -> 18.17 | J11: =N11-G11 -> -0.2 | M11: 18.37
A12: 8 | B12: Rafael Barrantes escavado | C12: E | D12: 371994 | E12: 233556 | G12: 0.94 | I12: =M12-G12 -> 7.58 | J12: =N12-G12 -> -0.94 | M12: 8.52

Sheet Junio 2024
A1: Monitoreo Cuenca Quirimán
A3: N. | B3: Pozo | C3: Tipo | D3: Este | E3: Norte | F3: m.s.n.m. | G3: Brocal | H3: Profundidad (m) | I3: Nivel E (m) | J3: Nivel D (m) | K3: Fecha | M3: Nivel E (m) | N3: Nivel D (m)
A5: 1 | B5: #1 Asada Quiriman | C5: P | D5: 371747 | E5: 233146 | F5: 223 | G5: 0.2 | H5: 30 | I5: =M5-G5 -> 14.16 | J5: =N5-G5 -> -0.2 | K5: 45405 | M5: 14.36
A6: 2 | B6: #2 Asada Quiriman | C6: P | D6: 371188 | E6: 232816 | F6: 221 | G6: 0.48 | I6: =M6-G6 -> 2.33 | J6: =N6-G6 -> -0.48 | M6: 2.81
A7: 3 | B7: Frente escuela Quiriman | C7: E | D7: 371019 | E7: 232783 | F7: 206 | G7: 0.78 | H7: 15.45 | I7: Porton cerrado | M7: Sin acceso
A8: 4 | B8: Vianey Guevara | C8: E | D8: 370602 | E8: 232450 | F8: 214 | G8: 0.5 | I8: =M8-G8 -> 19 | J8: =N8-G8 -> -0.5 | M8: 19.5
A9: 5 | B9: Asada La Y Griega | C9: P | D9: 370992 | E9: 234494 | F9: 237 | G9: 0.17 | H9: 38 | I9: =M9-G9 -> #VALUE! | J9: =N9-G9 -> -0.17 | M9: Sonda no bajó en el pozo
A10: 6 | B10: Casa Abandonada | C10: E | D10: 371175 | E10: 232773 | G10: 0.4 | H10: 7.95 | I10: =M10-G10 -> 3.77 | J10: =N10-G10 -> -0.4 | M10: 4.17
A11: 7 | B11: Rafael Barrantes perforado | C11: P | D11: 371948 | E11: 233360 | G11: 0.2 | I11: =M11-G11 -> 15.16 | J11: =N11-G11 -> -0.2 | M11: 15.36
A12: 8 | B12: Rafael Barrantes escavado | C12: E | D12: 371994 | E12: 233556 | G12: 0.94 | I12: =M12-G12 -> 3.76 | J12: =N12-G12 -> -0.94 | M12: 4.7

Sheet Julio 2024
A1: Monitoreo Cuenca Quirimán
A3: N. | B3: Pozo | C3: Tipo | D3: Este | E3: Norte | F3: m.s.n.m. | G3: Brocal | H3: Profundidad (m) | I3: Nivel E (m) | J3: Nivel D (m) | K3: Fecha | M3: Nivel E (m) | N3: Nivel D (m)
A5: 1 | B5: #1 Asada Quiriman | C5: P | D5: 371747 | E5: 233146 | F5: 223 | G5: 0.2 | H5: 30 | I5: =M5-G5 -> 11.94 | J5: =N5-G5 -> -0.2 | K5: 17/84/2024 | M5: 12.14
A6: 2 | B6: #2 Asada Quiriman | C6: P | D6: 371188 | E6: 232816 | F6: 221 | G6: 0.48 | I6: =M6-G6 -> 1.87 | J6: =N6-G6 -> -0.48 | M6: 2.35
A7: 3 | B7: Frente escuela Quiriman | C7: E | D7: 371019 | E7: 232783 | F7: 206 | G7: 0.78 | H7: 15.45 | I7: Porton cerrado | M7: Sin acceso
A8: 4 | B8: Vianey Guevara | C8: E | D8: 370602 | E8: 232450 | F8: 214 | G8: 0.5 | I8: =M8-G8 -> 19.27 | J8: =N8-G8 -> -0.5 | M8: 19.77
A9: 5 | B9: Asada La Y Griega | C9: P | D9: 370992 | E9: 234494 | F9: 237 | G9: 0.17 | H9: 38 | I9: =M9-G9 -> #VALUE! | J9: =N9-G9 -> -0.17 | M9: Sonda no bajó en el pozo
A10: 6 | B10: Casa Abandonada | C10: E | D10: 371175 | E10: 232773 | G10: 0.4 | H10: 7.95 | I10: =M10-G10 -> 3.59 | J10: =N10-G10 -> -0.4 | M10: 3.99
A11: 7 | B11: Rafael Barrantes perforado | C11: P | D11: 371948 | E11: 233360 | G11: 0.2 | I11: =M11-G11 -> 14.56 | J11: =N11-G11 -> -0.2 | M11: 14.76
A12: 8 | B12: Rafael Barrantes escavado | C12: E | D12: 371994 | E12: 233556 | G12: 0.94 | I12: =M12-G12 -> 3.2 | J12: =N12-G12 -> -0.94 | M12: 4.14

Sheet Agosto 2024
A1: Monitoreo Cuenca Quirimán
A3: N. | B3: Pozo | C3: Tipo | D3: Este | E3: Norte | F3: m.s.n.m. | G3: Brocal | H3: Profundidad (m) | I3: Nivel E (m) | J3: Nivel D (m) | K3: Fecha | M3: Nivel E (m) | N3: Nivel D (m)
A5: 1 | B5: #1 Asada Quiriman | C5: P | D5: 371747 | E5: 233146 | F5: 223 | G5: 0.2 | H5: 30 | I5: =M5-G5 -> 11.57 | J5: =N5-G5 -> -0.2 | K5: 45532 | M5: 11.77
A6: 2 | B6: #2 Asada Quiriman | C6: P | D6: 371188 | E6: 232816 | F6: 221 | G6: 0.48 | I6: =M6-G6 -> 1.34 | J6: =N6-G6 -> -0.48 | M6: 1.82
A7: 3 | B7: Frente escuela Quiriman | C7: E | D7: 371019 | E7: 232783 | F7: 206 | G7: 0.78 | H7: 15.45 | I7: Porton cerrado | M7: Sin acceso
A8: 4 | B8: Vianey Guevara | C8: E | D8: 370602 | E8: 232450 | F8: 214 | G8: 0.5 | I8: =M8-G8 -> 19.22 | J8: =N8-G8 -> -0.5 | M8: 19.72
A9: 5 | B9: Asada La Y Griega | C9: P | D9: 370992 | E9: 234494 | F9: 237 | G9: 0.17 | H9: 38 | I9: =M9-G9 -> -0.17 | J9: =N9-G9 -> 16.23 | N9: 16.4
A10: 6 | B10: Casa Abandonada | C10: E | D10: 371175 | E10: 232773 | G10: 0.4 | H10: 7.95 | I10: =M10-G10 -> 3.5 | J10: =N10-G10 -> -0.4 | M10: 3.9
A11: 7 | B11: Rafael Barrantes perforado | C11: P | D11: 371948 | E11: 233360 | G11: 0.2 | I11: =M11-G11 -> 14.46 | J11: =N11-G11 -> -0.2 | M11: 14.66
A12: 8 | B12: Rafael Barrantes escavado | C12: E | D12: 371994 | E12: 233556 | G12: 0.94 | I12: =M12-G12 -> 3.06 | J12: =N12-G12 -> -0.94 | M12: 4

Sheet Setiembre 2024
A1: Monitoreo Cuenca Quirimán
A3: N. | B3: Pozo | C3: Tipo | D3: Este | E3: Norte | F3: m.s.n.m. | G3: Brocal | H3: Profundidad (m) | I3: Nivel E (m) | J3: Nivel D (m) | K3: Fecha | M3: Nivel E (m) | N3: Nivel D (m)
A5: 1 | B5: #1 Asada Quiriman | C5: P | D5: 371747 | E5: 233146 | F5: 223 | G5: 0.2 | H5: 30 | I5: =M5-G5 -> -0.2 | J5: =N5-G5 -> 13.9 | K5: 45558 | N5: 14.1
A6: 2 | B6: #2 Asada Quiriman | C6: P | D6: 371188 | E6: 232816 | F6: 221 | G6: 0.48 | I6: =M6-G6 -> 1.92 | J6: =N6-G6 -> -0.48 | M6: 2.4
A7: 3 | B7: Frente escuela Quiriman | C7: E | D7: 371019 | E7: 232783 | F7: 206 | G7: 0.78 | H7: 15.45 | I7: Porton cerrado | M7: Sin acceso
A8: 4 | B8: Vianey Guevara | C8: E | D8: 370602 | E8: 232450 | F8: 214 | G8: 0.5 | I8: =M8-G8 -> 19.3 | J8: =N8-G8 -> -0.5 | M8: 19.8
A9: 5 | B9: Asada La Y Griega | C9: P | D9: 370992 | E9: 234494 | F9: 237 | G9: 0.17 | H9: 38 | I9: =M9-G9 -> 15.85 | J9: =N9-G9 -> -0.17 | M9: 16.02
A10: 6 | B10: Casa Abandonada | C10: E | D10: 371175 | E10: 232773 | G10: 0.4 | H10: 7.95 | I10: =M10-G10 -> 3.31 | J10: =N10-G10 -> -0.4 | M10: 3.71
A11: 7 | B11: Rafael Barrantes perforado | C11: P | D11: 371948 | E11: 233360 | G11: 0.2 | I11: =M11-G11 -> 13.98 | J11: =N11-G11 -> -0.2 | M11: 14.18
A12: 8 | B12: Rafael Barrantes escavado | C12: E | D12: 371994 | E12: 233556 | G12: 0.94 | I12: =M12-G12 -> 2.88 | J12: =N12-G12 -> -0.94 | M12: 3.82

Sheet Octubre 2024
A1: Monitoreo Cuenca Quirimán
A3: N. | B3: Pozo | C3: Tipo | D3: Este | E3: Norte | F3: m.s.n.m. | G3: Brocal | H3: Profundidad (m) | I3: Nivel E (m) | J3: Nivel D (m) | K3: Fecha | M3: Nivel E (m) | N3: Nivel D (m)
A5: 1 | B5: #1 Asada Quiriman | C5: P | D5: 371747 | E5: 233146 | F5: 223 | G5: 0.2 | H5: 30 | I5: =M5-G5 -> #VALUE! | J5: =N5-G5 -> -0.2 | M5: No se lograron localizar llaves del pozo
A6: 2 | B6: #2 Asada Quiriman | C6: P | D6: 371188 | E6: 232816 | F6: 221 | G6: 0.48 | I6: =M6-G6 -> 1.6 | J6: =N6-G6 -> -0.48 | M6: 2.08
A7: 3 | B7: Frente escuela Quiriman | C7: E | D7: 371019 | E7: 232783 | F7: 206 | G7: 0.78 | H7: 15.45 | I7: Porton cerrado | M7: Sin acceso
A8: 4 | B8: Vianey Guevara | C8: E | D8: 370602 | E8: 232450 | F8: 214 | G8: 0.5 | I8: =M8-G8 -> 18.52 | J8: =N8-G8 -> -0.5 | M8: 19.02
A9: 5 | B9: Asada La Y Griega | C9: P | D9: 370992 | E9: 234494 | F9: 237 | G9: 0.17 | H9: 38 | I9: =M9-G9 -> 14.91 | J9: =N9-G9 -> -0.17 | M9: 15.08
A10: 6 | B10: Casa Abandonada | C10: E | D10: 371175 | E10: 232773 | G10: 0.4 | H10: 7.95 | I10: =M10-G10 -> 3.42 | J10: =N10-G10 -> -0.4 | M10: 3.82
A11: 7 | B11: Rafael Barrantes perforado | C11: P | D11: 371948 | E11: 233360 | G11: 0.2 | I11: =M11-G11 -> 14.21 | J11: =N11-G11 -> -0.2 | M11: 14.41
A12: 8 | B12: Rafael Barrantes escavado | C12: E | D12: 371994 | E12: 233556 | G12: 0.94 | I12: =M12-G12 -> 2.97 | J12: =N12-G12 -> -0.94 | M12: 3.91

Sheet Noviembre 2024
A1: Monitoreo Cuenca Quirimán
A3: N. | B3: Pozo | C3: Tipo | D3: Este | E3: Norte | F3: m.s.n.m. | G3: Brocal | H3: Profundidad (m) | I3: Nivel E (m) | J3: Nivel D (m) | K3: Fecha | M3: Nivel E (m) | N3: Nivel D (m)
A5: 1 | B5: #1 Asada Quiriman | C5: P | D5: 371747 | E5: 233146 | F5: 223 | G5: 0.2 | H5: 30 | I5: =M5-G5 -> -0.2 | J5: =N5-G5 -> 13.46 | K5: 45622 | N5: 13.66
A6: 2 | B6: #2 Asada Quiriman | C6: P | D6: 371188 | E6: 232816 | F6: 221 | G6: 0.48 | I6: =M6-G6 -> 1.39 | J6: =N6-G6 -> -0.48 | M6: 1.87
A7: 3 | B7: Frente escuela Quiriman | C7: E | D7: 371019 | E7: 232783 | F7: 206 | G7: 0.78 | H7: 15.45 | I7: Porton cerrado | M7: Sin acceso
A8: 4 | B8: Vianey Guevara | C8: E | D8: 370602 | E8: 232450 | F8: 214 | G8: 0.5 | I8: =M8-G8 -> 18.84 | J8: =N8-G8 -> -0.5 | M8: 19.34
A9: 5 | B9: Asada La Y Griega | C9: P | D9: 370992 | E9: 234494 | F9: 237 | G9: 0.17 | H9: 38 | I9: =M9-G9 -> 12.21 | J9: =N9-G9 -> -0.17 | M9: 12.38
A10: 6 | B10: Casa Abandonada | C10: E | D10: 371175 | E10: 232773 | G10: 0.4 | H10: 7.95 | I10: =M10-G10 -> 3.24 | J10: =N10-G10 -> -0.4 | M10: 3.64
A11: 7 | B11: Rafael Barrantes perforado | C11: P | D11: 371948 | E11: 233360 | G11: 0.2 | I11: =M11-G11 -> 14.67 | J11: =N11-G11 -> -0.2 | M11: 14.87
A12: 8 | B12: Rafael Barrantes escavado | C12: E | D12: 371994 | E12: 233556 | G12: 0.94 | I12: =M12-G12 -> 2.49 | J12: =N12-G12 -> -0.94 | M12: 3.43

Sheet Diciembre 2024
A1: Monitoreo Cuenca Quirimán
A3: N. | B3: Pozo | C3: Tipo | D3: Este | E3: Norte | F3: m.s.n.m. | G3: Brocal | H3: Profundidad (m) | I3: Nivel E (m) | J3: Nivel D (m) | K3: Fecha | M3: Nivel E (m) | N3: Nivel D (m)
A5: 1 | B5: #1 Asada Quiriman | C5: P | D5: 371747 | E5: 233146 | F5: 223 | G5: 0.2 | H5: 30 | I5: =M5-G5 -> 11.64 | J5: =N5-G5 -> -0.2 | K5: 45643 | M5: 11.84
A6: 2 | B6: #2 Asada Quiriman | C6: P | D6: 371188 | E6: 232816 | F6: 221 | G6: 0.48 | I6: =M6-G6 -> 1.72 | J6: =N6-G6 -> -0.48 | M6: 2.2
A7: 3 | B7: Frente escuela Quiriman | C7: E | D7: 371019 | E7: 232783 | F7: 206 | G7: 0.78 | H7: 15.45 | I7: Porton cerrado | M7: Sin acceso
A8: 4 | B8: Vianey Guevara | C8: E | D8: 370602 | E8: 232450 | F8: 214 | G8: 0.5 | I8: =M8-G8 -> 19.24 | J8: =N8-G8 -> -0.5 | M8: 19.74
A9: 5 | B9: Asada La Y Griega | C9: P | D9: 370992 | E9: 234494 | F9: 237 | G9: 0.17 | H9: 38 | I9: =M9-G9 -> 13.65 | J9: =N9-G9 -> -0.17 | M9: 13.82
A10: 6 | B10: Casa Abandonada | C10: E | D10: 371175 | E10: 232773 | G10: 0.4 | H10: 7.95 | I10: =M10-G10 -> 3.6 | J10: =N10-G10 -> -0.4 | M10: 4
A11: 7 | B11: Rafael Barrantes perforado | C11: P | D11: 371948 | E11: 233360 | G11: 0.2 | I11: =M11-G11 -> 14.6 | J11: =N11-G11 -> -0.2 | M11: 14.8
A12: 8 | B12: Rafael Barrantes escavado | C12: E | D12: 371994 | E12: 233556 | G12: 0.94 | I12: =M12-G12 -> 3.13 | J12: =N12-G12 -> -0.94 | M12: 4.07

Sheet Enero 2025
A1: Monitoreo Cuenca Quirimán
A3: N. | B3: Pozo | C3: Tipo | D3: Este | E3: Norte | F3: m.s.n.m. | G3: Brocal | H3: Profundidad (m) | I3: Nivel E (m) | J3: Nivel D (m) | K3: Fecha | M3: Nivel E (m) | N3: Nivel D (m)
A5: 1 | B5: #1 Asada Quiriman | C5: P | D5: 371747 | E5: 233146 | F5: 223 | G5: 0.2 | H5: 30 | I5: =M5-G5 -> 12.44 | J5: =N5-G5 -> -0.2 | K5: 45684 | M5: 12.64
A6: 2 | B6: #2 Asada Quiriman | C6: P | D6: 371188 | E6: 232816 | F6: 221 | G6: 0.48 | I6: =M6-G6 -> 1.95 | J6: =N6-G6 -> -0.48 | M6: 2.43
A7: 3 | B7: Frente escuela Quiriman | C7: E | D7: 371019 | E7: 232783 | F7: 206 | G7: 0.78 | H7: 15.45 | I7: Porton cerrado | M7: Sin acceso
A8: 4 | B8: Vianey Guevara | C8: E | D8: 370602 | E8: 232450 | F8: 214 | G8: 0.5 | I8: =M8-G8 -> 19.47 | J8: =N8-G8 -> -0.5 | M8: 19.97
A9: 5 | B9: Asada La Y Griega | C9: P | D9: 370992 | E9: 234494 | F9: 237 | G9: 0.17 | H9: 38 | I9: =M9-G9 -> 16.77 | J9: =N9-G9 -> -0.17 | M9: 16.94
A10: 6 | B10: Casa Abandonada | C10: E | D10: 371175 | E10: 232773 | G10: 0.4 | H10: 7.95 | I10: =M10-G10 -> 3.85 | J10: =N10-G10 -> -0.4 | M10: 4.25
A11: 7 | B11: Rafael Barrantes perforado | C11: P | D11: 371948 | E11: 233360 | G11: 0.2 | I11: =M11-G11 -> 15.16 | J11: =N11-G11 -> -0.2 | M11: 15.36
A12: 8 | B12: Rafael Barrantes escavado | C12: E | D12: 371994 | E12: 233556 | G12: 0.94 | I12: =M12-G12 -> 3.7 | J12: =N12-G12 -> -0.94 | M12: 4.64

Sheet Febrero 2025
A1: Monitoreo Cuenca Quirimán
A3: N. | B3: Pozo | C3: Tipo | D3: Este | E3: Norte | F3: m.s.n.m. | G3: Brocal | H3: Profundidad (m) | I3: Nivel E (m) | J3: Nivel D (m) | K3: Fecha | M3: Nivel E (m) | N3: Nivel D (m)
A5: 1 | B5: #1 Asada Quiriman | C5: P | D5: 371747 | E5: 233146 | F5: 223 | G5: 0.2 | H5: 30 | I5: =M5-G5 -> -0.2 | J5: =N5-G5 -> 15.36 | K5: 45684 | N5: 15.56
A6: 2 | B6: #2 Asada Quiriman | C6: P | D6: 371188 | E6: 232816 | F6: 221 | G6: 0.48 | I6: =M6-G6 -> 2.45 | J6: =N6-G6 -> -0.48 | M6: 2.93
A7: 3 | B7: Frente escuela Quiriman | C7: E | D7: 371019 | E7: 232783 | F7: 206 | G7: 0.78 | H7: 15.45 | I7: Porton cerrado | M7: Sin acceso
A8: 4 | B8: Vianey Guevara | C8: E | D8: 370602 | E8: 232450 | F8: 214 | G8: 0.5 | I8: =M8-G8 -> 19.57 | J8: =N8-G8 -> -0.5 | M8: 20.07
A9: 5 | B9: Asada La Y Griega | C9: P | D9: 370992 | E9: 234494 | F9: 237 | G9: 0.17 | H9: 38 | I9: =M9-G9 -> 18.39 | J9: =N9-G9 -> -0.17 | M9: 18.56
A10: 6 | B10: Casa Abandonada | C10: E | D10: 371175 | E10: 232773 | G10: 0.4 | H10: 7.95 | I10: =M10-G10 -> 4.24 | J10: =N10-G10 -> -0.4 | M10: 4.64
A11: 7 | B11: Rafael Barrantes perforado | C11: P | D11: 371948 | E11: 233360 | G11: 0.2 | I11: =M11-G11 -> 15.5 | J11: =N11-G11 -> -0.2 | M11: 15.7
A12: 8 | B12: Rafael Barrantes escavado | C12: E | D12: 371994 | E12: 233556 | G12: 0.94 | I12: =M12-G12 -> 4.43 | J12: =N12-G12 -> -0.94 | M12: 5.37

Sheet Marzo 2025
A1: Monitoreo Cuenca Quirimán
A3: N. | B3: Pozo | C3: Tipo | D3: Este | E3: Norte | F3: m.s.n.m. | G3: Brocal | H3: Profundidad (m) | I3: Nivel E (m) | J3: Nivel D (m) | K3: Fecha | M3: Nivel E (m) | N3: Nivel D (m)
A5: 1 | B5: #1 Asada Quiriman | C5: P | D5: 371747 | E5: 233146 | F5: 223 | G5: 0.2 | H5: 30 | I5: =M5-G5 -> -0.2 | J5: =N5-G5 -> 16.19 | K5: 45684 | N5: 16.39
A6: 2 | B6: #2 Asada Quiriman | C6: P | D6: 371188 | E6: 232816 | F6: 221 | G6: 0.48 | I6: =M6-G6 -> 2.14 | J6: =N6-G6 -> -0.48 | M6: 2.62
A7: 3 | B7: Frente escuela Quiriman | C7: E | D7: 371019 | E7: 232783 | F7: 206 | G7: 0.78 | H7: 15.45 | I7: Porton cerrado | M7: Sin acceso
A8: 4 | B8: Vianey Guevara | C8: E | D8: 370602 | E8: 232450 | F8: 214 | G8: 0.5 | I8: =M8-G8 -> 19.6 | J8: =N8-G8 -> -0.5 | M8: 20.1
A9: 5 | B9: Asada La Y Griega | C9: P | D9: 370992 | E9: 234494 | F9: 237 | G9: 0.17 | H9: 38 | I9: =M9-G9 -> 20.01 | J9: =N9-G9 -> -0.17 | M9: 20.18
A10: 6 | B10: Casa Abandonada | C10: E | D10: 371175 | E10: 232773 | G10: 0.4 | H10: 7.95 | I10: =M10-G10 -> 4.9 | J10: =N10-G10 -> -0.4 | M10: 5.3
A11: 7 | B11: Rafael Barrantes perforado | C11: P | D11: 371948 | E11: 233360 | G11: 0.2 | I11: =M11-G11 -> 15.93 | J11: =N11-G11 -> -0.2 | M11: 16.13
A12: 8 | B12: Rafael Barrantes escavado | C12: E | D12: 371994 | E12: 233556 | G12: 0.94 | I12: =M12-G12 -> 5.3 | J12: =N12-G12 -> -0.94 | M12: 6.24

Sheet Abril 2025
A1: Monitoreo Cuenca Quirimán
A3: N. | B3: Pozo | C3: Tipo | D3: Este | E3: Norte | F3: m.s.n.m. | G3: Brocal | H3: Profundidad (m) | I3: Nivel E (m) | J3: Nivel D (m) | K3: Fecha | M3: Nivel E (m) | N3: Nivel D (m)
A5: 1 | B5: #1 Asada Quiriman | C5: P | D5: 371747 | E5: 233146 | F5: 223 | G5: 0.2 | H5: 30 | I5: =M5-G5 -> -0.2 | J5: =N5-G5 -> 17.4 | K5: 45770 | N5: 17.6
A6: 2 | B6: #2 Asada Quiriman | C6: P | D6: 371188 | E6: 232816 | F6: 221 | G6: 0.48 | I6: =M6-G6 -> 3.81 | J6: =N6-G6 -> -0.48 | M6: 4.29
A7: 3 | B7: Frente escuela Quiriman | C7: E | D7: 371019 | E7: 232783 | F7: 206 | G7: 0.78 | H7: 15.45 | I7: Porton cerrado | M7: Sin acceso
A8: 4 | B8: Vianey Guevara | C8: E | D8: 370602 | E8: 232450 | F8: 214 | G8: 0.5 | I8: =M8-G8 -> 19.67 | J8: =N8-G8 -> -0.5 | M8: 20.17
A9: 5 | B9: Asada La Y Griega | C9: P | D9: 370992 | E9: 234494 | F9: 237 | G9: 0.17 | H9: 38 | I9: =M9-G9 -> 21.63 | J9: =N9-G9 -> -0.17 | M9: 21.8
A10: 6 | B10: Casa Abandonada | C10: E | D10: 371175 | E10: 232773 | G10: 0.4 | H10: 7.95 | I10: =M10-G10 -> 6.52 | J10: =N10-G10 -> -0.4 | M10: 6.92
A11: 7 | B11: Rafael Barrantes perforado | C11: P | D11: 371948 | E11: 233360 | G11: 0.2 | I11: =M11-G11 -> 16.82 | J11: =N11-G11 -> -0.2 | M11: 17.02
A12: 8 | B12: Rafael Barrantes escavado | C12: E | D12: 371994 | E12: 233556 | G12: 0.94 | I12: =M12-G12 -> 6.33 | J12: =N12-G12 -> -0.94 | M12: 7.27

Sheet Total Datos 
A1: Datos del pozo | H1: 2015 | T1: 2016 | AF1: 2017 | AR1: 2018 | BD1: 2019 | BP1: 2020 | CB1: 2021 | CN1: 2022 | CZ1: 2023 | DL1: 2024 | DX1: 2025
A2: Nombre | B2: Tipo | C2: Latitud | D2: Longitud | E2: Altitud sobre nivel de Mar | F2: Profundidad de pozo (m) | G2: Brocal (m) | H2: 42005 | I2: 42036 | J2: 42064 | K2: 42095 | L2: 42125 | M2: 42156 | N2: 42186 | O2: 42217 | P2: 42248 | Q2: 42278 | R2: 42309 | S2: 42339 | T2: 42370 | U2: 42401 | V2: 42430 | W2: 42461 | X2: 42491 | Y2: 42522 | Z2: 42552 | AA2: 42583 | AB2: 42614 | AC2: 42644 | AD2: 42675 | AE2: 42705 | AF2: 42736 | AG2: 42767 | AH2: 42795 | AI2: 42826 | AJ2: 42856 | AK2: 42887 | AL2: 42917 | AM2: 42948 | AN2: 42979 | AO2: 43009 | AP2: 43040 | AQ2: 43070 | AR2: 43101 | AS2: 43132 | AT2: 43160 | AU2: 43191 | AV2: 43221 | AW2: 43252 | AX2: 43282 | AY2: 43313 | AZ2: 43344 | BA2: 43374 | BB2: 43405 | BC2: 43435 | BD2: 43466 | BE2: 43497 | BF2: 43525 | BG2: 43556 | BH2: 43586 | BI2: 43617 | BJ2: 43647 | BK2: 43678 | BL2: 43709 | BM2: 43739 | BN2: 43770 | BO2: 43800 | BP2: 43831 | BQ2: 43862 | BR2: 43891 | BS2: 43922 | BT2: 43952 | BU2: 43983 | BV2: 44013 | BW2: 44044 | BX2: 44075 | BY2: 44105 | BZ2: 44136 | CA2: 44166 | CB2: 44197 | CC2: 44228 | CD2: 44256 | CE2: 44287 | CF2: 44317 | CG2: 44348 | CH2: 44378 | CI2: 44409 | CJ2: 44440 | CK2: 44470 | CL2: 44501 | CM2: 44531 | CN2: 44562 | CO2: 44593 | CP2: 44621 | CQ2: 44652 | CR2: 44682 | CS2: 44713 | CT2: 44743 | CU2: 44774 | CV2: 44805 | CW2: 44835 | CX2: 44866 | CY2: 44896 | CZ2: 44927 | DA2: 44958 | DB2: 44986 | DC2: 45017 | DD2: 45047 | DE2: 45078 | DF2: 45108 | DG2: 45139 | DH2: 45170 | DI2: 45200 | DJ2: 45231 | DK2: 45261 | DL2: 45292 | DM2: 45323 | DN2: 45352 | DO2: 45383 | DP2: 45413 | DQ2: 45444 | DR2: 45474 | DS2: 45505 | DT2: 45536 | DU2: 45566 | DV2: 45597 | DW2: 45627 | DX2: 45658 | DY2: 45689 | DZ2: 45717 | EA2: 45748 | EB2: 45778 | EC2: 45809 | ED2: 45839 | EE2: 45870 | EF2: 45901 | EG2: 45931 | EH2: 45962 | EI2: 45992
A3: #1 Asada Quiriman | B3: P | C3: 371747 | D3: 233146 | E3: 223 | F3: 30 | G3: 0.2 | T3: =IF('Enero 2016'!I4>'Enero 2016'!J4,'Enero 2016'!I4,'Enero 2016'!J4) -> 12.78 | U3: =IF('Febrero 2016'!I4>'Febrero 2016'!J4,'Febrero 2016'!I4,'Febrero 2016'!J4) -> 3.43 | V3: =IF('Marzo 2016'!I5>'Marzo 2016'!J5,'Marzo 2016'!I5,'Marzo 2016'!J5) -> 14.44 | W3: =IF('Abril 2016'!I5>'Abril 2016'!J5,'Abril 2016'!I5,'Abril 2016'!J5) -> 15.14 | X3: =IF('Mayo 2016'!I5>'Mayo 2016'!J5,'Mayo 2016'!I5,'Mayo 2016'!J5) -> 14.11 | Y3: =IF('Junio 2016'!I5>'Junio 2016'!J5,'Junio 2016'!I5,'Junio 2016'!J5) -> 14.54 | Z3: =IF('Julio 2016'!I5>'Julio 2016'!J5,'Julio 2016'!I5,'Julio 2016'!J5) -> 15.27 | AA3: =IF('Agosto 2016'!I5>'Agosto 2016'!J5,'Agosto 2016'!I5,'Agosto 2016'!J5) -> 12.74 | AB3: =IF('Setiembre 2016'!I5>'Setiembre 2016'!J5,'Setiembre 2016'!I5,'Setiembre 2016'!J5) -> 13.75 | AC3: =IF('Octubre 2016'!J5>'Octubre 2016'!I5,'Octubre 2016'!J5,'Octubre 2016'!I5) -> 13.28 | AE3: =IF('Diciembre 2016'!J5>'Diciembre 2016'!I5,'Diciembre 2016'!J5,'Diciembre 2016'!I5) -> 13.88 | AG3: =IF('Febrero 2017'!I5>'Febrero 2017'!J5,'Febrero 2017'!I5,'Febrero 2017'!J5) -> 14.89 | AH3: =IF('Marzo 2017'!I5>'Marzo 2017'!J5,'Marzo 2017'!I5,'Marzo 2017'!J5) -> 19.13 | AJ3: =IF('Mayo 2017'!I5>'Mayo 2017'!J5,'Mayo 2017'!I5,'Mayo 2017'!J5) -> 16.71 | AK3: =IF('Junio 2017'!I5>'Junio 2017'!J5,'Junio 2017'!I5,'Junio 2017'!J5) -> 13.77 | AL3: =IF('Julio 2017'!I5>'Julio 2017'!J5,'Julio 2017'!I5,'Julio 2017'!J5) -> 13.4 | AM3: =IF('Agosto 2017'!I5>'Agosto 2017'!J5,'Agosto 2017'!I5,'Agosto 2017'!J5) -> 13.55 | AN3: =IF('Setiembre 2017'!I5>'Setiembre 2017'!J5,'Setiembre 2017'!I5,'Setiembre 2017'!J5) -> 12.86 | AO3: =IF('Octubre 2017'!J5>'Octubre 2017'!I5,'Octubre 2017'!J5,'Octubre 2017'!I5) -> 11.19 | AP3: =IF('Noviembre 2017'!I5>'Noviembre 2017'!J5,'Noviembre 2017'!I5,'Noviembre 2017'!J5) -> 11.54 | AQ3: =IF('Diciembre 2017'!J5>'Diciembre 2017'!I5,'Diciembre 2017'!J5,'Diciembre 2017'!I5) -> 11.81 | AR3: =IF('Enero 2018'!I5>'Enero 2018'!J5,'Enero 2018'!I5,'Enero 2018'!J5) -> 14.56 | AS3: =IF('Febrero 2018'!I5>'Febrero 2018'!J5,'Febrero 2018'!I5,'Febrero 2018'!J5) -> 15.57 | AU3: =IF('Abril 2018'!I5>'Abril 2018'!J5,'Abril 2018'!I5,'Abril 2018'!J5) -> 17.33 | AV3: =IF('Mayo 2018'!I5>'Mayo 2018'!J5,'Mayo 2018'!I5,'Mayo 2018'!J5) -> 19.69 | AX3: =IF('Julio 2018'!I5>'Julio 2018'!J5,'Julio 2018'!I5,'Julio 2018'!J5) -> 14.13 | BD3: =IF('Enero 2019'!I5>'Enero 2019'!J5,'Enero 2019'!I5,'Enero 2019'!J5) -> 14.8 | BE3: =IF('Febrero 2019'!I5>'Febrero 2019'!J5,'Febrero 2019'!I5,'Febrero 2019'!J5) -> 15.47 | BF3: =IF('Marzo 2019'!I5>'Marzo 2019'!J5,'Marzo 2019'!I5,'Marzo 2019'!J5) -> 16.91 | BG3: =IF('Abril 2019'!I5>'Abril 2019'!J5,'Abril 2019'!I5,'Abril 2019'!J5) -> 18.57 | BH3: =IF('Mayo 2019'!I5>'Mayo 2019'!J5,'Mayo 2019'!I5,'Mayo 2019'!J5) -> 16.4 | BI3: =IF('Junio 2019'!I5>'Junio 2019'!J5,'Junio 2019'!I5,'Junio 2019'!J5) -> 19.06 | BJ3: =IF('Julio 2019'!I5>'Julio 2019'!J5,'Julio 2019'!I5,'Julio 2019'!J5) -> 16.3 | BK3: =IF('Agosto 2019'!I5>'Agosto 2019'!J5,'Agosto 2019'!I5,'Agosto 2019'!J5) -> 15.03 | BL3: =IF('Setiembre 2019'!I5>'Setiembre 2019'!J5,'Setiembre 2019'!I5,'Setiembre 2019'!J5) -> 14.08 | BM3: =IF('Octubre 2019'!I5>'Octubre 2019'!J5,'Octubre 2019'!I5,'Octubre 2019'!J5) -> 13.37 | BN3: =IF('Noviembre 2019'!I5>'Noviembre 2019'!J5,'Noviembre 2019'!I5,'Noviembre 2019'!J5) -> 10.91 | BO3: =IF('Diciembre 2019'!I5>'Diciembre 2019'!J5,'Diciembre 2019'!I5,'Diciembre 2019'!J5) -> 12.03 | BP3: =IF('Enero 2020'!I5>'Enero 2020'!J5,'Enero 2020'!I5,'Enero 2020'!J5) -> 15.06 | BQ3: =IF('Febrero 2020'!I5>'Febrero 2020'!J5,'Febrero 2020'!I5,'Febrero 2020'!J5) -> 27.85 | BR3: =IF('Marzo 2020'!I5>'Marzo 2020'!J5,'Marzo 2020'!I5,'Marzo 2020'!J5) -> 17.28 | BS3: =IF('Abril 2020'!I5>'Abril 2020'!J5,'Abril 2020'!I5,'Abril 2020'!J5) -> 11.44 | BT3: =IF('Mayo 2020'!I5>'Mayo 2020'!J5,'Mayo 2020'!I5,'Mayo 2020'!J5) -> 20.79 | BU3: =IF('Junio 2020'!I5>'Junio 2020'!J5,'Junio 2020'!I5,'Junio 2020'!J5) -> 20.05 | BV3: =IF('Julio 2020'!I5>'Julio 2020'!J5,'Julio 2020'!I5,'Julio 2020'!J5) -> 13.81 | BW3: =IF('Agosto 2020'!I5>'Agosto 2020'!J5,'Agosto 2020'!I5,'Agosto 2020'!J5) -> 14.97 | BX3: =IF('Setiembre 2020'!I5>'Setiembre 2020'!J5,'Setiembre 2020'!I5,'Setiembre 2020'!J5) -> 11.53 | BY3: =IF('Octubre 2020'!I5>'Octubre 2020'!J5,'Octubre 2020'!I5,'Octubre 2020'!J5) -> 22.24 | BZ3: =IF('Noviembre 2020'!I5>'Noviembre 2020'!J5,'Noviembre 2020'!I5,'Noviembre 2020'!J5) -> 10.86 | CA3: =IF('Diciembre 2020'!I5>'Diciembre 2020'!J5,'Diciembre 2020'!I5,'Diciembre 2020'!J5) -> 11.43 | CB3: =IF('Enero 2021'!I5>'Enero 2021'!J5,'Enero 2021'!I5,'Enero 2021'!J5) -> 14.4 | CC3: =IF('Febrero 2021'!I5>'Febrero 2021'!J5,'Febrero 2021'!I5,'Febrero 2021'!J5) -> 12.86 | CD3: =IF('Marzo 2021'!I5>'Marzo 2021'!J5,'Marzo 2021'!I5,'Marzo 2021'!J5) -> 12.64 | CE3: =IF('Abril 2021 '!I5>'Abril 2021 '!J5,'Abril 2021 '!I5,'Abril 2021 '!J5) -> 16.93 | CF3: =IF('Mayo 2021'!I5>'Mayo 2021'!J5,'Mayo 2021'!I5,'Mayo 2021'!J5) -> 18.53 | CG3: =IF('Junio 2021'!I5>'Junio 2021'!J5,'Junio 2021'!I5,'Junio 2021'!J5) -> 15.58 | CH3: =IF('Julio 2021'!I5>'Julio 2021'!J5,'Julio 2021'!I5,'Julio 2021'!J5) -> 15.02 | CI3: =IF('Agosto 2021'!I5>'Agosto 2021'!J5,'Agosto 2021'!I5,'Agosto 2021'!J5) -> 12.49 | CJ3: =IF('Setiembre 2021'!I5>'Setiembre 2021'!J5,'Setiembre 2021'!I5,'Setiembre 2021'!J5) -> 11.65 | CK3: =IF('Octubre 2021'!I5>'Octubre 2021'!J5,'Octubre 2021'!I5,'Octubre 2021'!J5) -> 13.62 | CL3: =IF('Noviembre 2021'!I5>'Noviembre 2021'!J5,'Noviembre 2021'!I5,'Noviembre 2021'!J5) -> 11.82 | CM3: =IF('Diciembre 2021'!I5>'Diciembre 2021'!J5,'Diciembre 2021'!I5,'Diciembre 2021'!J5) -> 13.62 | CN3: =IF('Enero 2022'!I5>'Enero 2022'!J5,'Enero 2022'!I5,'Enero 2022'!J5) -> 15.21 | CO3: =IF('Febrero 2022'!I5>'Febrero 2022'!J5,'Febrero 2022'!I5,'Febrero 2022'!J5) -> 15.86 | CP3: =IF('Marzo 2022'!I5>'Marzo 2022'!J5,'Marzo 2022'!I5,'Marzo 2022'!J5) -> 14.72 | CQ3: =IF('Abril 2022'!I5>'Abril 2022'!J5,'Abril 2022'!I5,'Abril 2022'!J5) -> 15.58 | CR3: =IF('Mayo 2022'!I5>'Mayo 2022'!J5,'Mayo 2022'!I5,'Mayo 2022'!J5) -> 17.7 | CS3: =IF('Junio 2022'!I5>'Junio 2022'!J5,'Junio 2022'!I5,'Junio 2022'!J5) -> 11.77 | CT3: =IF('Julio 2022'!I5>'Julio 2022'!J5,'Julio 2022'!I5,'Julio 2022'!J5) -> 13.35 | CU3: =IF('Agosto 2022'!I5>'Agosto 2022'!J5,'Agosto 2022'!I5,'Agosto 2022'!J5) -> 11.42 | CV3: =IF('Setiembre 2022'!I5>'Setiembre 2022'!J5,'Setiembre 2022'!I5,'Setiembre 2022'!J5) -> 11.45 | CW3: =IF('Octubre 2022'!I5>'Octubre 2022'!J5,'Octubre 2022'!I5,'Octubre 2022'!J5) -> 11.34 | CX3: =IF('Noviembre 2022'!I5>'Noviembre 2022'!J5,'Noviembre 2022'!I5,'Noviembre 2022'!J5) -> 11 | CY3: =IF('Diciembre 2022'!I5>'Diciembre 2022'!J5,'Diciembre 2022'!I5,'Diciembre 2022'!J5) -> 14.28 | CZ3: =IF('Enero 2023'!I5>'Enero 2023'!J5,'Enero 2023'!I5,'Enero 2023'!J5) -> 14.93 | DA3: =IF('Febrero 2023'!I5>'Febrero 2023'!J5,'Febrero 2023'!I5,'Febrero 2023'!J5) -> 15.8 | DB3: =IF('Marzo 2023'!I5>'Marzo 2023'!J5,'Marzo 2023'!I5,'Marzo 2023'!J5) -> 14.31 | DC3: =IF('Abril 2023'!I5>'Abril 2023'!J5,'Abril 2023'!I5,'Abril 2023'!J5) -> 17.78 | DD3: =IF('Mayo 2023'!I5>'Mayo 2023'!J5,'Mayo 2023'!I5,'Mayo 2023'!J5) -> 19.87 | DF3: =IF('Julio 2023'!I5>'Julio 2023'!J5,'Julio 2023'!I5,'Julio 2023'!J5) -> 17.97 | DG3: =IF('Agosto 2023'!I5>'Agosto 2023'!J5,'Agosto 2023'!I5,'Agosto 2023'!J5) -> 14.74 | DH3: =IF('Setiembre 2023'!I5>'Setiembre 2023'!J5,'Setiembre 2023'!I5,'Setiembre 2023'!J5) -> 15.64 | DI3: =IF('Octubre 2023'!I5>'Octubre 2023'!J5,'Octubre 2023'!I5,'Octubre 2023'!J5) -> 11.85 | DJ3: =IF('Noviembre 2023'!I5>'Noviembre 2023'!J5,'Noviembre 2023'!I5,'Noviembre 2023'!J5) -> 11.87 | DK3: =IF('Diciembre 2023'!I5>'Diciembre 2023'!J5,'Diciembre 2023'!I5,'Diciembre 2023'!J5) -> 14.3 | DL3: =IF('Enero 2024'!I5>'Enero 2024'!J5,'Enero 2024'!I5,'Enero 2024'!J5) -> 14.47 | DM3: =IF('Febrero 2024'!I5>'Febrero 2024'!J5,'Febrero 2024'!I5,'Febrero 2024'!J5) -> 13.11 | DN3: =IF('Marzo 2024'!I5>'Marzo 2024'!J5,'Marzo 2024'!I5,'Marzo 2024'!J5) -> 13.11 | DO3: =IF('Abril 2024'!I5>'Abril 2024'!J5,'Abril 2024'!I5,'Abril 2024'!J5) -> 17.8 | DP3: =IF('Mayo 2024'!I5>'Mayo 2024'!J5,'Mayo 2024'!I5,'Mayo 2024'!J5) -> 15.93 | DQ3: =IF('Junio 2024'!I5>'Junio 2024'!J5,'Junio 2024'!I5,'Junio 2024'!J5) -> 14.16 | DR3: =IF('Julio 2024'!I5>'Julio 2024'!J5,'Julio 2024'!I5,'Julio 2024'!J5) -> 11.94 | DS3: =IF('Agosto 2024'!I5>'Agosto 2024'!J5,'Agosto 2024'!I5,'Agosto 2024'!J5) -> 11.57 | DT3: =IF('Setiembre 2024'!I5>'Setiembre 2024'!J5,'Setiembre 2024'!I5,'Setiembre 2024'!J5) -> 13.9 | DV3: =IF('Noviembre 2024'!I5>'Noviembre 2024'!J5,'Noviembre 2024'!I5,'Noviembre 2024'!J5) -> 13.46 | DW3: =IF('Diciembre 2024'!I5>'Diciembre 2024'!J5,'Diciembre 2024'!I5,'Diciembre 2024'!J5) -> 11.64 | DX3: =IF('Enero 2025'!I5>'Enero 2025'!J5,'Enero 2025'!I5,'Enero 2025'!J5) -> 12.44 | DY3: =IF('Febrero 2025'!I5>'Febrero 2025'!J5,'Febrero 2025'!I5,'Febrero 2025'!J5) -> 15.36 | DZ3: =IF('Marzo 2025'!I5>'Marzo 2025'!J5,'Marzo 2025'!I5,'Marzo 2025'!J5) -> 16.19 | EA3: =IF('Abril 2025'!I5>'Abril 2025'!J5,'Abril 2025'!I5,'Abril 2025'!J5) -> 17.4
A4: #2 Asada Quiriman | B4: P | C4: 371188 | D4: 232816 | E4: 221 | G4: 0.48 | T4: =IF('Enero 2016'!I5>'Enero 2016'!J5,'Enero 2016'!I5,'Enero 2016'!J5) -> 2.85 | V4: =IF('Marzo 2016'!I6>'Marzo 2016'!J6,'Marzo 2016'!I6,'Marzo 2016'!J6) -> 3.97 | X4: =IF('Mayo 2016'!I6>'Mayo 2016'!J6,'Mayo 2016'!I6,'Mayo 2016'!J6) -> 4.75 | Y4: =IF('Junio 2016'!I6>'Junio 2016'!J6,'Junio 2016'!I6,'Junio 2016'!J6) -> 3.79 | Z4: =IF('Julio 2016'!I6>'Julio 2016'!J6,'Julio 2016'!I6,'Julio 2016'!J6) -> 2.99 | AA4: =IF('Agosto 2016'!I6>'Agosto 2016'!J6,'Agosto 2016'!I6,'Agosto 2016'!J6) -> 2.56 | AB4: =IF('Setiembre 2016'!I6>'Setiembre 2016'!J6,'Setiembre 2016'!I6,'Setiembre 2016'!J6) -> 1.86 | AC4: =IF('Octubre 2016'!J6>'Octubre 2016'!I6,'Octubre 2016'!J6,'Octubre 2016'!I6) -> 1.62 | AE4: =IF('Diciembre 2016'!J6>'Diciembre 2016'!I6,'Diciembre 2016'!J6,'Diciembre 2016'!I6) -> 1.86 | AG4: =IF('Febrero 2017'!I6>'Febrero 2017'!J6,'Febrero 2017'!I6,'Febrero 2017'!J6) -> 2.42 | AH4: =IF('Marzo 2017'!I6>'Marzo 2017'!J6,'Marzo 2017'!I6,'Marzo 2017'!J6) -> 3.29 | AI4: =IF('Abril 2017'!I6>'Abril 2017'!J6,'Abril 2017'!I6,'Abril 2017'!J6) -> 5.88 | AJ4: =IF('Mayo 2017'!I6>'Mayo 2017'!J6,'Mayo 2017'!I6,'Mayo 2017'!J6) -> 3.23 | AK4: =IF('Junio 2017'!I6>'Junio 2017'!J6,'Junio 2017'!I6,'Junio 2017'!J6) -> 1.78 | AL4: =IF('Julio 2017'!I6>'Julio 2017'!J6,'Julio 2017'!I6,'Julio 2017'!J6) -> 1.65 | AM4: =IF('Agosto 2017'!I6>'Agosto 2017'!J6,'Agosto 2017'!I6,'Agosto 2017'!J6) -> 1.72 | AN4: =IF('Setiembre 2017'!I6>'Setiembre 2017'!J6,'Setiembre 2017'!I6,'Setiembre 2017'!J6) -> 1.27 | AO4: =IF('Octubre 2017'!J6>'Octubre 2017'!I6,'Octubre 2017'!J6,'Octubre 2017'!I6) -> 1.38 | AP4: =IF('Noviembre 2017'!I6>'Noviembre 2017'!J6,'Noviembre 2017'!I6,'Noviembre 2017'!J6) -> 1.65 | AQ4: =IF('Diciembre 2017'!J6>'Diciembre 2017'!I6,'Diciembre 2017'!J6,'Diciembre 2017'!I6) -> 1.86 | AR4: =IF('Enero 2018'!I6>'Enero 2018'!J6,'Enero 2018'!I6,'Enero 2018'!J6) -> 2.16 | AS4: =IF('Febrero 2018'!I6>'Febrero 2018'!J6,'Febrero 2018'!I6,'Febrero 2018'!J6) -> 2.67 | AT4: =IF('Marzo 2018'!I6>'Marzo 2018'!J6,'Marzo 2018'!I6,'Marzo 2018'!J6) -> 3.37 | AU4: =IF('Abril 2018'!I6>'Abril 2018'!J6,'Abril 2018'!I6,'Abril 2018'!J6) -> 4.05 | AV4: =IF('Mayo 2018'!I6>'Mayo 2018'!J6,'Mayo 2018'!I6,'Mayo 2018'!J6) -> 4.57 | AW4: =IF('Junio 2018'!I6>'Junio 2018'!J6,'Junio 2018'!I6,'Junio 2018'!J6) -> 4.62 | AX4: =IF('Julio 2018'!I6>'Julio 2018'!J6,'Julio 2018'!I6,'Julio 2018'!J6) -> 4.62 | AY4: =IF('Agosto 2018'!I6>'Agosto 2018'!J6,'Agosto 2018'!I6,'Agosto 2018'!J6) -> 2.5 | AZ4: =IF('Setiembre 2018'!I6>'Setiembre 2018'!J6,'Setiembre 2018'!I6,'Setiembre 2018'!J6) -> 2.48 | BA4: =IF('Octubre 2018'!I6>'Octubre 2018'!J6,'Octubre 2018'!I6,'Octubre 2018'!J6) -> 1.19 | BB4: =IF('Noviembre 2018'!I6>'Noviembre 2018'!J6,'Noviembre 2018'!I6,'Noviembre 2018'!J6) -> 1.77 | BC4: =IF('Diciembre 2018'!I6>'Diciembre 2018'!J6,'Diciembre 2018'!I6,'Diciembre 2018'!J6) -> 0.95 | BD4: =IF('Enero 2019'!I6>'Enero 2019'!J6,'Enero 2019'!I6,'Enero 2019'!J6) -> 2.39 | BE4: =IF('Febrero 2019'!I6>'Febrero 2019'!J6,'Febrero 2019'!I6,'Febrero 2019'!J6) -> 3.01 | BF4: =IF('Marzo 2019'!I6>'Marzo 2019'!J6,'Marzo 2019'!I6,'Marzo 2019'!J6) -> 3.89 | BG4: =IF('Abril 2019'!I6>'Abril 2019'!J6,'Abril 2019'!I6,'Abril 2019'!J6) -> 4.41 | BH4: =IF('Mayo 2019'!I6>'Mayo 2019'!J6,'Mayo 2019'!I6,'Mayo 2019'!J6) -> 4.8 | BI4: =IF('Junio 2019'!I6>'Junio 2019'!J6,'Junio 2019'!I6,'Junio 2019'!J6) -> 5.12 | BJ4: =IF('Julio 2019'!I6>'Julio 2019'!J6,'Julio 2019'!I6,'Julio 2019'!J6) -> 4.9 | BK4: =IF('Agosto 2019'!I6>'Agosto 2019'!J6,'Agosto 2019'!I6,'Agosto 2019'!J6) -> 4.76 | BL4: =IF('Setiembre 2019'!I6>'Setiembre 2019'!J6,'Setiembre 2019'!I6,'Setiembre 2019'!J6) -> 3.96 | BM4: =IF('Octubre 2019'!I6>'Octubre 2019'!J6,'Octubre 2019'!I6,'Octubre 2019'!J6) -> 1.52 | BN4: =IF('Noviembre 2019'!I6>'Noviembre 2019'!J6,'Noviembre 2019'!I6,'Noviembre 2019'!J6) -> 1.83 | BO4: =IF('Diciembre 2019'!I6>'Diciembre 2019'!J6,'Diciembre 2019'!I6,'Diciembre 2019'!J6) -> 2.04 | BP4: =IF('Enero 2020'!I6>'Enero 2020'!J6,'Enero 2020'!I6,'Enero 2020'!J6) -> 2.43 | BQ4: =IF('Febrero 2020'!I6>'Febrero 2020'!J6,'Febrero 2020'!I6,'Febrero 2020'!J6) -> 3.09 | BR4: =IF('Marzo 2020'!I6>'Marzo 2020'!J6,'Marzo 2020'!I6,'Marzo 2020'!J6) -> 3.79 | BT4: =IF('Mayo 2020'!I6>'Mayo 2020'!J6,'Mayo 2020'!I6,'Mayo 2020'!J6) -> 4.99 | BU4: =IF('Junio 2020'!I6>'Junio 2020'!J6,'Junio 2020'!I6,'Junio 2020'!J6) -> 5.12 | BV4: =IF('Julio 2020'!I6>'Julio 2020'!J6,'Julio 2020'!I6,'Julio 2020'!J6) -> 3.15 | BW4: =IF('Agosto 2020'!I6>'Agosto 2020'!J6,'Agosto 2020'!I6,'Agosto 2020'!J6) -> 1.87 | BX4: =IF('Setiembre 2020'!I6>'Setiembre 2020'!J6,'Setiembre 2020'!I6,'Setiembre 2020'!J6) -> 1.71 | BY4: =IF('Octubre 2020'!I6>'Octubre 2020'!J6,'Octubre 2020'!I6,'Octubre 2020'!J6) -> 1.53 | BZ4: =IF('Noviembre 2020'!I6>'Noviembre 2020'!J6,'Noviembre 2020'!I6,'Noviembre 2020'!J6) -> 1.3 | CA4: =IF('Diciembre 2020'!I6>'Diciembre 2020'!J6,'Diciembre 2020'!I6,'Diciembre 2020'!J6) -> 1.66 | CB4: =IF('Enero 2021'!I6>'Enero 2021'!J6,'Enero 2021'!I6,'Enero 2021'!J6) -> 2.01 | CC4: =IF('Febrero 2021'!I6>'Febrero 2021'!J6,'Febrero 2021'!I6,'Febrero 2021'!J6) -> 2.45 | CD4: =IF('Marzo 2021'!I6>'Marzo 2021'!J6,'Marzo 2021'!I6,'Marzo 2021'!J6) -> 3.1 | CE4: =IF('Abril 2021 '!I6>'Abril 2021 '!J6,'Abril 2021 '!I6,'Abril 2021 '!J6) -> 4.49 | CF4: =IF('Mayo 2021'!I6>'Mayo 2021'!J6,'Mayo 2021'!I6,'Mayo 2021'!J6) -> 4.12 | CG4: =IF('Junio 2021'!I6>'Junio 2021'!J6,'Junio 2021'!I6,'Junio 2021'!J6) -> 3.92 | CH4: =IF('Julio 2021'!I6>'Julio 2021'!J6,'Julio 2021'!I6,'Julio 2021'!J6) -> 2.26 | CI4: =IF('Agosto 2021'!I6>'Agosto 2021'!J6,'Agosto 2021'!I6,'Agosto 2021'!J6) -> 2.02 | CJ4: =IF('Setiembre 2021'!I6>'Setiembre 2021'!J6,'Setiembre 2021'!I6,'Setiembre 2021'!J6) -> 1.64 | CK4: =IF('Octubre 2021'!I6>'Octubre 2021'!J6,'Octubre 2021'!I6,'Octubre 2021'!J6) -> 1.55 | CL4: =IF('Noviembre 2021'!I6>'Noviembre 2021'!J6,'Noviembre 2021'!I6,'Noviembre 2021'!J6) -> 1.74 | CM4: =IF('Diciembre 2021'!I6>'Diciembre 2021'!J6,'Diciembre 2021'!I6,'Diciembre 2021'!J6) -> 1.55 | CN4: =IF('Enero 2022'!I6>'Enero 2022'!J6,'Enero 2022'!I6,'Enero 2022'!J6) -> 2.54 | CO4: =IF('Febrero 2022'!I6>'Febrero 2022'!J6,'Febrero 2022'!I6,'Febrero 2022'!J6) -> 3.03 | CP4: =IF('Marzo 2022'!I6>'Marzo 2022'!J6,'Marzo 2022'!I6,'Marzo 2022'!J6) -> 3.69 | CQ4: =IF('Abril 2022'!I6>'Abril 2022'!J6,'Abril 2022'!I6,'Abril 2022'!J6) -> 4.28 | CR4: =IF('Mayo 2022'!I6>'Mayo 2022'!J6,'Mayo 2022'!I6,'Mayo 2022'!J6) -> 3.49 | CS4: =IF('Junio 2022'!I6>'Junio 2022'!J6,'Junio 2022'!I6,'Junio 2022'!J6) -> 1.76 | CT4: =IF('Julio 2022'!I6>'Julio 2022'!J6,'Julio 2022'!I6,'Julio 2022'!J6) -> 2.38 | CU4: =IF('Agosto 2022'!I6>'Agosto 2022'!J6,'Agosto 2022'!I6,'Agosto 2022'!J6) -> 2.21 | CV4: =IF('Setiembre 2022'!I6>'Setiembre 2022'!J6,'Setiembre 2022'!I6,'Setiembre 2022'!J6) -> 1.61 | CW4: =IF('Octubre 2022'!I6>'Octubre 2022'!J6,'Octubre 2022'!I6,'Octubre 2022'!J6) -> 1.42 | CX4: =IF('Noviembre 2022'!I6>'Noviembre 2022'!J6,'Noviembre 2022'!I6,'Noviembre 2022'!J6) -> 1.02 | CY4: =IF('Diciembre 2022'!I6>'Diciembre 2022'!J6,'Diciembre 2022'!I6,'Diciembre 2022'!J6) -> 1.81 | CZ4: =IF('Enero 2023'!I6>'Enero 2023'!J6,'Enero 2023'!I6,'Enero 2023'!J6) -> 2.16 | DA4: =IF('Febrero 2023'!I6>'Febrero 2023'!J6,'Febrero 2023'!I6,'Febrero 2023'!J6) -> 2.65 | DB4: =IF('Marzo 2023'!I6>'Marzo 2023'!J6,'Marzo 2023'!I6,'Marzo 2023'!J6) -> 3.23 | DC4: =IF('Abril 2023'!I6>'Abril 2023'!J6,'Abril 2023'!I6,'Abril 2023'!J6) -> 3.97 | DD4: =IF('Mayo 2023'!I6>'Mayo 2023'!J6,'Mayo 2023'!I6,'Mayo 2023'!J6) -> 4.49 | DE4: =IF('Junio 2023'!I6>'Junio 2023'!J6,'Junio 2023'!I6,'Junio 2023'!J6) -> 4.28 | DF4: =IF('Julio 2023'!I6>'Julio 2023'!J6,'Julio 2023'!I6,'Julio 2023'!J6) -> 4.02 | DG4: =IF('Agosto 2023'!I6>'Agosto 2023'!J6,'Agosto 2023'!I6,'Agosto 2023'!J6) -> 2.95 | DH4: =IF('Setiembre 2023'!I6>'Setiembre 2023'!J6,'Setiembre 2023'!I6,'Setiembre 2023'!J6) -> 2.12 | DI4: =IF('Octubre 2023'!I6>'Octubre 2023'!J6,'Octubre 2023'!I6,'Octubre 2023'!J6) -> 1.83 | DJ4: =IF('Noviembre 2023'!I6>'Noviembre 2023'!J6,'Noviembre 2023'!I6,'Noviembre 2023'!J6) -> 2.19 | DK4: =IF('Diciembre 2023'!I6>'Diciembre 2023'!J6,'Diciembre 2023'!I6,'Diciembre 2023'!J6) -> 1.82 | DL4: =IF('Enero 2024'!I6>'Enero 2024'!J6,'Enero 2024'!I6,'Enero 2024'!J6) -> 1.82 | DM4: =IF('Febrero 2024'!I6>'Febrero 2024'!J6,'Febrero 2024'!I6,'Febrero 2024'!J6) -> 2.59 | DN4: =IF('Marzo 2024'!I6>'Marzo 2024'!J6,'Marzo 2024'!I6,'Marzo 2024'!J6) -> 2.59 | DO4: =IF('Abril 2024'!I6>'Abril 2024'!J6,'Abril 2024'!I6,'Abril 2024'!J6) -> 4.02 | DP4: =IF('Mayo 2024'!I6>'Mayo 2024'!J6,'Mayo 2024'!I6,'Mayo 2024'!J6) -> 4.52 | DQ4: =IF('Junio 2024'!I6>'Junio 2024'!J6,'Junio 2024'!I6,'Junio 2024'!J6) -> 2.33 | DR4: =IF('Julio 2024'!I6>'Julio 2024'!J6,'Julio 2024'!I6,'Julio 2024'!J6) -> 1.87 | DS4: =IF('Agosto 2024'!I6>'Agosto 2024'!J6,'Agosto 2024'!I6,'Agosto 2024'!J6) -> 1.34 | DT4: =IF('Setiembre 2024'!I6>'Setiembre 2024'!J6,'Setiembre 2024'!I6,'Setiembre 2024'!J6) -> 1.92 | DU4: =IF('Octubre 2024'!I6>'Octubre 2024'!J6,'Octubre 2024'!I6,'Octubre 2024'!J6) -> 1.6 | DV4: =IF('Noviembre 2024'!I6>'Noviembre 2024'!J6,'Noviembre 2024'!I6,'Noviembre 2024'!J6) -> 1.39 | DW4: =IF('Diciembre 2024'!I6>'Diciembre 2024'!J6,'Diciembre 2024'!I6,'Diciembre 2024'!J6) -> 1.72 | DX4: =IF('Enero 2025'!I6>'Enero 2025'!J6,'Enero 2025'!I6,'Enero 2025'!J6) -> 1.95 | DY4: =IF('Febrero 2025'!I6>'Febrero 2025'!J6,'Febrero 2025'!I6,'Febrero 2025'!J6) -> 2.45 | DZ4: =IF('Marzo 2025'!I6>'Marzo 2025'!J6,'Marzo 2025'!I6,'Marzo 2025'!J6) -> 2.14 | EA4: =IF('Abril 2025'!I6>'Abril 2025'!J6,'Abril 2025'!I6,'Abril 2025'!J6) -> 3.81
A5: Frente escuela Quiriman | B5: E | C5: 371019 | D5: 232783 | E5: 206 | G5: 0.78 | T5: =IF('Enero 2016'!I6>'Enero 2016'!J6,'Enero 2016'!I6,'Enero 2016'!J6) -> 11.55 | U5: =IF('Febrero 2016'!I6>'Febrero 2016'!J6,'Febrero 2016'!I6,'Febrero 2016'!J6) -> 12.12 | V5: =IF('Marzo 2016'!I7>'Marzo 2016'!J7,'Marzo 2016'!I7,'Marzo 2016'!J7) -> 12.88 | W5: =IF('Abril 2016'!I7>'Abril 2016'!J7,'Abril 2016'!I7,'Abril 2016'!J7) -> 13.07 | X5: =IF('Mayo 2016'!I7>'Mayo 2016'!J7,'Mayo 2016'!I7,'Mayo 2016'!J7) -> 13.21 | Y5: =IF('Junio 2016'!I7>'Junio 2016'!J7,'Junio 2016'!I7,'Junio 2016'!J7) -> 12.68 | Z5: =IF('Julio 2016'!I7>'Julio 2016'!J7,'Julio 2016'!I7,'Julio 2016'!J7) -> 10.54 | AA5: =IF('Agosto 2016'!I7>'Agosto 2016'!J7,'Agosto 2016'!I7,'Agosto 2016'!J7) -> 11.74 | AB5: =IF('Setiembre 2016'!I7>'Setiembre 2016'!J7,'Setiembre 2016'!I7,'Setiembre 2016'!J7) -> Porton cerrado | AC5: =IF('Octubre 2016'!J7>'Octubre 2016'!I7,'Octubre 2016'!J7,'Octubre 2016'!I7) -> Porton cerrado | AE5: =IF('Diciembre 2016'!J7>'Diciembre 2016'!I7,'Diciembre 2016'!J7,'Diciembre 2016'!I7) -> Porton cerrado | AG5: =IF('Febrero 2017'!I7>'Febrero 2017'!J7,'Febrero 2017'!I7,'Febrero 2017'!J7) -> Porton cerrado | AH5: =IF('Marzo 2017'!I7>'Marzo 2017'!J7,'Marzo 2017'!I7,'Marzo 2017'!J7) -> Porton cerrado | AI5: =IF('Abril 2017'!I7>'Abril 2017'!J7,'Abril 2017'!I7,'Abril 2017'!J7) -> Porton cerrado | AJ5: =IF('Mayo 2017'!I7>'Mayo 2017'!J7,'Mayo 2017'!I7,'Mayo 2017'!J7) -> Porton cerrado | AK5: =IF('Junio 2017'!I7>'Junio 2017'!J7,'Junio 2017'!I7,'Junio 2017'!J7) -> Porton cerrado | AL5: =IF('Julio 2017'!I7>'Julio 2017'!J7,'Julio 2017'!I7,'Julio 2017'!J7) -> Porton cerrado | AM5: =IF('Agosto 2017'!I7>'Agosto 2017'!J7,'Agosto 2017'!I7,'Agosto 2017'!J7) -> Porton cerrado | AN5: =IF('Setiembre 2017'!I7>'Setiembre 2017'!J7,'Setiembre 2017'!I7,'Setiembre 2017'!J7) -> Porton cerrado | AO5: =IF('Octubre 2017'!J7>'Octubre 2017'!I7,'Octubre 2017'!J7,'Octubre 2017'!I7) -> Porton cerrado | AP5: =IF('Noviembre 2017'!I7>'Noviembre 2017'!J7,'Noviembre 2017'!I7,'Noviembre 2017'!J7) -> Porton cerrado | AQ5: =IF('Diciembre 2017'!J7>'Diciembre 2017'!I7,'Diciembre 2017'!J7,'Diciembre 2017'!I7) -> Porton cerrado | AR5: =IF('Enero 2018'!I7>'Enero 2018'!J7,'Enero 2018'!I7,'Enero 2018'!J7) -> Porton cerrado | AS5: =IF('Febrero 2018'!I7>'Febrero 2018'!J7,'Febrero 2018'!I7,'Febrero 2018'!J7) -> Porton cerrado | AT5: =IF('Marzo 2018'!I7>'Marzo 2018'!J7,'Marzo 2018'!I7,'Marzo 2018'!J7) -> Porton cerrado | AU5: =IF('Abril 2018'!I7>'Abril 2018'!J7,'Abril 2018'!I7,'Abril 2018'!J7) -> Porton cerrado | AV5: =IF('Mayo 2018'!I7>'Mayo 2018'!J7,'Mayo 2018'!I7,'Mayo 2018'!J7) -> Porton cerrado | AW5: =IF('Junio 2018'!I7>'Junio 2018'!J7,'Junio 2018'!I7,'Junio 2018'!J7) -> Porton cerrado | AX5: =IF('Julio 2018'!I7>'Julio 2018'!J7,'Julio 2018'!I7,'Julio 2018'!J7) -> Porton cerrado | AY5: =IF('Agosto 2018'!I7>'Agosto 2018'!J7,'Agosto 2018'!I7,'Agosto 2018'!J7) -> Porton cerrado | AZ5: =IF('Setiembre 2018'!I7>'Setiembre 2018'!J7,'Setiembre 2018'!I7,'Setiembre 2018'!J7) -> Porton cerrado | BA5: =IF('Octubre 2018'!I7>'Octubre 2018'!J7,'Octubre 2018'!I7,'Octubre 2018'!J7) -> Porton cerrado | BB5: =IF('Noviembre 2018'!I7>'Noviembre 2018'!J7,'Noviembre 2018'!I7,'Noviembre 2018'!J7) -> Porton cerrado | BC5: =IF('Diciembre 2018'!I7>'Diciembre 2018'!J7,'Diciembre 2018'!I7,'Diciembre 2018'!J7) -> Porton cerrado | BD5: =IF('Enero 2019'!I7>'Enero 2019'!J7,'Enero 2019'!I7,'Enero 2019'!J7) -> Porton cerrado | BE5: =IF('Febrero 2019'!I7>'Febrero 2019'!J7,'Febrero 2019'!I7,'Febrero 2019'!J7) -> Porton cerrado | BF5: =IF('Marzo 2019'!I7>'Marzo 2019'!J7,'Marzo 2019'!I7,'Marzo 2019'!J7) -> Porton cerrado | BG5: =IF('Abril 2019'!I7>'Abril 2019'!J7,'Abril 2019'!I7,'Abril 2019'!J7) -> Porton cerrado | BH5: =IF('Mayo 2019'!I7>'Mayo 2019'!J7,'Mayo 2019'!I7,'Mayo 2019'!J7) -> Porton cerrado | BI5: =IF('Junio 2019'!I7>'Junio 2019'!J7,'Junio 2019'!I7,'Junio 2019'!J7) -> Porton cerrado | BJ5: =IF('Julio 2019'!I7>'Julio 2019'!J7,'Julio 2019'!I7,'Julio 2019'!J7) -> Porton cerrado | BK5: =IF('Agosto 2019'!I7>'Agosto 2019'!J7,'Agosto 2019'!I7,'Agosto 2019'!J7) -> Porton cerrado | BL5: =IF('Setiembre 2019'!I7>'Setiembre 2019'!J7,'Setiembre 2019'!I7,'Setiembre 2019'!J7) -> Porton cerrado | BM5: =IF('Octubre 2019'!I7>'Octubre 2019'!J7,'Octubre 2019'!I7,'Octubre 2019'!J7) -> Porton cerrado | BN5: =IF('Octubre 2019'!J7>'Octubre 2019'!K7,'Octubre 2019'!J7,'Octubre 2019'!K7) -> 0 | BO5: =IF('Diciembre 2019'!I7>'Diciembre 2019'!J7,'Diciembre 2019'!I7,'Diciembre 2019'!J7) -> Porton cerrado | BP5: =IF('Enero 2020'!I7>'Enero 2020'!J7,'Enero 2020'!I7,'Enero 2020'!J7) -> Porton cerrado | BQ5: =IF('Febrero 2020'!I7>'Febrero 2020'!J7,'Febrero 2020'!I7,'Febrero 2020'!J7) -> Porton cerrado | BR5: =IF('Marzo 2020'!I7>'Marzo 2020'!J7,'Marzo 2020'!I7,'Marzo 2020'!J7) -> Porton cerrado | BS5: =IF('Abril 2020'!I7>'Abril 2020'!J7,'Abril 2020'!I7,'Abril 2020'!J7) -> Porton cerrado | BT5: =IF('Mayo 2020'!I7>'Mayo 2020'!J7,'Mayo 2020'!I7,'Mayo 2020'!J7) -> Porton cerrado | BU5: =IF('Junio 2020'!I7>'Junio 2020'!J7,'Junio 2020'!I7,'Junio 2020'!J7) -> Porton cerrado | BV5: =IF('Julio 2020'!I7>'Julio 2020'!J7,'Julio 2020'!I7,'Julio 2020'!J7) -> Porton cerrado | BW5: =IF('Agosto 2020'!I7>'Agosto 2020'!J7,'Agosto 2020'!I7,'Agosto 2020'!J7) -> Porton cerrado | BX5: =IF('Setiembre 2020'!I7>'Setiembre 2020'!J7,'Setiembre 2020'!I7,'Setiembre 2020'!J7) -> Porton cerrado | BY5: =IF('Octubre 2020'!I7>'Octubre 2020'!J7,'Octubre 2020'!I7,'Octubre 2020'!J7) -> Porton cerrado | BZ5: =IF('Noviembre 2020'!I7>'Noviembre 2020'!J7,'Noviembre 2020'!I7,'Noviembre 2020'!J7) -> Porton cerrado | CA5: =IF('Diciembre 2020'!I7>'Diciembre 2020'!J7,'Diciembre 2020'!I7,'Diciembre 2020'!J7) -> Porton cerrado | CB5: =IF('Enero 2021'!I7>'Enero 2021'!J7,'Enero 2021'!I7,'Enero 2021'!J7) -> Porton cerrado | CC5: =IF('Febrero 2021'!I7>'Febrero 2021'!J7,'Febrero 2021'!I7,'Febrero 2021'!J7) -> Porton cerrado | CD5: =IF('Marzo 2021'!I7>'Marzo 2021'!J7,'Marzo 2021'!I7,'Marzo 2021'!J7) -> Porton cerrado | CE5: =IF('Abril 2021 '!I7>'Abril 2021 '!J7,'Abril 2021 '!I7,'Abril 2021 '!J7) -> Porton cerrado | CF5: =IF('Mayo 2021'!I7>'Mayo 2021'!J7,'Mayo 2021'!I7,'Mayo 2021'!J7) -> Porton cerrado | CG5: =IF('Junio 2021'!I7>'Junio 2021'!J7,'Junio 2021'!I7,'Junio 2021'!J7) -> Porton cerrado | CH5: =IF('Julio 2021'!I7>'Julio 2021'!J7,'Julio 2021'!I7,'Julio 2021'!J7) -> Porton cerrado | CI5: =IF('Agosto 2021'!I7>'Agosto 2021'!J7,'Agosto 2021'!I7,'Agosto 2021'!J7) -> Porton cerrado | CJ5: =IF('Setiembre 2021'!I7>'Setiembre 2021'!J7,'Setiembre 2021'!I7,'Setiembre 2021'!J7) -> Porton cerrado | CK5: =IF('Octubre 2021'!I7>'Octubre 2021'!J7,'Octubre 2021'!I7,'Octubre 2021'!J7) -> Porton cerrado | CL5: =IF('Noviembre 2021'!I7>'Noviembre 2021'!J7,'Noviembre 2021'!I7,'Noviembre 2021'!J7) -> Porton cerrado | CM5: =IF('Diciembre 2021'!I7>'Diciembre 2021'!J7,'Diciembre 2021'!I7,'Diciembre 2021'!J7) -> Porton cerrado | CN5: =IF('Enero 2022'!I7>'Enero 2022'!J7,'Enero 2022'!I7,'Enero 2022'!J7) -> Porton cerrado | CO5: =IF('Febrero 2022'!I7>'Febrero 2022'!J7,'Febrero 2022'!I7,'Febrero 2022'!J7) -> Porton cerrado | CP5: =IF('Marzo 2022'!I7>'Marzo 2022'!J7,'Marzo 2022'!I7,'Marzo 2022'!J7) -> Porton cerrado | CQ5: =IF('Abril 2022'!I7>'Abril 2022'!J7,'Abril 2022'!I7,'Abril 2022'!J7) -> Porton cerrado | CR5: =IF('Mayo 2022'!I7>'Mayo 2022'!J7,'Mayo 2022'!I7,'Mayo 2022'!J7) -> Porton cerrado | CS5: =IF('Junio 2022'!I7>'Junio 2022'!J7,'Junio 2022'!I7,'Junio 2022'!J7) -> Porton cerrado | CT5: =IF('Julio 2022'!I7>'Julio 2022'!J7,'Julio 2022'!I7,'Julio 2022'!J7) -> Porton cerrado | CU5: =IF('Agosto 2022'!I7>'Agosto 2022'!J7,'Agosto 2022'!I7,'Agosto 2022'!J7) -> Porton cerrado | CV5: =IF('Setiembre 2022'!I7>'Setiembre 2022'!J7,'Setiembre 2022'!I7,'Setiembre 2022'!J7) -> Porton cerrado | CW5: =IF('Octubre 2022'!I7>'Octubre 2022'!J7,'Octubre 2022'!I7,'Octubre 2022'!J7) -> Porton cerrado | CX5: =IF('Noviembre 2022'!I7>'Noviembre 2022'!J7,'Noviembre 2022'!I7,'Noviembre 2022'!J7) -> Porton cerrado | CY5: =IF('Diciembre 2022'!I7>'Diciembre 2022'!J7,'Diciembre 2022'!I7,'Diciembre 2022'!J7) -> Porton cerrado | CZ5: =IF('Enero 2023'!I7>'Enero 2023'!J7,'Enero 2023'!I7,'Enero 2023'!J7) -> Porton cerrado | DA5: =IF('Febrero 2023'!I7>'Febrero 2023'!J7,'Febrero 2023'!I7,'Febrero 2023'!J7) -> Porton cerrado | DB5: =IF('Marzo 2023'!I7>'Marzo 2023'!J7,'Marzo 2023'!I7,'Marzo 2023'!J7) -> Porton cerrado | DC5: =IF('Abril 2023'!I7>'Abril 2023'!J7,'Abril 2023'!I7,'Abril 2023'!J7) -> Porton cerrado | DD5: =IF('Mayo 2023'!I7>'Mayo 2023'!J7,'Mayo 2023'!I7,'Mayo 2023'!J7) -> Porton cerrado | DE5: =IF('Junio 2023'!I7>'Junio 2023'!J7,'Junio 2023'!I7,'Junio 2023'!J7) -> Porton cerrado | DF5: =IF('Julio 2023'!I7>'Julio 2023'!J7,'Julio 2023'!I7,'Julio 2023'!J7) -> Porton cerrado | DG5: =IF('Agosto 2023'!I7>'Agosto 2023'!J7,'Agosto 2023'!I7,'Agosto 2023'!J7) -> Porton cerrado | DH5: =IF('Setiembre 2023'!I7>'Setiembre 2023'!J7,'Setiembre 2023'!I7,'Setiembre 2023'!J7) -> Porton cerrado | DI5: =IF('Octubre 2023'!I7>'Octubre 2023'!J7,'Octubre 2023'!I7,'Octubre 2023'!J7) -> Porton cerrado | DJ5: =IF('Noviembre 2023'!I7>'Noviembre 2023'!J7,'Noviembre 2023'!I7,'Noviembre 2023'!J7) -> Porton cerrado | DK5: =IF('Diciembre 2023'!I7>'Diciembre 2023'!J7,'Diciembre 2023'!I7,'Diciembre 2023'!J7) -> Porton cerrado | DL5: =IF('Enero 2024'!I7>'Enero 2024'!J7,'Enero 2024'!I7,'Enero 2024'!J7) -> Porton cerrado | DM5: =IF('Febrero 2024'!I7>'Febrero 2024'!J7,'Febrero 2024'!I7,'Febrero 2024'!J7) -> Porton cerrado | DN5: =IF('Marzo 2024'!I7>'Marzo 2024'!J7,'Marzo 2024'!I7,'Marzo 2024'!J7) -> Porton cerrado | DO5: =IF('Abril 2024'!I7>'Abril 2024'!J7,'Abril 2024'!I7,'Abril 2024'!J7) -> Porton cerrado | DP5: =IF('Mayo 2024'!I7>'Mayo 2024'!J7,'Mayo 2024'!I7,'Mayo 2024'!J7) -> Porton cerrado | DQ5: =IF('Junio 2024'!I7>'Junio 2024'!J7,'Junio 2024'!I7,'Junio 2024'!J7) -> Porton cerrado | DR5: =IF('Julio 2024'!I7>'Julio 2024'!J7,'Julio 2024'!I7,'Julio 2024'!J7) -> Porton cerrado | DS5: =IF('Agosto 2024'!I7>'Agosto 2024'!J7,'Agosto 2024'!I7,'Agosto 2024'!J7) -> Porton cerrado | DT5: =IF('Setiembre 2024'!I7>'Setiembre 2024'!J7,'Setiembre 2024'!I7,'Setiembre 2024'!J7) -> Porton cerrado | DU5: =IF('Octubre 2024'!I7>'Octubre 2024'!J7,'Octubre 2024'!I7,'Octubre 2024'!J7) -> Porton cerrado | DV5: =IF('Noviembre 2024'!I7>'Noviembre 2024'!J7,'Noviembre 2024'!I7,'Noviembre 2024'!J7) -> Porton cerrado | DW5: =IF('Diciembre 2024'!I7>'Diciembre 2024'!J7,'Diciembre 2024'!I7,'Diciembre 2024'!J7) -> Porton cerrado | DX5: =IF('Enero 2025'!I7>'Enero 2025'!J7,'Enero 2025'!I7,'Enero 2025'!J7) -> Porton cerrado | DY5: =IF('Febrero 2025'!I7>'Febrero 2025'!J7,'Febrero 2025'!I7,'Febrero 2025'!J7) -> Porton cerrado | DZ5: =IF('Marzo 2025'!I7>'Marzo 2025'!J7,'Marzo 2025'!I7,'Marzo 2025'!J7) -> Porton cerrado | EA5: =IF('Abril 2025'!I7>'Abril 2025'!J7,'Abril 2025'!I7,'Abril 2025'!J7) -> Porton cerrado
A6: Vianey Guevara | B6: E | C6: 370602 | D6: 232450 | E6: 214 | G6: 0.5 | T6: =IF('Enero 2016'!I7>'Enero 2016'!J7,'Enero 2016'!I7,'Enero 2016'!J7) -> 20.28 | U6: =IF('Febrero 2016'!I7>'Febrero 2016'!J7,'Febrero 2016'!I7,'Febrero 2016'!J7) -> 19.88 | V6: =IF('Marzo 2016'!I8>'Marzo 2016'!J8,'Marzo 2016'!I8,'Marzo 2016'!J8) -> 20.23 | X6: =IF('Mayo 2016'!I8>'Mayo 2016'!J8,'Mayo 2016'!I8,'Mayo 2016'!J8) -> 19.93 | Y6: =IF('Junio 2016'!I8>'Junio 2016'!J8,'Junio 2016'!I8,'Junio 2016'!J8) -> 19.95 | Z6: =IF('Julio 2016'!I8>'Julio 2016'!J8,'Julio 2016'!I8,'Julio 2016'!J8) -> 19.87 | AA6: =IF('Agosto 2016'!I8>'Agosto 2016'!J8,'Agosto 2016'!I8,'Agosto 2016'!J8) -> 19.84 | AB6: =IF('Setiembre 2016'!I8>'Setiembre 2016'!J8,'Setiembre 2016'!I8,'Setiembre 2016'!J8) -> 19.6 | AC6: =IF('Octubre 2016'!J8>'Octubre 2016'!I8,'Octubre 2016'!J8,'Octubre 2016'!I8) -> 19.5 | AE6: =IF('Diciembre 2016'!J8>'Diciembre 2016'!I8,'Diciembre 2016'!J8,'Diciembre 2016'!I8) -> 19.68 | AG6: =IF('Febrero 2017'!I8>'Febrero 2017'!J8,'Febrero 2017'!I8,'Febrero 2017'!J8) -> 19.87 | AH6: =IF('Marzo 2017'!I8>'Marzo 2017'!J8,'Marzo 2017'!I8,'Marzo 2017'!J8) -> 20.4 | AI6: =IF('Abril 2017'!I8>'Abril 2017'!J8,'Abril 2017'!I8,'Abril 2017'!J8) -> 20.08 | AJ6: =IF('Mayo 2017'!I8>'Mayo 2017'!J8,'Mayo 2017'!I8,'Mayo 2017'!J8) -> 19.6 | AK6: =IF('Junio 2017'!I8>'Junio 2017'!J8,'Junio 2017'!I8,'Junio 2017'!J8) -> 21.42 | AL6: =IF('Julio 2017'!I8>'Julio 2017'!J8,'Julio 2017'!I8,'Julio 2017'!J8) -> 19.55 | AM6: =IF('Agosto 2017'!I8>'Agosto 2017'!J8,'Agosto 2017'!I8,'Agosto 2017'!J8) -> 19.6 | AN6: =IF('Setiembre 2017'!I8>'Setiembre 2017'!J8,'Setiembre 2017'!I8,'Setiembre 2017'!J8) -> 19.06 | AO6: =IF('Octubre 2017'!J8>'Octubre 2017'!I8,'Octubre 2017'!J8,'Octubre 2017'!I8) -> 19.36 | AP6: =IF('Noviembre 2017'!I8>'Noviembre 2017'!J8,'Noviembre 2017'!I8,'Noviembre 2017'!J8) -> 19.5 | AQ6: =IF('Diciembre 2017'!J8>'Diciembre 2017'!I8,'Diciembre 2017'!J8,'Diciembre 2017'!I8) -> 19.6 | AR6: =IF('Enero 2018'!I8>'Enero 2018'!J8,'Enero 2018'!I8,'Enero 2018'!J8) -> 19.77 | AS6: =IF('Febrero 2018'!I8>'Febrero 2018'!J8,'Febrero 2018'!I8,'Febrero 2018'!J8) -> 19.73 | AT6: =IF('Marzo 2018'!I8>'Marzo 2018'!J8,'Marzo 2018'!I8,'Marzo 2018'!J8) -> 20.12 | AU6: =IF('Abril 2018'!I8>'Abril 2018'!J8,'Abril 2018'!I8,'Abril 2018'!J8) -> 19.84 | AV6: =IF('Mayo 2018'!I8>'Mayo 2018'!J8,'Mayo 2018'!I8,'Mayo 2018'!J8) -> 19.87 | AW6: =IF('Junio 2018'!I8>'Junio 2018'!J8,'Junio 2018'!I8,'Junio 2018'!J8) -> 19.55 | AX6: =IF('Julio 2018'!I8>'Julio 2018'!J8,'Julio 2018'!I8,'Julio 2018'!J8) -> 19.55 | AY6: =IF('Agosto 2018'!I8>'Agosto 2018'!J8,'Agosto 2018'!I8,'Agosto 2018'!J8) -> 19.7 | AZ6: =IF('Setiembre 2018'!I8>'Setiembre 2018'!J8,'Setiembre 2018'!I8,'Setiembre 2018'!J8) -> 19.48 | BA6: =IF('Octubre 2018'!I8>'Octubre 2018'!J8,'Octubre 2018'!I8,'Octubre 2018'!J8) -> 18.95 | BB6: =IF('Noviembre 2018'!I8>'Noviembre 2018'!J8,'Noviembre 2018'!I8,'Noviembre 2018'!J8) -> 19.23 | BC6: =IF('Diciembre 2018'!I8>'Diciembre 2018'!J8,'Diciembre 2018'!I8,'Diciembre 2018'!J8) -> 19.38 | BD6: =IF('Enero 2019'!I8>'Enero 2019'!J8,'Enero 2019'!I8,'Enero 2019'!J8) -> 19.56 | BE6: =IF('Febrero 2019'!I8>'Febrero 2019'!J8,'Febrero 2019'!I8,'Febrero 2019'!J8) -> 19.59 | BF6: =IF('Marzo 2019'!I8>'Marzo 2019'!J8,'Marzo 2019'!I8,'Marzo 2019'!J8) -> 19.78 | BG6: =IF('Abril 2019'!I8>'Abril 2019'!J8,'Abril 2019'!I8,'Abril 2019'!J8) -> 19.79 | BH6: =IF('Mayo 2019'!I8>'Mayo 2019'!J8,'Mayo 2019'!I8,'Mayo 2019'!J8) -> 19.76 | BI6: =IF('Junio 2019'!I8>'Junio 2019'!J8,'Junio 2019'!I8,'Junio 2019'!J8) -> 19.67 | BJ6: =IF('Julio 2019'!I8>'Julio 2019'!J8,'Julio 2019'!I8,'Julio 2019'!J8) -> 19.65 | BK6: =IF('Agosto 2019'!I8>'Agosto 2019'!J8,'Agosto 2019'!I8,'Agosto 2019'!J8) -> 19.81 | BL6: =IF('Setiembre 2019'!I8>'Setiembre 2019'!J8,'Setiembre 2019'!I8,'Setiembre 2019'!J8) -> 19.56 | BO6: =IF('Diciembre 2019'!I8>'Diciembre 2019'!J8,'Diciembre 2019'!I8,'Diciembre 2019'!J8) -> 19.42 | BP6: =IF('Enero 2020'!I8>'Enero 2020'!J8,'Enero 2020'!I8,'Enero 2020'!J8) -> 19.75 | BQ6: =IF('Febrero 2020'!I8>'Febrero 2020'!J8,'Febrero 2020'!I8,'Febrero 2020'!J8) -> 19.67 | BS6: =IF('Abril 2020'!I8>'Abril 2020'!J8,'Abril 2020'!I8,'Abril 2020'!J8) -> 19.76 | BT6: =IF('Mayo 2020'!I8>'Mayo 2020'!J8,'Mayo 2020'!I8,'Mayo 2020'!J8) -> 19.82 | BU6: =IF('Junio 2020'!I8>'Junio 2020'!J8,'Junio 2020'!I8,'Junio 2020'!J8) -> 19.7 | BV6: =IF('Julio 2020'!I8>'Julio 2020'!J8,'Julio 2020'!I8,'Julio 2020'!J8) -> 19.61 | BW6: =IF('Agosto 2020'!I8>'Agosto 2020'!J8,'Agosto 2020'!I8,'Agosto 2020'!J8) -> 19.35 | BX6: =IF('Setiembre 2020'!I8>'Setiembre 2020'!J8,'Setiembre 2020'!I8,'Setiembre 2020'!J8) -> 17.85 | BY6: =IF('Octubre 2020'!I8>'Octubre 2020'!J8,'Octubre 2020'!I8,'Octubre 2020'!J8) -> 19.18 | BZ6: =IF('Noviembre 2020'!I8>'Noviembre 2020'!J8,'Noviembre 2020'!I8,'Noviembre 2020'!J8) -> 18.9 | CA6: =IF('Diciembre 2020'!I8>'Diciembre 2020'!J8,'Diciembre 2020'!I8,'Diciembre 2020'!J8) -> 19.26 | CB6: =IF('Enero 2021'!I8>'Enero 2021'!J8,'Enero 2021'!I8,'Enero 2021'!J8) -> 19.42 | CC6: =IF('Febrero 2021'!I8>'Febrero 2021'!J8,'Febrero 2021'!I8,'Febrero 2021'!J8) -> 19.25 | CE6: =IF('Abril 2021 '!I8>'Abril 2021 '!J8,'Abril 2021 '!I8,'Abril 2021 '!J8) -> 19.75 | CF6: =IF('Mayo 2021'!I8>'Mayo 2021'!J8,'Mayo 2021'!I8,'Mayo 2021'!J8) -> 19.7 | CG6: =IF('Junio 2021'!I8>'Junio 2021'!J8,'Junio 2021'!I8,'Junio 2021'!J8) -> 19.59 | CH6: =IF('Julio 2021'!I8>'Julio 2021'!J8,'Julio 2021'!I8,'Julio 2021'!J8) -> 19.52 | CI6: =IF('Agosto 2021'!I8>'Agosto 2021'!J8,'Agosto 2021'!I8,'Agosto 2021'!J8) -> 19.53 | CJ6: =IF('Setiembre 2021'!I8>'Setiembre 2021'!J8,'Setiembre 2021'!I8,'Setiembre 2021'!J8) -> 19.28 | CK6: =IF('Octubre 2021'!I8>'Octubre 2021'!J8,'Octubre 2021'!I8,'Octubre 2021'!J8) -> 18.85 | CM6: =IF('Diciembre 2021'!I8>'Diciembre 2021'!J8,'Diciembre 2021'!I8,'Diciembre 2021'!J8) -> 18.85 | CN6: =IF('Enero 2022'!I8>'Enero 2022'!J8,'Enero 2022'!I8,'Enero 2022'!J8) -> 19.76 | CP6: =IF('Marzo 2022'!I8>'Marzo 2022'!J8,'Marzo 2022'!I8,'Marzo 2022'!J8) -> 19.78 | CQ6: =IF('Abril 2022'!I8>'Abril 2022'!J8,'Abril 2022'!I8,'Abril 2022'!J8) -> 19.85 | CR6: =IF('Mayo 2022'!I8>'Mayo 2022'!J8,'Mayo 2022'!I8,'Mayo 2022'!J8) -> 19.53 | CS6: =IF('Junio 2022'!I8>'Junio 2022'!J8,'Junio 2022'!I8,'Junio 2022'!J8) -> 19.4 | CT6: =IF('Julio 2022'!I8>'Julio 2022'!J8,'Julio 2022'!I8,'Julio 2022'!J8) -> 19.04 | CU6: =IF('Agosto 2022'!I8>'Agosto 2022'!J8,'Agosto 2022'!I8,'Agosto 2022'!J8) -> 19.1 | CV6: =IF('Setiembre 2022'!I8>'Setiembre 2022'!J8,'Setiembre 2022'!I8,'Setiembre 2022'!J8) -> 19.19 | CW6: =IF('Octubre 2022'!I8>'Octubre 2022'!J8,'Octubre 2022'!I8,'Octubre 2022'!J8) -> 19.03 | CX6: =IF('Noviembre 2022'!I8>'Noviembre 2022'!J8,'Noviembre 2022'!I8,'Noviembre 2022'!J8) -> 19.32 | CY6: =IF('Diciembre 2022'!I8>'Diciembre 2022'!J8,'Diciembre 2022'!I8,'Diciembre 2022'!J8) -> 19.42 | CZ6: =IF('Enero 2023'!I8>'Enero 2023'!J8,'Enero 2023'!I8,'Enero 2023'!J8) -> 19.5 | DA6: =IF('Febrero 2023'!I8>'Febrero 2023'!J8,'Febrero 2023'!I8,'Febrero 2023'!J8) -> 19.54 | DB6: =IF('Marzo 2023'!I8>'Marzo 2023'!J8,'Marzo 2023'!I8,'Marzo 2023'!J8) -> 19.97 | DC6: =IF('Abril 2023'!I8>'Abril 2023'!J8,'Abril 2023'!I8,'Abril 2023'!J8) -> 19.65 | DD6: =IF('Mayo 2023'!I8>'Mayo 2023'!J8,'Mayo 2023'!I8,'Mayo 2023'!J8) -> 19.7 | DE6: =IF('Junio 2023'!I8>'Junio 2023'!J8,'Junio 2023'!I8,'Junio 2023'!J8) -> 19.55 | DF6: =IF('Julio 2023'!I8>'Julio 2023'!J8,'Julio 2023'!I8,'Julio 2023'!J8) -> 20.2 | DG6: =IF('Agosto 2023'!I8>'Agosto 2023'!J8,'Agosto 2023'!I8,'Agosto 2023'!J8) -> 19.58 | DH6: =IF('Setiembre 2023'!I8>'Setiembre 2023'!J8,'Setiembre 2023'!I8,'Setiembre 2023'!J8) -> 19.46 | DI6: =IF('Octubre 2023'!I8>'Octubre 2023'!J8,'Octubre 2023'!I8,'Octubre 2023'!J8) -> 19.21 | DJ6: =IF('Noviembre 2023'!I8>'Noviembre 2023'!J8,'Noviembre 2023'!I8,'Noviembre 2023'!J8) -> 19.28 | DK6: =IF('Diciembre 2023'!I8>'Diciembre 2023'!J8,'Diciembre 2023'!I8,'Diciembre 2023'!J8) -> 19.48 | DL6: =IF('Enero 2024'!I8>'Enero 2024'!J8,'Enero 2024'!I8,'Enero 2024'!J8) -> 19.6 | DM6: =IF('Febrero 2024'!I8>'Febrero 2024'!J8,'Febrero 2024'!I8,'Febrero 2024'!J8) -> 19.61 | DN6: =IF('Marzo 2024'!I8>'Marzo 2024'!J8,'Marzo 2024'!I8,'Marzo 2024'!J8) -> 19.61 | DO6: =IF('Abril 2024'!I8>'Abril 2024'!J8,'Abril 2024'!I8,'Abril 2024'!J8) -> 19.3 | DP6: =IF('Mayo 2024'!I8>'Mayo 2024'!J8,'Mayo 2024'!I8,'Mayo 2024'!J8) -> 19.99 | DQ6: =IF('Junio 2024'!I8>'Junio 2024'!J8,'Junio 2024'!I8,'Junio 2024'!J8) -> 19 | DR6: =IF('Julio 2024'!I8>'Julio 2024'!J8,'Julio 2024'!I8,'Julio 2024'!J8) -> 19.27 | DS6: =IF('Agosto 2024'!I8>'Agosto 2024'!J8,'Agosto 2024'!I8,'Agosto 2024'!J8) -> 19.22 | DT6: =IF('Setiembre 2024'!I8>'Setiembre 2024'!J8,'Setiembre 2024'!I8,'Setiembre 2024'!J8) -> 19.3 | DU6: =IF('Octubre 2024'!I8>'Octubre 2024'!J8,'Octubre 2024'!I8,'Octubre 2024'!J8) -> 18.52 | DV6: =IF('Noviembre 2024'!I8>'Noviembre 2024'!J8,'Noviembre 2024'!I8,'Noviembre 2024'!J8) -> 18.84 | DW6: =IF('Diciembre 2024'!I8>'Diciembre 2024'!J8,'Diciembre 2024'!I8,'Diciembre 2024'!J8) -> 19.24 | DX6: =IF('Enero 2025'!I8>'Enero 2025'!J8,'Enero 2025'!I8,'Enero 2025'!J8) -> 19.47 | DY6: =IF('Febrero 2025'!I8>'Febrero 2025'!J8,'Febrero 2025'!I8,'Febrero 2025'!J8) -> 19.57 | DZ6: =IF('Marzo 2025'!I8>'Marzo 2025'!J8,'Marzo 2025'!I8,'Marzo 2025'!J8) -> 19.6 | EA6: =IF('Abril 2025'!I8>'Abril 2025'!J8,'Abril 2025'!I8,'Abril 2025'!J8) -> 19.67
